{"text_format":"1","workbook":"xlsx","n_sheets":14,"sheets":["ISTRUZIONI","INPUT","MATERIALI","FOGLIO DEPOSITO","andamento taglio","NEL PIANO","FUORI PIANO","RELAZIONE TECNICA","MNP","MNPR","MNFP","MNFPR","MNP_V","MNP_VR"],"not_rendered":{"charts":26,"images":7,"macros":0,"external_links":1,"defined_names":54,"comments":3,"pivot_tables":0},"unopened":[],"bounds":{"document_bytes":16777216,"sheet_cells":100000,"rows_first":2000,"rows_last":500,"rows_between":2000,"halvings":0,"cell_chars":16384,"cell_head_chars":4096},"cells_cut":0,"cells_raw":0,"read":"whole","date_system":"1900"}

{"sheet":"ISTRUZIONI","index":0,"n_rows":17,"n_cols":8,"rows_kept":17,"cut":false,"hidden":false,"merged":[[16,7,16,9],[11,1,11,3],[12,1,12,3],[13,1,13,3],[13,7,13,9],[14,7,14,9]]}
[]
[]
[]
[]
[]
[null,"Il foglio di calcolo definisce i parametri meccanici per la muratura esistente e "]
[null,"consente di eseguire le verifiche a flessione e taglio di un pannello murarario"]
[null,"In accordo al DM 17/01/2018 e alla circolare n.7 del  21/01/2019"]
[null,"Il nuovo foglio di calcolo introduce le verifiche ex-ante ed ex-post attraverso la"]
[null,"definizione dei domini di capacità N-M e N-V"]
[]
[null,"Versione 2.03"]
[null,"2025-03-02"]
[null,"www.davidecicchini.it",null,null,null,null,null,"Ing. Davide Cicchini"]
[]
[]
[null,null,null,null,null,null,null,"www.davidecicchini.it"]

{"sheet":"INPUT","index":1,"n_rows":100,"n_cols":13,"rows_kept":100,"cut":false,"hidden":false,"merged":[[1,1,1,5],[91,1,91,5],[81,1,81,3],[85,1,85,3],[86,1,86,3],[89,1,89,3],[88,1,88,3],[12,1,12,2],[13,1,13,2],[72,1,72,3],[74,1,74,3],[41,1,41,5],[18,1,35,5],[49,1,50,5],[43,1,44,5],[70,1,70,5],[72,4,72,5],[46,1,46,3],[47,1,47,3],[52,1,52,5],[56,2,56,4],[3,3,3,5],[15,1,15,5],[17,1,17,5],[6,1,6,5],[8,3,8,5],[9,3,9,5],[10,3,10,5],[11,3,11,5],[12,3,12,5],[13,3,13,5],[8,1,8,2],[4,1,4,2],[9,1,9,2],[10,1,10,2],[11,1,11,2],[79,1,79,5],[58,2,58,4],[57,2,57,4],[59,2,59,4],[45,7,45,12],[66,2,66,3],[66,4,66,5],[63,7,66,10],[64,2,64,4],[65,2,65,4],[63,2,63,4],[63,1,66,1],[74,4,74,5],[56,1,59,1],[54,1,54,3],[61,1,61,3]]}
[]
[null,"Rinforzo di strutture in muratura portante"]
[]
[null,null,null,"Developed by Ing. Davide Cicchini"]
[null,{"$f":"ISTRUZIONI!B12","v":"Versione 2.03"},null,null,"Data:",{"$f":"NOW()","v":"2025-03-02T20:19:24.680"}]
[]
[null,"RIFERIMENTO CANTIERE"]
[]
[null,"Oggetto dei lavori:",null,"Oggetto dei lavori"]
[null,"Committente:",null,"Committente"]
[null,"Progettista:",null,"Progettista"]
[null,"Direttore dei Lavori:",null,"Direttore dei lavori"]
[null,"Impresa:",null,"Impresa"]
[null,"Indirizzo Cantiere:",null,"Indirizzo cantiere"]
[]
[null,"INPUT DATI MURATURA ESISTENTE"]
[]
[null,"CARATTERISTICHE GEOMETRICHE"]
[]
[]
[]
[]
[]
[]
[]
[]
[]
[]
[]
[]
[]
[]
[]
[]
[]
[]
[null,null,null,null,null,null,null,{"$f":"IF(F38>50,\"la lunghezza del pannello deve essere minore di 50m\",\"\")","v":""}]
[null,"Lunghezza del pannello murario",null,null,"l",2.2999999999999998,{"$f":"IF(INPUT!F38<0,H38,\"\")","v":""},{"$f":"IF(F38<F39,\"La lunghezza del pannello deve essere maggiore dello spessore!\",\"\")","v":""}]
[null,"Spessore del pannello murario",null,null,"t",0.42,null,{"$f":"IF(F39<0.1,\"Lo spessore del pannello murario deve essere maggiore di 10cm!\",\"\")","v":""}]
[null,"Altezza del pannello murario",null,null,"H",3.3,null,{"$f":"IF(F39>2,\"Lo spessore del pannello murario deve essere minore di 200cm\",\"\")","v":""}]
[null,null,null,null,null,null,null,{"$f":"IF(F40>10,\"L'altezza del pannello murario è eccessiva!\",\"\")","v":""}]
[null,"TIPOLOGIA MURARIA Tab. C8.5.I Circolare 21/01/2019 n.7"]
[]
[null,"Muratura in mattoni pieni e malta di calce"]
[]
[null,null,null,null,null,null,null,"INSERIRE VALORI DERIVANTI DA INDAGINI SPERIMENTALI IN LC3"]
[null,"Livello di conoscenza §8.5.4 NTC18",null,null,"LC","LC1",null,"fm (N/mm2)","t0 (N/mm2)","fv0 (N/mm2)","E (N/mm2)","G (N/mm2)","w (kN/m3)"]
[null,"Fattore di confidenza §8.5.4 NTC18",null,null,"FC",{"$f":"VLOOKUP(INPUT!F47,'FOGLIO DEPOSITO'!B43:C45,2,FALSE)","v":1.35},null,1,1.7999999999999999E-2,0.1,690,230,19]
[]
[null,"Nota: Per il livello LC3 si considerano esclusivamente i valori derivanti dalle indagini sperimentali gli incrementi dovuti ai coefficienti correttivi/peggiorativi sono disabilitati"]
[]
[]
[null,"COEFFICIENTI CORRETTIVI Tab. C8.5.II Circolare 21/01/2019 n.7 "]
[]
[null,"Rigidezza fessurata ex-ante (100% = \"non fessurato\")",null,null,null,0.85]
[]
[null,"Murature allo stato                 ex-ante","Malta buona (solo se è >2MPa, validata da prove in situ) / scadente",null,null,"scadente"]
[null,null,"Giunto di malta >13mm",null,null,"si"]
[null,null,"Ricorsi o listature",null,null,"no"]
[null,null,"Connessione trasversale (ovvero apparecchiata secondo la regola dell'arte)",null,null,"no"]
[]
[null,"Rigidezza fessurata ex-post (100% = \"non fessurato\")",null,null,null,1]
[]
[null,"Rinforzo Murature allo stato ex-post","Iniezioni di miscele leganti (rinforzo consigliato per murature fortemente incoerenti con cavità e/o con nucleo scadente)",null,null,"no",null,{"$f":"IF(SUM('FOGLIO DEPOSITO'!D88)>=3,\"Condizione non ammessa da circ. n.7 del 21 gen. 2019; non si possono applicare più di due interventi migliorativi! §C8.5.3.1\",\"\")","v":""}]
[null,null,"Ristilatura armata con connessione dei paramenti",null,null,"no"]
[null,null,"Diatoni artificiali o tirantini antiespulsivi",null,null,"no"]
[null,null,"Intonaco Armato",null,"CRM doppia faccia + connettori"]
[]
[null,"Spessore del rinforzo (per incremento sezione resistente solo CRM)",null,null,null,3]
[]
[null,"TIPO DI ANALISI CONDOTTA PER LA DEFINIZIONE DELLE SOLLECITAZIONI"]
[]
[null,"Tipo di analisi utilizzata per il calcolo delle sollecitazioni",null,null,"lineare "]
[]
[null,"Coefficiente di sicurezza materiale muratura γm ",null,null,{"$f":"VLOOKUP('FOGLIO DEPOSITO'!B422,'FOGLIO DEPOSITO'!G33:H36,2,FALSE)","v":2}]
[null,"(C8.5 e C8.7.1.3.1.1 C. 21/01/2019 n.7)"]
[]
[null,"coefficiente definito da utente",null,null,null,2.8]
[]
[null,"SOLLECITAZIONI"]
[]
[null,{"$f":"'FOGLIO DEPOSITO'!B533","v":"Sforzo normale agente (SOLO COMPRESSIONE)"},null,null,"Ned",220]
[]
[null,null,null,"Selezionare per considerare il peso della muratura in automatico "]
[]
[null,"Momento flettente agente nel piano",null,null,"Med,pl",165]
[null,"Momento flettente agente fuori del piano",null,null,"Med,out-pl",32]
[]
[null,"Sforzo di taglio agente nel piano del pannello",null,null,"Ved,pl",48]
[null,"Sforzo di taglio agente fuori del piano del pannello",null,null,"Ved,out-pl",25]
[]
[null,"ULTERIORI COMBINAZIONI A SCELTA DELL'UTENTE"]
[]
[null,null,"NED","VED","MED-PL","MED-OUT-PL"]
[null,"COMBINAZIONE PRINCIPALE PER LA VERIFICA ANALITICA",{"$f":"'FOGLIO DEPOSITO'!D542","v":220},{"$f":"'FOGLIO DEPOSITO'!E563","v":48},{"$f":"'FOGLIO DEPOSITO'!E542","v":165},{"$f":"'FOGLIO DEPOSITO'!E552","v":32}]
[null,"COMBINAZIONI A SCELTA DELL'UTENTE:2",210,45,115,21.5]
[null,"COMBINAZIONI A SCELTA DELL'UTENTE:3",215,48,132,18]
[null,"COMBINAZIONI A SCELTA DELL'UTENTE:4",230,41,161,17]
[null,"COMBINAZIONI A SCELTA DELL'UTENTE:5",285,34,155,23]
[null,"*Cancellare i valori per eliminarli dal grafico"]

{"sheet":"MATERIALI","index":2,"n_rows":89,"n_cols":12,"rows_kept":89,"cut":false,"hidden":false,"merged":[[1,1,1,11],[12,2,12,5],[34,2,34,7],[34,10,34,11],[36,1,36,7],[37,1,37,7],[38,1,47,7],[38,8,47,11],[26,1,34,1],[26,2,26,7],[26,10,26,11],[27,2,27,7],[27,10,27,11],[28,2,28,7],[28,10,28,11],[29,2,29,7],[29,10,29,11],[30,2,30,7],[30,10,30,11],[31,2,31,6],[32,2,32,7],[32,10,32,11],[33,2,33,7],[33,10,33,11],[15,2,15,4],[20,1,20,7],[20,10,20,11],[22,1,24,1],[22,2,22,7],[22,10,22,11],[23,2,23,7],[23,10,23,11],[24,2,24,7],[24,10,24,11],[14,2,14,5],[55,2,55,5],[56,2,56,5],[57,2,57,3],[5,1,5,11],[6,1,8,5],[6,6,7,6],[6,7,7,7],[6,8,7,8],[6,9,7,9],[6,10,7,10],[6,11,7,11],[9,1,13,1],[9,2,9,5],[10,2,10,5],[11,2,11,5],[13,2,13,5],[53,1,56,1],[53,2,53,5],[54,2,54,5],[50,7,51,7],[50,9,51,9],[50,10,51,10],[50,11,51,11],[80,10,80,11],[83,10,83,11],[70,10,70,11],[72,10,72,11],[73,10,73,11],[74,10,74,11],[76,10,76,11],[77,10,77,11],[78,10,78,11],[79,10,79,11],[81,2,81,6],[72,1,74,1],[72,2,72,7],[73,2,73,7],[74,2,74,7],[59,2,59,5],[60,2,60,5],[61,2,61,5],[62,2,62,5],[63,2,63,5],[57,1,61,1],[58,2,58,5],[49,1,49,11],[50,8,51,8],[50,6,51,6],[3,1,3,2],[50,1,52,5],[88,8,97,11],[82,10,82,11],[82,2,82,7],[83,2,83,7],[84,2,84,7],[87,1,87,7],[86,1,86,7],[84,10,84,11],[57,4,57,5],[70,1,70,7],[64,2,64,5],[65,2,65,4],[88,1,97,7],[76,1,84,1],[76,2,76,7],[77,2,77,7],[78,2,78,7],[79,2,79,7],[80,2,80,7]]}
[]
[null,"CARATTERISTICHE MECCANICHE DELLA MURATURA"]
[null,null,null,null,null,null,null,null,null,null,"Developed by Ing. Davide Cicchini"]
[null,{"$f":"INPUT!B5","v":"Versione 2.03"}]
[]
[null,"CARATTERISTICHE MECCANICHE DELLA MURATURA CORRETTA DAI COEFFICIENTI: EX ANTE"]
[null,{"$f":"B51","v":"Muratura in mattoni pieni e malta di calce"},null,null,null,null,"fm (N/cm2)","τ0 (N/cm2)","fv0 (N/cm2)","E (N/mm2)","G (N/mm2)","w (kN/m3)"]
[]
[null,null,null,null,null,null,{"$f":"G53","v":260},{"$f":"H53","v":5},13,1500,500,18]
[null,"Coefficienti correttivi per la muratura allo stato di fatto","Malta",null,null,null,{"$f":"G54","v":0.7},0.7,0.7,0.8,0.8,1]
[null,null,"Spessori giunti >13mm",null,null,null,{"$f":"G55","v":0.7},0.7,0.7,0.8,0.8,1]
[null,null,"Ricorsi o listature",null,null,null,{"$f":"G56","v":1},1,1,1,1,1]
[null,null,"Connessione trasversale",null,null,null,{"$f":"G57","v":1},1,1,1,1,1]
[null,null,"Coef. Di riduzione rigidezza per fessurazione ex-ante",null,null,null,{"$f":"G62","v":1},{"$f":"H62","v":1},{"$f":"I62","v":1},{"$f":"'FOGLIO DEPOSITO'!M82","v":0.85},{"$f":"'FOGLIO DEPOSITO'!M82","v":0.85},{"$f":"L62","v":1}]
[null,null,"Coefficiente risultante dello stato della muratura",null,null,null,{"$f":"G10*G11*G12*G13*G14","v":0.48999999999999994},{"$f":"H10*H11*H12*H13*H14","v":0.48999999999999994},0.48999999999999994,0.54400000000000004,{"$f":"K10*K11*K12*K13*K14","v":0.54400000000000004},{"$f":"L10*L11*L12*L13*L14","v":1}]
[null,null,"Coefficiente massimo applicabile",null,null,{"$f":"VLOOKUP('FOGLIO DEPOSITO'!B430,'FOGLIO DEPOSITO'!C5:Q14,15,FALSE)","v":1.8},{"$f":"(MINA(G15,$F$16))","v":0.48999999999999994},{"$f":"(MINA(H15,$F$16))","v":0.48999999999999994},0.48999999999999994,{"$f":"(MINA(J15,$F$16))","v":0.54400000000000004},0.54400000000000004,1]
[null,null,null,null,null,{"$f":"IF(INPUT!F47=\"LC3\",\" Valori derivanti dalle indagini sperimentali:\",\"\")","v":""},{"$f":"IF(INPUT!$F$47='FOGLIO DEPOSITO'!$B$45,INPUT!H48*100,G9*G15)","v":127.39999999999998},{"$f":"IF(INPUT!$F$47='FOGLIO DEPOSITO'!$B$45,INPUT!I48*100,H9*H15)","v":2.4499999999999997},{"$f":"IF(INPUT!$F$47='FOGLIO DEPOSITO'!$B$45,INPUT!J48*100,IFERROR(I9*I16,0))","v":6.3699999999999992},{"$f":"IF(INPUT!$F$47='FOGLIO DEPOSITO'!$B$45,INPUT!K48,J9*J15)","v":816.00000000000011},{"$f":"IF(INPUT!$F$47='FOGLIO DEPOSITO'!$B$45,INPUT!L48,K9*K15)","v":272},{"$f":"IF(INPUT!$F$47='FOGLIO DEPOSITO'!$B$45,INPUT!M48,L9*L15)","v":18}]
[null,null,null,null,null,null,{"$f":"G17/9.806","v":12.9920456863145},{"$f":"H17/9.806","v":0.24984703242912501},0.64960228431572509,{"$f":"J17*9.806","v":8001.6960000000008},{"$f":"K17*9.806","v":2667.232},{"$f":"L17/9.806*1000","v":1835.6108504996942}]
[null,null,null,null,null,null,{"$f":"G17/100","v":1.2739999999999998},{"$f":"H17/100","v":2.4499999999999997E-2},6.3699999999999993E-2,null,null,{"$f":"L17/9.806","v":1.8356108504996942}]
[]
[null,"Peso specifico della muratura",null,null,null,null,null,null,"w",{"$f":"L17","v":18},{"$f":"J21/9.806","v":1.8356108504996942}]
[]
[null,"VALORI MEDI            EX-ANTE","Resistenza a compressione della muratura",null,null,null,null,null,"fm",{"$f":"G17*10","v":1273.9999999999998},{"$f":"J23/1000","v":1.2739999999999998}]
[null,null,"Resistenza a taglio della muratura",null,null,null,null,null,"τ0",{"$f":"H17*10","v":24.499999999999996},2.4499999999999997E-2]
[null,null,"Resistenza a taglio in assenza di tensioni normali",null,null,null,null,null,"fv0",{"$f":"I17*10","v":63.699999999999989},6.3699999999999993E-2]
[]
[null,"VALORI DI CALCOLO                   EX-ANTE","Resistenza di calcolo, a compressione della muratura",null,null,null,null,null,"fmd",{"$f":"J23/(J34*J35)","v":471.85185185185173},{"$f":"J27/1000","v":0.47185185185185174}]
[null,null,"Resistenza di calcolo, a taglio della muratura",null,null,null,null,null,"τ0d",{"$f":"H17*10/(J34*J35)","v":9.0740740740740726},9.0740740740740729E-3]
[null,null,"Resistenza di calcolo a taglio in assenza di tensioni normali",null,null,null,null,null,"fv0,d",{"$f":"I17*10/(J34*J35)","v":23.592592592592588},2.3592592592592589E-2]
[null,null,"Valore medio del modulo di elasticità normale ",null,null,null,null,null,"Ed",{"$f":"J17","v":816.00000000000011},{"$f":"J30*1000","v":816000.00000000012}]
[null,null,"Valore medio del modulo di elasticità tangenziale",null,null,null,null,null,"Gd",{"$f":"K17","v":272},{"$f":"J31*1000","v":272000}]
[null,null,"Caratteristiche tessitura muratura:",null,null,null,null,{"$f":"H82","v":"regolare"},null,{"$f":"IF('FOGLIO DEPOSITO'!B434=\"regolare\",'FOGLIO DEPOSITO'!Q33,\"\")","v":0.2}]
[null,null,"Stima resistenza di calcolo a compressione blocco muratura regolare",null,null,null,null,null,"fbd",{"$f":"IF('FOGLIO DEPOSITO'!B434=\"regolare\",'FOGLIO DEPOSITO'!Q34*10,\"\")","v":10000},{"$f":"IF(H32=\"regolare\",J33/1000,\"\")","v":10}]
[null,null,"Fattore di confidenza",null,null,null,null,null,"FC",{"$f":"INPUT!F48","v":1.35},"-"]
[null,null,"Coefficiente di sicurezza del materale muratura",null,null,null,null,null,"γm",{"$f":"INPUT!E75","v":2},"-"]
[]
[null,"Deformazione al limite elastico della muratura",null,null,null,null,null,null,"εm1",{"$f":"IF(-MATERIALI!K27/MATERIALI!J30<-0.0018,-0.0018,-MATERIALI!K27/MATERIALI!J30)","v":-5.7824981844589664E-4}]
[null,"Deformazione ultima della muratura",null,null,null,null,null,null,"εmu",-3.5000000000000001E-3]
[null,"Legame costitutivo di calcolo"]
[]
[]
[]
[]
[]
[]
[]
[]
[]
[]
[null,"CARATTERISTICHE MECCANICHE DELLA MURATURA CORRETTA DAI COEFFICIENTI: EX POST"]
[null,{"$f":"INPUT!B44","v":"Muratura in mattoni pieni e malta di calce"},null,null,null,null,"fm (N/cm2)","τ0 (N/cm2)","fv0 (N/cm2)","E (N/mm2)","G (N/mm2)","w (kN/m3)"]
[]
[null,null,null,null,null,null,{"$f":"'FOGLIO DEPOSITO'!G72","v":260},{"$f":"'FOGLIO DEPOSITO'!H72","v":5},{"$f":"'FOGLIO DEPOSITO'!I72","v":13},{"$f":"'FOGLIO DEPOSITO'!J72","v":1500},{"$f":"'FOGLIO DEPOSITO'!K72","v":500},{"$f":"'FOGLIO DEPOSITO'!L72","v":18}]
[null,"Coefficienti correttivi per la muratura allo stato di fatto","Malta",null,null,null,{"$f":"IF('FOGLIO DEPOSITO'!$F$98=\"SI\",'FOGLIO DEPOSITO'!F102,'FOGLIO DEPOSITO'!G73)","v":0.7},{"$f":"IF('FOGLIO DEPOSITO'!$F$98=\"SI\",'FOGLIO DEPOSITO'!F114,'FOGLIO DEPOSITO'!H73)","v":0.7},{"$f":"IF('FOGLIO DEPOSITO'!$F$98=\"SI\",'FOGLIO DEPOSITO'!F126,'FOGLIO DEPOSITO'!I73)","v":0.7},{"$f":"IF('FOGLIO DEPOSITO'!$F$98=\"SI\",'FOGLIO DEPOSITO'!F138,'FOGLIO DEPOSITO'!J73)","v":0.8},{"$f":"IF('FOGLIO DEPOSITO'!$F$98=\"SI\",'FOGLIO DEPOSITO'!F150,'FOGLIO DEPOSITO'!K73)","v":0.8},{"$f":"IF('FOGLIO DEPOSITO'!$F$98=\"SI\",'FOGLIO DEPOSITO'!F162,'FOGLIO DEPOSITO'!L73)","v":1}]
[null,null,"Spessori giunti >13mm",null,null,null,{"$f":"IF('FOGLIO DEPOSITO'!$B$448=\"si\",'FOGLIO DEPOSITO'!$J$30,1)","v":0.7},{"$f":"IF('FOGLIO DEPOSITO'!$B$448=\"si\",'FOGLIO DEPOSITO'!$J$30,1)","v":0.7},{"$f":"IF('FOGLIO DEPOSITO'!$B$448=\"si\",'FOGLIO DEPOSITO'!$J$30,1)","v":0.7},{"$f":"IF('FOGLIO DEPOSITO'!$B$448=\"si\",'FOGLIO DEPOSITO'!$J$29,1)","v":0.8},{"$f":"IF('FOGLIO DEPOSITO'!$B$448=\"si\",'FOGLIO DEPOSITO'!$J$29,1)","v":0.8},{"$f":"IF('FOGLIO DEPOSITO'!$F$98=\"SI\",'FOGLIO DEPOSITO'!F163,'FOGLIO DEPOSITO'!L74)","v":1}]
[null,null,"Ricorsi o listature",null,null,null,{"$f":"IF('FOGLIO DEPOSITO'!$F$98=\"SI\",'FOGLIO DEPOSITO'!F103,'FOGLIO DEPOSITO'!G75)","v":1},{"$f":"IF('FOGLIO DEPOSITO'!$F$98=\"SI\",'FOGLIO DEPOSITO'!F115,'FOGLIO DEPOSITO'!H75)","v":1},{"$f":"IF('FOGLIO DEPOSITO'!$F$98=\"SI\",'FOGLIO DEPOSITO'!F127,'FOGLIO DEPOSITO'!I75)","v":1},{"$f":"IF('FOGLIO DEPOSITO'!$F$98=\"SI\",'FOGLIO DEPOSITO'!F139,'FOGLIO DEPOSITO'!J75)","v":1},{"$f":"IF('FOGLIO DEPOSITO'!$F$98=\"SI\",'FOGLIO DEPOSITO'!F151,'FOGLIO DEPOSITO'!K75)","v":1},{"$f":"IF('FOGLIO DEPOSITO'!$F$98=\"SI\",'FOGLIO DEPOSITO'!F163,'FOGLIO DEPOSITO'!L75)","v":1}]
[null,null,"Connessione trasversale",null,null,null,{"$f":"IF('FOGLIO DEPOSITO'!$F$98=\"SI\",'FOGLIO DEPOSITO'!F104,'FOGLIO DEPOSITO'!G76)","v":1},{"$f":"IF('FOGLIO DEPOSITO'!$F$98=\"SI\",'FOGLIO DEPOSITO'!F116,'FOGLIO DEPOSITO'!H76)","v":1},{"$f":"IF('FOGLIO DEPOSITO'!$F$98=\"SI\",'FOGLIO DEPOSITO'!F128,'FOGLIO DEPOSITO'!I76)","v":1},{"$f":"IF('FOGLIO DEPOSITO'!$F$98=\"SI\",'FOGLIO DEPOSITO'!F140,'FOGLIO DEPOSITO'!J76)","v":1},{"$f":"IF('FOGLIO DEPOSITO'!$F$98=\"SI\",'FOGLIO DEPOSITO'!F152,'FOGLIO DEPOSITO'!K76)","v":1},{"$f":"IF('FOGLIO DEPOSITO'!$F$98=\"SI\",'FOGLIO DEPOSITO'!F164,'FOGLIO DEPOSITO'!L76)","v":1}]
[null,"Coefficienti correttivi per la murattura rinforzata","Intonaco Armato:",null,{"$f":"INPUT!E67","v":"CRM doppia faccia + connettori"},null,{"$f":"IF('FOGLIO DEPOSITO'!$F$98=\"SI\",'FOGLIO DEPOSITO'!F107,'FOGLIO DEPOSITO'!G79)","v":1.5},{"$f":"IF('FOGLIO DEPOSITO'!$F$98=\"SI\",'FOGLIO DEPOSITO'!F119,'FOGLIO DEPOSITO'!H79)","v":1.5},{"$f":"IF('FOGLIO DEPOSITO'!$F$98=\"SI\",'FOGLIO DEPOSITO'!F131,'FOGLIO DEPOSITO'!I79)","v":1.5},{"$f":"IF('FOGLIO DEPOSITO'!$F$98=\"SI\",'FOGLIO DEPOSITO'!F143,'FOGLIO DEPOSITO'!J79)","v":1.5},{"$f":"IF('FOGLIO DEPOSITO'!$F$98=\"SI\",'FOGLIO DEPOSITO'!F155,'FOGLIO DEPOSITO'!K79)","v":1.5},{"$f":"IF('FOGLIO DEPOSITO'!$F$98=\"SI\",'FOGLIO DEPOSITO'!F167,'FOGLIO DEPOSITO'!L79)","v":1}]
[null,null,"Ristilatura armata con connessione dei paramenti",null,null,null,{"$f":"IF('FOGLIO DEPOSITO'!$F$98=\"SI\",'FOGLIO DEPOSITO'!F108,'FOGLIO DEPOSITO'!G74)","v":1},{"$f":"IF('FOGLIO DEPOSITO'!$F$98=\"SI\",'FOGLIO DEPOSITO'!F120,'FOGLIO DEPOSITO'!H74)","v":1},{"$f":"IF('FOGLIO DEPOSITO'!$F$98=\"SI\",'FOGLIO DEPOSITO'!F132,'FOGLIO DEPOSITO'!I74)","v":1},{"$f":"IF('FOGLIO DEPOSITO'!$F$98=\"SI\",'FOGLIO DEPOSITO'!F144,'FOGLIO DEPOSITO'!J74)","v":1},{"$f":"IF('FOGLIO DEPOSITO'!$F$98=\"SI\",'FOGLIO DEPOSITO'!F156,'FOGLIO DEPOSITO'!K74)","v":1},{"$f":"IF('FOGLIO DEPOSITO'!$F$98=\"SI\",'FOGLIO DEPOSITO'!F168,'FOGLIO DEPOSITO'!L74)","v":1}]
[null,null,"Diatoni artificiali o tirantini antiespulsivi",null,null,null,{"$f":"IF('FOGLIO DEPOSITO'!$F$98=\"SI\",'FOGLIO DEPOSITO'!F109,'FOGLIO DEPOSITO'!G78)","v":1},{"$f":"IF('FOGLIO DEPOSITO'!$F$98=\"SI\",'FOGLIO DEPOSITO'!F121,'FOGLIO DEPOSITO'!H78)","v":1},{"$f":"IF('FOGLIO DEPOSITO'!$F$98=\"SI\",'FOGLIO DEPOSITO'!F133,'FOGLIO DEPOSITO'!I78)","v":1},{"$f":"IF('FOGLIO DEPOSITO'!$F$98=\"SI\",'FOGLIO DEPOSITO'!F145,'FOGLIO DEPOSITO'!J78)","v":1},{"$f":"IF('FOGLIO DEPOSITO'!$F$98=\"SI\",'FOGLIO DEPOSITO'!F157,'FOGLIO DEPOSITO'!K78)","v":1},{"$f":"IF('FOGLIO DEPOSITO'!$F$98=\"SI\",'FOGLIO DEPOSITO'!F169,'FOGLIO DEPOSITO'!L78)","v":1}]
[null,null,"Iniezioni di miscele leganti",null,null,null,{"$f":"IF('FOGLIO DEPOSITO'!$F$98=\"SI\",'FOGLIO DEPOSITO'!F106,'FOGLIO DEPOSITO'!G77)","v":1},{"$f":"IF('FOGLIO DEPOSITO'!$F$98=\"SI\",'FOGLIO DEPOSITO'!F118,'FOGLIO DEPOSITO'!H77)","v":1},{"$f":"IF('FOGLIO DEPOSITO'!$F$98=\"SI\",'FOGLIO DEPOSITO'!F130,'FOGLIO DEPOSITO'!I77)","v":1},{"$f":"IF('FOGLIO DEPOSITO'!$F$98=\"SI\",'FOGLIO DEPOSITO'!F142,'FOGLIO DEPOSITO'!J77)","v":1},{"$f":"IF('FOGLIO DEPOSITO'!$F$98=\"SI\",'FOGLIO DEPOSITO'!F154,'FOGLIO DEPOSITO'!K77)","v":1},{"$f":"IF('FOGLIO DEPOSITO'!$F$98=\"SI\",'FOGLIO DEPOSITO'!F166,'FOGLIO DEPOSITO'!L77)","v":1}]
[null,null,"Coef. Di riduzione rigidezza per fessurazione ex-post",null,null,null,1,1,1,{"$f":"'FOGLIO DEPOSITO'!N82","v":1},{"$f":"'FOGLIO DEPOSITO'!N82","v":1},1]
[null,null,"Coefficiente risultante dello stato della muratura",null,null,null,{"$f":"G54*G55*G56*G57","v":0.48999999999999994},{"$f":"H54*H55*H56*H57","v":0.48999999999999994},0.48999999999999994,0.64000000000000012,0.64000000000000012,1]
[null,null,"Coefficiente derivante dal rinforzo della muratura",null,null,null,{"$f":"G58*G59*G60*G61*G62","v":1.5},{"$f":"H58*H59*H60*H61*H62","v":1.5},1.5,1.5,1.5,1]
[null,null,"Coefficiente Risultante",null,null,null,{"$f":"PRODUCT(G54:G61)","v":0.73499999999999988},0.73499999999999988,0.73499999999999988,0.96000000000000019,0.96000000000000019,1]
[null,null,"Coefficiente massimo applicabile",null,null,{"$f":"VLOOKUP('FOGLIO DEPOSITO'!B430,'FOGLIO DEPOSITO'!C5:Q14,15,FALSE)","v":1.8},{"$f":"IF(G65<=$F$66,G65,F66)","v":0.73499999999999988},{"$f":"IF(H65<=$F$66,H65,G66)","v":0.73499999999999988},0.73499999999999988,0.96000000000000019,0.96000000000000019,1]
[null,null,null,null,null,{"$f":"IF(INPUT!F47=\"LC3\",\" Valori derivanti dalle indagini sperimentali:\",\"\")","v":""},{"$f":"IF(INPUT!$F$47='FOGLIO DEPOSITO'!$B$45,'FOGLIO DEPOSITO'!B419,G53*G66)","v":191.09999999999997},{"$f":"IF(INPUT!$F$47='FOGLIO DEPOSITO'!$B$45,'FOGLIO DEPOSITO'!C419,H53*H66)","v":3.6749999999999994},{"$f":"IF(INPUT!$F$47='FOGLIO DEPOSITO'!$B$45,'FOGLIO DEPOSITO'!D419,IFERROR(I53*I66,0))","v":9.5549999999999979},{"$f":"IF(INPUT!$F$47='FOGLIO DEPOSITO'!$B$45,'FOGLIO DEPOSITO'!E419,J53*J66)","v":1440.0000000000002},{"$f":"IF(INPUT!$F$47='FOGLIO DEPOSITO'!$B$45,'FOGLIO DEPOSITO'!F419,K53*K66)","v":480.00000000000011},{"$f":"IF(INPUT!$F$47='FOGLIO DEPOSITO'!$B$45,'FOGLIO DEPOSITO'!G419,L53*L66)","v":18}]
[null,null,null,null,null,null,{"$f":"G67/9.806","v":19.48806852947175},{"$f":"H67/9.806","v":0.37477054864368753},0.97440342647358746,{"$f":"J67*9.806","v":14120.640000000001},{"$f":"K67*9.806","v":4706.880000000001},{"$f":"L67/9.806*1000","v":1835.6108504996942}]
[null,null,null,null,null,null,{"$f":"G67/100","v":1.9109999999999996},{"$f":"H67/100","v":3.6749999999999991E-2},9.5549999999999982E-2,null,null,{"$f":"L67/9.806","v":1.8356108504996942}]
[]
[null,"Peso specifico della muratura",null,null,null,null,null,null,"w",{"$f":"L67","v":18},{"$f":"J71/9.806","v":1.8356108504996942}]
[]
[null,"VALORI MEDI            EX-POST","Resistenza a compressione della muratura",null,null,null,null,null,"fm",{"$f":"G67*10","v":1910.9999999999995},{"$f":"J73/1000","v":1.9109999999999996}]
[null,null,"Resistenza a taglio della muratura",null,null,null,null,null,"τ0",{"$f":"H67*10","v":36.749999999999993},3.6749999999999991E-2]
[null,null,"Resistenza a taglio in assenza di tensioni normali",null,null,null,null,null,"fv0",{"$f":"I67*10","v":95.549999999999983},9.5549999999999982E-2]
[]
[null,"VALORI DI CALCOLO               EX-POST","Resistenza di calcolo, a compressione della muratura",null,null,null,null,null,"fmd",{"$f":"J73/(J84*J85)","v":707.7777777777776},0.70777777777777762]
[null,null,"Resistenza di calcolo, a taglio della muratura",null,null,null,null,null,"τ0d",{"$f":"H67*10/(J84*J85)","v":13.611111111111107},1.3611111111111107E-2]
[null,null,"Resistenza di calcolo a taglio in assenza di tensioni normali",null,null,null,null,null,"fv0,d",{"$f":"I67*10/(J84*J85)","v":35.388888888888879},3.5388888888888879E-2]
[null,null,"Valore medio del modulo di elasticità normale ",null,null,null,null,null,"Ed",{"$f":"J67","v":1440.0000000000002},{"$f":"J80*1000","v":1440000.0000000002}]
[null,null,"Valore medio del modulo di elasticità tangenziale",null,null,null,null,null,"Gd",{"$f":"K67","v":480.00000000000011},{"$f":"J81*1000","v":480000.00000000012}]
[null,null,"Caratteristiche tessitura muratura:",null,null,null,null,{"$f":"IF('FOGLIO DEPOSITO'!B434=\"irregolare\",'FOGLIO DEPOSITO'!B437,'FOGLIO DEPOSITO'!B438)","v":"regolare"},null,{"$f":"IF('FOGLIO DEPOSITO'!B434=\"regolare\",'FOGLIO DEPOSITO'!R33,\"\")","v":0.4}]
[null,null,"Stima resistenza di calcolo a compressione blocco muratura regolare",null,null,null,null,null,"fbd",{"$f":"IF('FOGLIO DEPOSITO'!B434=\"regolare\",'FOGLIO DEPOSITO'!Q34*10,\"\")","v":10000},{"$f":"IF(H82=\"regolare\",J83/1000,\"\")","v":10}]
[null,null,"Fattore di confidenza",null,null,null,null,null,"FC",{"$f":"INPUT!F48","v":1.35},"-"]
[null,null,"Coefficiente di sicurezza del materale muratura",null,null,null,null,null,"γm",{"$f":"INPUT!E75","v":2},"-"]
[]
[null,"Deformazione al limite elastico della muratura",null,null,null,null,null,null,"εm1",{"$f":"IF(-MATERIALI!K77/MATERIALI!J80<-0.0018,-0.0018,-MATERIALI!K77/MATERIALI!J80)","v":-4.9151234567901215E-4}]
[null,"Deformazione ultima della muratura",null,null,null,null,null,null,"εmu",-3.5000000000000001E-3]
[null,"Legame costitutivo di calcolo"]

{"sheet":"FOGLIO DEPOSITO","index":3,"n_rows":576,"n_cols":590,"rows_kept":576,"cut":false,"hidden":true,"merged":[[491,1,491,2],[510,1,510,2],[421,1,421,2],[429,1,431,5],[461,1,461,2],[471,1,471,2],[416,1,416,6],[413,1,413,2],[375,1,376,1],[407,1,407,2],[401,1,401,2],[404,1,404,2],[409,1,409,2],[410,1,410,2],[400,1,400,2],[405,1,405,2],[403,1,403,2],[399,1,399,2],[402,1,402,2],[406,1,406,2],[408,1,408,2],[572,1,572,2],[571,1,571,2],[574,1,574,2],[575,1,575,2],[538,1,538,4],[548,1,548,4],[559,1,559,4],[530,1,530,4],[532,1,532,2],[311,1,311,2],[312,1,312,2],[315,1,315,2],[316,1,316,2],[317,1,317,2],[313,1,313,2],[320,1,320,4],[332,1,332,2],[333,1,333,2],[318,1,318,2],[330,1,330,2],[331,1,331,2],[323,1,323,2],[323,3,323,4],[324,1,324,2],[356,1,356,2],[357,1,357,2],[351,1,351,4],[354,1,354,2],[349,1,349,2],[348,1,348,2],[345,1,345,2],[314,1,314,2],[344,1,344,2],[325,1,325,2],[326,1,326,2],[335,1,335,4],[327,1,327,2],[343,1,343,2],[347,1,347,2],[328,1,328,2],[329,1,329,2],[288,1,288,2],[291,1,291,2],[298,2,298,3],[297,2,297,3],[161,2,163,2],[296,2,296,3],[165,2,168,2],[310,3,310,4],[295,2,295,3],[310,1,310,2],[188,1,188,4],[196,1,196,4],[238,1,238,2],[238,4,238,5],[307,1,307,4],[303,1,303,3],[292,1,292,2],[299,2,299,3],[300,2,300,3],[286,1,286,2],[290,1,290,2],[287,1,287,2],[141,2,144,2],[95,1,95,5],[135,5,136,5],[159,5,160,5],[149,2,151,2],[111,5,112,5],[137,2,139,2],[113,2,115,2],[117,2,120,2],[123,5,124,5],[125,2,127,2],[129,2,132,2],[147,5,148,5],[153,2,156,2],[69,13,70,13],[101,10,108,13],[105,2,108,2],[0,1,0,8],[69,10,70,10],[69,11,70,11],[69,6,70,6],[69,7,70,7],[69,9,70,9],[69,8,70,8],[46,1,46,2],[99,5,100,5],[101,2,103,2],[76,1,76,5],[73,1,73,5],[77,1,77,5],[78,1,78,5],[69,1,70,5],[72,1,72,5],[71,1,71,5],[74,1,74,5],[75,1,75,5],[84,6,85,6],[84,7,85,7],[238,10,238,11],[238,13,238,14],[238,17,238,18],[233,1,233,5],[248,17,248,18],[248,1,248,2],[248,4,248,5],[248,7,248,8],[248,10,248,11],[248,13,248,14],[235,9,235,11],[236,9,236,11],[261,17,261,18],[274,1,274,2],[274,4,274,5],[274,7,274,8],[274,10,274,11],[274,13,274,14],[274,17,274,18],[261,1,261,2],[261,4,261,5],[261,7,261,8],[261,10,261,11],[261,13,261,14],[84,8,85,8],[84,9,85,9],[84,10,85,10],[84,11,85,11],[84,12,85,12],[404,7,405,9],[398,1,398,2],[377,1,378,1],[379,1,380,1],[381,1,382,1],[383,1,384,1],[393,1,393,2],[395,1,395,2],[396,1,396,2],[390,1,390,2],[391,1,391,2],[392,1,392,2],[394,1,394,2],[358,1,358,2],[355,1,355,2],[353,1,353,2],[352,1,352,2],[304,1,304,3],[238,7,238,8]]}
[null,"Valori di riferimento dei parametri meccanici medi e peso specifico per diverse tipologie di muratura."]
[]
[null,null,1,2,3,4,5,6,7,8,9,10,11,12,13,14,15,16,17,18,19,20,21,22,23]
[null,null,null,"fm (N/cm2)","τ0 (N/cm2)","fv0 (N/cm2)","E (N/mm2)","G (N/mm2)","w (kN/m3)","Malta buona","RISTILATURA","ricorsi o listature","connessione","DIATONI ART","Iniezioni","Intonaco arm","max",null,"mu tilde","fb","coef corr CNR DT 215/2018","qU,F [N/mm]","coef.correttivo",{"$f":"'FOGLIO DEPOSITO'!G73","v":0.7},null,null,null,null,null,null,null,null,null,null,null,null,null,null,null,null,null,null,null,null,null,null,null,null,null,null,null,null,null,null,null,null,null,null,null,null,null,null,null,null,null,null,null,null,null,null,null,null,null,null,null,null,null,null,null,null,null,null,null,null,null,null,null,null,null,null,null,null,null,null,null,null,null,null,null,null,null,null,null,null,null,null,null,null,null,null,null,null,null,null,null,null,null,null,null,null,null,null,null,null,null,null,null,null,null,null,null,null,null,null,null,null,null,null,null,null,null,null,null,null,null,null,null,null,null,null,null,null,null,null,null,null,null,null,null,null,null,null,null,null,null,null,null,null,null,null,null,null,null,null,null,null,null,null,null,null,null,null,null,null,null,null,null,null,null,null,null,null,null,null,null,null,null,null,null,null,null,null,null,null,null,null,null,null,null,null,null,null,null,null,null,null,null,null,null,null,null,null,null,null,null,null,null,null,null,null,null,null,null,null,null,null,null,null,null,null,null,null,null,null,null,null,null,null,null,null,null,null,null,null,null,null,null,null,null,null,null,null,null,null,null,null,null,null,null,null,null,null,null,null,null,null,null,null,null,null,null,null,null,null,null,null,null,null,null,null,null,null,null,null,null,null,null,null,null,null,null,null,null,null,null,null,null,null,null,null,null,null,null,null,null,null,null,null,null,null,null,null,null,null,null,null,null,null,null,null,null,null,null,null,null,null,null,null,null,null,null,null,null,null,null,null,null,null,null,null,null,null,null,null,null,null,null,null,null,null,null,null,null,null,null,null,null,null,null,null,null,null,null,null,null,null,null,null,null,null,null,null,null,null,null,null,null,null,null,null,null,null,null,null,null,null,null,null,null,null,null,null,null,null,null,null,null,null,null,null,null,null,null,null,null,null,null,null,null,null,null,null,null,null,null,null,null,null,null,null,null,null,null,null,null,null,null,null,null,null,null,null,null,null,null,null,null,null,null,null,null,null,null,null,null,null,null,null,null,null,null,null,null,null,null,null,null,null,null,null,null,null,null,null,null,null,null,null,null,null,null,null,null,null,null,null,null,null,null,null,null,null,null,null,null,null,null,null,null,null,null,null,null,null,null,null,null,null,null,null,null,null,null,null,null,null,null,null,null,null,null,null,null,null,null,null,null,null,null,null,null,null,null,null,null,null,null,null,null,null,null,null,null,null,null,null,null,null,null,null,null,null,null,null,null,null,null,null,null,null,null,null,null,null,null,null,null,null,null,null,null,null,null,null,null,null,null,null,null,null,null,null,null,null,null,null,null,null,null,3]
[null,1,"Muratura in pietrame disordinata (ciottoli, pietre erratiche e irregolari)",{"$f":"(100+200)/2","v":150},{"$f":"(1.8+3.2)/2","v":2.5},{"$f":"\"--\"","v":"--"},{"$f":"(690+1050)/2","v":870},{"$f":"(230+350)/2","v":290},19,1.5,1.6,1.3,1.5,1.5,2,2.5,3.5,"irregolare",null,null,1.5,44.6,null,null,2]
[null,2,"Muratura a conci sbozzati, con paramenti di limitato spessore disomogeneo",200,{"$f":"(3.5+5.1)/2","v":4.3},{"$f":"\"--\"","v":"--"},{"$f":"(1020+1440)/2","v":1230},{"$f":"(340+480)/2","v":410},20,1.4,1.5,1.2,1.5,1.4,1.7,2,3,"irregolare",null,null,1.5,44.6,"coef.correttivo",{"$f":"'FOGLIO DEPOSITO'!G74","v":1},2]
[null,3,"Muratura in pietre a spacco con buona tessitura ",{"$f":"(260+380)/2","v":320},{"$f":"(5.6+7.4)/2","v":6.5},{"$f":"\"--\"","v":"--"},{"$f":"(1500+1980)/2","v":1740},{"$f":"(500+660)/2","v":580},21,1.3,1.4,1.1000000000000001,1.3,1.3,1.5,1.5,2.4,"irregolare",null,null,2,32.200000000000003,null,null,2]
[null,4,"Muratura irregolare di pietra tenera ",{"$f":"(140+220)/2","v":180},{"$f":"(2.8+4.2)/2","v":3.5},{"$f":"\"--\"","v":"--"},{"$f":"(900+1260)/2","v":1080},{"$f":"(300+420)/2","v":360},16,1.5,1.1000000000000001,1.2,1.3,1.5,1.4,1.7,2,"irregolare",null,null,2,44.6,"coef.correttivo",{"$f":"'FOGLIO DEPOSITO'!G75","v":1},2]
[null,5,"Muratura a conci regolari di pietra tenera",{"$f":"(200+320)/2","v":260},{"$f":"(4+8)/2","v":6},{"$f":"(10+19)/2","v":14.5},{"$f":"(1200+1620)/2","v":1410},{"$f":"(400+500)/2","v":450},16,1.6,1.2,1,1.2,1.6,1.2,1.5,1.8,"regolare",{"$f":"$Q$33","v":0.2},570,2,44.6,null,null,3]
[null,6,"Muratura a blocchi lapidei squadrati",{"$f":"(580+820)/2","v":700},{"$f":"(9+12)/2","v":10.5},{"$f":"(18+28)/2","v":23},{"$f":"(2400+3300)/2","v":2850},{"$f":"(800+1100)/2","v":950},22,1.2,1,1,1.2,1.2,1.2,1.2,1.4,"regolare",0.2,1300,1.2,44.6,"coef.correttivo",{"$f":"'FOGLIO DEPOSITO'!G76","v":1},2]
[null,7,"Muratura in mattoni pieni e malta di calce",{"$f":"(260+430)/2","v":345},{"$f":"(5+13)/2","v":9},{"$f":"(13+27)/2","v":20},{"$f":"(1200+1800)/2","v":1500},{"$f":"(400+600)/2","v":500},18,{"$f":"(D11/100/INPUT!E75)^0.35","v":1.2102530472094046},1.2,1,1.3,1,1.2,1.5,1.8,"regolare",0.2,1000,1.7,24.5,null,null,1]
[null,8,"Muratura in mattoni semipieni con malta cementizia (doppio UNI foratura<40%)",{"$f":"(500+800)/2","v":650},{"$f":"(8+17)/2","v":12.5},{"$f":"(20+36)/2","v":28},{"$f":"(3500+5600)/2","v":4550},{"$f":"(875+1400)/2","v":1137.5},15,1.2,1,1,1,1.2,1,1.3,1.3,"regolare",0.2,800,1.3,44.6,"coef.correttivo",{"$f":"'FOGLIO DEPOSITO'!G77","v":1},1]
[null,9,"Muratura in blocchi di calcestruzzo o argilla espansa (% foratura tra 45% e 60%)",{"$f":"(150+200)/2","v":175},{"$f":"(9.5+12.5)/2","v":11},10,{"$f":"(1200+1600)/2","v":1400},{"$f":"(300+400)/2","v":350},12,1.2,1,1,1,"1.2",1,1.1000000000000001,1.3,"regolare",0.2,600,1.3,44.6,"coef.correttivo",{"$f":"X14","v":1},1]
[null,10,"Muratura in blocchi di calcestruzzo semipieni (% foratura < 45%)",{"$f":"(300+440)/2","v":370},{"$f":"(18+24)/2","v":21},20,{"$f":"(2400+3520)/2","v":2960},{"$f":"(600+880)/2","v":740},14,1.2,1,1,1,1.2,1,1.3,1.3,"regolare",0.2,800,1.3,44.6,"coef.correttivo",{"$f":"'FOGLIO DEPOSITO'!G78","v":1},1]
[null,11,"Muratura in pietrame disordinata (ciottoli, pietre erratiche e irregolari)",100,1.8,null,{"$f":"(690+1050)/2","v":870},{"$f":"(230+350)/2","v":290},19,1.5,1.6,1.3,1.5,1.5,2,2.5,3.5,"irregolare",null,null,1.5,null,"coef.correttivo",{"$f":"'FOGLIO DEPOSITO'!G79","v":1.5}]
[null,12,"Muratura a conci sbozzati, con paramenti di limitato spessore disomogeneo",200,3.5,null,{"$f":"(1020+1440)/2","v":1230},{"$f":"(340+480)/2","v":410},20,1.4,1.5,1.2,1.5,1.4,1.7,2,3,"irregolare",null,null,1.5]
[null,13,"Muratura in pietre a spacco con buona tessitura ",260,5.6,null,{"$f":"(1500+1980)/2","v":1740},{"$f":"(500+660)/2","v":580},21,1.3,1.4,1.1000000000000001,1.3,1.3,1.5,1.5,2.4,"irregolare",null,null,2]
[null,14,"Muratura irregolare di pietra tenera ",140,2.8,null,{"$f":"(900+1260)/2","v":1080},{"$f":"(300+420)/2","v":360},{"$f":"(13+16)/2","v":14.5},1.5,1.1000000000000001,1.2,1.3,1.5,1.4,1.7,2,"irregolare",null,null,2]
[null,15,"Muratura a conci regolari di pietra tenera",200,4,10,{"$f":"(1200+1620)/2","v":1410},{"$f":"(400+500)/2","v":450},{"$f":"(13+16)/2","v":14.5},1.6,1.2,1,1.2,1.6,1.2,1.5,1.8,"regolare",{"$f":"$Q$33","v":0.2},570,2]
[null,16,"Muratura a blocchi lapidei squadrati",580,9,18,{"$f":"(2400+3300)/2","v":2850},{"$f":"(800+1100)/2","v":950},22,1.2,1,1,1.2,1.2,1.2,1.2,1.4,"regolare",{"$f":"$Q$33","v":0.2},1300,1.2]
[null,17,"Muratura in mattoni pieni e malta di calce",260,5,13,{"$f":"(1200+1800)/2","v":1500},{"$f":"(400+600)/2","v":500},18,{"$f":"(D21/100/INPUT!E75)^0.35","v":1.096175707308346},1.2,1,1.3,1,1.2,1.5,1.8,"regolare",{"$f":"$Q$33","v":0.2},1000,1.7]
[null,18,"Muratura in mattoni semipieni con malta cementizia (doppio UNI foratura<40%)",500,8,20,{"$f":"(3500+5600)/2","v":4550},{"$f":"(875+1400)/2","v":1137.5},15,1.2,1,1,1,1.2,1,1.3,1.3,"regolare",{"$f":"$Q$33","v":0.2},800,1.3]
[null,19,"Muratura in blocchi di calcestruzzo o argilla espansa (% foratura tra 45% e 60%)",150,9.5,8.5,{"$f":"(1200+1600)/2","v":1400},{"$f":"(300+400)/2","v":350},12,1.2,1,1,1,1.2,1,1.1000000000000001,1.3,"regolare",{"$f":"$Q$33","v":0.2},600,1.3]
[null,20,"Muratura in blocchi di calcestruzzo semipieni (% foratura < 45%)",300,18,13,{"$f":"(2400+3520)/2","v":2960},{"$f":"(600+880)/2","v":740},14,1.2,1,1,1,1.2,1,1.3,1.3,"regolare",0.2,800,1.3]
[]
[]
[]
[]
[null,null,null,null,null,null,null,null,null,0.8,"giunti ampi","(peggiora tutti i moduli elastici)",null,null,null,null,"mu tilde"]
[null,{"$f":"C5","v":"Muratura in pietrame disordinata (ciottoli, pietre erratiche e irregolari)"},1,2,null,null,"si",null,null,0.7,"giunti ampi","(peggiora tutte le resistenze)",null,null,null,"malta buona e o normale",0.4]
[null,"Muratura a conci sbozzati, con paramenti di limitato spessore disomogeneo",1,2,null,null,"no",null,null,{"$f":"IF('FOGLIO DEPOSITO'!$D$43=1,VLOOKUP('FOGLIO DEPOSITO'!$B$70,'FOGLIO DEPOSITO'!$C$5:$P$14,'FOGLIO DEPOSITO'!J3,FALSE),VLOOKUP('FOGLIO DEPOSITO'!$B$70,'FOGLIO DEPOSITO'!$C$15:$P$24,'FOGLIO DEPOSITO'!J3,FALSE))","v":1.096175707308346},"Malta buona",null,null,null,null,"giunti ampi e o malta scadente",0.2]
[null,"Muratura in pietre a spacco con buona tessitura ",1,2,null,null,null,null,null,0.7,"malta scadente","(peggiora tutte le resistenze)",null,null,null,null,null,"ex-post"]
[null,"Muratura irregolare di pietra tenera ",1,2,null,null,"lineare ",2,null,{"$f":"IF('FOGLIO DEPOSITO'!$D$43=1,VLOOKUP('FOGLIO DEPOSITO'!$B$70,'FOGLIO DEPOSITO'!$C$5:$P$14,'FOGLIO DEPOSITO'!K3,FALSE),VLOOKUP('FOGLIO DEPOSITO'!$B$70,'FOGLIO DEPOSITO'!$C$15:$P$24,'FOGLIO DEPOSITO'!K3,FALSE))","v":1.2},"RISTILATURA",null,null,null,null,{"$f":"VLOOKUP(INPUT!B44,'FOGLIO DEPOSITO'!C5:S24,16,FALSE)","v":"regolare"},{"$f":"IF('FOGLIO DEPOSITO'!B441='FOGLIO DEPOSITO'!B66,0.2,IF('FOGLIO DEPOSITO'!B448=\"si\",0.2,0.4))","v":0.2},{"$f":"IF(D88>0,0.4,Q33)","v":0.4}]
[null,"Muratura a conci regolari di pietra tenera",1,2,null,null,"non lineare",1,null,null,null,null,null,null,null,"fb",{"$f":"VLOOKUP(INPUT!B44,'FOGLIO DEPOSITO'!C5:T24,18,FALSE)","v":1000}]
[null,"Muratura a blocchi lapidei squadrati",1,2,null,null,"statica (tab. 4.5.II. NTC18)",3,null,{"$f":"IF('FOGLIO DEPOSITO'!$D$43=1,VLOOKUP('FOGLIO DEPOSITO'!$B$70,'FOGLIO DEPOSITO'!$C$5:$P$14,'FOGLIO DEPOSITO'!L3,FALSE),VLOOKUP('FOGLIO DEPOSITO'!$B$70,'FOGLIO DEPOSITO'!$C$15:$P$24,'FOGLIO DEPOSITO'!L3,FALSE))","v":1},"Ricorsi o listature"]
[null,"Muratura in mattoni pieni e malta di calce",1,2,null,null,"utente",{"$f":"INPUT!F78","v":2.8}]
[null,{"$f":"C14","v":"Muratura in blocchi di calcestruzzo semipieni (% foratura < 45%)"},1,2,null,null,null,null,null,{"$f":"IF('FOGLIO DEPOSITO'!$D$43=1,VLOOKUP('FOGLIO DEPOSITO'!$B$70,'FOGLIO DEPOSITO'!$C$5:$P$14,'FOGLIO DEPOSITO'!M3,FALSE),VLOOKUP('FOGLIO DEPOSITO'!$B$70,'FOGLIO DEPOSITO'!$C$15:$P$24,'FOGLIO DEPOSITO'!M3,FALSE))","v":1.3},"Connessione trasversale"]
[]
[null,null,null,null,null,null,null,null,null,{"$f":"IF('FOGLIO DEPOSITO'!$D$43=1,VLOOKUP('FOGLIO DEPOSITO'!$B$70,'FOGLIO DEPOSITO'!$C$5:$P$14,'FOGLIO DEPOSITO'!N3,FALSE),VLOOKUP('FOGLIO DEPOSITO'!$B$70,'FOGLIO DEPOSITO'!$C$15:$P$24,'FOGLIO DEPOSITO'!N3,FALSE))","v":1},"diatoni artificiali"]
[]
[null,null,null,null,null,null,null,null,null,{"$f":"IF('FOGLIO DEPOSITO'!$D$43=1,VLOOKUP('FOGLIO DEPOSITO'!$B$70,'FOGLIO DEPOSITO'!$C$5:$P$14,'FOGLIO DEPOSITO'!O3,FALSE),VLOOKUP('FOGLIO DEPOSITO'!$B$70,'FOGLIO DEPOSITO'!$C$15:$P$24,'FOGLIO DEPOSITO'!O3,FALSE))","v":1.2},"Iniezioni di miscele leganti"]
[null,null,null,null,null,null,null,null,null,{"$f":"IF('FOGLIO DEPOSITO'!$D$43=1,VLOOKUP('FOGLIO DEPOSITO'!$B$70,'FOGLIO DEPOSITO'!$C$5:$U$14,'FOGLIO DEPOSITO'!U3,FALSE),VLOOKUP('FOGLIO DEPOSITO'!$B$70,'FOGLIO DEPOSITO'!$C$15:$U$24,'FOGLIO DEPOSITO'!U3,FALSE))","v":1.7},"FRCM doppia faccia senza connettori"]
[null,"LC1",1.35,{"$f":"IF(INPUT!F47=\"LC1\",2,1)","v":2},"Resistenze:i valori minimi degli intervalli riportati in Tabella C8.5.I; Moduli elastici: I valori medi degli intervalli riportati nella tabella suddetta.",null,null,null,null,{"$f":"IF('FOGLIO DEPOSITO'!$D$43=1,VLOOKUP('FOGLIO DEPOSITO'!$B$70,'FOGLIO DEPOSITO'!$C$5:$P$14,'FOGLIO DEPOSITO'!P3,FALSE),VLOOKUP('FOGLIO DEPOSITO'!$B$70,'FOGLIO DEPOSITO'!$C$15:$P$24,'FOGLIO DEPOSITO'!P3,FALSE))","v":1.5},"Muratura armata"]
[null,"LC2",1.2,null,"Resistenze:i valori medi degli intervalli riportati in Tabella C8.5.I; Moduli elastici: I valori medi degli intervalli riportati nella tabella suddetta."]
[null,"LC3",1,null,"I valori delle resistenze e dei moduli riportati in tabella C.8.5.I possono essere aggiornati sulla base dei risultati ottenuti da prove distruttive. "]
[]
[null,"rigidezze fessurate"]
[null,1,1]
[null,0.95,0.95]
[null,0.9,0.9]
[null,0.85,0.85]
[null,0.8,0.8]
[null,0.75,0.75]
[null,0.7,0.7,null,"w",null,{"$f":"MATERIALI!J71","v":18},"kN/m³"]
[null,0.65,0.65,null,"fm",null,{"$f":"MATERIALI!J73","v":1910.9999999999995},"kN/m²"]
[null,0.6,0.6,null,"fmd",null,{"$f":"MATERIALI!J77","v":707.7777777777776},"kN/m²"]
[null,0.55000000000000004,0.55000000000000004,null,"τ0d",null,{"$f":"MATERIALI!J74","v":36.749999999999993},"kN/m²"]
[null,0.5,0.5]
[null,0.45,0.45,null,"FC",null,{"$f":"INPUT!F48","v":1.35},"[-]"]
[null,0.4,0.4,null,"γm",null,{"$f":"INPUT!E75","v":2},"[-]"]
[null,0.35,0.35]
[]
[]
[null,"si"]
[null,"no"]
[null,"scadente"]
[]
[]
[]
[null,{"$f":"INPUT!B44","v":"Muratura in mattoni pieni e malta di calce"},null,null,null,null,"fm (N/cm2)","τ0 (N/cm2)","fv0 (N/cm2)","E (N/mm2)","G (N/mm2)","w (kN/m3)",null,null,{"$f":"IF('FOGLIO DEPOSITO'!B451=\"SI\",1,0)","v":0}]
[]
[null,null,null,null,null,null,{"$f":"IF('FOGLIO DEPOSITO'!$D$43=1,VLOOKUP('FOGLIO DEPOSITO'!$B$70,'FOGLIO DEPOSITO'!$C$5:$P$14,'FOGLIO DEPOSITO'!D3,FALSE),VLOOKUP('FOGLIO DEPOSITO'!$B$70,'FOGLIO DEPOSITO'!$C$15:$P$24,'FOGLIO DEPOSITO'!D3,FALSE))","v":260},{"$f":"IF('FOGLIO DEPOSITO'!$D$43=1,VLOOKUP('FOGLIO DEPOSITO'!$B$70,'FOGLIO DEPOSITO'!$C$5:$P$14,'FOGLIO DEPOSITO'!E3,FALSE),VLOOKUP('FOGLIO DEPOSITO'!$B$70,'FOGLIO DEPOSITO'!$C$15:$P$24,'FOGLIO DEPOSITO'!E3,FALSE))","v":5},{"$f":"IF('FOGLIO DEPOSITO'!$D$43=1,VLOOKUP('FOGLIO DEPOSITO'!$B$70,'FOGLIO DEPOSITO'!$C$5:$P$14,'FOGLIO DEPOSITO'!F3,FALSE),VLOOKUP('FOGLIO DEPOSITO'!$B$70,'FOGLIO DEPOSITO'!$C$15:$P$24,'FOGLIO DEPOSITO'!F3,FALSE))","v":13},{"$f":"IF('FOGLIO DEPOSITO'!$D$43=1,VLOOKUP('FOGLIO DEPOSITO'!$B$70,'FOGLIO DEPOSITO'!$C$5:$P$14,'FOGLIO DEPOSITO'!G3,FALSE),VLOOKUP('FOGLIO DEPOSITO'!$B$70,'FOGLIO DEPOSITO'!$C$15:$P$24,'FOGLIO DEPOSITO'!G3,FALSE))","v":1500},{"$f":"IF('FOGLIO DEPOSITO'!$D$43=1,VLOOKUP('FOGLIO DEPOSITO'!$B$70,'FOGLIO DEPOSITO'!$C$5:$P$14,'FOGLIO DEPOSITO'!H3,FALSE),VLOOKUP('FOGLIO DEPOSITO'!$B$70,'FOGLIO DEPOSITO'!$C$15:$P$24,'FOGLIO DEPOSITO'!H3,FALSE))","v":500},{"$f":"IF('FOGLIO DEPOSITO'!$D$43=1,VLOOKUP('FOGLIO DEPOSITO'!$B$70,'FOGLIO DEPOSITO'!$C$5:$P$14,'FOGLIO DEPOSITO'!I3,FALSE),VLOOKUP('FOGLIO DEPOSITO'!$B$70,'FOGLIO DEPOSITO'!$C$15:$P$24,'FOGLIO DEPOSITO'!I3,FALSE))","v":18},null,null,{"$f":"IF(INPUT!E67=\"SI\",1,0)","v":0}]
[null,"Malta buona",null,null,null,null,{"$f":"IF('FOGLIO DEPOSITO'!G77>1,1,IF('FOGLIO DEPOSITO'!B441=\"si\",'FOGLIO DEPOSITO'!J31,IF('FOGLIO DEPOSITO'!B441=\"scadente\",J32,1)))","v":0.7},{"$f":"G73","v":0.7},{"$f":"G73","v":0.7},{"$f":"IF('FOGLIO DEPOSITO'!G77>1,1,IF('FOGLIO DEPOSITO'!B441=\"si\",'FOGLIO DEPOSITO'!J31,IF('FOGLIO DEPOSITO'!B441=\"scadente\",J29,1)))","v":0.8},{"$f":"J73","v":0.8},1]
[null,"ristilatura armata",null,null,null,null,{"$f":"IF(INPUT!F65=\"si\",'FOGLIO DEPOSITO'!J33,1)","v":1},{"$f":"IF(G74>1,(G74-1)/2+1,1)","v":1},1,{"$f":"G74","v":1},{"$f":"G74","v":1},1,null,null,{"$f":"IF(INPUT!F65=\"SI\",1,0)","v":0}]
[null,"Ricorsi o listature",null,null,null,null,{"$f":"IF('FOGLIO DEPOSITO'!B449=\"si\",'FOGLIO DEPOSITO'!J35,1)","v":1},{"$f":"G75","v":1},1,1,1,1]
[null,"Connessione trasversale",null,null,null,null,{"$f":"IF('FOGLIO DEPOSITO'!B450=\"si\",'FOGLIO DEPOSITO'!J37,1)","v":1},{"$f":"G76","v":1},1,1,1,1,null,null,{"$f":"IF(INPUT!F66=\"SI\",1,0)","v":0}]
[null,"Iniezioni di miscele leganti",null,null,null,null,{"$f":"IF('FOGLIO DEPOSITO'!B451=\"si\",'FOGLIO DEPOSITO'!J41,1)","v":1},{"$f":"G77","v":1},1,{"$f":"G77","v":1},{"$f":"G77","v":1},1]
[null,"Diatoni Artificiali",null,null,null,null,{"$f":"IF(INPUT!F66=\"si\",'FOGLIO DEPOSITO'!J39,1)","v":1},{"$f":"G78","v":1},1,1,1,1]
[null,"Muratura armata",null,null,null,null,{"$f":"VLOOKUP(INPUT!$E$67,'FOGLIO DEPOSITO'!$G$87:$M$92,'FOGLIO DEPOSITO'!H84,FALSE)","v":1.5},{"$f":"VLOOKUP(INPUT!$E$67,'FOGLIO DEPOSITO'!$G$87:$M$92,'FOGLIO DEPOSITO'!I84,FALSE)","v":1.5},{"$f":"VLOOKUP(INPUT!$E$67,'FOGLIO DEPOSITO'!$G$87:$M$92,'FOGLIO DEPOSITO'!J84,FALSE)","v":1.5},{"$f":"VLOOKUP(INPUT!$E$67,'FOGLIO DEPOSITO'!$G$87:$M$92,'FOGLIO DEPOSITO'!K84,FALSE)","v":1.5},{"$f":"VLOOKUP(INPUT!$E$67,'FOGLIO DEPOSITO'!$G$87:$M$92,'FOGLIO DEPOSITO'!L84,FALSE)","v":1.5},{"$f":"VLOOKUP(INPUT!$E$67,'FOGLIO DEPOSITO'!$G$87:$M$92,'FOGLIO DEPOSITO'!M84,FALSE)","v":1}]
[null,null,null,null,null,null,{"$f":"MATERIALI!G53*MATERIALI!G54*MATERIALI!G59*MATERIALI!G56*MATERIALI!G57*MATERIALI!G60*MATERIALI!G61*MATERIALI!G58","v":273},{"$f":"MATERIALI!H53*MATERIALI!H54*MATERIALI!H59*MATERIALI!H56*MATERIALI!H57*MATERIALI!H60*MATERIALI!H61*MATERIALI!H58","v":5.25},{"$f":"I72*I73*I74*I75*I76*'FOGLIO DEPOSITO'!I78*'FOGLIO DEPOSITO'!I77*'FOGLIO DEPOSITO'!I79","v":13.649999999999999},{"$f":"MATERIALI!J53*MATERIALI!J54*MATERIALI!J59*MATERIALI!J56*MATERIALI!J57*MATERIALI!J60*MATERIALI!J61*MATERIALI!J58","v":1800},{"$f":"MATERIALI!K53*MATERIALI!K54*MATERIALI!K59*MATERIALI!K56*MATERIALI!K57*MATERIALI!K60*MATERIALI!K61*MATERIALI!K58","v":600},{"$f":"MATERIALI!L53*MATERIALI!L54*MATERIALI!L59*MATERIALI!L56*MATERIALI!L57*MATERIALI!L60*MATERIALI!L61*MATERIALI!L58","v":18}]
[null,null,null,null,null,null,null,null,null,null,null,null,"fess ante","fess post"]
[null,null,"check numero di rinforzi",null,null,null,null,null,null,null,null,null,{"$f":"VLOOKUP(INPUT!F55,'FOGLIO DEPOSITO'!B48:C61,2,FALSE)","v":0.85},{"$f":"VLOOKUP(INPUT!F62,'FOGLIO DEPOSITO'!B48:C61,2,FALSE)","v":1}]
[]
[null,null,{"$f":"IF(INPUT!F64=\"no\",1,0)","v":1},{"$f":"1-C84","v":0},null,null,null,2,{"$f":"+H84+1","v":3},{"$f":"+I84+1","v":4},5,6,7]
[null,null,{"$f":"IF(INPUT!F65=\"no\",1,0)","v":1},{"$f":"1-C85","v":0},null,null,"scelta intonaco armato","fm (N/cm2)","τ0 (N/cm2)","fv0 (N/cm2)","E (N/mm2)","G (N/mm2)","w (kN/m3)"]
[null,null,{"$f":"IF(INPUT!F66=\"no\",1,0)","v":1},{"$f":"1-C86","v":0}]
[null,null,{"$f":"IF(INPUT!E67=\"no\",1,0)","v":0},{"$f":"1-C87","v":1},null,null,"no",1,1,1,1,1,1]
[null,null,null,{"$f":"SUM(D84:D87)","v":1},null,null,"CRM doppia faccia + connettori",{"$f":"'FOGLIO DEPOSITO'!J43","v":1.5},{"$f":"'FOGLIO DEPOSITO'!J43","v":1.5},{"$f":"'FOGLIO DEPOSITO'!J43","v":1.5},{"$f":"'FOGLIO DEPOSITO'!J43","v":1.5},{"$f":"'FOGLIO DEPOSITO'!J43","v":1.5},1]
[null,null,null,null,null,null,"CRM una faccia",{"$f":"(H88-1)*0.5+1","v":1.25},{"$f":"(I88-1)*0.5+1","v":1.25},1.25,1.25,1.25,1]
[null,null,null,null,null,null,"FRCM doppia faccia + connettori",{"$f":"H88","v":1.5},{"$f":"I88","v":1.5},{"$f":"J88","v":1.5},1,1,1]
[null,null,null,null,null,null,"FRCM doppia faccia NO connettori",{"$f":"'FOGLIO DEPOSITO'!J42","v":1.7},{"$f":"'FOGLIO DEPOSITO'!J42","v":1.7},{"$f":"'FOGLIO DEPOSITO'!J42","v":1.7},1,1,1]
[null,null,null,null,null,null,"FRCM una faccia",{"$f":"(H90-1)*0.5+1","v":1.25},1.25,1.25,1,1,1]
[]
[null,null,null,null,null,null,null,null,null,null,null,null,{"$f":"IF(INPUT!E67='FOGLIO DEPOSITO'!G88,1,IF(INPUT!E67='FOGLIO DEPOSITO'!G89,0,0))","v":1}]
[]
[null,"COEFFICIENTE DA UTENTE"]
[]
[null,"Inserire i coefficienti correttivi manualmente?",null,null,null,"no"]
[null,"(Opzione da usare con cautela)"]
[null,null,null,null,null,"fm (N/cm2)"]
[]
[null,null,"stato di fatto","Malta buona",null,1,null,null,null,null,{"$f":"IF('FOGLIO DEPOSITO'!F98=\"si\",\"ATTENZIONE COEFFICIENTI CORRETTIVI INSERITI MANUALMENTE! LA SELEZIONE IN QUESTO CASO NON PRODUCE NESSUN CAMBIAMENTO! SI CONSIDERANO SOLO I VALORI INSERITI DA UTENTE\",\"\")","v":""}]
[null,null,null,"Ricorsi o listature",null,1]
[null,null,null,"Connessione trasversale",null,1]
[]
[null,null,"interventi di consolidamento","Iniezioni di miscele leganti",null,1]
[null,null,null,"Muratura armata",null,1]
[null,null,null,"Ristilatura armata con connessione dei paramenti",null,1]
[null,null,null,"Diatoni artificiali o tirantini antiespulsivi",null,1]
[]
[]
[null,null,null,null,null,"τ0 (N/cm2)"]
[]
[null,null,"stato di fatto","Malta buona",null,1]
[null,null,null,"Ricorsi o listature",null,1]
[null,null,null,"Connessione trasversale",null,1]
[]
[null,null,"interventi di consolidamento","Iniezioni di miscele leganti",null,1]
[null,null,null,"Muratura armata",null,1]
[null,null,null,"Ristilatura armata con connessione dei paramenti",null,1]
[null,null,null,"Diatoni artificiali o tirantini antiespulsivi",null,1]
[]
[]
[null,null,null,null,null,"fv0 (N/cm2)"]
[]
[null,null,"stato di fatto","Malta buona",null,1]
[null,null,null,"Ricorsi o listature",null,1]
[null,null,null,"Connessione trasversale",null,1]
[]
[null,null,"interventi di consolidamento","Iniezioni di miscele leganti",null,1]
[null,null,null,"Muratura armata",null,1]
[null,null,null,"Ristilatura armata con connessione dei paramenti",null,1]
[null,null,null,"Diatoni artificiali o tirantini antiespulsivi",null,1]
[]
[]
[null,null,null,null,null,"E (N/mm2)"]
[]
[null,null,"stato di fatto","Malta buona",null,1]
[null,null,null,"Ricorsi o listature",null,1]
[null,null,null,"Connessione trasversale",null,1]
[]
[null,null,"interventi di consolidamento","Iniezioni di miscele leganti",null,1]
[null,null,null,"Muratura armata",null,1]
[null,null,null,"Ristilatura armata con connessione dei paramenti",null,1]
[null,null,null,"Diatoni artificiali o tirantini antiespulsivi",null,1]
[]
[]
[null,null,null,null,null,"G (N/mm2)"]
[]
[null,null,"stato di fatto","Malta buona",null,1]
[null,null,null,"Ricorsi o listature",null,1]
[null,null,null,"Connessione trasversale",null,1]
[]
[null,null,"interventi di consolidamento","Iniezioni di miscele leganti",null,1]
[null,null,null,"Muratura armata",null,1]
[null,null,null,"Ristilatura armata con connessione dei paramenti",null,1]
[null,null,null,"Diatoni artificiali o tirantini antiespulsivi",null,1]
[]
[]
[null,null,null,null,null,"w (kN/m3)"]
[]
[null,null,"stato di fatto","Malta buona",null,1]
[null,null,null,"Ricorsi o listature",null,1]
[null,null,null,"Connessione trasversale",null,1]
[]
[null,null,"interventi di consolidamento","Iniezioni di miscele leganti",null,1]
[null,null,null,"Muratura armata",null,1]
[null,null,null,"Ristilatura armata con connessione dei paramenti",null,1]
[null,null,null,"Diatoni artificiali o tirantini antiespulsivi",null,1]
[]
[]
[null,"coppia di punti nel piano"]
[null,"Ned  [kN]","MRd  [kNm]"]
[null,{"$f":"MNP!Z10","v":217.08197144470455},{"$f":"MNP!AA10","v":130.42820787331621}]
[null,null,null,null,"si"]
[null,"copiia di punti nel piano rinf",null,null,"no"]
[null,"Ned  [kN]","MRd  [kNm]"]
[null,{"$f":"MNPR!Z10","v":183.56444226478146},{"$f":"MNPR!AA10","v":155.02475851918155}]
[]
[null,"coppia di punti fuori piano"]
[null,"Ned  [kN]","MRd  [kNm]"]
[null,{"$f":"MNFP!Z10","v":217.08197148236871},{"$f":"MNFP!AA10","v":23.817324912267377}]
[]
[null,"copiia di punti fuori piano rinf"]
[null,"Ned  [kN]","MRd  [kNm]"]
[null,{"$f":"MNFPR!Z10","v":183.56444222752154},{"$f":"MNFPR!AA10","v":32.35299309355468}]
[]
[]
[null,"RIEPILOGO DATI"]
[]
[null,"h",{"$f":"INPUT!F40","v":3.3},"N",{"$f":"-ABS('FOGLIO DEPOSITO'!F304)","v":-220}]
[null,"l",{"$f":"INPUT!F38","v":2.2999999999999998},"T",{"$f":"INPUT!F89","v":48}]
[null,"t",{"$f":"INPUT!F39","v":0.42},"Mt",{"$f":"INPUT!F86","v":165}]
[null,null,null,"Ml",{"$f":"INPUT!F87","v":32}]
[]
[]
[null,"RIEPILOGO DATI"]
[]
[null,"h",{"$f":"INPUT!F40","v":3.3},"N",{"$f":"-ABS('FOGLIO DEPOSITO'!F304)","v":-220}]
[null,"l",{"$f":"INPUT!F38","v":2.2999999999999998},"T",{"$f":"INPUT!F89","v":48}]
[null,"t",{"$f":"INPUT!F39","v":0.42},"Mt",{"$f":"INPUT!F86","v":165}]
[null,null,null,"Ml",{"$f":"INPUT!F87","v":32}]
[]
[]
[null,"NEL PIANO NON RINFORZATO",null,null,"Ned","Med"]
[null,"NED","MED-PL",null,{"$f":"-ABS('FOGLIO DEPOSITO'!F304)","v":-220},{"$f":"ABS(INPUT!F86)","v":165}]
[null,{"$f":"-ABS('FOGLIO DEPOSITO'!K208)","v":-210},{"$f":"'FOGLIO DEPOSITO'!L208","v":115},null,null,null,null,null,null,null,"NED","MED-PL"]
[null,{"$f":"-ABS('FOGLIO DEPOSITO'!K209)","v":-215},{"$f":"'FOGLIO DEPOSITO'!L209","v":132},null,null,null,null,null,"COMB  A SCELTA DELL'UTENTE",1,{"$f":"'FOGLIO DEPOSITO'!D543","v":210},{"$f":"'FOGLIO DEPOSITO'!E543","v":115}]
[null,{"$f":"-ABS('FOGLIO DEPOSITO'!K210)","v":-230},{"$f":"'FOGLIO DEPOSITO'!L210","v":161},null,null,null,null,null,"COMB  A SCELTA DELL'UTENTE",2,{"$f":"'FOGLIO DEPOSITO'!D544","v":215},{"$f":"'FOGLIO DEPOSITO'!E544","v":132}]
[null,{"$f":"-ABS('FOGLIO DEPOSITO'!K211)","v":-285},{"$f":"'FOGLIO DEPOSITO'!L211","v":155},null,null,null,null,null,"COMB  A SCELTA DELL'UTENTE",3,{"$f":"'FOGLIO DEPOSITO'!D545","v":230},{"$f":"'FOGLIO DEPOSITO'!E545","v":161}]
[null,null,null,null,null,null,null,null,"COMB  A SCELTA DELL'UTENTE",4,{"$f":"'FOGLIO DEPOSITO'!D546","v":285},{"$f":"'FOGLIO DEPOSITO'!E546","v":155}]
[null,"NEL PIANO RINFORZATO"]
[null,"NED","MED-PL"]
[null,{"$f":"-ABS('FOGLIO DEPOSITO'!D543)","v":-210},{"$f":"'FOGLIO DEPOSITO'!E543","v":115}]
[null,{"$f":"-ABS('FOGLIO DEPOSITO'!D544)","v":-215},{"$f":"'FOGLIO DEPOSITO'!E544","v":132}]
[null,{"$f":"-ABS('FOGLIO DEPOSITO'!D545)","v":-230},{"$f":"'FOGLIO DEPOSITO'!E545","v":161}]
[null,{"$f":"-ABS('FOGLIO DEPOSITO'!D546)","v":-285},{"$f":"'FOGLIO DEPOSITO'!E546","v":155}]
[]
[null,"fuori dEL PIANO NON RINFORZATO"]
[null,"NED","MED-PL",null,"Ned","Med"]
[null,{"$f":"-ABS('FOGLIO DEPOSITO'!K224)","v":-210},{"$f":"'FOGLIO DEPOSITO'!L224","v":21.5},null,{"$f":"-ABS('FOGLIO DEPOSITO'!F304)","v":-220},{"$f":"ABS(INPUT!F87)","v":32}]
[null,{"$f":"-ABS('FOGLIO DEPOSITO'!K225)","v":-215},{"$f":"'FOGLIO DEPOSITO'!L225","v":18}]
[null,{"$f":"-ABS('FOGLIO DEPOSITO'!K226)","v":-230},{"$f":"'FOGLIO DEPOSITO'!L226","v":17},null,null,null,null,null,null,null,"NED","MED-OUT-PL"]
[null,{"$f":"-ABS('FOGLIO DEPOSITO'!K227)","v":-285},{"$f":"'FOGLIO DEPOSITO'!L227","v":23},null,null,null,null,null,"COMB  A SCELTA DELL'UTENTE",1,{"$f":"'FOGLIO DEPOSITO'!D339","v":210},{"$f":"'FOGLIO DEPOSITO'!E339","v":21.5}]
[null,null,null,null,null,null,null,null,"COMB  A SCELTA DELL'UTENTE",2,{"$f":"'FOGLIO DEPOSITO'!D340","v":215},{"$f":"'FOGLIO DEPOSITO'!E340","v":18}]
[null,"fuori deL PIANO RINFORZATO",null,null,null,null,null,null,"COMB  A SCELTA DELL'UTENTE",3,{"$f":"'FOGLIO DEPOSITO'!D341","v":230},{"$f":"'FOGLIO DEPOSITO'!E341","v":17}]
[null,"NED","MED-PL",null,null,null,null,null,"COMB  A SCELTA DELL'UTENTE",4,{"$f":"'FOGLIO DEPOSITO'!D342","v":285},{"$f":"'FOGLIO DEPOSITO'!E342","v":23}]
[null,{"$f":"-ABS('FOGLIO DEPOSITO'!D339)","v":-210},{"$f":"'FOGLIO DEPOSITO'!E339","v":21.5}]
[null,{"$f":"-ABS('FOGLIO DEPOSITO'!D340)","v":-215},{"$f":"'FOGLIO DEPOSITO'!E340","v":18}]
[null,{"$f":"-ABS('FOGLIO DEPOSITO'!D341)","v":-230},{"$f":"'FOGLIO DEPOSITO'!E341","v":17}]
[null,{"$f":"-ABS('FOGLIO DEPOSITO'!D342)","v":-285},{"$f":"'FOGLIO DEPOSITO'!E342","v":23}]
[]
[]
[null,"GRAFICI"]
[]
[null,"NEL PIANO NON RINFORZATO",null,null,null,null,"SUPERFICI",1E-4,null,"verifica a compressione semplice ante",null,null,{"$f":"'NEL PIANO'!E133","v":2.0718585858585858}]
[null,null,null,null,null,null,null,null,null,"verifica a compressione semplice post",null,null,{"$f":"'NEL PIANO'!J133","v":3.5517575757575752}]
[]
[null,"sezione",null,null,"rinforzo dx",null,null,"rinforzo sx",null,null,"asse neutro",null,null,"deformazione",null,{"$f":"IF('FOGLIO DEPOSITO'!E288=\"\",0,'FOGLIO DEPOSITO'!E288)","v":0},null,"tensione",null,{"$f":"IF('FOGLIO DEPOSITO'!E288=\"\",0,'FOGLIO DEPOSITO'!E288)","v":0}]
[null,"x","y",null,"x","y",null,"x","y",null,"x","y",null,"x","y",null,null,"x","y"]
[null,0,0,null,{"$f":"B242","v":210},0,null,{"$f":"IF($H$236=1,E241,-E241)","v":-210},0,null,{"$f":"-2*B242","v":-420},{"$f":"IF($M$236<1,0,IF('FOGLIO DEPOSITO'!F298=\"\",\"\",F243-'FOGLIO DEPOSITO'!F298))","v":1089.9389626261791},null,{"$f":"IF($M$236<1,0,+E242+220)","v":430},{"$f":"IF($M$236<1,0,IF('FOGLIO DEPOSITO'!F298=\"\",\"\",I243))","v":2300},null,null,{"$f":"IF($M$236<1,0,N242+200)","v":770},{"$f":"O241","v":2300}]
[null,{"$f":"INPUT!$F$39*1000/2","v":210},0,null,{"$f":"+E241","v":210},0,null,{"$f":"IF($H$236=1,E242,-E242)","v":-210},0,null,{"$f":"-K241+N241*1.35","v":1000.5},{"$f":"L241","v":1089.9389626261791},null,{"$f":"IF($M$236<1,0,N241+ABS('NEL PIANO'!E61)*40000)","v":570},{"$f":"O241","v":2300},null,null,{"$f":"IF($M$236<1,0,R241+ABS('NEL PIANO'!E61)*40000)","v":910},{"$f":"S241","v":2300}]
[null,{"$f":"B242","v":210},{"$f":"INPUT!$F$38*1000","v":2300},null,{"$f":"E242","v":210},{"$f":"C243","v":2300},null,{"$f":"IF($H$236=1,E243,-E243)","v":-210},{"$f":"F243","v":2300},null,null,null,null,{"$f":"N241","v":430},{"$f":"IF($M$236<1,0,IF('FOGLIO DEPOSITO'!F298=\"\",\"\",O242-'FOGLIO DEPOSITO'!F298))","v":1089.9389626261791},null,null,{"$f":"R242","v":910},{"$f":"IF($M$236<1,0,IF(ABS('NEL PIANO'!E61)>=0.002,O241-'FOGLIO DEPOSITO'!F298*0.002/ABS('NEL PIANO'!E61-0.002),O241))","v":1859.9778045913379}]
[null,{"$f":"-B243","v":-210},{"$f":"C243","v":2300},null,{"$f":"E241","v":210},{"$f":"F243","v":2300},null,{"$f":"IF($H$236=1,E244,-E244)","v":-210},{"$f":"I243","v":2300},null,null,null,null,{"$f":"N243","v":430},{"$f":"O241","v":2300},null,null,{"$f":"R241","v":770},{"$f":"IF($M$236<1,0,S242-'FOGLIO DEPOSITO'!F298)","v":1089.9389626261791}]
[null,{"$f":"B244","v":-210},{"$f":"C241","v":0},null,{"$f":"E241","v":210},{"$f":"F241","v":0},null,{"$f":"IF($H$236=1,E245,-E245)","v":-210},{"$f":"I241","v":0},null,null,null,null,null,null,null,null,{"$f":"R244","v":770},{"$f":"O244","v":2300}]
[null,0,0]
[null,"NEL PIANO RINFORZATO"]
[]
[null,"sezione",null,null,"rinforzo dx",null,null,"rinforzo sx",null,null,"asse neutro",null,null,"deformazione",null,{"$f":"IF('FOGLIO DEPOSITO'!E289=\"\",0,'FOGLIO DEPOSITO'!E289)","v":0},null,"tensione",null,{"$f":"IF('FOGLIO DEPOSITO'!E289=\"\",0,'FOGLIO DEPOSITO'!E289)","v":0}]
[null,"x","y",null,"x","y",null,"x","y",null,"x","y",null,"x","y",null,null,"x","y",{"$f":"IF('FOGLIO DEPOSITO'!E287=\"\",0,'FOGLIO DEPOSITO'!E287)","v":7.6800000000000002E-3}]
[null,0,0,null,{"$f":"B252","v":240},0,null,{"$f":"IF($H$236=1,E251,-E251)","v":-240},0,null,{"$f":"-2*B252","v":-480},{"$f":"IF($M$237<1,0,IF('FOGLIO DEPOSITO'!F299=\"\",\"\",F253-'FOGLIO DEPOSITO'!F299))","v":1589.0531583614429},null,{"$f":"IF($M$237<1,0,+E252+220)","v":475},{"$f":"IF($M$237<1,0,IF('FOGLIO DEPOSITO'!F299=\"\",\"\",I253))","v":2300},null,null,{"$f":"IF($M$237<1,0,N252+200)","v":812.44214194607025},{"$f":"O251","v":2300}]
[null,{"$f":"MNPR!D3/2","v":240},0,null,{"$f":"+E251+15","v":255},0,null,{"$f":"IF($H$236=1,E252,-E252)","v":-255},0,null,{"$f":"-K251+N251*1.35","v":1121.25},{"$f":"L251","v":1589.0531583614429},null,{"$f":"IF($M$237<1,0,N251+ABS('NEL PIANO'!J61)*40000)","v":612.44214194607025},{"$f":"O251","v":2300},null,null,{"$f":"IF($M$237<1,0,R251+ABS('NEL PIANO'!J61)*40000)","v":949.8842838921405},{"$f":"S251","v":2300}]
[null,{"$f":"B252","v":240},{"$f":"INPUT!$F$38*1000","v":2300},null,{"$f":"E252","v":255},{"$f":"C253","v":2300},null,{"$f":"IF($H$236=1,E253,-E253)","v":-255},{"$f":"F253","v":2300},null,null,null,null,{"$f":"N251","v":475},{"$f":"IF($M$237<1,0,IF('FOGLIO DEPOSITO'!F299=\"\",\"\",O252-'FOGLIO DEPOSITO'!F299))","v":1589.0531583614429},null,null,{"$f":"R252","v":949.8842838921405},{"$f":"IF($M$237<1,0,IF(ABS('NEL PIANO'!J61)>=0.002,O251-'FOGLIO DEPOSITO'!F299*0.002/ABS('NEL PIANO'!J61-0.002),O251))","v":2038.4327305550971}]
[null,{"$f":"-B253","v":-240},{"$f":"C253","v":2300},null,{"$f":"E251","v":240},{"$f":"F253","v":2300},null,{"$f":"IF($H$236=1,E254,-E254)","v":-240},{"$f":"I253","v":2300},null,null,null,null,{"$f":"N251","v":475},{"$f":"O251","v":2300},null,null,{"$f":"R251","v":812.44214194607025},{"$f":"IF($M$237<1,0,S252-'FOGLIO DEPOSITO'!F299)","v":1589.0531583614429}]
[null,{"$f":"B254","v":-240},{"$f":"C251","v":0},null,{"$f":"E251","v":240},{"$f":"F251","v":0},null,{"$f":"IF($H$236=1,E255,-E255)","v":-240},{"$f":"I251","v":0},null,null,null,null,null,null,null,null,{"$f":"R254","v":812.44214194607025},{"$f":"O254","v":2300}]
[null,0,0]
[]
[]
[]
[null,"fuori dEL PIANO NON RINFORZATO"]
[]
[null,"sezione",null,null,"rinforzo dx",null,null,"rinforzo sx",null,null,"asse neutro",null,null,"deformazione",null,{"$f":"IF('FOGLIO DEPOSITO'!E292=\"\",0,'FOGLIO DEPOSITO'!E292)","v":0},null,"tensione",null,{"$f":"IF('FOGLIO DEPOSITO'!E292=\"\",0,'FOGLIO DEPOSITO'!E292)","v":0}]
[null,"x","y",null,"x","y",null,"x","y",null,"x","y",null,"x","y",null,null,"x","y"]
[null,0,0,null,{"$f":"B265","v":1150},0,null,{"$f":"-E264","v":-1150},0,null,{"$f":"-2*B265","v":-2300},{"$f":"IF($M$236<1,0,IF('FOGLIO DEPOSITO'!F300=\"\",\"\",F266-'FOGLIO DEPOSITO'!F300))","v":199.03233230565013},null,{"$f":"IF($M$236<1,0,+E265+220*5)","v":2250},{"$f":"IF($M$236<1,0,IF('FOGLIO DEPOSITO'!F300=\"\",\"\",I266))","v":420},null,null,{"$f":"IF($M$236<1,0,N265+200*6)","v":3730},{"$f":"O264","v":420}]
[null,{"$f":"INPUT!$F$38*1000/2","v":1150},0,null,{"$f":"+E264","v":1150},0,null,{"$f":"-E265","v":-1150},0,null,{"$f":"-K264+N264*1.35","v":5337.5},{"$f":"L264","v":199.03233230565013},null,{"$f":"IF($M$236<1,0,N264+ABS('FOGLIO DEPOSITO'!E313)*10000*8)","v":2530},{"$f":"O264","v":420},null,null,{"$f":"IF($M$236<1,0,R264+ABS('FOGLIO DEPOSITO'!E313)*10000*12)","v":4150},{"$f":"S264","v":420}]
[null,{"$f":"B265","v":1150},{"$f":"INPUT!$F$39*1000","v":420},null,{"$f":"E265","v":1150},{"$f":"C266","v":420},null,{"$f":"-E266","v":-1150},{"$f":"F266","v":420},null,null,null,null,{"$f":"N264","v":2250},{"$f":"IF($M$236<1,0,IF('FOGLIO DEPOSITO'!F300=\"\",\"\",O265-'FOGLIO DEPOSITO'!F300))","v":199.03233230565013},null,null,{"$f":"R265","v":4150},{"$f":"IF($M$236<1,0,IF(ABS('FOGLIO DEPOSITO'!E313)>=0.002,O264-'FOGLIO DEPOSITO'!F300*0.002/ABS('FOGLIO DEPOSITO'!E313-0.002),O264))","v":339.64812083841821}]
[null,{"$f":"-B266","v":-1150},{"$f":"C266","v":420},null,{"$f":"E264","v":1150},{"$f":"F266","v":420},null,{"$f":"-E267","v":-1150},{"$f":"I266","v":420},null,null,null,null,{"$f":"N266","v":2250},{"$f":"O264","v":420},null,null,{"$f":"R264","v":3730},{"$f":"IF($M$236<1,0,S265-'FOGLIO DEPOSITO'!F300)","v":199.03233230565013}]
[null,{"$f":"B267","v":-1150},{"$f":"C264","v":0},null,{"$f":"E264","v":1150},{"$f":"F264","v":0},null,{"$f":"-E268","v":-1150},{"$f":"I264","v":0},null,null,null,null,null,null,null,null,{"$f":"R267","v":3730},{"$f":"O267","v":420}]
[null,0,0]
[]
[]
[]
[null,"fuori dEL PIANO RINFORZATO"]
[]
[null,"sezione",null,null,"rinforzo sup",null,null,"rinforzo inf",null,null,"asse neutro",null,null,"deformazione",null,{"$f":"IF('FOGLIO DEPOSITO'!E293=\"\",0,'FOGLIO DEPOSITO'!E293)","v":0},null,"tensione",null,{"$f":"IF('FOGLIO DEPOSITO'!E293=\"\",0,'FOGLIO DEPOSITO'!E293)","v":0}]
[null,"x","y",null,"x","y","y","x","y",null,"x","y",null,"x","y",null,null,"x","y",{"$f":"IF('FOGLIO DEPOSITO'!E291=\"\",0,'FOGLIO DEPOSITO'!E291)","v":7.6800000000000002E-3}]
[null,0,0,null,{"$f":"B278","v":1150},{"$f":"IF($H$236=1,I277,G277)","v":480},{"$f":"C279","v":480},{"$f":"-E277","v":-1150},0,null,{"$f":"-2*B278","v":-2300},{"$f":"IF($M$237<1,0,IF('FOGLIO DEPOSITO'!F301=\"\",\"\",G277-'FOGLIO DEPOSITO'!F301))","v":331.62848522325771},null,{"$f":"IF($M$237<1,0,+E278+220*5)","v":2250},{"$f":"IF($M$237<1,0,IF('FOGLIO DEPOSITO'!F301=\"\",\"\",G277))","v":480},null,null,{"$f":"IF($M$237<1,0,N278+200*6)","v":3724.8842838921405},{"$f":"O277","v":480}]
[null,{"$f":"MNFPR!D2/2","v":1150},0,null,{"$f":"+E277","v":1150},{"$f":"IF($H$236=1,I278,G278)","v":495},{"$f":"G277+15","v":495},{"$f":"-E278","v":-1150},-15,null,{"$f":"-K277+N277*2.2","v":7250},{"$f":"L277","v":331.62848522325771},null,{"$f":"IF($M$237<1,0,N277+ABS('FOGLIO DEPOSITO'!E326)*10000*8)","v":2524.8842838921405},{"$f":"O277","v":480},null,null,{"$f":"IF($M$237<1,0,R277+ABS('FOGLIO DEPOSITO'!E326)*10000*12)","v":4137.2107097303515},{"$f":"S277","v":480}]
[null,{"$f":"B278","v":1150},{"$f":"MNFPR!D3","v":480},null,{"$f":"B280","v":-1150},{"$f":"IF($H$236=1,I279,G279)","v":495},{"$f":"G278","v":495},{"$f":"-E279","v":1150},{"$f":"I278","v":-15},null,null,null,null,{"$f":"IF('FOGLIO DEPOSITO'!E291=\"\",N277,N277-MAXA(ABS(P275),ABS(T276))*10000*8)","v":1635.6},{"$f":"IF($M$237<1,0,IF('FOGLIO DEPOSITO'!F301=\"\",\"\",O278-'FOGLIO DEPOSITO'!F301))","v":331.62848522325771},null,null,{"$f":"R278","v":4137.2107097303515},{"$f":"IF($M$237<1,0,IF(ABS('FOGLIO DEPOSITO'!E326)>=0.002,O277-'FOGLIO DEPOSITO'!F301*0.002/ABS('FOGLIO DEPOSITO'!E326-0.002),O277))","v":425.4120481158464}]
[null,{"$f":"-B279","v":-1150},{"$f":"C279","v":480},null,{"$f":"E279","v":-1150},{"$f":"IF($H$236=1,I280,G280)","v":480},{"$f":"G277","v":480},{"$f":"-E280","v":1150},{"$f":"I277","v":0},null,null,null,null,{"$f":"N279","v":1635.6},{"$f":"O277","v":480},null,null,{"$f":"R277","v":3724.8842838921405},{"$f":"IF($M$237<1,0,S278-'FOGLIO DEPOSITO'!F301)","v":331.62848522325771}]
[null,{"$f":"B280","v":-1150},{"$f":"C277","v":0},null,{"$f":"E277","v":1150},{"$f":"IF($H$236=1,I281,G281)","v":480},{"$f":"G277","v":480},{"$f":"-E281","v":-1150},{"$f":"I277","v":0},null,null,null,null,{"$f":"N277","v":2250},{"$f":"O277","v":480},null,null,{"$f":"R280","v":3724.8842838921405},{"$f":"S277","v":480}]
[null,0,0]
[]
[]
[]
[]
[null,"Def. FRCM lembo inferiore (zona tesa)",null,"εf_inf",{"$f":"IFERROR(IF(MNPR!F261=0,\"\",MNPR!F261),\"\")","v":7.6800000000000002E-3}]
[null,"Def. Muratura lembo inferiore",null,"εm_inf",{"$f":"IFERROR(IF(MNP!D261=0,\"\",MNP!D261),\"\")","v":""}]
[null,"Def. Muratura lembo inferiore",null,"εm_inf ",{"$f":"IFERROR(IF(MNPR!D261=0,\"\",MNPR!D261),\"\")","v":""}]
[]
[null,"Def. FRCM lembo inferiore (zona tesa)",null,"εf_inf",{"$f":"IFERROR(IF(MNFPR!F261=0,\"\",MNFPR!F261),\"\")","v":7.6800000000000002E-3}]
[null,"Def. Muratura lembo inferiore",null,"εm_inf ",{"$f":"IFERROR(IF(MNFP!D261=0,\"\",MNFP!D261),\"\")","v":""}]
[null,"Def. Muratura lembo inferiore",null,"εm_inf ",{"$f":"IFERROR(IF(MNFPR!D261=0,\"\",MNFPR!D261),\"\")","v":""}]
[]
[]
[null,"MNP(V)","discesa asse neutro",null,"Y",{"$f":"IFERROR(MNP_V!C261,\"\")","v":1210.0610373738209}]
[null,"MNP(VR)","discesa asse neutro",null,"Y",{"$f":"IFERROR(MNP_VR!C261,\"\")","v":710.94684163855709}]
[null,"MNP","discesa asse neutro",null,"Y",{"$f":"IFERROR(MNP!C261,\"\")","v":1210.0610373738209}]
[null,"MNPR","discesa asse neutro",null,"Y",{"$f":"IFERROR(MNPR!C261,\"\")","v":710.94684163855709}]
[null,"MNFP","discesa asse neutro",null,"Y",{"$f":"IFERROR(MNFP!C261,\"\")","v":220.96766769434987}]
[null,"MNFPR","discesa asse neutro",null,"Y",{"$f":"IFERROR(MNFPR!C261,\"\")","v":148.37151477674229}]
[]
[]
[null,"Sforno normale agente in testa al pannello (SOLO COMPRESSIONE)+peso della muratura(s/n) FLESSIONE",null,null,"Ned",{"$f":"ABS(INPUT!F82)+IF('FOGLIO DEPOSITO'!G304=TRUE,ABS('FOGLIO DEPOSITO'!E353),0)","v":220},false]
[null,"Sforno normale agente in testa al pannello (SOLO COMPRESSIONE)+peso della muratura(s/n) TAGLIO",null,null,"Ned",{"$f":"ABS('FOGLIO DEPOSITO'!E533)+IF('FOGLIO DEPOSITO'!G305=TRUE,ABS('FOGLIO DEPOSITO'!E353),0)","v":220},false]
[]
[]
[null,"VERIFICA A FLESSIONE FUORI DEL PIANO EX-ANTE"]
[]
[]
[null,"Campo di rottura:",null,{"$f":"IFERROR(MNFP!B261,\"fuori dominio asse N\")","v":"CAMPO 3"}]
[null,"Posizione asse neutro",null,"Y",{"$f":"IFERROR(INPUT!$F$39*1000-'FOGLIO DEPOSITO'!F300,\"\")","v":199.03233230565013}]
[null,"Def. Muratura lembo superiore (zona compressa)",null,"εm_sup ",{"$f":"IFERROR(IF(MNFP!E261=0,\"\",MNFP!E261),\"\")","v":-3.5000000000000005E-3},null,null,"celle editabili →"]
[null,"Def. Muratura lembo inferiore",null,"εm_inf ",{"$f":"IF(E312=\"\",\"\",IF('FOGLIO DEPOSITO'!E292=\"\",0,'FOGLIO DEPOSITO'!E292))","v":0}]
[null,"Sforzo normale sollecitante",null,"Ned",{"$f":"'FOGLIO DEPOSITO'!F304","v":220}]
[null,"Momento sollecitante",null,"Med",{"$f":"INPUT!F87","v":32}]
[null,"Momento Resistente sezione non rinforzata",null,"MRd",{"$f":"IFERROR(MNFP!V261,\"\")","v":23.840895737995115}]
[null,"Verifica a flessione fuori del piano per la senzione non rinforzata",null,"ver NM out-pl",{"$f":"IF(D311=\"fuori dominio asse N\",\"NON VERIFICATO ROTTURA A COMPRESSIONE\",IF(E317>=E316, \"verificato\", \"NON VERIFICATO\"))","v":"NON VERIFICATO"}]
[null,"Coef. Di sfruttamento",null,"E/R",{"$f":"E316/E317","v":1.3422314476633426}]
[null,null,null,null,null,null,null,"NOTE:"]
[null,"VERIFICA A FLESSIONE FUORI DEL PIANO EX-POST"]
[null,null,null,null,null,null,null,"nel caso di LC3 inserire caratteristiche meccaniche manualmente?"]
[]
[null,"Campo di rottura:",null,{"$f":"IFERROR(MNFPR!B261,\"fuori dominio asse N\")","v":"CAMPO 2B"}]
[null,"discesa asse neutro",null,"Y",{"$f":"IFERROR(INPUT!$F$39*1000-'FOGLIO DEPOSITO'!F301,\"\")","v":271.62848522325771}]
[null,"Def. Muratura lembo superiore (zona compressa)",null,"εm_sup ",{"$f":"IFERROR(IF(MNFPR!E261=0,\"\",MNFPR!E261),\"\")","v":-3.4360535486517552E-3}]
[null,"Def. Muratura lembo inferiore",null,"εm_inf ",{"$f":"IF(E312=\"\",\"\",IF('FOGLIO DEPOSITO'!E293=\"\",0,'FOGLIO DEPOSITO'!E293))","v":0}]
[null,"Def. FRCM lembo superiore (zona compressa)",null,"εf_sup ",{"$f":"IF(E312=\"\",\"\",0)","v":0}]
[null,"Def. FRCM lembo inferiore (zona tesa)",null,"εf_inf",{"$f":"IF(E312=\"\",\"\",IF('FOGLIO DEPOSITO'!E291=\"\",0,'FOGLIO DEPOSITO'!E291))","v":7.6800000000000002E-3}]
[null,"Sforzo normale sollecitante",null,"Ned",{"$f":"'FOGLIO DEPOSITO'!F304","v":220}]
[null,"Momento sollecitante",null,"Med",{"$f":"INPUT!F87","v":32}]
[null,"Momento Resistente sezione rinforzata (4.3 CNR-DT-215-2018)",null,"MRd",{"$f":"IFERROR(MNFPR!X261,\"\")","v":28.608909744800862}]
[null,"Verifica a flessione fuori del piano per la senzione rinforzata",null,"ver NM out-pl-reinf",{"$f":"IF(D324=\"fuori dominio asse N\",\"NON VERIFICATO ROTTURA A COMPRESSIONE\",IF(E332>=E331, \"verificato\", \"NON VERIFICATO\"))","v":"NON VERIFICATO"}]
[null,"Coef. Di sfruttamento",null,"E/R",{"$f":"E331/E332","v":1.1185326629168526}]
[]
[null,"COPPIE DI VERIFICHE GRAFICHE A SCELTA DELL'UTENTE"]
[]
[null,null,null,"NED","MED-OUT-PL"]
[null,"COMB  A SCELTA DELL'UTENTE",1,{"$f":"'FOGLIO DEPOSITO'!D553","v":210},{"$f":"'FOGLIO DEPOSITO'!E553","v":21.5}]
[null,"COMB  A SCELTA DELL'UTENTE",2,{"$f":"'FOGLIO DEPOSITO'!D554","v":215},{"$f":"'FOGLIO DEPOSITO'!E554","v":18}]
[null,"COMB  A SCELTA DELL'UTENTE",3,{"$f":"'FOGLIO DEPOSITO'!D555","v":230},{"$f":"'FOGLIO DEPOSITO'!E555","v":17}]
[null,"COMB  A SCELTA DELL'UTENTE",4,{"$f":"'FOGLIO DEPOSITO'!D556","v":285},{"$f":"'FOGLIO DEPOSITO'!E556","v":23}]
[]
[null,"Taglio sollecitante",null,"Ved",{"$f":"INPUT!$F$89","v":48}]
[null,"Verifica capacità tagliante  ex-ante",null,"Verifica",{"$f":"IF('FOGLIO DEPOSITO'!E397>='FOGLIO DEPOSITO'!E344, \"verificato\", \"NON VERIFICATO                  ex-ante\")","v":"NON VERIFICATO                  ex-ante"}]
[null,"Coef. Di Sicurezza",null,"R/E",{"$f":"IFERROR(IF('FOGLIO DEPOSITO'!E397/'FOGLIO DEPOSITO'!E344>10,\">10\",'FOGLIO DEPOSITO'!E397/'FOGLIO DEPOSITO'!E344),\">10\")","v":0.80394098428468819}]
[]
[null,"Taglio sollecitante",null,"Ved",{"$f":"INPUT!$F$89","v":48}]
[null,"Verifica capacità tagliante  ex-ante",null,"Verifica",{"$f":"IF('FOGLIO DEPOSITO'!E401=\"\",\"\",IF('FOGLIO DEPOSITO'!E408>='FOGLIO DEPOSITO'!E348, \"verificato\", \"NON VERIFICATO                ex-ante\"))","v":"NON VERIFICATO                ex-ante"}]
[null,"Coef. Di Sicurezza",null,"R/E",{"$f":"IF('FOGLIO DEPOSITO'!E401=\"\",\"\",IFERROR(IF('FOGLIO DEPOSITO'!E408/'FOGLIO DEPOSITO'!E348>10,\">10\",'FOGLIO DEPOSITO'!E408/'FOGLIO DEPOSITO'!E348),\">10\"))","v":0.54491883570270661}]
[]
[null,"VERIFICA A COMPRESSIONE SEMPLICE"]
[null,"Peso Pannello murario",null,"W",{"$f":"INPUT!$F$38*INPUT!$F$39*INPUT!$F$40*MATERIALI!$J$71","v":57.380399999999987}]
[null,"Tensione media di compressione",null,"σmedio",{"$f":"IF(('FOGLIO DEPOSITO'!E191/('FOGLIO DEPOSITO'!C192*'FOGLIO DEPOSITO'!C193))<=0,('FOGLIO DEPOSITO'!E191/('FOGLIO DEPOSITO'!C192*'FOGLIO DEPOSITO'!C193)),0)","v":-227.74327122153213}]
[null,"Resistenza di calcolo, a compressione della muratura",null,"fmd",{"$f":"MATERIALI!J77","v":707.7777777777776}]
[null,"Sforzo Normale sollecitante",null,"Ned",{"$f":"'FOGLIO DEPOSITO'!F304","v":220}]
[null,"Capacità assiale (da dominio M-N)",null,"NRd",{"$f":"ABS(MNPR!T108)","v":781.38666666666654}]
[null,"Verifica di capacità assiale",null,"Verifica",{"$f":"IF(E357>E356, \"verificato\", \"NON VERIFICATO\")","v":"verificato"}]
[null,"Coef. Di Sicurezza",null,"R/E",{"$f":"IFERROR(IF(E357/E356>10,\">10\",E357/E356),\">10\")","v":3.5517575757575752}]
[]
[]
[null,"non cancellare collegato al grafico"]
[]
[null,"Strength domain M-N Masonry"]
[null,"Strength domain M-N Reinforced Masonry"]
[null,"Demand"]
[null,"Neutral Axis"]
[null,"Strain"]
[null,"Stress"]
[]
[null,"Strength domain V-N Masonry"]
[null,"Strength domain V-N Reinforced Masonry"]
[null,"Demand"]
[]
[]
[null,"fmd",{"$f":"MATERIALI!$J$77","v":707.7777777777776}]
[null,null,{"$f":"MATERIALI!$K$77","v":0.70777777777777762}]
[null,"τ0d",{"$f":"MATERIALI!$J$78","v":13.611111111111107}]
[null,null,{"$f":"MATERIALI!$K$78","v":1.3611111111111107E-2}]
[null,"fv0,d",{"$f":"MATERIALI!$J$79","v":35.388888888888879}]
[null,null,{"$f":"MATERIALI!$K$79","v":3.5388888888888879E-2}]
[null,"Ed",{"$f":"MATERIALI!$K$80","v":1440000.0000000002}]
[null,null,{"$f":"MATERIALI!$J$80","v":1440.0000000000002}]
[null,"Gd",{"$f":"MATERIALI!$K$81","v":480000.00000000012}]
[null,null,{"$f":"MATERIALI!$J$81","v":480.00000000000011}]
[]
[]
[]
[]
[null,"EX-ANTE",null,null,"EX-ANTE","EX-POST"]
[null,"Coef. Correttivo legato alla distribuzione degli sforzi",null,"b",{"$f":"IF(INPUT!F40/INPUT!F38>1.5,1.5,IF(INPUT!F40/INPUT!F38<=1,1,INPUT!F40/INPUT!F38))","v":1.4347826086956521},{"$f":"IF(INPUT!F40/INPUT!F38>1.5,1.5,IF(INPUT!F40/INPUT!F38<=1,1,INPUT!F40/INPUT!F38))","v":1.4347826086956521}]
[null,"Resistenza media a taglio della muratura",null,"τ0d",{"$f":"MATERIALI!J28","v":9.0740740740740726},{"$f":"MATERIALI!J78","v":13.611111111111107}]
[null,"Resistenza di calcolo per fessurazione diagonale",null,"ftd",{"$f":"E392*1.5","v":13.611111111111109},{"$f":"F392*1.5","v":20.416666666666661}]
[null,"Tensione media di compressione (su tutto il pannello)",null,"σmed,tot",{"$f":"ABS('FOGLIO DEPOSITO'!E533/(INPUT!F38*INPUT!F39))","v":227.74327122153213},{"$f":"ABS('FOGLIO DEPOSITO'!E533/(MNP_VR!D3*MNP_VR!D4*10^-6))","v":199.27536231884059}]
[null,"Tensione resistente a taglio per fessurazione diagonale",null,"τdiag,d",{"$f":"+E393/E391*(1+E394/E393)^0.5","v":39.947378101102522},{"$f":"+F393/F391*(1+F394/F393)^0.5","v":46.678131722181845}]
[null,"Sezione pannello",null,"A",{"$f":"INPUT!F38*INPUT!F39","v":0.96599999999999986},{"$f":"MNP_VR!D3*MNP_VR!D4*10^-6","v":1.1039999999999999}]
[null,"Resistenza a taglio per fessurazione diagonale C8.7.1.16",null,"Vrd,diag",{"$f":"E395*E396","v":38.589167245665031},{"$f":"F395*F396","v":51.532657421288754}]
[]
[null,"Coef. Di attrito equivalente della muratura",null,null,{"$f":"MATERIALI!$J$32","v":0.2},{"$f":"MATERIALI!$J$82","v":0.4}]
[null,"Coef. Di attrito della muratura ( corr. Angolo di attrito di 30°)",null,null,0.57699999999999996,0.57699999999999996]
[null,"Resistenza a taglio equivalente della muratura in assenza di tensioni normali",null,null,{"$f":"IFERROR(MATERIALI!$J$29*(E399/E400),\"\")","v":8.1776750754220409},{"$f":"IFERROR(MATERIALI!$J$79*(F399/F400),\"\")","v":24.533025226266123}]
[null,"Tensione media di compressione (solo su parte compressa: L')",null,"σmed,comp",{"$f":"IF(E401=\"\",\"\",ABS('FOGLIO DEPOSITO'!D563/(E406/1000*INPUT!F39)))","v":432.8785967246252},{"$f":"IF(F401=\"\",\"\",ABS('FOGLIO DEPOSITO'!D563/(F406/1000*MNP_VR!D3/1000)))","v":644.68017366388199}]
[null,"Resistenza a taglio equivalente della muratura in presenza di tensioni normali",null,null,{"$f":"IFERROR(MATERIALI!$J$29*(E399/E400)+MATERIALI!$J$32*E402/MATERIALI!J35,\"\")","v":51.465534747884561},{"$f":"IFERROR(MATERIALI!$J$79*(F399/F400)+MATERIALI!$J$82*F402/MATERIALI!J85,\"\")","v":153.46905995904251}]
[null,"Coef. Correttivo legato alla distribuzione degli sforzi",null,"b",1,1]
[null,"Resistenza a taglio scorrimento ",null,null,{"$f":"IFERROR('FOGLIO DEPOSITO'!E403/'FOGLIO DEPOSITO'!E404,\"\")","v":51.465534747884561},{"$f":"IFERROR('FOGLIO DEPOSITO'!F403/'FOGLIO DEPOSITO'!F404,\"\")","v":153.46905995904251},null,"formula per b. (b è stato imposto uguale ad 1 in quanto si tiene conto della corretta distribuzione degli sforzi avendo calcolato la prozione compressa l')"]
[null,"Lunghezza del lembo compresso di muratura",null,"L'",{"$f":"IF(E401=\"\",\"\",F296)","v":1210.0610373738209},{"$f":"IF(F401=\"\",\"\",F297)","v":710.94684163855709}]
[null,"Sezione compressa pannello murario",null,"Acomp",{"$f":"IF(E401=\"\",\"\",INPUT!F39*'FOGLIO DEPOSITO'!E406/1000)","v":0.50822563569700474},{"$f":"IF(F401=\"\",\"\",(MNP_VR!D3*10^-3)*'FOGLIO DEPOSITO'!F406/1000)","v":0.34125448398650743}]
[null,"Resistenza a taglio scorrimento C8.7.1.17 (*)",null,"Vrd,scor",{"$f":"IFERROR(E405*E407,\"\")","v":26.156104113729917},{"$f":"IFERROR(F405*F407,\"\")","v":52.372004864217423},null,{"$f":"IF(INPUT!F40/INPUT!F38>1.5,1.5,IF(INPUT!F40/INPUT!F38<=1,1,INPUT!F40/INPUT!F38))","v":1.4347826086956521}]
[null,"Resistenza a trazione dei blocchi",null,"fbtd",{"$f":"IFERROR(MATERIALI!J33*0.1,\"\")","v":1000},{"$f":"IFERROR(MATERIALI!J83*0.1,\"\")","v":1000}]
[null,"Resistenza limite rottura a trazione dei blocchi",null,"τbloc,d",{"$f":"IFERROR(1/'FOGLIO DEPOSITO'!E391*E409/2.3*(1+'FOGLIO DEPOSITO'!E394/E409)^0.5,\"\")","v":335.76841564680052},{"$f":"IFERROR(1/'FOGLIO DEPOSITO'!F391*F409/2.3*(1+'FOGLIO DEPOSITO'!F394/F409)^0.5,\"\")","v":331.85282264438689}]
[null,"Resistenza a taglio per rottura a trazione dei blocchi C8.7.1.18",null,"Vrd,lim,scor",{"$f":"IFERROR(E410*'FOGLIO DEPOSITO'!E396,\"\")","v":324.35228951480923},{"$f":"IFERROR(F410*'FOGLIO DEPOSITO'!F396,\"\")","v":366.36551619940309}]
[]
[null,"Tensione media di compressione",null,"σmedio",{"$f":"IF(('FOGLIO DEPOSITO'!E199/('FOGLIO DEPOSITO'!C200*'FOGLIO DEPOSITO'!C201))<=0,('FOGLIO DEPOSITO'!E199/('FOGLIO DEPOSITO'!C200*'FOGLIO DEPOSITO'!C201)),0)","v":-227.74327122153213},{"$f":"IF(('FOGLIO DEPOSITO'!E199/('FOGLIO DEPOSITO'!C200*(MNP_VR!D3*10^-3)))<=0,('FOGLIO DEPOSITO'!E199/('FOGLIO DEPOSITO'!C200*(MNP_VR!D3*10^-3))),0)","v":-199.27536231884059}]
[null,"Resistenza di calcolo, a compressione della muratura",null,"fmd",{"$f":"MATERIALI!J27","v":471.85185185185173},{"$f":"MATERIALI!J77","v":707.7777777777776}]
[]
[]
[null,"VALORI SPERIMENTALI LC3 RINFORZATI (STATO EX-POST)"]
[null,"fm (N/cm2)","t0 (N/cm2)","fv0 (N/cm2)","E (N/mm2)","G (N/mm2)","w (kN/m3)"]
[null,{"$f":"INPUT!H48*100*MINA(MATERIALI!F66,MATERIALI!G64)","v":150},{"$f":"INPUT!I48*100*MINA(MATERIALI!F66,MATERIALI!H64)","v":2.6999999999999997},{"$f":"INPUT!J48*100*MINA(MATERIALI!F66,MATERIALI!I64)","v":15},{"$f":"INPUT!K48*MINA(MATERIALI!F66,MATERIALI!J64)","v":1035},{"$f":"INPUT!L48*MINA(MATERIALI!F66,MATERIALI!K64)","v":345},{"$f":"INPUT!M48","v":19}]
[]
[]
[null,{"$f":"VLOOKUP(INPUT!E73,B425:C428,2,FALSE)","v":"lineare "}]
[]
[null,"NOMI MODIFICABILI"]
[null,{"$f":"C425","v":"lineare "},"lineare "]
[null,{"$f":"C426","v":"non lineare"},"non lineare"]
[null,"statica (tab. 4.5.II. NTC18)","statica (tab. 4.5.II. NTC18)"]
[null,"utente","utente"]
[]
[null,{"$f":"'FOGLIO DEPOSITO'!B70","v":"Muratura in mattoni pieni e malta di calce"}]
[]
[]
[]
[null,{"$f":"'FOGLIO DEPOSITO'!P33","v":"regolare"}]
[]
[null,"NOMI MODIFICABILI"]
[null,"irregolare"]
[null,"regolare"]
[]
[]
[null,{"$f":"VLOOKUP(INPUT!F57,B444:C446,2,FALSE)","v":"scadente"}]
[]
[null,"NOMI MODIFICABILI",null,"si"]
[null,"si","si","no"]
[null,"no","no"]
[null,"scadente","scadente"]
[]
[null,{"$f":"VLOOKUP(INPUT!F58,B444:C445,2,FALSE)","v":"si"}]
[null,{"$f":"VLOOKUP(INPUT!F59,B444:C445,2,FALSE)","v":"no"}]
[null,{"$f":"VLOOKUP(INPUT!F60,B444:C445,2,FALSE)","v":"no"}]
[null,{"$f":"VLOOKUP(INPUT!F64,B444:C445,2,FALSE)","v":"no"}]
[null,{"$f":"\"si\"","v":"si"}]
[]
[]
[]
[null,null,"NOMI MODIFICABILI"]
[null,"Resistenze:i valori minimi degli intervalli riportati in Tabella C8.5.I; Moduli elastici: I valori medi degli intervalli riportati nella tabella suddetta.","Resistenze:i valori minimi degli intervalli riportati in Tabella C8.5.I; Moduli elastici: I valori medi degli intervalli riportati nella tabella suddetta."]
[null,"Resistenze:i valori medi degli intervalli riportati in Tabella C8.5.I; Moduli elastici: I valori medi degli intervalli riportati nella tabella suddetta.","Resistenze:i valori medi degli intervalli riportati in Tabella C8.5.I; Moduli elastici: I valori medi degli intervalli riportati nella tabella suddetta."]
[null,"I valori delle resistenze e dei moduli riportati in tabella C.8.5.I possono essere aggiornati sulla base dei risultati ottenuti da prove distruttive. ","I valori delle resistenze e dei moduli riportati in tabella C.8.5.I possono essere aggiornati sulla base dei risultati ottenuti da prove distruttive. "]
[]
[]
[null,{"$f":"IFERROR(MNP!B261,\"fuori dominio asse N\")","v":"CAMPO 3"}]
[]
[null,null,"NOMI MODIFICABILI"]
[null,"CAMPO 1","CAMPO 1"]
[null,"CAMPO 2A","CAMPO 2A"]
[null,"CAMPO 2B","CAMPO 2B"]
[null,"CAMPO 3","CAMPO 3"]
[null,"CAMPO 4","CAMPO 4"]
[null,"fuori dominio asse N","fuori dominio asse N"]
[]
[null,{"$f":"IFERROR(MNPR!B261,\"fuori dominio asse N\")","v":"CAMPO 2B"}]
[]
[]
[]
[null,null,"NOMI MODIFICABILI"]
[]
[null,"fuori dominio asse N","fuori dominio asse N"]
[null,"NON VERIFICATO ROTTURA A COMPRESSIONE","NON VERIFICATO ROTTURA A COMPRESSIONE"]
[null," verificato","verificato"]
[null,"NON VERIFICATO ex-ante","NON verificato EX-ANTE"]
[]
[]
[]
[null,null,"NOMI MODIFICABILI"]
[]
[null,"fuori dominio asse N","fuori dominio asse N"]
[null,"NON VERIFICATO ROTTURA A COMPRESSIONE","NON VERIFICATO ROTTURA A COMPRESSIONE"]
[null,"verificato","verificato"]
[null,"NON VERIFICATO","NON VERIFICATO"]
[]
[null,{"$f":"IFERROR(MNFP!B261,\"fuori dominio asse N\")","v":"CAMPO 3"}]
[]
[null,null,"NOMI MODIFICABILI"]
[null,"CAMPO 1","CAMPO 1"]
[null,"CAMPO 2A","CAMPO 2A"]
[null,"CAMPO 2B","CAMPO 2B"]
[null,"CAMPO 3","CAMPO 3"]
[null,"CAMPO 4","CAMPO 4"]
[null,"fuori dominio asse N","fuori dominio asse N"]
[]
[null,{"$f":"IF('NEL PIANO'!E133<1,\"\",IF('FOGLIO DEPOSITO'!B492=\"fuori dominio asse N\",\"NON VERIFICATO ROTTURA A COMPRESSIONE\",IF('FUORI PIANO'!E65>='FUORI PIANO'!E64, \"verificato\", \"NON VERIFICATO ex-ante\")))","v":"NON VERIFICATO ex-ante"}]
[]
[null,null,"NOMI MODIFICABILI"]
[]
[null,"fuori dominio asse N","fuori dominio asse N"]
[null,"NON VERIFICATO ROTTURA A COMPRESSIONE","NON VERIFICATO ROTTURA A COMPRESSIONE"]
[null,"verificato","verificato"]
[null,"NON VERIFICATO ex-ante","NON verificato EX-ANTE"]
[]
[null,{"$f":"IFERROR(MNFPR!B261,\"fuori dominio asse N\")","v":"CAMPO 2B"}]
[]
[null,null,"NOMI MODIFICABILI"]
[null,"CAMPO 1","CAMPO 1"]
[null,"CAMPO 2A","CAMPO 2A"]
[null,"CAMPO 2B","CAMPO 2B"]
[null,"CAMPO 3","CAMPO 3"]
[null,"CAMPO 4","CAMPO 4"]
[null,"fuori dominio asse N","fuori dominio asse N"]
[]
[null,{"$f":"IF('NEL PIANO'!J133<1,\"\",IF('FOGLIO DEPOSITO'!B511=\"fuori dominio asse N\",\"NON VERIFICATO ROTTURA A COMPRESSIONE\",IF('FUORI PIANO'!J65>='FUORI PIANO'!J64, \"verificato\", \"NON VERIFICATO ex-post\")))","v":"verificato"}]
[]
[null,null,"NOMI MODIFICABILI"]
[]
[null,"fuori dominio asse N","fuori dominio asse N"]
[null,"NON VERIFICATO ROTTURA A COMPRESSIONE","NON VERIFICATO ROTTURA A COMPRESSIONE"]
[null,"verificato","verificato"]
[null,"NON VERIFICATO","NON VERIFICATO"]
[]
[]
[null,"INPUT SFORZO NORMALE SOLLECITAZIONI TAGLIO"]
[]
[null,"Sforzo normale agente (SOLO COMPRESSIONE)",null,"Ned",{"$f":"'NEL PIANO'!E63","v":220}]
[]
[null,null,"Selezionare per considerare il peso della muratura in automatico "]
[]
[]
[]
[null,{"$f":"'FOGLIO DEPOSITO'!B560","v":"ULTERIORI COPPIE DI VERIFICHE GRAFICHE A SCELTA DELL'UTENTE"}]
[]
[null,null,null,"NED","MED-PL"]
[null,{"$f":"'FOGLIO DEPOSITO'!B563","v":"COMBINAZIONE PRINCIPALE PER LA VERIFICA ANALITICA"},1,{"$f":"'FOGLIO DEPOSITO'!F304","v":220},{"$f":"INPUT!F86","v":165}]
[null,{"$f":"'FOGLIO DEPOSITO'!B564","v":"COMBINAZIONI A SCELTA DELL'UTENTE"},2,{"$f":"INPUT!C96","v":210},{"$f":"INPUT!E96","v":115}]
[null,{"$f":"'FOGLIO DEPOSITO'!B565","v":"COMBINAZIONI A SCELTA DELL'UTENTE"},3,{"$f":"INPUT!C97","v":215},{"$f":"INPUT!E97","v":132}]
[null,{"$f":"'FOGLIO DEPOSITO'!B566","v":"COMBINAZIONI A SCELTA DELL'UTENTE"},4,{"$f":"INPUT!C98","v":230},{"$f":"INPUT!E98","v":161}]
[null,{"$f":"'FOGLIO DEPOSITO'!B567","v":"COMBINAZIONI A SCELTA DELL'UTENTE"},5,{"$f":"INPUT!C99","v":285},{"$f":"INPUT!E99","v":155}]
[null,{"$f":"'FOGLIO DEPOSITO'!B568","v":"*Cancellare le coppie di punti per eliminarle dal grafico"}]
[]
[null,"ULTERIORI COPPIE DI VERIFICHE GRAFICHE A SCELTA DELL'UTENTE"]
[]
[null,null,null,"NED","MED-OUT-PL"]
[null,"COMBINAZIONE PRINCIPALE PER LA VERIFICA ANALITICA",1,{"$f":"'FOGLIO DEPOSITO'!F304","v":220},{"$f":"INPUT!F87","v":32}]
[null,"COMBINAZIONI A SCELTA DELL'UTENTE",2,{"$f":"INPUT!C96","v":210},{"$f":"INPUT!F96","v":21.5}]
[null,"COMBINAZIONI A SCELTA DELL'UTENTE",3,{"$f":"INPUT!C97","v":215},{"$f":"INPUT!F97","v":18}]
[null,"COMBINAZIONI A SCELTA DELL'UTENTE",4,{"$f":"INPUT!C98","v":230},{"$f":"INPUT!F98","v":17}]
[null,"COMBINAZIONI A SCELTA DELL'UTENTE",5,{"$f":"INPUT!C99","v":285},{"$f":"INPUT!F99","v":23}]
[null,"*Cancellare le coppie di punti per eliminarle dal grafico"]
[]
[]
[null,"ULTERIORI COPPIE DI VERIFICHE GRAFICHE A SCELTA DELL'UTENTE"]
[]
[null,null,null,"NED","VED"]
[null,"COMBINAZIONE PRINCIPALE PER LA VERIFICA ANALITICA",1,{"$f":"'FOGLIO DEPOSITO'!F305","v":220},{"$f":"INPUT!F89","v":48}]
[null,"COMBINAZIONI A SCELTA DELL'UTENTE",2,{"$f":"INPUT!C96","v":210},{"$f":"INPUT!D96","v":45}]
[null,"COMBINAZIONI A SCELTA DELL'UTENTE",3,{"$f":"INPUT!C97","v":215},{"$f":"INPUT!D97","v":48}]
[null,"COMBINAZIONI A SCELTA DELL'UTENTE",4,{"$f":"INPUT!C98","v":230},{"$f":"INPUT!D98","v":41}]
[null,"COMBINAZIONI A SCELTA DELL'UTENTE",5,{"$f":"INPUT!C99","v":285},{"$f":"INPUT!D99","v":34}]
[null,"*Cancellare le coppie di punti per eliminarle dal grafico"]
[]
[]
[]
[null,"Tensione media di compressione (solo su parte compressa: L')",null,"σmed,comp",{"$f":"ABS('FOGLIO DEPOSITO'!D552/(INPUT!F38*'FUORI PIANO'!E74/1000))","v":432.8785967246252}]
[null,"tensione tangenziale resistente della muratura in presenza di compressione",null,{"$f":"IF('FOGLIO DEPOSITO'!E401=\"\",\"τ0\",\"fvd\")","v":"fvd"},{"$f":"IF('FOGLIO DEPOSITO'!E401=\"\",MATERIALI!$J$28+0.4*'FOGLIO DEPOSITO'!E572/MATERIALI!J35,(MATERIALI!J29*'FUORI PIANO'!E70/'FUORI PIANO'!E71+'FUORI PIANO'!E70*'FOGLIO DEPOSITO'!E572/MATERIALI!J35))","v":51.465534747884561}]
[]
[null,"Tensione media di compressione (solo su parte compressa: L')",null,"σmed,comp",{"$f":"ABS('FOGLIO DEPOSITO'!D552/(INPUT!F38*'FUORI PIANO'!J74/1000))","v":644.68017366388221}]
[null,"tensione tangenziale resistente della muratura in presenza di compressione",null,{"$f":"IF('FOGLIO DEPOSITO'!F401=\"\",\"τ0\",\"fvd\")","v":"fvd"},{"$f":"IF('FOGLIO DEPOSITO'!E401=\"\",MATERIALI!$J$78+0.4*'FOGLIO DEPOSITO'!E575/MATERIALI!J85,(MATERIALI!J79*'FUORI PIANO'!J70/'FUORI PIANO'!J71+'FUORI PIANO'!J70*'FOGLIO DEPOSITO'!E575/MATERIALI!J85))","v":153.46905995904257}]

{"sheet":"andamento taglio","index":4,"n_rows":84,"n_cols":17,"rows_kept":84,"cut":false,"hidden":true,"merged":[[0,1,0,7],[0,10,0,16]]}
[null,"EX-ANTE",null,null,null,null,null,null,null,null,"EX-POST"]
[null,null,"muratura regolare",null,"muratura irregolare",null,null,null,null,null,null,"muratura regolare",null,"muratura irregolare"]
["y","N(MNP_V)","Vrd diagonale","Y","Vrd scorrimento","Vrd blocchi","Vrd min","vrd ante",null,"y","N(MNP_VR)","Vrd diagonale","Y","Vrd scorrimento","Vrd blocchi","Vrd min","vrd POST"]
[{"$f":"IF(MNP_V!C29<INPUT!$F$38*1000,MNP_V!C29,INPUT!$F$38*1000)","v":0},{"$f":"MNP_V!Z29","v":0},{"$f":"(1.5/'FOGLIO DEPOSITO'!$E$391*MATERIALI!$J$28*(1+(ABS(B4)/(INPUT!$F$38*INPUT!$F$39))/(1.5*MATERIALI!$J$28))^0.5)*INPUT!$F$38*INPUT!$F$39","v":9.1639898989898967},{"$f":"IF(MNP_V!C29>INPUT!$F$38*1000,INPUT!$F$38*1000,MNP_V!C29)","v":0},{"$f":"IFERROR(('FOGLIO DEPOSITO'!$E$401+'FOGLIO DEPOSITO'!$E$399*'andamento taglio'!B4/('andamento taglio'!D4/1000*INPUT!$F$39)/MATERIALI!$J$35)/'FOGLIO DEPOSITO'!$E$404*(D4/1000*INPUT!$F$39),\"\")","v":""},{"$f":"IFERROR((1/'FOGLIO DEPOSITO'!$E$391*MATERIALI!$J$33*0.1/2.3*(1+(ABS(B4)/(INPUT!$F$38*INPUT!$F$39))/(1*MATERIALI!$J$33*0.1))^0.5)*INPUT!$F$38*INPUT!$F$39,\"\")","v":292.72727272727275},{"$f":"IF(E4=\"\",C4,MINA(C4,E4,F4))","v":9.1639898989898967},0,null,{"$f":"IF(MNP_VR!C29<INPUT!$F$38*1000,MNP_VR!C29,INPUT!$F$38*1000)","v":0},{"$f":"MNP_VR!Z29","v":0},{"$f":"(1.5/'FOGLIO DEPOSITO'!$F$391*MATERIALI!$J$78*(1+(ABS(K4)/(MNP_VR!$D$3*MNP_VR!$D$4*10^-6))/(1.5*MATERIALI!$J$78))^0.5)*(MNP_VR!$D$3*MNP_VR!$D$4*10^-6)","v":15.709696969696964},{"$f":"IF(MNP_VR!C29>INPUT!$F$38*1000,INPUT!$F$38*1000,MNP_VR!C29)","v":0},{"$f":"IFERROR(('FOGLIO DEPOSITO'!$F$401+'FOGLIO DEPOSITO'!$F$399*'andamento taglio'!K4/('andamento taglio'!M4/1000*MNP_VR!$D$3*10^-3)/MATERIALI!$J$85)/'FOGLIO DEPOSITO'!$F$404*(M4/1000*MNP_VR!$D$3*10^-3),\"\")","v":""},{"$f":"IFERROR((1/'FOGLIO DEPOSITO'!$F$391*MATERIALI!$J$83*0.1/2.3*(1+(ABS(K4)/(INPUT!$F$38*INPUT!$F$39))/(1*MATERIALI!$J$83*0.1))^0.5)*INPUT!$F$38*INPUT!$F$39,\"\")","v":292.72727272727275},{"$f":"IF(N4=\"\",L4,MINA(L4,N4,O4))","v":15.709696969696964},0]
[{"$f":"IF(MNP_V!C30<INPUT!$F$38*1000,MNP_V!C30,INPUT!$F$38*1000)","v":16.104799584227731},{"$f":"MNP_V!Z30","v":2.312448574876337E-3},{"$f":"(1.5/'FOGLIO DEPOSITO'!$E$391*MATERIALI!$J$28*(1+(ABS(B5)/(INPUT!$F$38*INPUT!$F$39))/(1.5*MATERIALI!$J$28))^0.5)*INPUT!$F$38*INPUT!$F$39","v":9.164795716852117},{"$f":"IF(MNP_V!C30>INPUT!$F$38*1000,INPUT!$F$38*1000,MNP_V!C30)","v":16.104799584227731},{"$f":"IFERROR(('FOGLIO DEPOSITO'!$E$401+'FOGLIO DEPOSITO'!$E$399*'andamento taglio'!B5/('andamento taglio'!D5/1000*INPUT!$F$39)/MATERIALI!$J$35)/'FOGLIO DEPOSITO'!$E$404*(D5/1000*INPUT!$F$39),\"\")","v":5.5545168482422309E-2},{"$f":"IFERROR((1/'FOGLIO DEPOSITO'!$E$391*MATERIALI!$J$33*0.1/2.3*(1+(ABS(B5)/(INPUT!$F$38*INPUT!$F$39))/(1*MATERIALI!$J$33*0.1))^0.5)*INPUT!$F$38*INPUT!$F$39,\"\")","v":292.72762309805927},{"$f":"IF(E5=\"\",C5,MINA(C5,E5,F5))","v":5.5545168482422309E-2},{"$f":"G5","v":5.5545168482422309E-2},null,{"$f":"IF(MNP_VR!C30<INPUT!$F$38*1000,MNP_VR!C30,INPUT!$F$38*1000)","v":13.834383982293193},{"$f":"MNP_VR!Z30","v":2.9504482103911468E-3},{"$f":"(1.5/'FOGLIO DEPOSITO'!$F$391*MATERIALI!$J$78*(1+(ABS(K5)/(MNP_VR!$D$3*MNP_VR!$D$4*10^-6))/(1.5*MATERIALI!$J$78))^0.5)*(MNP_VR!$D$3*MNP_VR!$D$4*10^-6)","v":15.710725122549754},{"$f":"IF(MNP_VR!C30>INPUT!$F$38*1000,INPUT!$F$38*1000,MNP_VR!C30)","v":13.834383982293193},{"$f":"IFERROR(('FOGLIO DEPOSITO'!$F$401+'FOGLIO DEPOSITO'!$F$399*'andamento taglio'!K5/('andamento taglio'!M5/1000*MNP_VR!$D$3*10^-3)/MATERIALI!$J$85)/'FOGLIO DEPOSITO'!$F$404*(M5/1000*MNP_VR!$D$3*10^-3),\"\")","v":0.16350174943125464},{"$f":"IFERROR((1/'FOGLIO DEPOSITO'!$F$391*MATERIALI!$J$83*0.1/2.3*(1+(ABS(K5)/(INPUT!$F$38*INPUT!$F$39))/(1*MATERIALI!$J$83*0.1))^0.5)*INPUT!$F$38*INPUT!$F$39,\"\")","v":292.72771976453896},{"$f":"IF(N5=\"\",L5,MINA(L5,N5,O5))","v":0.16350174943125464},{"$f":"P5","v":0.16350174943125464}]
[{"$f":"IF(MNP_V!C31<INPUT!$F$38*1000,MNP_V!C31,INPUT!$F$38*1000)","v":32.209599168455462},{"$f":"MNP_V!Z31","v":1.8763477224147253E-2},{"$f":"(1.5/'FOGLIO DEPOSITO'!$E$391*MATERIALI!$J$28*(1+(ABS(B6)/(INPUT!$F$38*INPUT!$F$39))/(1.5*MATERIALI!$J$28))^0.5)*INPUT!$F$38*INPUT!$F$39","v":9.1705263553578522},{"$f":"IF(MNP_V!C31>INPUT!$F$38*1000,INPUT!$F$38*1000,MNP_V!C31)","v":32.209599168455462},{"$f":"IFERROR(('FOGLIO DEPOSITO'!$E$401+'FOGLIO DEPOSITO'!$E$399*'andamento taglio'!B6/('andamento taglio'!D6/1000*INPUT!$F$39)/MATERIALI!$J$35)/'FOGLIO DEPOSITO'!$E$404*(D6/1000*INPUT!$F$39),\"\")","v":0.11250419497228407},{"$f":"IFERROR((1/'FOGLIO DEPOSITO'!$E$391*MATERIALI!$J$33*0.1/2.3*(1+(ABS(B6)/(INPUT!$F$38*INPUT!$F$39))/(1*MATERIALI!$J$33*0.1))^0.5)*INPUT!$F$38*INPUT!$F$39,\"\")","v":292.73011566456211},{"$f":"IF(E6=\"\",C6,MINA(C6,E6,F6))","v":0.11250419497228407},0.11250419497228407,null,{"$f":"IF(MNP_VR!C31<INPUT!$F$38*1000,MNP_VR!C31,INPUT!$F$38*1000)","v":27.668767964586387},{"$f":"MNP_VR!Z31","v":2.3892071098584388E-2},{"$f":"(1.5/'FOGLIO DEPOSITO'!$F$391*MATERIALI!$J$78*(1+(ABS(K6)/(MNP_VR!$D$3*MNP_VR!$D$4*10^-6))/(1.5*MATERIALI!$J$78))^0.5)*(MNP_VR!$D$3*MNP_VR!$D$4*10^-6)","v":15.718020789276135},{"$f":"IF(MNP_VR!C31>INPUT!$F$38*1000,INPUT!$F$38*1000,MNP_VR!C31)","v":27.668767964586387},{"$f":"IFERROR(('FOGLIO DEPOSITO'!$F$401+'FOGLIO DEPOSITO'!$F$399*'andamento taglio'!K6/('andamento taglio'!M6/1000*MNP_VR!$D$3*10^-3)/MATERIALI!$J$85)/'FOGLIO DEPOSITO'!$F$404*(M6/1000*MNP_VR!$D$3*10^-3),\"\")","v":0.33060173379806973},{"$f":"IFERROR((1/'FOGLIO DEPOSITO'!$F$391*MATERIALI!$J$83*0.1/2.3*(1+(ABS(K6)/(INPUT!$F$38*INPUT!$F$39))/(1*MATERIALI!$J$83*0.1))^0.5)*INPUT!$F$38*INPUT!$F$39,\"\")","v":292.73089271566209},{"$f":"IF(N6=\"\",L6,MINA(L6,N6,O6))","v":0.33060173379806973},0.33060173379806973]
[{"$f":"IF(MNP_V!C32<INPUT!$F$38*1000,MNP_V!C32,INPUT!$F$38*1000)","v":48.314398752683189},{"$f":"MNP_V!Z32","v":6.423591198761569E-2},{"$f":"(1.5/'FOGLIO DEPOSITO'!$E$391*MATERIALI!$J$28*(1+(ABS(B7)/(INPUT!$F$38*INPUT!$F$39))/(1.5*MATERIALI!$J$28))^0.5)*INPUT!$F$38*INPUT!$F$39","v":9.1863478669691911},{"$f":"IF(MNP_V!C32>INPUT!$F$38*1000,INPUT!$F$38*1000,MNP_V!C32)","v":48.314398752683189},{"$f":"IFERROR(('FOGLIO DEPOSITO'!$E$401+'FOGLIO DEPOSITO'!$E$399*'andamento taglio'!B7/('andamento taglio'!D7/1000*INPUT!$F$39)/MATERIALI!$J$35)/'FOGLIO DEPOSITO'!$E$404*(D7/1000*INPUT!$F$39),\"\")","v":0.17236536207356556},{"$f":"IFERROR((1/'FOGLIO DEPOSITO'!$E$391*MATERIALI!$J$33*0.1/2.3*(1+(ABS(B7)/(INPUT!$F$38*INPUT!$F$39))/(1*MATERIALI!$J$33*0.1))^0.5)*INPUT!$F$38*INPUT!$F$39,\"\")","v":292.73700527941708},{"$f":"IF(E7=\"\",C7,MINA(C7,E7,F7))","v":0.17236536207356556},0.17236536207356556,null,{"$f":"IF(MNP_VR!C32<INPUT!$F$38*1000,MNP_VR!C32,INPUT!$F$38*1000)","v":41.503151946879584},{"$f":"MNP_VR!Z32","v":8.1626700489183704E-2},{"$f":"(1.5/'FOGLIO DEPOSITO'!$F$391*MATERIALI!$J$78*(1+(ABS(K7)/(MNP_VR!$D$3*MNP_VR!$D$4*10^-6))/(1.5*MATERIALI!$J$78))^0.5)*(MNP_VR!$D$3*MNP_VR!$D$4*10^-6)","v":15.738116931181315},{"$f":"IF(MNP_VR!C32>INPUT!$F$38*1000,INPUT!$F$38*1000,MNP_VR!C32)","v":41.503151946879584},{"$f":"IFERROR(('FOGLIO DEPOSITO'!$F$401+'FOGLIO DEPOSITO'!$F$399*'andamento taglio'!K7/('andamento taglio'!M7/1000*MNP_VR!$D$3*10^-3)/MATERIALI!$J$85)/'FOGLIO DEPOSITO'!$F$404*(M7/1000*MNP_VR!$D$3*10^-3),\"\")","v":0.505060319465366},{"$f":"IFERROR((1/'FOGLIO DEPOSITO'!$F$391*MATERIALI!$J$83*0.1/2.3*(1+(ABS(K7)/(INPUT!$F$38*INPUT!$F$39))/(1*MATERIALI!$J$83*0.1))^0.5)*INPUT!$F$38*INPUT!$F$39,\"\")","v":292.73964014790977},0.505060319465366,0.505060319465366]
[{"$f":"IF(MNP_V!C33<INPUT!$F$38*1000,MNP_V!C33,INPUT!$F$38*1000)","v":64.419198336910924},{"$f":"MNP_V!Z33","v":0.15446460393762496},{"$f":"(1.5/'FOGLIO DEPOSITO'!$E$391*MATERIALI!$J$28*(1+(ABS(B8)/(INPUT!$F$38*INPUT!$F$39))/(1.5*MATERIALI!$J$28))^0.5)*INPUT!$F$38*INPUT!$F$39","v":9.2176613024908907},{"$f":"IF(MNP_V!C33>INPUT!$F$38*1000,INPUT!$F$38*1000,MNP_V!C33)","v":64.419198336910924},{"$f":"IFERROR(('FOGLIO DEPOSITO'!$E$401+'FOGLIO DEPOSITO'!$E$399*'andamento taglio'!B8/('andamento taglio'!D8/1000*INPUT!$F$39)/MATERIALI!$J$35)/'FOGLIO DEPOSITO'!$E$404*(D8/1000*INPUT!$F$39),\"\")","v":0.23670215489350119},{"$f":"IFERROR((1/'FOGLIO DEPOSITO'!$E$391*MATERIALI!$J$33*0.1/2.3*(1+(ABS(B8)/(INPUT!$F$38*INPUT!$F$39))/(1*MATERIALI!$J$33*0.1))^0.5)*INPUT!$F$38*INPUT!$F$39,\"\")","v":292.75067551964554},0.23670215489350119,0.23670215489350119,null,{"$f":"IF(MNP_VR!C33<INPUT!$F$38*1000,MNP_VR!C33,INPUT!$F$38*1000)","v":55.337535929172773},{"$f":"MNP_VR!Z33","v":0.1958778955098697},{"$f":"(1.5/'FOGLIO DEPOSITO'!$F$391*MATERIALI!$J$78*(1+(ABS(K8)/(MNP_VR!$D$3*MNP_VR!$D$4*10^-6))/(1.5*MATERIALI!$J$78))^0.5)*(MNP_VR!$D$3*MNP_VR!$D$4*10^-6)","v":15.777809789437692},{"$f":"IF(MNP_VR!C33>INPUT!$F$38*1000,INPUT!$F$38*1000,MNP_VR!C33)","v":55.337535929172773},{"$f":"IFERROR(('FOGLIO DEPOSITO'!$F$401+'FOGLIO DEPOSITO'!$F$399*'andamento taglio'!K8/('andamento taglio'!M8/1000*MNP_VR!$D$3*10^-3)/MATERIALI!$J$85)/'FOGLIO DEPOSITO'!$F$404*(M8/1000*MNP_VR!$D$3*10^-3),\"\")","v":0.69082221825867962},{"$f":"IFERROR((1/'FOGLIO DEPOSITO'!$F$391*MATERIALI!$J$83*0.1/2.3*(1+(ABS(K8)/(INPUT!$F$38*INPUT!$F$39))/(1*MATERIALI!$J$83*0.1))^0.5)*INPUT!$F$38*INPUT!$F$39,\"\")","v":292.75694969195013},0.69082221825867962,0.69082221825867962]
[{"$f":"IF(MNP_V!C34<INPUT!$F$38*1000,MNP_V!C34,INPUT!$F$38*1000)","v":80.523997921138658},{"$f":"MNP_V!Z34","v":0.30608277440116982},{"$f":"(1.5/'FOGLIO DEPOSITO'!$E$391*MATERIALI!$J$28*(1+(ABS(B9)/(INPUT!$F$38*INPUT!$F$39))/(1.5*MATERIALI!$J$28))^0.5)*INPUT!$F$38*INPUT!$F$39","v":9.2700414599543173},{"$f":"IF(MNP_V!C34>INPUT!$F$38*1000,INPUT!$F$38*1000,MNP_V!C34)","v":80.523997921138658},{"$f":"IFERROR(('FOGLIO DEPOSITO'!$E$401+'FOGLIO DEPOSITO'!$E$399*'andamento taglio'!B9/('andamento taglio'!D9/1000*INPUT!$F$39)/MATERIALI!$J$35)/'FOGLIO DEPOSITO'!$E$404*(D9/1000*INPUT!$F$39),\"\")","v":0.30717789556479036},{"$f":"IFERROR((1/'FOGLIO DEPOSITO'!$E$391*MATERIALI!$J$33*0.1/2.3*(1+(ABS(B9)/(INPUT!$F$38*INPUT!$F$39))/(1*MATERIALI!$J$33*0.1))^0.5)*INPUT!$F$38*INPUT!$F$39,\"\")","v":292.77364523215306},0.30717789556479036,{"$f":"G9","v":0.30717789556479036},null,{"$f":"IF(MNP_VR!C34<INPUT!$F$38*1000,MNP_VR!C34,INPUT!$F$38*1000)","v":69.171919911465963},{"$f":"MNP_VR!Z34","v":0.38733378795348689},{"$f":"(1.5/'FOGLIO DEPOSITO'!$F$391*MATERIALI!$J$78*(1+(ABS(K9)/(MNP_VR!$D$3*MNP_VR!$D$4*10^-6))/(1.5*MATERIALI!$J$78))^0.5)*(MNP_VR!$D$3*MNP_VR!$D$4*10^-6)","v":15.844101972153934},{"$f":"IF(MNP_VR!C34>INPUT!$F$38*1000,INPUT!$F$38*1000,MNP_VR!C34)","v":69.171919911465963},{"$f":"IFERROR(('FOGLIO DEPOSITO'!$F$401+'FOGLIO DEPOSITO'!$F$399*'andamento taglio'!K9/('andamento taglio'!M9/1000*MNP_VR!$D$3*10^-3)/MATERIALI!$J$85)/'FOGLIO DEPOSITO'!$F$404*(M9/1000*MNP_VR!$D$3*10^-3),\"\")","v":0.89202505653657949},{"$f":"IFERROR((1/'FOGLIO DEPOSITO'!$F$391*MATERIALI!$J$83*0.1/2.3*(1+(ABS(K9)/(INPUT!$F$38*INPUT!$F$39))/(1*MATERIALI!$J$83*0.1))^0.5)*INPUT!$F$38*INPUT!$F$39,\"\")","v":292.78595378314429},0.89202505653657949,{"$f":"P9","v":0.89202505653657949}]
[{"$f":"IF(MNP_V!C35<INPUT!$F$38*1000,MNP_V!C35,INPUT!$F$38*1000)","v":96.628797505366379},{"$f":"MNP_V!Z35","v":0.53667110594804135},{"$f":"(1.5/'FOGLIO DEPOSITO'!$E$391*MATERIALI!$J$28*(1+(ABS(B10)/(INPUT!$F$38*INPUT!$F$39))/(1.5*MATERIALI!$J$28))^0.5)*INPUT!$F$38*INPUT!$F$39","v":9.3491412283173148},{"$f":"IF(MNP_V!C35>INPUT!$F$38*1000,INPUT!$F$38*1000,MNP_V!C35)","v":96.628797505366379},{"$f":"IFERROR(('FOGLIO DEPOSITO'!$E$401+'FOGLIO DEPOSITO'!$E$399*'andamento taglio'!B10/('andamento taglio'!D10/1000*INPUT!$F$39)/MATERIALI!$J$35)/'FOGLIO DEPOSITO'!$E$404*(D10/1000*INPUT!$F$39),\"\")","v":0.3855506523444121},{"$f":"IFERROR((1/'FOGLIO DEPOSITO'!$E$391*MATERIALI!$J$33*0.1/2.3*(1+(ABS(B10)/(INPUT!$F$38*INPUT!$F$39))/(1*MATERIALI!$J$33*0.1))^0.5)*INPUT!$F$38*INPUT!$F$39,\"\")","v":292.808575240663},0.3855506523444121,0.3855506523444121,null,{"$f":"IF(MNP_VR!C35<INPUT!$F$38*1000,MNP_VR!C35,INPUT!$F$38*1000)","v":83.006303893759167},{"$f":"MNP_VR!Z35","v":0.67769210038261796},{"$f":"(1.5/'FOGLIO DEPOSITO'!$F$391*MATERIALI!$J$78*(1+(ABS(K10)/(MNP_VR!$D$3*MNP_VR!$D$4*10^-6))/(1.5*MATERIALI!$J$78))^0.5)*(MNP_VR!$D$3*MNP_VR!$D$4*10^-6)","v":15.944113444335734},{"$f":"IF(MNP_VR!C35>INPUT!$F$38*1000,INPUT!$F$38*1000,MNP_VR!C35)","v":83.006303893759167},{"$f":"IFERROR(('FOGLIO DEPOSITO'!$F$401+'FOGLIO DEPOSITO'!$F$399*'andamento taglio'!K10/('andamento taglio'!M10/1000*MNP_VR!$D$3*10^-3)/MATERIALI!$J$85)/'FOGLIO DEPOSITO'!$F$404*(M10/1000*MNP_VR!$D$3*10^-3),\"\")","v":1.1130083788115821},{"$f":"IFERROR((1/'FOGLIO DEPOSITO'!$F$391*MATERIALI!$J$83*0.1/2.3*(1+(ABS(K10)/(INPUT!$F$38*INPUT!$F$39))/(1*MATERIALI!$J$83*0.1))^0.5)*INPUT!$F$38*INPUT!$F$39,\"\")","v":292.82993534609767},1.1130083788115821,{"$f":"P10","v":1.1130083788115821}]
[{"$f":"IF(MNP_V!C36<INPUT!$F$38*1000,MNP_V!C36,INPUT!$F$38*1000)","v":112.73359708959411},{"$f":"MNP_V!Z36","v":0.86480972570578207},{"$f":"(1.5/'FOGLIO DEPOSITO'!$E$391*MATERIALI!$J$28*(1+(ABS(B11)/(INPUT!$F$38*INPUT!$F$39))/(1.5*MATERIALI!$J$28))^0.5)*INPUT!$F$38*INPUT!$F$39","v":9.4605639739331497},{"$f":"IF(MNP_V!C36>INPUT!$F$38*1000,INPUT!$F$38*1000,MNP_V!C36)","v":112.73359708959411},{"$f":"IFERROR(('FOGLIO DEPOSITO'!$E$401+'FOGLIO DEPOSITO'!$E$399*'andamento taglio'!B11/('andamento taglio'!D11/1000*INPUT!$F$39)/MATERIALI!$J$35)/'FOGLIO DEPOSITO'!$E$404*(D11/1000*INPUT!$F$39),\"\")","v":0.47367843794512093},{"$f":"IFERROR((1/'FOGLIO DEPOSITO'!$E$391*MATERIALI!$J$33*0.1/2.3*(1+(ABS(B11)/(INPUT!$F$38*INPUT!$F$39))/(1*MATERIALI!$J$33*0.1))^0.5)*INPUT!$F$38*INPUT!$F$39,\"\")","v":292.85827519052538},0.47367843794512093,0.47367843794512093,null,{"$f":"IF(MNP_VR!C36<INPUT!$F$38*1000,MNP_VR!C36,INPUT!$F$38*1000)","v":96.840687876052357},{"$f":"MNP_VR!Z36","v":1.0897074260959754},{"$f":"(1.5/'FOGLIO DEPOSITO'!$F$391*MATERIALI!$J$78*(1+(ABS(K11)/(MNP_VR!$D$3*MNP_VR!$D$4*10^-6))/(1.5*MATERIALI!$J$78))^0.5)*(MNP_VR!$D$3*MNP_VR!$D$4*10^-6)","v":16.08496144282924},{"$f":"IF(MNP_VR!C36>INPUT!$F$38*1000,INPUT!$F$38*1000,MNP_VR!C36)","v":96.840687876052357},{"$f":"IFERROR(('FOGLIO DEPOSITO'!$F$401+'FOGLIO DEPOSITO'!$F$399*'andamento taglio'!K11/('andamento taglio'!M11/1000*MNP_VR!$D$3*10^-3)/MATERIALI!$J$85)/'FOGLIO DEPOSITO'!$F$404*(M11/1000*MNP_VR!$D$3*10^-3),\"\")","v":1.35832310374343},{"$f":"IFERROR((1/'FOGLIO DEPOSITO'!$F$391*MATERIALI!$J$83*0.1/2.3*(1+(ABS(K11)/(INPUT!$F$38*INPUT!$F$39))/(1*MATERIALI!$J$83*0.1))^0.5)*INPUT!$F$38*INPUT!$F$39,\"\")","v":292.89233337652354},1.35832310374343,1.35832310374343]
[{"$f":"IF(MNP_V!C37<INPUT!$F$38*1000,MNP_V!C37,INPUT!$F$38*1000)","v":128.83839667382185},{"$f":"MNP_V!Z37","v":1.3101332690300564},{"$f":"(1.5/'FOGLIO DEPOSITO'!$E$391*MATERIALI!$J$28*(1+(ABS(B12)/(INPUT!$F$38*INPUT!$F$39))/(1.5*MATERIALI!$J$28))^0.5)*INPUT!$F$38*INPUT!$F$39","v":9.6097118861922937},{"$f":"IF(MNP_V!C37>INPUT!$F$38*1000,INPUT!$F$38*1000,MNP_V!C37)","v":128.83839667382185},{"$f":"IFERROR(('FOGLIO DEPOSITO'!$E$401+'FOGLIO DEPOSITO'!$E$399*'andamento taglio'!B12/('andamento taglio'!D12/1000*INPUT!$F$39)/MATERIALI!$J$35)/'FOGLIO DEPOSITO'!$E$404*(D12/1000*INPUT!$F$39),\"\")","v":0.573524715902483},{"$f":"IFERROR((1/'FOGLIO DEPOSITO'!$E$391*MATERIALI!$J$33*0.1/2.3*(1+(ABS(B12)/(INPUT!$F$38*INPUT!$F$39))/(1*MATERIALI!$J$33*0.1))^0.5)*INPUT!$F$38*INPUT!$F$39,\"\")","v":292.92571050823949},0.573524715902483,0.573524715902483,null,{"$f":"IF(MNP_VR!C37<INPUT!$F$38*1000,MNP_VR!C37,INPUT!$F$38*1000)","v":110.67507185834555},{"$f":"MNP_VR!Z37","v":1.6472408961892291},{"$f":"(1.5/'FOGLIO DEPOSITO'!$F$391*MATERIALI!$J$78*(1+(ABS(K12)/(MNP_VR!$D$3*MNP_VR!$D$4*10^-6))/(1.5*MATERIALI!$J$78))^0.5)*(MNP_VR!$D$3*MNP_VR!$D$4*10^-6)","v":16.273614240943665},{"$f":"IF(MNP_VR!C37>INPUT!$F$38*1000,INPUT!$F$38*1000,MNP_VR!C37)","v":110.67507185834555},{"$f":"IFERROR(('FOGLIO DEPOSITO'!$F$401+'FOGLIO DEPOSITO'!$F$399*'andamento taglio'!K12/('andamento taglio'!M12/1000*MNP_VR!$D$3*10^-3)/MATERIALI!$J$85)/'FOGLIO DEPOSITO'!$F$404*(M12/1000*MNP_VR!$D$3*10^-3),\"\")","v":1.6327414575512573},{"$f":"IFERROR((1/'FOGLIO DEPOSITO'!$F$391*MATERIALI!$J$83*0.1/2.3*(1+(ABS(K12)/(INPUT!$F$38*INPUT!$F$39))/(1*MATERIALI!$J$83*0.1))^0.5)*INPUT!$F$38*INPUT!$F$39,\"\")","v":292.97674837393009},1.6327414575512573,1.6327414575512573]
[{"$f":"IF(MNP_V!C38<INPUT!$F$38*1000,MNP_V!C38,INPUT!$F$38*1000)","v":144.94319625804957},{"$f":"MNP_V!Z38","v":1.8933892250799214},{"$f":"(1.5/'FOGLIO DEPOSITO'!$E$391*MATERIALI!$J$28*(1+(ABS(B13)/(INPUT!$F$38*INPUT!$F$39))/(1.5*MATERIALI!$J$28))^0.5)*INPUT!$F$38*INPUT!$F$39","v":9.8016239417333164},{"$f":"IF(MNP_V!C38>INPUT!$F$38*1000,INPUT!$F$38*1000,MNP_V!C38)","v":144.94319625804957},{"$f":"IFERROR(('FOGLIO DEPOSITO'!$E$401+'FOGLIO DEPOSITO'!$E$399*'andamento taglio'!B13/('andamento taglio'!D13/1000*INPUT!$F$39)/MATERIALI!$J$35)/'FOGLIO DEPOSITO'!$E$404*(D13/1000*INPUT!$F$39),\"\")","v":0.6871642351324041},{"$f":"IFERROR((1/'FOGLIO DEPOSITO'!$E$391*MATERIALI!$J$33*0.1/2.3*(1+(ABS(B13)/(INPUT!$F$38*INPUT!$F$39))/(1*MATERIALI!$J$33*0.1))^0.5)*INPUT!$F$38*INPUT!$F$39,\"\")","v":293.01400944820608},0.6871642351324041,0.6871642351324041,null,{"$f":"IF(MNP_VR!C38<INPUT!$F$38*1000,MNP_VR!C38,INPUT!$F$38*1000)","v":124.50945584063874},{"$f":"MNP_VR!Z38","v":2.3753123666032239},{"$f":"(1.5/'FOGLIO DEPOSITO'!$F$391*MATERIALI!$J$78*(1+(ABS(K13)/(MNP_VR!$D$3*MNP_VR!$D$4*10^-6))/(1.5*MATERIALI!$J$78))^0.5)*(MNP_VR!$D$3*MNP_VR!$D$4*10^-6)","v":16.516728127501739},{"$f":"IF(MNP_VR!C38>INPUT!$F$38*1000,INPUT!$F$38*1000,MNP_VR!C38)","v":124.50945584063874},{"$f":"IFERROR(('FOGLIO DEPOSITO'!$F$401+'FOGLIO DEPOSITO'!$F$399*'andamento taglio'!K13/('andamento taglio'!M13/1000*MNP_VR!$D$3*10^-3)/MATERIALI!$J$85)/'FOGLIO DEPOSITO'!$F$404*(M13/1000*MNP_VR!$D$3*10^-3),\"\")","v":1.9412674114232327},{"$f":"IFERROR((1/'FOGLIO DEPOSITO'!$F$391*MATERIALI!$J$83*0.1/2.3*(1+(ABS(K13)/(INPUT!$F$38*INPUT!$F$39))/(1*MATERIALI!$J$83*0.1))^0.5)*INPUT!$F$38*INPUT!$F$39,\"\")","v":293.08694757363259},1.9412674114232327,1.9412674114232327]
[{"$f":"IF(MNP_V!C39<INPUT!$F$38*1000,MNP_V!C39,INPUT!$F$38*1000)","v":161.04799584227732},{"$f":"MNP_V!Z39","v":2.6364997804402228},{"$f":"(1.5/'FOGLIO DEPOSITO'!$E$391*MATERIALI!$J$28*(1+(ABS(B14)/(INPUT!$F$38*INPUT!$F$39))/(1.5*MATERIALI!$J$28))^0.5)*INPUT!$F$38*INPUT!$F$39","v":10.04082149523517},{"$f":"IF(MNP_V!C39>INPUT!$F$38*1000,INPUT!$F$38*1000,MNP_V!C39)","v":161.04799584227732},{"$f":"IFERROR(('FOGLIO DEPOSITO'!$E$401+'FOGLIO DEPOSITO'!$E$399*'andamento taglio'!B14/('andamento taglio'!D14/1000*INPUT!$F$39)/MATERIALI!$J$35)/'FOGLIO DEPOSITO'!$E$404*(D14/1000*INPUT!$F$39),\"\")","v":0.81678921429336904},{"$f":"IFERROR((1/'FOGLIO DEPOSITO'!$E$391*MATERIALI!$J$33*0.1/2.3*(1+(ABS(B14)/(INPUT!$F$38*INPUT!$F$39))/(1*MATERIALI!$J$33*0.1))^0.5)*INPUT!$F$38*INPUT!$F$39,\"\")","v":293.12647019457876},0.81678921429336904,0.81678921429336904,null,{"$f":"IF(MNP_VR!C39<INPUT!$F$38*1000,MNP_VR!C39,INPUT!$F$38*1000)","v":138.34383982293193},{"$f":"MNP_VR!Z39","v":3.3001552662288876},{"$f":"(1.5/'FOGLIO DEPOSITO'!$F$391*MATERIALI!$J$78*(1+(ABS(K14)/(MNP_VR!$D$3*MNP_VR!$D$4*10^-6))/(1.5*MATERIALI!$J$78))^0.5)*(MNP_VR!$D$3*MNP_VR!$D$4*10^-6)","v":16.820481026068244},{"$f":"IF(MNP_VR!C39>INPUT!$F$38*1000,INPUT!$F$38*1000,MNP_VR!C39)","v":138.34383982293193},{"$f":"IFERROR(('FOGLIO DEPOSITO'!$F$401+'FOGLIO DEPOSITO'!$F$399*'andamento taglio'!K14/('andamento taglio'!M14/1000*MNP_VR!$D$3*10^-3)/MATERIALI!$J$85)/'FOGLIO DEPOSITO'!$F$404*(M14/1000*MNP_VR!$D$3*10^-3),\"\")","v":2.2891476511375415},{"$f":"IFERROR((1/'FOGLIO DEPOSITO'!$F$391*MATERIALI!$J$83*0.1/2.3*(1+(ABS(K14)/(INPUT!$F$38*INPUT!$F$39))/(1*MATERIALI!$J$83*0.1))^0.5)*INPUT!$F$38*INPUT!$F$39,\"\")","v":293.22686992157037},2.2891476511375415,2.2891476511375415]
[{"$f":"IF(MNP_V!C40<INPUT!$F$38*1000,MNP_V!C40,INPUT!$F$38*1000)","v":161.04799584227732},{"$f":"MNP_V!Z40","v":2.6364997804402228},{"$f":"(1.5/'FOGLIO DEPOSITO'!$E$391*MATERIALI!$J$28*(1+(ABS(B15)/(INPUT!$F$38*INPUT!$F$39))/(1.5*MATERIALI!$J$28))^0.5)*INPUT!$F$38*INPUT!$F$39","v":10.04082149523517},{"$f":"IF(MNP_V!C40>INPUT!$F$38*1000,INPUT!$F$38*1000,MNP_V!C40)","v":161.04799584227732},{"$f":"IFERROR(('FOGLIO DEPOSITO'!$E$401+'FOGLIO DEPOSITO'!$E$399*'andamento taglio'!B15/('andamento taglio'!D15/1000*INPUT!$F$39)/MATERIALI!$J$35)/'FOGLIO DEPOSITO'!$E$404*(D15/1000*INPUT!$F$39),\"\")","v":0.81678921429336904},{"$f":"IFERROR((1/'FOGLIO DEPOSITO'!$E$391*MATERIALI!$J$33*0.1/2.3*(1+(ABS(B15)/(INPUT!$F$38*INPUT!$F$39))/(1*MATERIALI!$J$33*0.1))^0.5)*INPUT!$F$38*INPUT!$F$39,\"\")","v":293.12647019457876},0.81678921429336904,0.81678921429336904,null,{"$f":"IF(MNP_VR!C40<INPUT!$F$38*1000,MNP_VR!C40,INPUT!$F$38*1000)","v":138.34383982293193},{"$f":"MNP_VR!Z40","v":3.3001552662288876},{"$f":"(1.5/'FOGLIO DEPOSITO'!$F$391*MATERIALI!$J$78*(1+(ABS(K15)/(MNP_VR!$D$3*MNP_VR!$D$4*10^-6))/(1.5*MATERIALI!$J$78))^0.5)*(MNP_VR!$D$3*MNP_VR!$D$4*10^-6)","v":16.820481026068244},{"$f":"IF(MNP_VR!C40>INPUT!$F$38*1000,INPUT!$F$38*1000,MNP_VR!C40)","v":138.34383982293193},{"$f":"IFERROR(('FOGLIO DEPOSITO'!$F$401+'FOGLIO DEPOSITO'!$F$399*'andamento taglio'!K15/('andamento taglio'!M15/1000*MNP_VR!$D$3*10^-3)/MATERIALI!$J$85)/'FOGLIO DEPOSITO'!$F$404*(M15/1000*MNP_VR!$D$3*10^-3),\"\")","v":2.2891476511375415},{"$f":"IFERROR((1/'FOGLIO DEPOSITO'!$F$391*MATERIALI!$J$83*0.1/2.3*(1+(ABS(K15)/(INPUT!$F$38*INPUT!$F$39))/(1*MATERIALI!$J$83*0.1))^0.5)*INPUT!$F$38*INPUT!$F$39,\"\")","v":293.22686992157037},2.2891476511375415,2.2891476511375415]
[{"$f":"IF(MNP_V!C41<INPUT!$F$38*1000,MNP_V!C41,INPUT!$F$38*1000)","v":216.94677407558089},{"$f":"MNP_V!Z41","v":6.2738757474167945},{"$f":"(1.5/'FOGLIO DEPOSITO'!$E$391*MATERIALI!$J$28*(1+(ABS(B16)/(INPUT!$F$38*INPUT!$F$39))/(1.5*MATERIALI!$J$28))^0.5)*INPUT!$F$38*INPUT!$F$39","v":11.13777810949235},{"$f":"IF(MNP_V!C41>INPUT!$F$38*1000,INPUT!$F$38*1000,MNP_V!C41)","v":216.94677407558089},{"$f":"IFERROR(('FOGLIO DEPOSITO'!$E$401+'FOGLIO DEPOSITO'!$E$399*'andamento taglio'!B16/('andamento taglio'!D16/1000*INPUT!$F$39)/MATERIALI!$J$35)/'FOGLIO DEPOSITO'!$E$404*(D16/1000*INPUT!$F$39),\"\")","v":1.3725180701031392},{"$f":"IFERROR((1/'FOGLIO DEPOSITO'!$E$391*MATERIALI!$J$33*0.1/2.3*(1+(ABS(B16)/(INPUT!$F$38*INPUT!$F$39))/(1*MATERIALI!$J$33*0.1))^0.5)*INPUT!$F$38*INPUT!$F$39,\"\")","v":293.67632150994234},1.3725180701031392,1.3725180701031392,null,{"$f":"IF(MNP_VR!C41<INPUT!$F$38*1000,MNP_VR!C41,INPUT!$F$38*1000)","v":196.51303365817006},{"$f":"MNP_VR!Z41","v":8.9981614864833137},{"$f":"(1.5/'FOGLIO DEPOSITO'!$F$391*MATERIALI!$J$78*(1+(ABS(K16)/(MNP_VR!$D$3*MNP_VR!$D$4*10^-6))/(1.5*MATERIALI!$J$78))^0.5)*(MNP_VR!$D$3*MNP_VR!$D$4*10^-6)","v":18.582709524914485},{"$f":"IF(MNP_VR!C41>INPUT!$F$38*1000,INPUT!$F$38*1000,MNP_VR!C41)","v":196.51303365817006},{"$f":"IFERROR(('FOGLIO DEPOSITO'!$F$401+'FOGLIO DEPOSITO'!$F$399*'andamento taglio'!K16/('andamento taglio'!M16/1000*MNP_VR!$D$3*10^-3)/MATERIALI!$J$85)/'FOGLIO DEPOSITO'!$F$404*(M16/1000*MNP_VR!$D$3*10^-3),\"\")","v":4.1137407190691286},{"$f":"IFERROR((1/'FOGLIO DEPOSITO'!$F$391*MATERIALI!$J$83*0.1/2.3*(1+(ABS(K16)/(INPUT!$F$38*INPUT!$F$39))/(1*MATERIALI!$J$83*0.1))^0.5)*INPUT!$F$38*INPUT!$F$39,\"\")","v":294.0874703553572},4.1137407190691286,4.1137407190691286]
[{"$f":"IF(MNP_V!C42<INPUT!$F$38*1000,MNP_V!C42,INPUT!$F$38*1000)","v":272.84555230888446},{"$f":"MNP_V!Z42","v":11.502911280463845},{"$f":"(1.5/'FOGLIO DEPOSITO'!$E$391*MATERIALI!$J$28*(1+(ABS(B17)/(INPUT!$F$38*INPUT!$F$39))/(1.5*MATERIALI!$J$28))^0.5)*INPUT!$F$38*INPUT!$F$39","v":12.547831398634521},{"$f":"IF(MNP_V!C42>INPUT!$F$38*1000,INPUT!$F$38*1000,MNP_V!C42)","v":272.84555230888446},{"$f":"IFERROR(('FOGLIO DEPOSITO'!$E$401+'FOGLIO DEPOSITO'!$E$399*'andamento taglio'!B17/('andamento taglio'!D17/1000*INPUT!$F$39)/MATERIALI!$J$35)/'FOGLIO DEPOSITO'!$E$404*(D17/1000*INPUT!$F$39),\"\")","v":2.0874128825199572},{"$f":"IFERROR((1/'FOGLIO DEPOSITO'!$E$391*MATERIALI!$J$33*0.1/2.3*(1+(ABS(B17)/(INPUT!$F$38*INPUT!$F$39))/(1*MATERIALI!$J$33*0.1))^0.5)*INPUT!$F$38*INPUT!$F$39,\"\")","v":294.46498032363684},2.0874128825199572,2.0874128825199572,null,{"$f":"IF(MNP_VR!C42<INPUT!$F$38*1000,MNP_VR!C42,INPUT!$F$38*1000)","v":254.68222749340816},{"$f":"MNP_VR!Z42","v":17.565731349641421},{"$f":"(1.5/'FOGLIO DEPOSITO'!$F$391*MATERIALI!$J$78*(1+(ABS(K17)/(MNP_VR!$D$3*MNP_VR!$D$4*10^-6))/(1.5*MATERIALI!$J$78))^0.5)*(MNP_VR!$D$3*MNP_VR!$D$4*10^-6)","v":20.955309144138489},{"$f":"IF(MNP_VR!C42>INPUT!$F$38*1000,INPUT!$F$38*1000,MNP_VR!C42)","v":254.68222749340816},{"$f":"IFERROR(('FOGLIO DEPOSITO'!$F$401+'FOGLIO DEPOSITO'!$F$399*'andamento taglio'!K17/('andamento taglio'!M17/1000*MNP_VR!$D$3*10^-3)/MATERIALI!$J$85)/'FOGLIO DEPOSITO'!$F$404*(M17/1000*MNP_VR!$D$3*10^-3),\"\")","v":6.5122465155814515},{"$f":"IFERROR((1/'FOGLIO DEPOSITO'!$F$391*MATERIALI!$J$83*0.1/2.3*(1+(ABS(K17)/(INPUT!$F$38*INPUT!$F$39))/(1*MATERIALI!$J$83*0.1))^0.5)*INPUT!$F$38*INPUT!$F$39,\"\")","v":295.3767568900858},6.5122465155814515,6.5122465155814515]
[{"$f":"IF(MNP_V!C43<INPUT!$F$38*1000,MNP_V!C43,INPUT!$F$38*1000)","v":328.74433054218804},{"$f":"MNP_V!Z43","v":18.459010162792026},{"$f":"(1.5/'FOGLIO DEPOSITO'!$E$391*MATERIALI!$J$28*(1+(ABS(B18)/(INPUT!$F$38*INPUT!$F$39))/(1.5*MATERIALI!$J$28))^0.5)*INPUT!$F$38*INPUT!$F$39","v":14.208336925525316},{"$f":"IF(MNP_V!C43>INPUT!$F$38*1000,INPUT!$F$38*1000,MNP_V!C43)","v":328.74433054218804},{"$f":"IFERROR(('FOGLIO DEPOSITO'!$E$401+'FOGLIO DEPOSITO'!$E$399*'andamento taglio'!B18/('andamento taglio'!D18/1000*INPUT!$F$39)/MATERIALI!$J$35)/'FOGLIO DEPOSITO'!$E$404*(D18/1000*INPUT!$F$39),\"\")","v":2.9750140298648882},{"$f":"IFERROR((1/'FOGLIO DEPOSITO'!$E$391*MATERIALI!$J$33*0.1/2.3*(1+(ABS(B18)/(INPUT!$F$38*INPUT!$F$39))/(1*MATERIALI!$J$33*0.1))^0.5)*INPUT!$F$38*INPUT!$F$39,\"\")","v":295.5108576976408},2.9750140298648882,2.9750140298648882,null,{"$f":"IF(MNP_VR!C43<INPUT!$F$38*1000,MNP_VR!C43,INPUT!$F$38*1000)","v":312.85142132864632},{"$f":"MNP_VR!Z43","v":29.254864437754932},{"$f":"(1.5/'FOGLIO DEPOSITO'!$F$391*MATERIALI!$J$78*(1+(ABS(K18)/(MNP_VR!$D$3*MNP_VR!$D$4*10^-6))/(1.5*MATERIALI!$J$78))^0.5)*(MNP_VR!$D$3*MNP_VR!$D$4*10^-6)","v":23.814101610997568},{"$f":"IF(MNP_VR!C43>INPUT!$F$38*1000,INPUT!$F$38*1000,MNP_VR!C43)","v":312.85142132864632},{"$f":"IFERROR(('FOGLIO DEPOSITO'!$F$401+'FOGLIO DEPOSITO'!$F$399*'andamento taglio'!K18/('andamento taglio'!M18/1000*MNP_VR!$D$3*10^-3)/MATERIALI!$J$85)/'FOGLIO DEPOSITO'!$F$404*(M18/1000*MNP_VR!$D$3*10^-3),\"\")","v":9.535064957084856},{"$f":"IFERROR((1/'FOGLIO DEPOSITO'!$F$391*MATERIALI!$J$83*0.1/2.3*(1+(ABS(K18)/(INPUT!$F$38*INPUT!$F$39))/(1*MATERIALI!$J$83*0.1))^0.5)*INPUT!$F$38*INPUT!$F$39,\"\")","v":297.12676722000452},9.535064957084856,9.535064957084856]
[{"$f":"IF(MNP_V!C44<INPUT!$F$38*1000,MNP_V!C44,INPUT!$F$38*1000)","v":384.64310877549161},{"$f":"MNP_V!Z44","v":27.293382957193067},{"$f":"(1.5/'FOGLIO DEPOSITO'!$E$391*MATERIALI!$J$28*(1+(ABS(B19)/(INPUT!$F$38*INPUT!$F$39))/(1.5*MATERIALI!$J$28))^0.5)*INPUT!$F$38*INPUT!$F$39","v":16.071782189306273},{"$f":"IF(MNP_V!C44>INPUT!$F$38*1000,INPUT!$F$38*1000,MNP_V!C44)","v":384.64310877549161},{"$f":"IFERROR(('FOGLIO DEPOSITO'!$E$401+'FOGLIO DEPOSITO'!$E$399*'andamento taglio'!B19/('andamento taglio'!D19/1000*INPUT!$F$39)/MATERIALI!$J$35)/'FOGLIO DEPOSITO'!$E$404*(D19/1000*INPUT!$F$39),\"\")","v":4.0504425684171057},{"$f":"IFERROR((1/'FOGLIO DEPOSITO'!$E$391*MATERIALI!$J$33*0.1/2.3*(1+(ABS(B19)/(INPUT!$F$38*INPUT!$F$39))/(1*MATERIALI!$J$33*0.1))^0.5)*INPUT!$F$38*INPUT!$F$39,\"\")","v":296.83382914448526},4.0504425684171057,4.0504425684171057,null,{"$f":"IF(MNP_VR!C44<INPUT!$F$38*1000,MNP_VR!C44,INPUT!$F$38*1000)","v":371.02061516388437},{"$f":"MNP_VR!Z44","v":44.347956951211664},{"$f":"(1.5/'FOGLIO DEPOSITO'!$F$391*MATERIALI!$J$78*(1+(ABS(K19)/(MNP_VR!$D$3*MNP_VR!$D$4*10^-6))/(1.5*MATERIALI!$J$78))^0.5)*(MNP_VR!$D$3*MNP_VR!$D$4*10^-6)","v":27.062307062166422},{"$f":"IF(MNP_VR!C44>INPUT!$F$38*1000,INPUT!$F$38*1000,MNP_VR!C44)","v":371.02061516388437},{"$f":"IFERROR(('FOGLIO DEPOSITO'!$F$401+'FOGLIO DEPOSITO'!$F$399*'andamento taglio'!K19/('andamento taglio'!M19/1000*MNP_VR!$D$3*10^-3)/MATERIALI!$J$85)/'FOGLIO DEPOSITO'!$F$404*(M19/1000*MNP_VR!$D$3*10^-3),\"\")","v":13.238675283656901},{"$f":"IFERROR((1/'FOGLIO DEPOSITO'!$F$391*MATERIALI!$J$83*0.1/2.3*(1+(ABS(K19)/(INPUT!$F$38*INPUT!$F$39))/(1*MATERIALI!$J$83*0.1))^0.5)*INPUT!$F$38*INPUT!$F$39,\"\")","v":299.37126131980699},13.238675283656901,13.238675283656901]
[{"$f":"IF(MNP_V!C45<INPUT!$F$38*1000,MNP_V!C45,INPUT!$F$38*1000)","v":440.54188700879519},{"$f":"MNP_V!Z45","v":38.175422912386253},{"$f":"(1.5/'FOGLIO DEPOSITO'!$E$391*MATERIALI!$J$28*(1+(ABS(B20)/(INPUT!$F$38*INPUT!$F$39))/(1.5*MATERIALI!$J$28))^0.5)*INPUT!$F$38*INPUT!$F$39","v":18.105414247745909},{"$f":"IF(MNP_V!C45>INPUT!$F$38*1000,INPUT!$F$38*1000,MNP_V!C45)","v":440.54188700879519},{"$f":"IFERROR(('FOGLIO DEPOSITO'!$E$401+'FOGLIO DEPOSITO'!$E$399*'andamento taglio'!B20/('andamento taglio'!D20/1000*INPUT!$F$39)/MATERIALI!$J$35)/'FOGLIO DEPOSITO'!$E$404*(D20/1000*INPUT!$F$39),\"\")","v":5.3306378230485372},{"$f":"IFERROR((1/'FOGLIO DEPOSITO'!$E$391*MATERIALI!$J$33*0.1/2.3*(1+(ABS(B20)/(INPUT!$F$38*INPUT!$F$39))/(1*MATERIALI!$J$33*0.1))^0.5)*INPUT!$F$38*INPUT!$F$39,\"\")","v":298.45538364542688},5.3306378230485372,5.3306378230485372,null,{"$f":"IF(MNP_VR!C45<INPUT!$F$38*1000,MNP_VR!C45,INPUT!$F$38*1000)","v":429.18980899912253},{"$f":"MNP_VR!Z45","v":63.162527326525172},{"$f":"(1.5/'FOGLIO DEPOSITO'!$F$391*MATERIALI!$J$78*(1+(ABS(K20)/(MNP_VR!$D$3*MNP_VR!$D$4*10^-6))/(1.5*MATERIALI!$J$78))^0.5)*(MNP_VR!$D$3*MNP_VR!$D$4*10^-6)","v":30.632868502218198},{"$f":"IF(MNP_VR!C45>INPUT!$F$38*1000,INPUT!$F$38*1000,MNP_VR!C45)","v":429.18980899912253},{"$f":"IFERROR(('FOGLIO DEPOSITO'!$F$401+'FOGLIO DEPOSITO'!$F$399*'andamento taglio'!K20/('andamento taglio'!M20/1000*MNP_VR!$D$3*10^-3)/MATERIALI!$J$85)/'FOGLIO DEPOSITO'!$F$404*(M20/1000*MNP_VR!$D$3*10^-3),\"\")","v":17.686581182600307},{"$f":"IFERROR((1/'FOGLIO DEPOSITO'!$F$391*MATERIALI!$J$83*0.1/2.3*(1+(ABS(K20)/(INPUT!$F$38*INPUT!$F$39))/(1*MATERIALI!$J$83*0.1))^0.5)*INPUT!$F$38*INPUT!$F$39,\"\")","v":302.14583064303565},17.686581182600307,17.686581182600307]
[{"$f":"IF(MNP_V!C46<INPUT!$F$38*1000,MNP_V!C46,INPUT!$F$38*1000)","v":496.44066524209876},{"$f":"MNP_V!Z46","v":51.29552369656566},{"$f":"(1.5/'FOGLIO DEPOSITO'!$E$391*MATERIALI!$J$28*(1+(ABS(B21)/(INPUT!$F$38*INPUT!$F$39))/(1.5*MATERIALI!$J$28))^0.5)*INPUT!$F$38*INPUT!$F$39","v":20.288036228355157},{"$f":"IF(MNP_V!C46>INPUT!$F$38*1000,INPUT!$F$38*1000,MNP_V!C46)","v":496.44066524209876},{"$f":"IFERROR(('FOGLIO DEPOSITO'!$E$401+'FOGLIO DEPOSITO'!$E$399*'andamento taglio'!B21/('andamento taglio'!D21/1000*INPUT!$F$39)/MATERIALI!$J$35)/'FOGLIO DEPOSITO'!$E$404*(D21/1000*INPUT!$F$39),\"\")","v":6.8346391605785906},{"$f":"IFERROR((1/'FOGLIO DEPOSITO'!$E$391*MATERIALI!$J$33*0.1/2.3*(1+(ABS(B21)/(INPUT!$F$38*INPUT!$F$39))/(1*MATERIALI!$J$33*0.1))^0.5)*INPUT!$F$38*INPUT!$F$39,\"\")","v":300.39879766603514},6.8346391605785906,6.8346391605785906,null,{"$f":"IF(MNP_VR!C46<INPUT!$F$38*1000,MNP_VR!C46,INPUT!$F$38*1000)","v":487.35900283436069},{"$f":"MNP_VR!Z46","v":86.05685174872886},{"$f":"(1.5/'FOGLIO DEPOSITO'!$F$391*MATERIALI!$J$78*(1+(ABS(K21)/(MNP_VR!$D$3*MNP_VR!$D$4*10^-6))/(1.5*MATERIALI!$J$78))^0.5)*(MNP_VR!$D$3*MNP_VR!$D$4*10^-6)","v":34.482557538567157},{"$f":"IF(MNP_VR!C46>INPUT!$F$38*1000,INPUT!$F$38*1000,MNP_VR!C46)","v":487.35900283436069},{"$f":"IFERROR(('FOGLIO DEPOSITO'!$F$401+'FOGLIO DEPOSITO'!$F$399*'andamento taglio'!K21/('andamento taglio'!M21/1000*MNP_VR!$D$3*10^-3)/MATERIALI!$J$85)/'FOGLIO DEPOSITO'!$F$404*(M21/1000*MNP_VR!$D$3*10^-3),\"\")","v":22.950437890921744},{"$f":"IFERROR((1/'FOGLIO DEPOSITO'!$F$391*MATERIALI!$J$83*0.1/2.3*(1+(ABS(K21)/(INPUT!$F$38*INPUT!$F$39))/(1*MATERIALI!$J$83*0.1))^0.5)*INPUT!$F$38*INPUT!$F$39,\"\")","v":305.48805113092646},22.950437890921744,22.950437890921744]
[{"$f":"IF(MNP_V!C47<INPUT!$F$38*1000,MNP_V!C47,INPUT!$F$38*1000)","v":552.33944347540228},{"$f":"MNP_V!Z47","v":66.868437880792797},{"$f":"(1.5/'FOGLIO DEPOSITO'!$E$391*MATERIALI!$J$28*(1+(ABS(B22)/(INPUT!$F$38*INPUT!$F$39))/(1.5*MATERIALI!$J$28))^0.5)*INPUT!$F$38*INPUT!$F$39","v":22.6068347888279},{"$f":"IF(MNP_V!C47>INPUT!$F$38*1000,INPUT!$F$38*1000,MNP_V!C47)","v":552.33944347540228},{"$f":"IFERROR(('FOGLIO DEPOSITO'!$E$401+'FOGLIO DEPOSITO'!$E$399*'andamento taglio'!B22/('andamento taglio'!D22/1000*INPUT!$F$39)/MATERIALI!$J$35)/'FOGLIO DEPOSITO'!$E$404*(D22/1000*INPUT!$F$39),\"\")","v":8.5839218381134152},{"$f":"IFERROR((1/'FOGLIO DEPOSITO'!$E$391*MATERIALI!$J$33*0.1/2.3*(1+(ABS(B22)/(INPUT!$F$38*INPUT!$F$39))/(1*MATERIALI!$J$33*0.1))^0.5)*INPUT!$F$38*INPUT!$F$39,\"\")","v":302.68934014672783},8.5839218381134152,8.5839218381134152,null,{"$f":"IF(MNP_VR!C47<INPUT!$F$38*1000,MNP_VR!C47,INPUT!$F$38*1000)","v":545.52819666959874},{"$f":"MNP_VR!Z47","v":113.43672073010663},{"$f":"(1.5/'FOGLIO DEPOSITO'!$F$391*MATERIALI!$J$78*(1+(ABS(K22)/(MNP_VR!$D$3*MNP_VR!$D$4*10^-6))/(1.5*MATERIALI!$J$78))^0.5)*(MNP_VR!$D$3*MNP_VR!$D$4*10^-6)","v":38.585411273924606},{"$f":"IF(MNP_VR!C47>INPUT!$F$38*1000,INPUT!$F$38*1000,MNP_VR!C47)","v":545.52819666959874},{"$f":"IFERROR(('FOGLIO DEPOSITO'!$F$401+'FOGLIO DEPOSITO'!$F$399*'andamento taglio'!K22/('andamento taglio'!M22/1000*MNP_VR!$D$3*10^-3)/MATERIALI!$J$85)/'FOGLIO DEPOSITO'!$F$404*(M22/1000*MNP_VR!$D$3*10^-3),\"\")","v":29.111403511077999},{"$f":"IFERROR((1/'FOGLIO DEPOSITO'!$F$391*MATERIALI!$J$83*0.1/2.3*(1+(ABS(K22)/(INPUT!$F$38*INPUT!$F$39))/(1*MATERIALI!$J$83*0.1))^0.5)*INPUT!$F$38*INPUT!$F$39,\"\")","v":309.43769497756534},29.111403511077999,29.111403511077999]
[{"$f":"IF(MNP_V!C48<INPUT!$F$38*1000,MNP_V!C48,INPUT!$F$38*1000)","v":608.23822170870585},{"$f":"MNP_V!Z48","v":85.137301243502307},{"$f":"(1.5/'FOGLIO DEPOSITO'!$E$391*MATERIALI!$J$28*(1+(ABS(B23)/(INPUT!$F$38*INPUT!$F$39))/(1.5*MATERIALI!$J$28))^0.5)*INPUT!$F$38*INPUT!$F$39","v":25.054992206231429},{"$f":"IF(MNP_V!C48>INPUT!$F$38*1000,INPUT!$F$38*1000,MNP_V!C48)","v":608.23822170870585},{"$f":"IFERROR(('FOGLIO DEPOSITO'!$E$401+'FOGLIO DEPOSITO'!$E$399*'andamento taglio'!B23/('andamento taglio'!D23/1000*INPUT!$F$39)/MATERIALI!$J$35)/'FOGLIO DEPOSITO'!$E$404*(D23/1000*INPUT!$F$39),\"\")","v":10.602799433496481},{"$f":"IFERROR((1/'FOGLIO DEPOSITO'!$E$391*MATERIALI!$J$33*0.1/2.3*(1+(ABS(B23)/(INPUT!$F$38*INPUT!$F$39))/(1*MATERIALI!$J$33*0.1))^0.5)*INPUT!$F$38*INPUT!$F$39,\"\")","v":305.35451599883652},10.602799433496481,10.602799433496481,null,{"$f":"IF(MNP_VR!C48<INPUT!$F$38*1000,MNP_VR!C48,INPUT!$F$38*1000)","v":603.6973905048369},{"$f":"MNP_VR!Z48","v":145.76358585858614},{"$f":"(1.5/'FOGLIO DEPOSITO'!$F$391*MATERIALI!$J$78*(1+(ABS(K23)/(MNP_VR!$D$3*MNP_VR!$D$4*10^-6))/(1.5*MATERIALI!$J$78))^0.5)*(MNP_VR!$D$3*MNP_VR!$D$4*10^-6)","v":42.927691724181727},{"$f":"IF(MNP_VR!C48>INPUT!$F$38*1000,INPUT!$F$38*1000,MNP_VR!C48)","v":603.6973905048369},{"$f":"IFERROR(('FOGLIO DEPOSITO'!$F$401+'FOGLIO DEPOSITO'!$F$399*'andamento taglio'!K23/('andamento taglio'!M23/1000*MNP_VR!$D$3*10^-3)/MATERIALI!$J$85)/'FOGLIO DEPOSITO'!$F$404*(M23/1000*MNP_VR!$D$3*10^-3),\"\")","v":36.2617683606546},{"$f":"IFERROR((1/'FOGLIO DEPOSITO'!$F$391*MATERIALI!$J$83*0.1/2.3*(1+(ABS(K23)/(INPUT!$F$38*INPUT!$F$39))/(1*MATERIALI!$J$83*0.1))^0.5)*INPUT!$F$38*INPUT!$F$39,\"\")","v":314.03701885908623},36.2617683606546,36.2617683606546]
[{"$f":"IF(MNP_V!C49<INPUT!$F$38*1000,MNP_V!C49,INPUT!$F$38*1000)","v":664.13699994200942},{"$f":"MNP_V!Z49","v":106.37848215768916},{"$f":"(1.5/'FOGLIO DEPOSITO'!$E$391*MATERIALI!$J$28*(1+(ABS(B24)/(INPUT!$F$38*INPUT!$F$39))/(1.5*MATERIALI!$J$28))^0.5)*INPUT!$F$38*INPUT!$F$39","v":27.630066070955813},{"$f":"IF(MNP_V!C49>INPUT!$F$38*1000,INPUT!$F$38*1000,MNP_V!C49)","v":664.13699994200942},{"$f":"IFERROR(('FOGLIO DEPOSITO'!$E$401+'FOGLIO DEPOSITO'!$E$399*'andamento taglio'!B24/('andamento taglio'!D24/1000*INPUT!$F$39)/MATERIALI!$J$35)/'FOGLIO DEPOSITO'!$E$404*(D24/1000*INPUT!$F$39),\"\")","v":12.91890878402728},{"$f":"IFERROR((1/'FOGLIO DEPOSITO'!$E$391*MATERIALI!$J$33*0.1/2.3*(1+(ABS(B24)/(INPUT!$F$38*INPUT!$F$39))/(1*MATERIALI!$J$33*0.1))^0.5)*INPUT!$F$38*INPUT!$F$39,\"\")","v":308.42435761091707},12.91890878402728,12.91890878402728,null,{"$f":"IF(MNP_VR!C49<INPUT!$F$38*1000,MNP_VR!C49,INPUT!$F$38*1000)","v":661.86658434007506},{"$f":"MNP_VR!Z49","v":183.56444226478146},{"$f":"(1.5/'FOGLIO DEPOSITO'!$F$391*MATERIALI!$J$78*(1+(ABS(K24)/(MNP_VR!$D$3*MNP_VR!$D$4*10^-6))/(1.5*MATERIALI!$J$78))^0.5)*(MNP_VR!$D$3*MNP_VR!$D$4*10^-6)","v":47.504475590751717},{"$f":"IF(MNP_VR!C49>INPUT!$F$38*1000,INPUT!$F$38*1000,MNP_VR!C49)","v":661.86658434007506},{"$f":"IFERROR(('FOGLIO DEPOSITO'!$F$401+'FOGLIO DEPOSITO'!$F$399*'andamento taglio'!K24/('andamento taglio'!M24/1000*MNP_VR!$D$3*10^-3)/MATERIALI!$J$85)/'FOGLIO DEPOSITO'!$F$404*(M24/1000*MNP_VR!$D$3*10^-3),\"\")","v":44.506931465774365},{"$f":"IFERROR((1/'FOGLIO DEPOSITO'!$F$391*MATERIALI!$J$83*0.1/2.3*(1+(ABS(K24)/(INPUT!$F$38*INPUT!$F$39))/(1*MATERIALI!$J$83*0.1))^0.5)*INPUT!$F$38*INPUT!$F$39,\"\")","v":319.33114948725859},44.506931465774365,44.506931465774365]
[{"$f":"IF(MNP_V!C50<INPUT!$F$38*1000,MNP_V!C50,INPUT!$F$38*1000)","v":720.03577817531311},{"$f":"MNP_V!Z50","v":130.90746039945327},{"$f":"(1.5/'FOGLIO DEPOSITO'!$E$391*MATERIALI!$J$28*(1+(ABS(B25)/(INPUT!$F$38*INPUT!$F$39))/(1.5*MATERIALI!$J$28))^0.5)*INPUT!$F$38*INPUT!$F$39","v":30.332947527919082},{"$f":"IF(MNP_V!C50>INPUT!$F$38*1000,INPUT!$F$38*1000,MNP_V!C50)","v":720.03577817531311},{"$f":"IFERROR(('FOGLIO DEPOSITO'!$E$401+'FOGLIO DEPOSITO'!$E$399*'andamento taglio'!B25/('andamento taglio'!D25/1000*INPUT!$F$39)/MATERIALI!$J$35)/'FOGLIO DEPOSITO'!$E$404*(D25/1000*INPUT!$F$39),\"\")","v":15.563797867315806},{"$f":"IFERROR((1/'FOGLIO DEPOSITO'!$E$391*MATERIALI!$J$33*0.1/2.3*(1+(ABS(B25)/(INPUT!$F$38*INPUT!$F$39))/(1*MATERIALI!$J$33*0.1))^0.5)*INPUT!$F$38*INPUT!$F$39,\"\")","v":311.93177639724797},15.563797867315806,15.563797867315806,null,{"$f":"IF(MNP_VR!C50<INPUT!$F$38*1000,MNP_VR!C50,INPUT!$F$38*1000)","v":720.03577817531311},{"$f":"MNP_VR!Z50","v":227.44389413267479},{"$f":"(1.5/'FOGLIO DEPOSITO'!$F$391*MATERIALI!$J$78*(1+(ABS(K25)/(MNP_VR!$D$3*MNP_VR!$D$4*10^-6))/(1.5*MATERIALI!$J$78))^0.5)*(MNP_VR!$D$3*MNP_VR!$D$4*10^-6)","v":52.317485968167396},{"$f":"IF(MNP_VR!C50>INPUT!$F$38*1000,INPUT!$F$38*1000,MNP_VR!C50)","v":720.03577817531311},{"$f":"IFERROR(('FOGLIO DEPOSITO'!$F$401+'FOGLIO DEPOSITO'!$F$399*'andamento taglio'!K25/('andamento taglio'!M25/1000*MNP_VR!$D$3*10^-3)/MATERIALI!$J$85)/'FOGLIO DEPOSITO'!$F$404*(M25/1000*MNP_VR!$D$3*10^-3),\"\")","v":53.967813663233734},{"$f":"IFERROR((1/'FOGLIO DEPOSITO'!$F$391*MATERIALI!$J$83*0.1/2.3*(1+(ABS(K25)/(INPUT!$F$38*INPUT!$F$39))/(1*MATERIALI!$J$83*0.1))^0.5)*INPUT!$F$38*INPUT!$F$39,\"\")","v":325.36859111720992},52.317485968167396,52.317485968167396]
[{"$f":"IF(MNP_V!C51<INPUT!$F$38*1000,MNP_V!C51,INPUT!$F$38*1000)","v":720.03577817531311},{"$f":"MNP_V!Z51","v":130.90746039945327},{"$f":"(1.5/'FOGLIO DEPOSITO'!$E$391*MATERIALI!$J$28*(1+(ABS(B26)/(INPUT!$F$38*INPUT!$F$39))/(1.5*MATERIALI!$J$28))^0.5)*INPUT!$F$38*INPUT!$F$39","v":30.332947527919082},{"$f":"IF(MNP_V!C51>INPUT!$F$38*1000,INPUT!$F$38*1000,MNP_V!C51)","v":720.03577817531311},{"$f":"IFERROR(('FOGLIO DEPOSITO'!$E$401+'FOGLIO DEPOSITO'!$E$399*'andamento taglio'!B26/('andamento taglio'!D26/1000*INPUT!$F$39)/MATERIALI!$J$35)/'FOGLIO DEPOSITO'!$E$404*(D26/1000*INPUT!$F$39),\"\")","v":15.563797867315806},{"$f":"IFERROR((1/'FOGLIO DEPOSITO'!$E$391*MATERIALI!$J$33*0.1/2.3*(1+(ABS(B26)/(INPUT!$F$38*INPUT!$F$39))/(1*MATERIALI!$J$33*0.1))^0.5)*INPUT!$F$38*INPUT!$F$39,\"\")","v":311.93177639724797},15.563797867315806,15.563797867315806,null,{"$f":"IF(MNP_VR!C51<INPUT!$F$38*1000,MNP_VR!C51,INPUT!$F$38*1000)","v":720.03577817531311},{"$f":"MNP_VR!Z51","v":227.44389413267479},{"$f":"(1.5/'FOGLIO DEPOSITO'!$F$391*MATERIALI!$J$78*(1+(ABS(K26)/(MNP_VR!$D$3*MNP_VR!$D$4*10^-6))/(1.5*MATERIALI!$J$78))^0.5)*(MNP_VR!$D$3*MNP_VR!$D$4*10^-6)","v":52.317485968167396},{"$f":"IF(MNP_VR!C51>INPUT!$F$38*1000,INPUT!$F$38*1000,MNP_VR!C51)","v":720.03577817531311},{"$f":"IFERROR(('FOGLIO DEPOSITO'!$F$401+'FOGLIO DEPOSITO'!$F$399*'andamento taglio'!K26/('andamento taglio'!M26/1000*MNP_VR!$D$3*10^-3)/MATERIALI!$J$85)/'FOGLIO DEPOSITO'!$F$404*(M26/1000*MNP_VR!$D$3*10^-3),\"\")","v":53.967813663233734},{"$f":"IFERROR((1/'FOGLIO DEPOSITO'!$F$391*MATERIALI!$J$83*0.1/2.3*(1+(ABS(K26)/(INPUT!$F$38*INPUT!$F$39))/(1*MATERIALI!$J$83*0.1))^0.5)*INPUT!$F$38*INPUT!$F$39,\"\")","v":325.36859111720992},52.317485968167396,52.317485968167396]
[{"$f":"IF(MNP_V!C52<INPUT!$F$38*1000,MNP_V!C52,INPUT!$F$38*1000)","v":878.03220035778179},{"$f":"MNP_V!Z52","v":159.63229743618814},{"$f":"(1.5/'FOGLIO DEPOSITO'!$E$391*MATERIALI!$J$28*(1+(ABS(B27)/(INPUT!$F$38*INPUT!$F$39))/(1.5*MATERIALI!$J$28))^0.5)*INPUT!$F$38*INPUT!$F$39","v":33.219781879311896},{"$f":"IF(MNP_V!C52>INPUT!$F$38*1000,INPUT!$F$38*1000,MNP_V!C52)","v":878.03220035778179},{"$f":"IFERROR(('FOGLIO DEPOSITO'!$E$401+'FOGLIO DEPOSITO'!$E$399*'andamento taglio'!B27/('andamento taglio'!D27/1000*INPUT!$F$39)/MATERIALI!$J$35)/'FOGLIO DEPOSITO'!$E$404*(D27/1000*INPUT!$F$39),\"\")","v":18.978939800538015},{"$f":"IFERROR((1/'FOGLIO DEPOSITO'!$E$391*MATERIALI!$J$33*0.1/2.3*(1+(ABS(B27)/(INPUT!$F$38*INPUT!$F$39))/(1*MATERIALI!$J$33*0.1))^0.5)*INPUT!$F$38*INPUT!$F$39,\"\")","v":315.98967787237569},18.978939800538015,18.978939800538015,null,{"$f":"IF(MNP_VR!C52<INPUT!$F$38*1000,MNP_VR!C52,INPUT!$F$38*1000)","v":878.03220035778179},{"$f":"MNP_VR!Z52","v":277.3515829142994},{"$f":"(1.5/'FOGLIO DEPOSITO'!$F$391*MATERIALI!$J$78*(1+(ABS(K27)/(MNP_VR!$D$3*MNP_VR!$D$4*10^-6))/(1.5*MATERIALI!$J$78))^0.5)*(MNP_VR!$D$3*MNP_VR!$D$4*10^-6)","v":57.302423530366916},{"$f":"IF(MNP_VR!C52>INPUT!$F$38*1000,INPUT!$F$38*1000,MNP_VR!C52)","v":878.03220035778179},{"$f":"IFERROR(('FOGLIO DEPOSITO'!$F$401+'FOGLIO DEPOSITO'!$F$399*'andamento taglio'!K27/('andamento taglio'!M27/1000*MNP_VR!$D$3*10^-3)/MATERIALI!$J$85)/'FOGLIO DEPOSITO'!$F$404*(M27/1000*MNP_VR!$D$3*10^-3),\"\")","v":65.809893920868561},{"$f":"IFERROR((1/'FOGLIO DEPOSITO'!$F$391*MATERIALI!$J$83*0.1/2.3*(1+(ABS(K27)/(INPUT!$F$38*INPUT!$F$39))/(1*MATERIALI!$J$83*0.1))^0.5)*INPUT!$F$38*INPUT!$F$39,\"\")","v":332.10208265734428},57.302423530366916,57.302423530366916]
[{"$f":"IF(MNP_V!C53<INPUT!$F$38*1000,MNP_V!C53,INPUT!$F$38*1000)","v":1036.0286225402506},{"$f":"MNP_V!Z53","v":188.35713447054241},{"$f":"(1.5/'FOGLIO DEPOSITO'!$E$391*MATERIALI!$J$28*(1+(ABS(B28)/(INPUT!$F$38*INPUT!$F$39))/(1.5*MATERIALI!$J$28))^0.5)*INPUT!$F$38*INPUT!$F$39","v":35.875062515226652},{"$f":"IF(MNP_V!C53>INPUT!$F$38*1000,INPUT!$F$38*1000,MNP_V!C53)","v":1036.0286225402506},{"$f":"IFERROR(('FOGLIO DEPOSITO'!$E$401+'FOGLIO DEPOSITO'!$E$399*'andamento taglio'!B28/('andamento taglio'!D28/1000*INPUT!$F$39)/MATERIALI!$J$35)/'FOGLIO DEPOSITO'!$E$404*(D28/1000*INPUT!$F$39),\"\")","v":22.39408173352216},{"$f":"IFERROR((1/'FOGLIO DEPOSITO'!$E$391*MATERIALI!$J$33*0.1/2.3*(1+(ABS(B28)/(INPUT!$F$38*INPUT!$F$39))/(1*MATERIALI!$J$33*0.1))^0.5)*INPUT!$F$38*INPUT!$F$39,\"\")","v":319.99612484719506},22.39408173352216,22.39408173352216,null,{"$f":"IF(MNP_VR!C53<INPUT!$F$38*1000,MNP_VR!C53,INPUT!$F$38*1000)","v":1036.0286225402506},{"$f":"MNP_VR!Z53","v":327.25927169354338},{"$f":"(1.5/'FOGLIO DEPOSITO'!$F$391*MATERIALI!$J$78*(1+(ABS(K28)/(MNP_VR!$D$3*MNP_VR!$D$4*10^-6))/(1.5*MATERIALI!$J$78))^0.5)*(MNP_VR!$D$3*MNP_VR!$D$4*10^-6)","v":61.887124241247768},{"$f":"IF(MNP_VR!C53>INPUT!$F$38*1000,INPUT!$F$38*1000,MNP_VR!C53)","v":1036.0286225402506},{"$f":"IFERROR(('FOGLIO DEPOSITO'!$F$401+'FOGLIO DEPOSITO'!$F$399*'andamento taglio'!K28/('andamento taglio'!M28/1000*MNP_VR!$D$3*10^-3)/MATERIALI!$J$85)/'FOGLIO DEPOSITO'!$F$404*(M28/1000*MNP_VR!$D$3*10^-3),\"\")","v":77.65197417802726},{"$f":"IFERROR((1/'FOGLIO DEPOSITO'!$F$391*MATERIALI!$J$83*0.1/2.3*(1+(ABS(K28)/(INPUT!$F$38*INPUT!$F$39))/(1*MATERIALI!$J$83*0.1))^0.5)*INPUT!$F$38*INPUT!$F$39,\"\")","v":338.70173681999597},61.887124241247768,61.887124241247768]
[{"$f":"IF(MNP_V!C54<INPUT!$F$38*1000,MNP_V!C54,INPUT!$F$38*1000)","v":1194.025044722719},{"$f":"MNP_V!Z54","v":217.08197150288402},{"$f":"(1.5/'FOGLIO DEPOSITO'!$E$391*MATERIALI!$J$28*(1+(ABS(B29)/(INPUT!$F$38*INPUT!$F$39))/(1.5*MATERIALI!$J$28))^0.5)*INPUT!$F$38*INPUT!$F$39","v":38.346920512877254},{"$f":"IF(MNP_V!C54>INPUT!$F$38*1000,INPUT!$F$38*1000,MNP_V!C54)","v":1194.025044722719},{"$f":"IFERROR(('FOGLIO DEPOSITO'!$E$401+'FOGLIO DEPOSITO'!$E$399*'andamento taglio'!B29/('andamento taglio'!D29/1000*INPUT!$F$39)/MATERIALI!$J$35)/'FOGLIO DEPOSITO'!$E$404*(D29/1000*INPUT!$F$39),\"\")","v":25.809223666305044},{"$f":"IFERROR((1/'FOGLIO DEPOSITO'!$E$391*MATERIALI!$J$33*0.1/2.3*(1+(ABS(B29)/(INPUT!$F$38*INPUT!$F$39))/(1*MATERIALI!$J$33*0.1))^0.5)*INPUT!$F$38*INPUT!$F$39,\"\")","v":323.95302639792862},25.809223666305044,25.809223666305044,null,{"$f":"IF(MNP_VR!C54<INPUT!$F$38*1000,MNP_VR!C54,INPUT!$F$38*1000)","v":1194.025044722719},{"$f":"MNP_VR!Z54","v":377.16696047077471},{"$f":"(1.5/'FOGLIO DEPOSITO'!$F$391*MATERIALI!$J$78*(1+(ABS(K29)/(MNP_VR!$D$3*MNP_VR!$D$4*10^-6))/(1.5*MATERIALI!$J$78))^0.5)*(MNP_VR!$D$3*MNP_VR!$D$4*10^-6)","v":66.154852816915039},{"$f":"IF(MNP_VR!C54>INPUT!$F$38*1000,INPUT!$F$38*1000,MNP_VR!C54)","v":1194.025044722719},{"$f":"IFERROR(('FOGLIO DEPOSITO'!$F$401+'FOGLIO DEPOSITO'!$F$399*'andamento taglio'!K29/('andamento taglio'!M29/1000*MNP_VR!$D$3*10^-3)/MATERIALI!$J$85)/'FOGLIO DEPOSITO'!$F$404*(M29/1000*MNP_VR!$D$3*10^-3),\"\")","v":89.494054434783422},{"$f":"IFERROR((1/'FOGLIO DEPOSITO'!$F$391*MATERIALI!$J$83*0.1/2.3*(1+(ABS(K29)/(INPUT!$F$38*INPUT!$F$39))/(1*MATERIALI!$J$83*0.1))^0.5)*INPUT!$F$38*INPUT!$F$39,\"\")","v":345.175230490601},66.154852816915039,66.154852816915039]
[{"$f":"IF(MNP_V!C55<INPUT!$F$38*1000,MNP_V!C55,INPUT!$F$38*1000)","v":1352.0214669051879},{"$f":"MNP_V!Z55","v":245.80680853390521},{"$f":"(1.5/'FOGLIO DEPOSITO'!$E$391*MATERIALI!$J$28*(1+(ABS(B30)/(INPUT!$F$38*INPUT!$F$39))/(1.5*MATERIALI!$J$28))^0.5)*INPUT!$F$38*INPUT!$F$39","v":40.668815020381402},{"$f":"IF(MNP_V!C55>INPUT!$F$38*1000,INPUT!$F$38*1000,MNP_V!C55)","v":1352.0214669051879},{"$f":"IFERROR(('FOGLIO DEPOSITO'!$E$401+'FOGLIO DEPOSITO'!$E$399*'andamento taglio'!B30/('andamento taglio'!D30/1000*INPUT!$F$39)/MATERIALI!$J$35)/'FOGLIO DEPOSITO'!$E$404*(D30/1000*INPUT!$F$39),\"\")","v":29.224365598955881},{"$f":"IFERROR((1/'FOGLIO DEPOSITO'!$E$391*MATERIALI!$J$33*0.1/2.3*(1+(ABS(B30)/(INPUT!$F$38*INPUT!$F$39))/(1*MATERIALI!$J$33*0.1))^0.5)*INPUT!$F$38*INPUT!$F$39,\"\")","v":327.86217639034737},29.224365598955881,29.224365598955881,null,{"$f":"IF(MNP_VR!C55<INPUT!$F$38*1000,MNP_VR!C55,INPUT!$F$38*1000)","v":1352.0214669051879},{"$f":"MNP_VR!Z55","v":427.07464924668579},{"$f":"(1.5/'FOGLIO DEPOSITO'!$F$391*MATERIALI!$J$78*(1+(ABS(K30)/(MNP_VR!$D$3*MNP_VR!$D$4*10^-6))/(1.5*MATERIALI!$J$78))^0.5)*(MNP_VR!$D$3*MNP_VR!$D$4*10^-6)","v":70.163473086708649},{"$f":"IF(MNP_VR!C55>INPUT!$F$38*1000,INPUT!$F$38*1000,MNP_VR!C55)","v":1352.0214669051879},{"$f":"IFERROR(('FOGLIO DEPOSITO'!$F$401+'FOGLIO DEPOSITO'!$F$399*'andamento taglio'!K30/('andamento taglio'!M30/1000*MNP_VR!$D$3*10^-3)/MATERIALI!$J$85)/'FOGLIO DEPOSITO'!$F$404*(M30/1000*MNP_VR!$D$3*10^-3),\"\")","v":101.33613469127556},{"$f":"IFERROR((1/'FOGLIO DEPOSITO'!$F$391*MATERIALI!$J$83*0.1/2.3*(1+(ABS(K30)/(INPUT!$F$38*INPUT!$F$39))/(1*MATERIALI!$J$83*0.1))^0.5)*INPUT!$F$38*INPUT!$F$39,\"\")","v":351.52953355796461},70.163473086708649,70.163473086708649]
[{"$f":"IF(MNP_V!C56<INPUT!$F$38*1000,MNP_V!C56,INPUT!$F$38*1000)","v":1510.0178890876564},{"$f":"MNP_V!Z56","v":274.5316455641119},{"$f":"(1.5/'FOGLIO DEPOSITO'!$E$391*MATERIALI!$J$28*(1+(ABS(B31)/(INPUT!$F$38*INPUT!$F$39))/(1.5*MATERIALI!$J$28))^0.5)*INPUT!$F$38*INPUT!$F$39","v":42.86512238986225},{"$f":"IF(MNP_V!C56>INPUT!$F$38*1000,INPUT!$F$38*1000,MNP_V!C56)","v":1510.0178890876564},{"$f":"IFERROR(('FOGLIO DEPOSITO'!$E$401+'FOGLIO DEPOSITO'!$E$399*'andamento taglio'!B31/('andamento taglio'!D31/1000*INPUT!$F$39)/MATERIALI!$J$35)/'FOGLIO DEPOSITO'!$E$404*(D31/1000*INPUT!$F$39),\"\")","v":32.639507531525275},{"$f":"IFERROR((1/'FOGLIO DEPOSITO'!$E$391*MATERIALI!$J$33*0.1/2.3*(1+(ABS(B31)/(INPUT!$F$38*INPUT!$F$39))/(1*MATERIALI!$J$33*0.1))^0.5)*INPUT!$F$38*INPUT!$F$39,\"\")","v":331.7252629848702},32.639507531525275,32.639507531525275,null,{"$f":"IF(MNP_VR!C56<INPUT!$F$38*1000,MNP_VR!C56,INPUT!$F$38*1000)","v":1510.0178890876564},{"$f":"MNP_VR!Z56","v":476.98233802178208},{"$f":"(1.5/'FOGLIO DEPOSITO'!$F$391*MATERIALI!$J$78*(1+(ABS(K31)/(MNP_VR!$D$3*MNP_VR!$D$4*10^-6))/(1.5*MATERIALI!$J$78))^0.5)*(MNP_VR!$D$3*MNP_VR!$D$4*10^-6)","v":73.955130720876738},{"$f":"IF(MNP_VR!C56>INPUT!$F$38*1000,INPUT!$F$38*1000,MNP_VR!C56)","v":1510.0178890876564},{"$f":"IFERROR(('FOGLIO DEPOSITO'!$F$401+'FOGLIO DEPOSITO'!$F$399*'andamento taglio'!K31/('andamento taglio'!M31/1000*MNP_VR!$D$3*10^-3)/MATERIALI!$J$85)/'FOGLIO DEPOSITO'!$F$404*(M31/1000*MNP_VR!$D$3*10^-3),\"\")","v":113.17821494760472},{"$f":"IFERROR((1/'FOGLIO DEPOSITO'!$F$391*MATERIALI!$J$83*0.1/2.3*(1+(ABS(K31)/(INPUT!$F$38*INPUT!$F$39))/(1*MATERIALI!$J$83*0.1))^0.5)*INPUT!$F$38*INPUT!$F$39,\"\")","v":357.77099684385882},73.955130720876738,73.955130720876738]
[{"$f":"IF(MNP_V!C57<INPUT!$F$38*1000,MNP_V!C57,INPUT!$F$38*1000)","v":1668.0143112701253},{"$f":"MNP_V!Z57","v":303.25648259382956},{"$f":"(1.5/'FOGLIO DEPOSITO'!$E$391*MATERIALI!$J$28*(1+(ABS(B32)/(INPUT!$F$38*INPUT!$F$39))/(1.5*MATERIALI!$J$28))^0.5)*INPUT!$F$38*INPUT!$F$39","v":44.954253634451746},{"$f":"IF(MNP_V!C57>INPUT!$F$38*1000,INPUT!$F$38*1000,MNP_V!C57)","v":1668.0143112701253},{"$f":"IFERROR(('FOGLIO DEPOSITO'!$E$401+'FOGLIO DEPOSITO'!$E$399*'andamento taglio'!B32/('andamento taglio'!D32/1000*INPUT!$F$39)/MATERIALI!$J$35)/'FOGLIO DEPOSITO'!$E$404*(D32/1000*INPUT!$F$39),\"\")","v":36.054649464045767},{"$f":"IFERROR((1/'FOGLIO DEPOSITO'!$E$391*MATERIALI!$J$33*0.1/2.3*(1+(ABS(B32)/(INPUT!$F$38*INPUT!$F$39))/(1*MATERIALI!$J$33*0.1))^0.5)*INPUT!$F$38*INPUT!$F$39,\"\")","v":335.54387715663046},36.054649464045767,36.054649464045767,null,{"$f":"IF(MNP_VR!C57<INPUT!$F$38*1000,MNP_VR!C57,INPUT!$F$38*1000)","v":1668.0143112701253},{"$f":"MNP_VR!Z57","v":526.89002679638952},{"$f":"(1.5/'FOGLIO DEPOSITO'!$F$391*MATERIALI!$J$78*(1+(ABS(K32)/(MNP_VR!$D$3*MNP_VR!$D$4*10^-6))/(1.5*MATERIALI!$J$78))^0.5)*(MNP_VR!$D$3*MNP_VR!$D$4*10^-6)","v":77.561651376755052},{"$f":"IF(MNP_VR!C57>INPUT!$F$38*1000,INPUT!$F$38*1000,MNP_VR!C57)","v":1668.0143112701253},{"$f":"IFERROR(('FOGLIO DEPOSITO'!$F$401+'FOGLIO DEPOSITO'!$F$399*'andamento taglio'!K32/('andamento taglio'!M32/1000*MNP_VR!$D$3*10^-3)/MATERIALI!$J$85)/'FOGLIO DEPOSITO'!$F$404*(M32/1000*MNP_VR!$D$3*10^-3),\"\")","v":125.0202952038361},{"$f":"IFERROR((1/'FOGLIO DEPOSITO'!$F$391*MATERIALI!$J$83*0.1/2.3*(1+(ABS(K32)/(INPUT!$F$38*INPUT!$F$39))/(1*MATERIALI!$J$83*0.1))^0.5)*INPUT!$F$38*INPUT!$F$39,\"\")","v":363.90542645277139},77.561651376755052,77.561651376755052]
[{"$f":"IF(MNP_V!C58<INPUT!$F$38*1000,MNP_V!C58,INPUT!$F$38*1000)","v":1826.0107334525937},{"$f":"MNP_V!Z58","v":331.98131962326124},{"$f":"(1.5/'FOGLIO DEPOSITO'!$E$391*MATERIALI!$J$28*(1+(ABS(B33)/(INPUT!$F$38*INPUT!$F$39))/(1.5*MATERIALI!$J$28))^0.5)*INPUT!$F$38*INPUT!$F$39","v":46.950517805041706},{"$f":"IF(MNP_V!C58>INPUT!$F$38*1000,INPUT!$F$38*1000,MNP_V!C58)","v":1826.0107334525937},{"$f":"IFERROR(('FOGLIO DEPOSITO'!$E$401+'FOGLIO DEPOSITO'!$E$399*'andamento taglio'!B33/('andamento taglio'!D33/1000*INPUT!$F$39)/MATERIALI!$J$35)/'FOGLIO DEPOSITO'!$E$404*(D33/1000*INPUT!$F$39),\"\")","v":39.469791396537644},{"$f":"IFERROR((1/'FOGLIO DEPOSITO'!$E$391*MATERIALI!$J$33*0.1/2.3*(1+(ABS(B33)/(INPUT!$F$38*INPUT!$F$39))/(1*MATERIALI!$J$33*0.1))^0.5)*INPUT!$F$38*INPUT!$F$39,\"\")","v":339.31952035242705},39.469791396537644,39.469791396537644,null,{"$f":"IF(MNP_VR!C58<INPUT!$F$38*1000,MNP_VR!C58,INPUT!$F$38*1000)","v":1826.0107334525937},{"$f":"MNP_VR!Z58","v":576.79771557071092},{"$f":"(1.5/'FOGLIO DEPOSITO'!$F$391*MATERIALI!$J$78*(1+(ABS(K33)/(MNP_VR!$D$3*MNP_VR!$D$4*10^-6))/(1.5*MATERIALI!$J$78))^0.5)*(MNP_VR!$D$3*MNP_VR!$D$4*10^-6)","v":81.007766100747887},{"$f":"IF(MNP_VR!C58>INPUT!$F$38*1000,INPUT!$F$38*1000,MNP_VR!C58)","v":1826.0107334525937},{"$f":"IFERROR(('FOGLIO DEPOSITO'!$F$401+'FOGLIO DEPOSITO'!$F$399*'andamento taglio'!K33/('andamento taglio'!M33/1000*MNP_VR!$D$3*10^-3)/MATERIALI!$J$85)/'FOGLIO DEPOSITO'!$F$404*(M33/1000*MNP_VR!$D$3*10^-3),\"\")","v":136.86237546001027},{"$f":"IFERROR((1/'FOGLIO DEPOSITO'!$F$391*MATERIALI!$J$83*0.1/2.3*(1+(ABS(K33)/(INPUT!$F$38*INPUT!$F$39))/(1*MATERIALI!$J$83*0.1))^0.5)*INPUT!$F$38*INPUT!$F$39,\"\")","v":369.93814702038088},81.007766100747887,81.007766100747887]
[{"$f":"IF(MNP_V!C59<INPUT!$F$38*1000,MNP_V!C59,INPUT!$F$38*1000)","v":1984.0071556350626},{"$f":"MNP_V!Z59","v":360.70615665253359},{"$f":"(1.5/'FOGLIO DEPOSITO'!$E$391*MATERIALI!$J$28*(1+(ABS(B34)/(INPUT!$F$38*INPUT!$F$39))/(1.5*MATERIALI!$J$28))^0.5)*INPUT!$F$38*INPUT!$F$39","v":48.865297753021437},{"$f":"IF(MNP_V!C59>INPUT!$F$38*1000,INPUT!$F$38*1000,MNP_V!C59)","v":1984.0071556350626},{"$f":"IFERROR(('FOGLIO DEPOSITO'!$E$401+'FOGLIO DEPOSITO'!$E$399*'andamento taglio'!B34/('andamento taglio'!D34/1000*INPUT!$F$39)/MATERIALI!$J$35)/'FOGLIO DEPOSITO'!$E$404*(D34/1000*INPUT!$F$39),\"\")","v":42.884933329013613},{"$f":"IFERROR((1/'FOGLIO DEPOSITO'!$E$391*MATERIALI!$J$33*0.1/2.3*(1+(ABS(B34)/(INPUT!$F$38*INPUT!$F$39))/(1*MATERIALI!$J$33*0.1))^0.5)*INPUT!$F$38*INPUT!$F$39,\"\")","v":343.0536113890717},42.884933329013613,42.884933329013613,null,{"$f":"IF(MNP_VR!C59<INPUT!$F$38*1000,MNP_VR!C59,INPUT!$F$38*1000)","v":1984.0071556350626},{"$f":"MNP_VR!Z59","v":626.70540434487293},{"$f":"(1.5/'FOGLIO DEPOSITO'!$F$391*MATERIALI!$J$78*(1+(ABS(K34)/(MNP_VR!$D$3*MNP_VR!$D$4*10^-6))/(1.5*MATERIALI!$J$78))^0.5)*(MNP_VR!$D$3*MNP_VR!$D$4*10^-6)","v":84.313145908428353},{"$f":"IF(MNP_VR!C59>INPUT!$F$38*1000,INPUT!$F$38*1000,MNP_VR!C59)","v":1984.0071556350626},{"$f":"IFERROR(('FOGLIO DEPOSITO'!$F$401+'FOGLIO DEPOSITO'!$F$399*'andamento taglio'!K34/('andamento taglio'!M34/1000*MNP_VR!$D$3*10^-3)/MATERIALI!$J$85)/'FOGLIO DEPOSITO'!$F$404*(M34/1000*MNP_VR!$D$3*10^-3),\"\")","v":148.70445571615258},{"$f":"IFERROR((1/'FOGLIO DEPOSITO'!$F$391*MATERIALI!$J$83*0.1/2.3*(1+(ABS(K34)/(INPUT!$F$38*INPUT!$F$39))/(1*MATERIALI!$J$83*0.1))^0.5)*INPUT!$F$38*INPUT!$F$39,\"\")","v":375.87405582183828},84.313145908428353,84.313145908428353]
[{"$f":"IF(MNP_V!C60<INPUT!$F$38*1000,MNP_V!C60,INPUT!$F$38*1000)","v":2142.0035778175311},{"$f":"MNP_V!Z60","v":389.430993681725},{"$f":"(1.5/'FOGLIO DEPOSITO'!$E$391*MATERIALI!$J$28*(1+(ABS(B35)/(INPUT!$F$38*INPUT!$F$39))/(1.5*MATERIALI!$J$28))^0.5)*INPUT!$F$38*INPUT!$F$39","v":50.707825104423755},{"$f":"IF(MNP_V!C60>INPUT!$F$38*1000,INPUT!$F$38*1000,MNP_V!C60)","v":2142.0035778175311},{"$f":"IFERROR(('FOGLIO DEPOSITO'!$E$401+'FOGLIO DEPOSITO'!$E$399*'andamento taglio'!B35/('andamento taglio'!D35/1000*INPUT!$F$39)/MATERIALI!$J$35)/'FOGLIO DEPOSITO'!$E$404*(D35/1000*INPUT!$F$39),\"\")","v":46.300075261481467},{"$f":"IFERROR((1/'FOGLIO DEPOSITO'!$E$391*MATERIALI!$J$33*0.1/2.3*(1+(ABS(B35)/(INPUT!$F$38*INPUT!$F$39))/(1*MATERIALI!$J$33*0.1))^0.5)*INPUT!$F$38*INPUT!$F$39,\"\")","v":346.74749268301883},46.300075261481467,46.300075261481467,null,{"$f":"IF(MNP_VR!C60<INPUT!$F$38*1000,MNP_VR!C60,INPUT!$F$38*1000)","v":2142.0035778175311},{"$f":"MNP_VR!Z60","v":676.61309311895423},{"$f":"(1.5/'FOGLIO DEPOSITO'!$F$391*MATERIALI!$J$78*(1+(ABS(K35)/(MNP_VR!$D$3*MNP_VR!$D$4*10^-6))/(1.5*MATERIALI!$J$78))^0.5)*(MNP_VR!$D$3*MNP_VR!$D$4*10^-6)","v":87.493742503778449},{"$f":"IF(MNP_VR!C60>INPUT!$F$38*1000,INPUT!$F$38*1000,MNP_VR!C60)","v":2142.0035778175311},{"$f":"IFERROR(('FOGLIO DEPOSITO'!$F$401+'FOGLIO DEPOSITO'!$F$399*'andamento taglio'!K35/('andamento taglio'!M35/1000*MNP_VR!$D$3*10^-3)/MATERIALI!$J$85)/'FOGLIO DEPOSITO'!$F$404*(M35/1000*MNP_VR!$D$3*10^-3),\"\")","v":160.54653597227875},{"$f":"IFERROR((1/'FOGLIO DEPOSITO'!$F$391*MATERIALI!$J$83*0.1/2.3*(1+(ABS(K35)/(INPUT!$F$38*INPUT!$F$39))/(1*MATERIALI!$J$83*0.1))^0.5)*INPUT!$F$38*INPUT!$F$39,\"\")","v":381.71766930420807},87.493742503778449,87.493742503778449]
[{"$f":"IF(MNP_V!C61<INPUT!$F$38*1000,MNP_V!C61,INPUT!$F$38*1000)","v":2300},{"$f":"MNP_V!Z61","v":418.15583071088514},{"$f":"(1.5/'FOGLIO DEPOSITO'!$E$391*MATERIALI!$J$28*(1+(ABS(B36)/(INPUT!$F$38*INPUT!$F$39))/(1.5*MATERIALI!$J$28))^0.5)*INPUT!$F$38*INPUT!$F$39","v":52.485709761324699},{"$f":"IF(MNP_V!C61>INPUT!$F$38*1000,INPUT!$F$38*1000,MNP_V!C61)","v":2300},{"$f":"IFERROR(('FOGLIO DEPOSITO'!$E$401+'FOGLIO DEPOSITO'!$E$399*'andamento taglio'!B36/('andamento taglio'!D36/1000*INPUT!$F$39)/MATERIALI!$J$35)/'FOGLIO DEPOSITO'!$E$404*(D36/1000*INPUT!$F$39),\"\")","v":49.715217193946202},{"$f":"IFERROR((1/'FOGLIO DEPOSITO'!$E$391*MATERIALI!$J$33*0.1/2.3*(1+(ABS(B36)/(INPUT!$F$38*INPUT!$F$39))/(1*MATERIALI!$J$33*0.1))^0.5)*INPUT!$F$38*INPUT!$F$39,\"\")","v":350.40243588884107},49.715217193946202,49.715217193946202,null,{"$f":"IF(MNP_VR!C61<INPUT!$F$38*1000,MNP_VR!C61,INPUT!$F$38*1000)","v":2300},{"$f":"MNP_VR!Z61","v":726.52078189300391},{"$f":"(1.5/'FOGLIO DEPOSITO'!$F$391*MATERIALI!$J$78*(1+(ABS(K36)/(MNP_VR!$D$3*MNP_VR!$D$4*10^-6))/(1.5*MATERIALI!$J$78))^0.5)*(MNP_VR!$D$3*MNP_VR!$D$4*10^-6)","v":90.562704142813161},{"$f":"IF(MNP_VR!C61>INPUT!$F$38*1000,INPUT!$F$38*1000,MNP_VR!C61)","v":2300},{"$f":"IFERROR(('FOGLIO DEPOSITO'!$F$401+'FOGLIO DEPOSITO'!$F$399*'andamento taglio'!K36/('andamento taglio'!M36/1000*MNP_VR!$D$3*10^-3)/MATERIALI!$J$85)/'FOGLIO DEPOSITO'!$F$404*(M36/1000*MNP_VR!$D$3*10^-3),\"\")","v":172.3886162283986},{"$f":"IFERROR((1/'FOGLIO DEPOSITO'!$F$391*MATERIALI!$J$83*0.1/2.3*(1+(ABS(K36)/(INPUT!$F$38*INPUT!$F$39))/(1*MATERIALI!$J$83*0.1))^0.5)*INPUT!$F$38*INPUT!$F$39,\"\")","v":387.47316330052098},90.562704142813161,90.562704142813161]
[{"$f":"IF(MNP_V!C62<INPUT!$F$38*1000,MNP_V!C62,INPUT!$F$38*1000)","v":2300},{"$f":"MNP_V!Z62","v":418.15583071088514},{"$f":"(1.5/'FOGLIO DEPOSITO'!$E$391*MATERIALI!$J$28*(1+(ABS(B37)/(INPUT!$F$38*INPUT!$F$39))/(1.5*MATERIALI!$J$28))^0.5)*INPUT!$F$38*INPUT!$F$39","v":52.485709761324699},{"$f":"IF(MNP_V!C62>INPUT!$F$38*1000,INPUT!$F$38*1000,MNP_V!C62)","v":2300},{"$f":"IFERROR(('FOGLIO DEPOSITO'!$E$401+'FOGLIO DEPOSITO'!$E$399*'andamento taglio'!B37/('andamento taglio'!D37/1000*INPUT!$F$39)/MATERIALI!$J$35)/'FOGLIO DEPOSITO'!$E$404*(D37/1000*INPUT!$F$39),\"\")","v":49.715217193946202},{"$f":"IFERROR((1/'FOGLIO DEPOSITO'!$E$391*MATERIALI!$J$33*0.1/2.3*(1+(ABS(B37)/(INPUT!$F$38*INPUT!$F$39))/(1*MATERIALI!$J$33*0.1))^0.5)*INPUT!$F$38*INPUT!$F$39,\"\")","v":350.40243588884107},49.715217193946202,49.715217193946202,null,{"$f":"IF(MNP_VR!C62<INPUT!$F$38*1000,MNP_VR!C62,INPUT!$F$38*1000)","v":2300},{"$f":"MNP_VR!Z62","v":726.52078189300391},{"$f":"(1.5/'FOGLIO DEPOSITO'!$F$391*MATERIALI!$J$78*(1+(ABS(K37)/(MNP_VR!$D$3*MNP_VR!$D$4*10^-6))/(1.5*MATERIALI!$J$78))^0.5)*(MNP_VR!$D$3*MNP_VR!$D$4*10^-6)","v":90.562704142813161},{"$f":"IF(MNP_VR!C62>INPUT!$F$38*1000,INPUT!$F$38*1000,MNP_VR!C62)","v":2300},{"$f":"IFERROR(('FOGLIO DEPOSITO'!$F$401+'FOGLIO DEPOSITO'!$F$399*'andamento taglio'!K37/('andamento taglio'!M37/1000*MNP_VR!$D$3*10^-3)/MATERIALI!$J$85)/'FOGLIO DEPOSITO'!$F$404*(M37/1000*MNP_VR!$D$3*10^-3),\"\")","v":172.3886162283986},{"$f":"IFERROR((1/'FOGLIO DEPOSITO'!$F$391*MATERIALI!$J$83*0.1/2.3*(1+(ABS(K37)/(INPUT!$F$38*INPUT!$F$39))/(1*MATERIALI!$J$83*0.1))^0.5)*INPUT!$F$38*INPUT!$F$39,\"\")","v":387.47316330052098},90.562704142813161,90.562704142813161]
[{"$f":"IF(MNP_V!C63<INPUT!$F$38*1000,MNP_V!C63,INPUT!$F$38*1000)","v":2300},{"$f":"MNP_V!Z63","v":432.42754391909654},{"$f":"(1.5/'FOGLIO DEPOSITO'!$E$391*MATERIALI!$J$28*(1+(ABS(B38)/(INPUT!$F$38*INPUT!$F$39))/(1.5*MATERIALI!$J$28))^0.5)*INPUT!$F$38*INPUT!$F$39","v":53.347010163764189},{"$f":"IF(MNP_V!C63>INPUT!$F$38*1000,INPUT!$F$38*1000,MNP_V!C63)","v":2300},{"$f":"IFERROR(('FOGLIO DEPOSITO'!$E$401+'FOGLIO DEPOSITO'!$E$399*'andamento taglio'!B38/('andamento taglio'!D38/1000*INPUT!$F$39)/MATERIALI!$J$35)/'FOGLIO DEPOSITO'!$E$404*(D38/1000*INPUT!$F$39),\"\")","v":51.142388514767347},{"$f":"IFERROR((1/'FOGLIO DEPOSITO'!$E$391*MATERIALI!$J$33*0.1/2.3*(1+(ABS(B38)/(INPUT!$F$38*INPUT!$F$39))/(1*MATERIALI!$J$33*0.1))^0.5)*INPUT!$F$38*INPUT!$F$39,\"\")","v":352.20426280615766},51.142388514767347,51.142388514767347,null,{"$f":"IF(MNP_VR!C63<INPUT!$F$38*1000,MNP_VR!C63,INPUT!$F$38*1000)","v":2300},{"$f":"MNP_VR!Z63","v":749.72953696171169},{"$f":"(1.5/'FOGLIO DEPOSITO'!$F$391*MATERIALI!$J$78*(1+(ABS(K38)/(MNP_VR!$D$3*MNP_VR!$D$4*10^-6))/(1.5*MATERIALI!$J$78))^0.5)*(MNP_VR!$D$3*MNP_VR!$D$4*10^-6)","v":91.954990522492153},{"$f":"IF(MNP_VR!C63>INPUT!$F$38*1000,INPUT!$F$38*1000,MNP_VR!C63)","v":2300},{"$f":"IFERROR(('FOGLIO DEPOSITO'!$F$401+'FOGLIO DEPOSITO'!$F$399*'andamento taglio'!K38/('andamento taglio'!M38/1000*MNP_VR!$D$3*10^-3)/MATERIALI!$J$85)/'FOGLIO DEPOSITO'!$F$404*(M38/1000*MNP_VR!$D$3*10^-3),\"\")","v":177.03036724214016},{"$f":"IFERROR((1/'FOGLIO DEPOSITO'!$F$391*MATERIALI!$J$83*0.1/2.3*(1+(ABS(K38)/(INPUT!$F$38*INPUT!$F$39))/(1*MATERIALI!$J$83*0.1))^0.5)*INPUT!$F$38*INPUT!$F$39,\"\")","v":390.12073814530663},91.954990522492153,91.954990522492153]
[{"$f":"IF(MNP_V!C64<INPUT!$F$38*1000,MNP_V!C64,INPUT!$F$38*1000)","v":2300},{"$f":"MNP_V!Z64","v":439.8913773872128},{"$f":"(1.5/'FOGLIO DEPOSITO'!$E$391*MATERIALI!$J$28*(1+(ABS(B39)/(INPUT!$F$38*INPUT!$F$39))/(1.5*MATERIALI!$J$28))^0.5)*INPUT!$F$38*INPUT!$F$39","v":53.791961959053616},{"$f":"IF(MNP_V!C64>INPUT!$F$38*1000,INPUT!$F$38*1000,MNP_V!C64)","v":2300},{"$f":"IFERROR(('FOGLIO DEPOSITO'!$E$401+'FOGLIO DEPOSITO'!$E$399*'andamento taglio'!B39/('andamento taglio'!D39/1000*INPUT!$F$39)/MATERIALI!$J$35)/'FOGLIO DEPOSITO'!$E$404*(D39/1000*INPUT!$F$39),\"\")","v":51.888771861578974},{"$f":"IFERROR((1/'FOGLIO DEPOSITO'!$E$391*MATERIALI!$J$33*0.1/2.3*(1+(ABS(B39)/(INPUT!$F$38*INPUT!$F$39))/(1*MATERIALI!$J$33*0.1))^0.5)*INPUT!$F$38*INPUT!$F$39,\"\")","v":353.14292267345212},51.888771861578974,51.888771861578974,null,{"$f":"IF(MNP_VR!C64<INPUT!$F$38*1000,MNP_VR!C64,INPUT!$F$38*1000)","v":2300},{"$f":"MNP_VR!Z64","v":760.81130144497877},{"$f":"(1.5/'FOGLIO DEPOSITO'!$F$391*MATERIALI!$J$78*(1+(ABS(K39)/(MNP_VR!$D$3*MNP_VR!$D$4*10^-6))/(1.5*MATERIALI!$J$78))^0.5)*(MNP_VR!$D$3*MNP_VR!$D$4*10^-6)","v":92.612399528147833},{"$f":"IF(MNP_VR!C64>INPUT!$F$38*1000,INPUT!$F$38*1000,MNP_VR!C64)","v":2300},{"$f":"IFERROR(('FOGLIO DEPOSITO'!$F$401+'FOGLIO DEPOSITO'!$F$399*'andamento taglio'!K39/('andamento taglio'!M39/1000*MNP_VR!$D$3*10^-3)/MATERIALI!$J$85)/'FOGLIO DEPOSITO'!$F$404*(M39/1000*MNP_VR!$D$3*10^-3),\"\")","v":179.24672013879356},{"$f":"IFERROR((1/'FOGLIO DEPOSITO'!$F$391*MATERIALI!$J$83*0.1/2.3*(1+(ABS(K39)/(INPUT!$F$38*INPUT!$F$39))/(1*MATERIALI!$J$83*0.1))^0.5)*INPUT!$F$38*INPUT!$F$39,\"\")","v":391.37859017124407},92.612399528147833,92.612399528147833]
[{"$f":"IF(MNP_V!C65<INPUT!$F$38*1000,MNP_V!C65,INPUT!$F$38*1000)","v":2300},{"$f":"MNP_V!Z65","v":444.27785884321509},{"$f":"(1.5/'FOGLIO DEPOSITO'!$E$391*MATERIALI!$J$28*(1+(ABS(B40)/(INPUT!$F$38*INPUT!$F$39))/(1.5*MATERIALI!$J$28))^0.5)*INPUT!$F$38*INPUT!$F$39","v":54.051750485124714},{"$f":"IF(MNP_V!C65>INPUT!$F$38*1000,INPUT!$F$38*1000,MNP_V!C65)","v":2300},{"$f":"IFERROR(('FOGLIO DEPOSITO'!$E$401+'FOGLIO DEPOSITO'!$E$399*'andamento taglio'!B40/('andamento taglio'!D40/1000*INPUT!$F$39)/MATERIALI!$J$35)/'FOGLIO DEPOSITO'!$E$404*(D40/1000*INPUT!$F$39),\"\")","v":52.3274200071792},{"$f":"IFERROR((1/'FOGLIO DEPOSITO'!$E$391*MATERIALI!$J$33*0.1/2.3*(1+(ABS(B40)/(INPUT!$F$38*INPUT!$F$39))/(1*MATERIALI!$J$33*0.1))^0.5)*INPUT!$F$38*INPUT!$F$39,\"\")","v":353.69340918235957},52.3274200071792,52.3274200071792,null,{"$f":"IF(MNP_VR!C65<INPUT!$F$38*1000,MNP_VR!C65,INPUT!$F$38*1000)","v":2300},{"$f":"MNP_VR!Z65","v":766.94963394770139},{"$f":"(1.5/'FOGLIO DEPOSITO'!$F$391*MATERIALI!$J$78*(1+(ABS(K40)/(MNP_VR!$D$3*MNP_VR!$D$4*10^-6))/(1.5*MATERIALI!$J$78))^0.5)*(MNP_VR!$D$3*MNP_VR!$D$4*10^-6)","v":92.974546358832583},{"$f":"IF(MNP_VR!C65>INPUT!$F$38*1000,INPUT!$F$38*1000,MNP_VR!C65)","v":2300},{"$f":"IFERROR(('FOGLIO DEPOSITO'!$F$401+'FOGLIO DEPOSITO'!$F$399*'andamento taglio'!K40/('andamento taglio'!M40/1000*MNP_VR!$D$3*10^-3)/MATERIALI!$J$85)/'FOGLIO DEPOSITO'!$F$404*(M40/1000*MNP_VR!$D$3*10^-3),\"\")","v":180.47438663933809},{"$f":"IFERROR((1/'FOGLIO DEPOSITO'!$F$391*MATERIALI!$J$83*0.1/2.3*(1+(ABS(K40)/(INPUT!$F$38*INPUT!$F$39))/(1*MATERIALI!$J$83*0.1))^0.5)*INPUT!$F$38*INPUT!$F$39,\"\")","v":392.07359394179463},92.974546358832583,92.974546358832583]
[{"$f":"IF(MNP_V!C66<INPUT!$F$38*1000,MNP_V!C66,INPUT!$F$38*1000)","v":2300},{"$f":"MNP_V!Z66","v":447.07259639022038},{"$f":"(1.5/'FOGLIO DEPOSITO'!$E$391*MATERIALI!$J$28*(1+(ABS(B41)/(INPUT!$F$38*INPUT!$F$39))/(1.5*MATERIALI!$J$28))^0.5)*INPUT!$F$38*INPUT!$F$39","v":54.216619077850027},{"$f":"IF(MNP_V!C66>INPUT!$F$38*1000,INPUT!$F$38*1000,MNP_V!C66)","v":2300},{"$f":"IFERROR(('FOGLIO DEPOSITO'!$E$401+'FOGLIO DEPOSITO'!$E$399*'andamento taglio'!B41/('andamento taglio'!D41/1000*INPUT!$F$39)/MATERIALI!$J$35)/'FOGLIO DEPOSITO'!$E$404*(D41/1000*INPUT!$F$39),\"\")","v":52.606893761879732},{"$f":"IFERROR((1/'FOGLIO DEPOSITO'!$E$391*MATERIALI!$J$33*0.1/2.3*(1+(ABS(B41)/(INPUT!$F$38*INPUT!$F$39))/(1*MATERIALI!$J$33*0.1))^0.5)*INPUT!$F$38*INPUT!$F$39,\"\")","v":354.04369157995495},52.606893761879732,52.606893761879732,null,{"$f":"IF(MNP_VR!C66<INPUT!$F$38*1000,MNP_VR!C66,INPUT!$F$38*1000)","v":2300},{"$f":"MNP_VR!Z66","v":770.70084677744433},{"$f":"(1.5/'FOGLIO DEPOSITO'!$F$391*MATERIALI!$J$78*(1+(ABS(K41)/(MNP_VR!$D$3*MNP_VR!$D$4*10^-6))/(1.5*MATERIALI!$J$78))^0.5)*(MNP_VR!$D$3*MNP_VR!$D$4*10^-6)","v":93.195166105259474},{"$f":"IF(MNP_VR!C66>INPUT!$F$38*1000,INPUT!$F$38*1000,MNP_VR!C66)","v":2300},{"$f":"IFERROR(('FOGLIO DEPOSITO'!$F$401+'FOGLIO DEPOSITO'!$F$399*'andamento taglio'!K41/('andamento taglio'!M41/1000*MNP_VR!$D$3*10^-3)/MATERIALI!$J$85)/'FOGLIO DEPOSITO'!$F$404*(M41/1000*MNP_VR!$D$3*10^-3),\"\")","v":181.22462920528667},{"$f":"IFERROR((1/'FOGLIO DEPOSITO'!$F$391*MATERIALI!$J$83*0.1/2.3*(1+(ABS(K41)/(INPUT!$F$38*INPUT!$F$39))/(1*MATERIALI!$J$83*0.1))^0.5)*INPUT!$F$38*INPUT!$F$39,\"\")","v":392.49771372439966},93.195166105259474,93.195166105259474]
[{"$f":"IF(MNP_V!C67<INPUT!$F$38*1000,MNP_V!C67,INPUT!$F$38*1000)","v":2300},{"$f":"MNP_V!Z67","v":448.96198534454078},{"$f":"(1.5/'FOGLIO DEPOSITO'!$E$391*MATERIALI!$J$28*(1+(ABS(B42)/(INPUT!$F$38*INPUT!$F$39))/(1.5*MATERIALI!$J$28))^0.5)*INPUT!$F$38*INPUT!$F$39","v":54.327795422202293},{"$f":"IF(MNP_V!C67>INPUT!$F$38*1000,INPUT!$F$38*1000,MNP_V!C67)","v":2300},{"$f":"IFERROR(('FOGLIO DEPOSITO'!$E$401+'FOGLIO DEPOSITO'!$E$399*'andamento taglio'!B42/('andamento taglio'!D42/1000*INPUT!$F$39)/MATERIALI!$J$35)/'FOGLIO DEPOSITO'!$E$404*(D42/1000*INPUT!$F$39),\"\")","v":52.795832657311763},{"$f":"IFERROR((1/'FOGLIO DEPOSITO'!$E$391*MATERIALI!$J$33*0.1/2.3*(1+(ABS(B42)/(INPUT!$F$38*INPUT!$F$39))/(1*MATERIALI!$J$33*0.1))^0.5)*INPUT!$F$38*INPUT!$F$39,\"\")","v":354.2803046136973},52.795832657311763,52.795832657311763,null,{"$f":"IF(MNP_VR!C67<INPUT!$F$38*1000,MNP_VR!C67,INPUT!$F$38*1000)","v":2300},{"$f":"MNP_VR!Z67","v":773.15951606801173},{"$f":"(1.5/'FOGLIO DEPOSITO'!$F$391*MATERIALI!$J$78*(1+(ABS(K42)/(MNP_VR!$D$3*MNP_VR!$D$4*10^-6))/(1.5*MATERIALI!$J$78))^0.5)*(MNP_VR!$D$3*MNP_VR!$D$4*10^-6)","v":93.339484703622816},{"$f":"IF(MNP_VR!C67>INPUT!$F$38*1000,INPUT!$F$38*1000,MNP_VR!C67)","v":2300},{"$f":"IFERROR(('FOGLIO DEPOSITO'!$F$401+'FOGLIO DEPOSITO'!$F$399*'andamento taglio'!K42/('andamento taglio'!M42/1000*MNP_VR!$D$3*10^-3)/MATERIALI!$J$85)/'FOGLIO DEPOSITO'!$F$404*(M42/1000*MNP_VR!$D$3*10^-3),\"\")","v":181.71636306340014},{"$f":"IFERROR((1/'FOGLIO DEPOSITO'!$F$391*MATERIALI!$J$83*0.1/2.3*(1+(ABS(K42)/(INPUT!$F$38*INPUT!$F$39))/(1*MATERIALI!$J$83*0.1))^0.5)*INPUT!$F$38*INPUT!$F$39,\"\")","v":392.7754474429658},93.339484703622816,93.339484703622816]
[{"$f":"IF(MNP_V!C68<INPUT!$F$38*1000,MNP_V!C68,INPUT!$F$38*1000)","v":2300},{"$f":"MNP_V!Z68","v":450.29869119950911},{"$f":"(1.5/'FOGLIO DEPOSITO'!$E$391*MATERIALI!$J$28*(1+(ABS(B43)/(INPUT!$F$38*INPUT!$F$39))/(1.5*MATERIALI!$J$28))^0.5)*INPUT!$F$38*INPUT!$F$39","v":54.40631329935934},{"$f":"IF(MNP_V!C68>INPUT!$F$38*1000,INPUT!$F$38*1000,MNP_V!C68)","v":2300},{"$f":"IFERROR(('FOGLIO DEPOSITO'!$E$401+'FOGLIO DEPOSITO'!$E$399*'andamento taglio'!B43/('andamento taglio'!D43/1000*INPUT!$F$39)/MATERIALI!$J$35)/'FOGLIO DEPOSITO'!$E$404*(D43/1000*INPUT!$F$39),\"\")","v":52.9295032428086},{"$f":"IFERROR((1/'FOGLIO DEPOSITO'!$E$391*MATERIALI!$J$33*0.1/2.3*(1+(ABS(B43)/(INPUT!$F$38*INPUT!$F$39))/(1*MATERIALI!$J$33*0.1))^0.5)*INPUT!$F$38*INPUT!$F$39,\"\")","v":354.44760831897548},52.9295032428086,52.9295032428086,null,{"$f":"IF(MNP_VR!C68<INPUT!$F$38*1000,MNP_VR!C68,INPUT!$F$38*1000)","v":2300},{"$f":"MNP_VR!Z68","v":774.85783322617249},{"$f":"(1.5/'FOGLIO DEPOSITO'!$F$391*MATERIALI!$J$78*(1+(ABS(K43)/(MNP_VR!$D$3*MNP_VR!$D$4*10^-6))/(1.5*MATERIALI!$J$78))^0.5)*(MNP_VR!$D$3*MNP_VR!$D$4*10^-6)","v":93.439042105786797},{"$f":"IF(MNP_VR!C68>INPUT!$F$38*1000,INPUT!$F$38*1000,MNP_VR!C68)","v":2300},{"$f":"IFERROR(('FOGLIO DEPOSITO'!$F$401+'FOGLIO DEPOSITO'!$F$399*'andamento taglio'!K43/('andamento taglio'!M43/1000*MNP_VR!$D$3*10^-3)/MATERIALI!$J$85)/'FOGLIO DEPOSITO'!$F$404*(M43/1000*MNP_VR!$D$3*10^-3),\"\")","v":182.05602649503231},{"$f":"IFERROR((1/'FOGLIO DEPOSITO'!$F$391*MATERIALI!$J$83*0.1/2.3*(1+(ABS(K43)/(INPUT!$F$38*INPUT!$F$39))/(1*MATERIALI!$J$83*0.1))^0.5)*INPUT!$F$38*INPUT!$F$39,\"\")","v":392.96717640944803},93.439042105786797,93.439042105786797]
[{"$f":"IF(MNP_V!C69<INPUT!$F$38*1000,MNP_V!C69,INPUT!$F$38*1000)","v":2300},{"$f":"MNP_V!Z69","v":451.27899743480367},{"$f":"(1.5/'FOGLIO DEPOSITO'!$E$391*MATERIALI!$J$28*(1+(ABS(B44)/(INPUT!$F$38*INPUT!$F$39))/(1.5*MATERIALI!$J$28))^0.5)*INPUT!$F$38*INPUT!$F$39","v":54.463824375062657},{"$f":"IF(MNP_V!C69>INPUT!$F$38*1000,INPUT!$F$38*1000,MNP_V!C69)","v":2300},{"$f":"IFERROR(('FOGLIO DEPOSITO'!$E$401+'FOGLIO DEPOSITO'!$E$399*'andamento taglio'!B44/('andamento taglio'!D44/1000*INPUT!$F$39)/MATERIALI!$J$35)/'FOGLIO DEPOSITO'!$E$404*(D44/1000*INPUT!$F$39),\"\")","v":53.027533866338061},{"$f":"IFERROR((1/'FOGLIO DEPOSITO'!$E$391*MATERIALI!$J$33*0.1/2.3*(1+(ABS(B44)/(INPUT!$F$38*INPUT!$F$39))/(1*MATERIALI!$J$33*0.1))^0.5)*INPUT!$F$38*INPUT!$F$39,\"\")","v":354.57025444499982},53.027533866338061,53.027533866338061,null,{"$f":"IF(MNP_VR!C69<INPUT!$F$38*1000,MNP_VR!C69,INPUT!$F$38*1000)","v":2300},{"$f":"MNP_VR!Z69","v":776.07982013914375},{"$f":"(1.5/'FOGLIO DEPOSITO'!$F$391*MATERIALI!$J$78*(1+(ABS(K44)/(MNP_VR!$D$3*MNP_VR!$D$4*10^-6))/(1.5*MATERIALI!$J$78))^0.5)*(MNP_VR!$D$3*MNP_VR!$D$4*10^-6)","v":93.510610882715739},{"$f":"IF(MNP_VR!C69>INPUT!$F$38*1000,INPUT!$F$38*1000,MNP_VR!C69)","v":2300},{"$f":"IFERROR(('FOGLIO DEPOSITO'!$F$401+'FOGLIO DEPOSITO'!$F$399*'andamento taglio'!K44/('andamento taglio'!M44/1000*MNP_VR!$D$3*10^-3)/MATERIALI!$J$85)/'FOGLIO DEPOSITO'!$F$404*(M44/1000*MNP_VR!$D$3*10^-3),\"\")","v":182.30042387762657},{"$f":"IFERROR((1/'FOGLIO DEPOSITO'!$F$391*MATERIALI!$J$83*0.1/2.3*(1+(ABS(K44)/(INPUT!$F$38*INPUT!$F$39))/(1*MATERIALI!$J$83*0.1))^0.5)*INPUT!$F$38*INPUT!$F$39,\"\")","v":393.10507293911832},93.510610882715739,93.510610882715739]
[{"$f":"IF(MNP_V!C70<INPUT!$F$38*1000,MNP_V!C70,INPUT!$F$38*1000)","v":2300},{"$f":"MNP_V!Z70","v":452.01919952970331},{"$f":"(1.5/'FOGLIO DEPOSITO'!$E$391*MATERIALI!$J$28*(1+(ABS(B45)/(INPUT!$F$38*INPUT!$F$39))/(1.5*MATERIALI!$J$28))^0.5)*INPUT!$F$38*INPUT!$F$39","v":54.507209188850091},{"$f":"IF(MNP_V!C70>INPUT!$F$38*1000,INPUT!$F$38*1000,MNP_V!C70)","v":2300},{"$f":"IFERROR(('FOGLIO DEPOSITO'!$E$401+'FOGLIO DEPOSITO'!$E$399*'andamento taglio'!B45/('andamento taglio'!D45/1000*INPUT!$F$39)/MATERIALI!$J$35)/'FOGLIO DEPOSITO'!$E$404*(D45/1000*INPUT!$F$39),\"\")","v":53.10155407582802},{"$f":"IFERROR((1/'FOGLIO DEPOSITO'!$E$391*MATERIALI!$J$33*0.1/2.3*(1+(ABS(B45)/(INPUT!$F$38*INPUT!$F$39))/(1*MATERIALI!$J$33*0.1))^0.5)*INPUT!$F$38*INPUT!$F$39,\"\")","v":354.6628330363157},53.10155407582802,53.10155407582802,null,{"$f":"IF(MNP_VR!C70<INPUT!$F$38*1000,MNP_VR!C70,INPUT!$F$38*1000)","v":2300},{"$f":"MNP_VR!Z70","v":776.98827978844849},{"$f":"(1.5/'FOGLIO DEPOSITO'!$F$391*MATERIALI!$J$78*(1+(ABS(K45)/(MNP_VR!$D$3*MNP_VR!$D$4*10^-6))/(1.5*MATERIALI!$J$78))^0.5)*(MNP_VR!$D$3*MNP_VR!$D$4*10^-6)","v":93.563781659184841},{"$f":"IF(MNP_VR!C70>INPUT!$F$38*1000,INPUT!$F$38*1000,MNP_VR!C70)","v":2300},{"$f":"IFERROR(('FOGLIO DEPOSITO'!$F$401+'FOGLIO DEPOSITO'!$F$399*'andamento taglio'!K45/('andamento taglio'!M45/1000*MNP_VR!$D$3*10^-3)/MATERIALI!$J$85)/'FOGLIO DEPOSITO'!$F$404*(M45/1000*MNP_VR!$D$3*10^-3),\"\")","v":182.4821158074875},{"$f":"IFERROR((1/'FOGLIO DEPOSITO'!$F$391*MATERIALI!$J$83*0.1/2.3*(1+(ABS(K45)/(INPUT!$F$38*INPUT!$F$39))/(1*MATERIALI!$J$83*0.1))^0.5)*INPUT!$F$38*INPUT!$F$39,\"\")","v":393.20755778136544},93.563781659184841,93.563781659184841]
[{"$f":"IF(MNP_V!C71<INPUT!$F$38*1000,MNP_V!C71,INPUT!$F$38*1000)","v":2300},{"$f":"MNP_V!Z71","v":452.59175603032156},{"$f":"(1.5/'FOGLIO DEPOSITO'!$E$391*MATERIALI!$J$28*(1+(ABS(B46)/(INPUT!$F$38*INPUT!$F$39))/(1.5*MATERIALI!$J$28))^0.5)*INPUT!$F$38*INPUT!$F$39","v":54.540744267436025},{"$f":"IF(MNP_V!C71>INPUT!$F$38*1000,INPUT!$F$38*1000,MNP_V!C71)","v":2300},{"$f":"IFERROR(('FOGLIO DEPOSITO'!$E$401+'FOGLIO DEPOSITO'!$E$399*'andamento taglio'!B46/('andamento taglio'!D46/1000*INPUT!$F$39)/MATERIALI!$J$35)/'FOGLIO DEPOSITO'!$E$404*(D46/1000*INPUT!$F$39),\"\")","v":53.158809725889853},{"$f":"IFERROR((1/'FOGLIO DEPOSITO'!$E$391*MATERIALI!$J$33*0.1/2.3*(1+(ABS(B46)/(INPUT!$F$38*INPUT!$F$39))/(1*MATERIALI!$J$33*0.1))^0.5)*INPUT!$F$38*INPUT!$F$39,\"\")","v":354.73442727736847},53.158809725889853,53.158809725889853,null,{"$f":"IF(MNP_VR!C71<INPUT!$F$38*1000,MNP_VR!C71,INPUT!$F$38*1000)","v":2300},{"$f":"MNP_VR!Z71","v":777.68196800698968},{"$f":"(1.5/'FOGLIO DEPOSITO'!$F$391*MATERIALI!$J$78*(1+(ABS(K46)/(MNP_VR!$D$3*MNP_VR!$D$4*10^-6))/(1.5*MATERIALI!$J$78))^0.5)*(MNP_VR!$D$3*MNP_VR!$D$4*10^-6)","v":93.604361850474376},{"$f":"IF(MNP_VR!C71>INPUT!$F$38*1000,INPUT!$F$38*1000,MNP_VR!C71)","v":2300},{"$f":"IFERROR(('FOGLIO DEPOSITO'!$F$401+'FOGLIO DEPOSITO'!$F$399*'andamento taglio'!K46/('andamento taglio'!M46/1000*MNP_VR!$D$3*10^-3)/MATERIALI!$J$85)/'FOGLIO DEPOSITO'!$F$404*(M46/1000*MNP_VR!$D$3*10^-3),\"\")","v":182.62085345119573},{"$f":"IFERROR((1/'FOGLIO DEPOSITO'!$F$391*MATERIALI!$J$83*0.1/2.3*(1+(ABS(K46)/(INPUT!$F$38*INPUT!$F$39))/(1*MATERIALI!$J$83*0.1))^0.5)*INPUT!$F$38*INPUT!$F$39,\"\")","v":393.28579591976796},93.604361850474376,93.604361850474376]
[{"$f":"IF(MNP_V!C72<INPUT!$F$38*1000,MNP_V!C72,INPUT!$F$38*1000)","v":2300},{"$f":"MNP_V!Z72","v":453.04372003561519},{"$f":"(1.5/'FOGLIO DEPOSITO'!$E$391*MATERIALI!$J$28*(1+(ABS(B47)/(INPUT!$F$38*INPUT!$F$39))/(1.5*MATERIALI!$J$28))^0.5)*INPUT!$F$38*INPUT!$F$39","v":54.567201594562967},{"$f":"IF(MNP_V!C72>INPUT!$F$38*1000,INPUT!$F$38*1000,MNP_V!C72)","v":2300},{"$f":"IFERROR(('FOGLIO DEPOSITO'!$E$401+'FOGLIO DEPOSITO'!$E$399*'andamento taglio'!B47/('andamento taglio'!D47/1000*INPUT!$F$39)/MATERIALI!$J$35)/'FOGLIO DEPOSITO'!$E$404*(D47/1000*INPUT!$F$39),\"\")","v":53.204006126419209},{"$f":"IFERROR((1/'FOGLIO DEPOSITO'!$E$391*MATERIALI!$J$33*0.1/2.3*(1+(ABS(B47)/(INPUT!$F$38*INPUT!$F$39))/(1*MATERIALI!$J$33*0.1))^0.5)*INPUT!$F$38*INPUT!$F$39,\"\")","v":354.79093205537822},53.204006126419209,53.204006126419209,null,{"$f":"IF(MNP_VR!C72<INPUT!$F$38*1000,MNP_VR!C72,INPUT!$F$38*1000)","v":2300},{"$f":"MNP_VR!Z72","v":778.22361160710341},{"$f":"(1.5/'FOGLIO DEPOSITO'!$F$391*MATERIALI!$J$78*(1+(ABS(K47)/(MNP_VR!$D$3*MNP_VR!$D$4*10^-6))/(1.5*MATERIALI!$J$78))^0.5)*(MNP_VR!$D$3*MNP_VR!$D$4*10^-6)","v":93.636035329301606},{"$f":"IF(MNP_VR!C72>INPUT!$F$38*1000,INPUT!$F$38*1000,MNP_VR!C72)","v":2300},{"$f":"IFERROR(('FOGLIO DEPOSITO'!$F$401+'FOGLIO DEPOSITO'!$F$399*'andamento taglio'!K47/('andamento taglio'!M47/1000*MNP_VR!$D$3*10^-3)/MATERIALI!$J$85)/'FOGLIO DEPOSITO'!$F$404*(M47/1000*MNP_VR!$D$3*10^-3),\"\")","v":182.7291821712185},{"$f":"IFERROR((1/'FOGLIO DEPOSITO'!$F$391*MATERIALI!$J$83*0.1/2.3*(1+(ABS(K47)/(INPUT!$F$38*INPUT!$F$39))/(1*MATERIALI!$J$83*0.1))^0.5)*INPUT!$F$38*INPUT!$F$39,\"\")","v":393.34687477419294},93.636035329301606,93.636035329301606]
[{"$f":"IF(MNP_V!C73<INPUT!$F$38*1000,MNP_V!C73,INPUT!$F$38*1000)","v":2300},{"$f":"MNP_V!Z73","v":453.40672445915635},{"$f":"(1.5/'FOGLIO DEPOSITO'!$E$391*MATERIALI!$J$28*(1+(ABS(B48)/(INPUT!$F$38*INPUT!$F$39))/(1.5*MATERIALI!$J$28))^0.5)*INPUT!$F$38*INPUT!$F$39","v":54.588442069355487},{"$f":"IF(MNP_V!C73>INPUT!$F$38*1000,INPUT!$F$38*1000,MNP_V!C73)","v":2300},{"$f":"IFERROR(('FOGLIO DEPOSITO'!$E$401+'FOGLIO DEPOSITO'!$E$399*'andamento taglio'!B48/('andamento taglio'!D48/1000*INPUT!$F$39)/MATERIALI!$J$35)/'FOGLIO DEPOSITO'!$E$404*(D48/1000*INPUT!$F$39),\"\")","v":53.24030656877332},{"$f":"IFERROR((1/'FOGLIO DEPOSITO'!$E$391*MATERIALI!$J$33*0.1/2.3*(1+(ABS(B48)/(INPUT!$F$38*INPUT!$F$39))/(1*MATERIALI!$J$33*0.1))^0.5)*INPUT!$F$38*INPUT!$F$39,\"\")","v":354.83630854397535},53.24030656877332,53.24030656877332,null,{"$f":"IF(MNP_VR!C73<INPUT!$F$38*1000,MNP_VR!C73,INPUT!$F$38*1000)","v":2300},{"$f":"MNP_VR!Z73","v":778.65460354653612},{"$f":"(1.5/'FOGLIO DEPOSITO'!$F$391*MATERIALI!$J$78*(1+(ABS(K48)/(MNP_VR!$D$3*MNP_VR!$D$4*10^-6))/(1.5*MATERIALI!$J$78))^0.5)*(MNP_VR!$D$3*MNP_VR!$D$4*10^-6)","v":93.661230622349876},{"$f":"IF(MNP_VR!C73>INPUT!$F$38*1000,INPUT!$F$38*1000,MNP_VR!C73)","v":2300},{"$f":"IFERROR(('FOGLIO DEPOSITO'!$F$401+'FOGLIO DEPOSITO'!$F$399*'andamento taglio'!K48/('andamento taglio'!M48/1000*MNP_VR!$D$3*10^-3)/MATERIALI!$J$85)/'FOGLIO DEPOSITO'!$F$404*(M48/1000*MNP_VR!$D$3*10^-3),\"\")","v":182.81538055910505},{"$f":"IFERROR((1/'FOGLIO DEPOSITO'!$F$391*MATERIALI!$J$83*0.1/2.3*(1+(ABS(K48)/(INPUT!$F$38*INPUT!$F$39))/(1*MATERIALI!$J$83*0.1))^0.5)*INPUT!$F$38*INPUT!$F$39,\"\")","v":393.39546913447413},93.661230622349876,93.661230622349876]
[{"$f":"IF(MNP_V!C74<INPUT!$F$38*1000,MNP_V!C74,INPUT!$F$38*1000)","v":2300},{"$f":"MNP_V!Z74","v":453.70267143272537},{"$f":"(1.5/'FOGLIO DEPOSITO'!$E$391*MATERIALI!$J$28*(1+(ABS(B49)/(INPUT!$F$38*INPUT!$F$39))/(1.5*MATERIALI!$J$28))^0.5)*INPUT!$F$38*INPUT!$F$39","v":54.605752698448896},{"$f":"IF(MNP_V!C74>INPUT!$F$38*1000,INPUT!$F$38*1000,MNP_V!C74)","v":2300},{"$f":"IFERROR(('FOGLIO DEPOSITO'!$E$401+'FOGLIO DEPOSITO'!$E$399*'andamento taglio'!B49/('andamento taglio'!D49/1000*INPUT!$F$39)/MATERIALI!$J$35)/'FOGLIO DEPOSITO'!$E$404*(D49/1000*INPUT!$F$39),\"\")","v":53.269901266130233},{"$f":"IFERROR((1/'FOGLIO DEPOSITO'!$E$391*MATERIALI!$J$33*0.1/2.3*(1+(ABS(B49)/(INPUT!$F$38*INPUT!$F$39))/(1*MATERIALI!$J$33*0.1))^0.5)*INPUT!$F$38*INPUT!$F$39,\"\")","v":354.87329838507793},53.269901266130233,53.269901266130233,null,{"$f":"IF(MNP_VR!C74<INPUT!$F$38*1000,MNP_VR!C74,INPUT!$F$38*1000)","v":2300},{"$f":"MNP_VR!Z74","v":779.00315265682048},{"$f":"(1.5/'FOGLIO DEPOSITO'!$F$391*MATERIALI!$J$78*(1+(ABS(K49)/(MNP_VR!$D$3*MNP_VR!$D$4*10^-6))/(1.5*MATERIALI!$J$78))^0.5)*(MNP_VR!$D$3*MNP_VR!$D$4*10^-6)","v":93.681601446570809},{"$f":"IF(MNP_VR!C74>INPUT!$F$38*1000,INPUT!$F$38*1000,MNP_VR!C74)","v":2300},{"$f":"IFERROR(('FOGLIO DEPOSITO'!$F$401+'FOGLIO DEPOSITO'!$F$399*'andamento taglio'!K49/('andamento taglio'!M49/1000*MNP_VR!$D$3*10^-3)/MATERIALI!$J$85)/'FOGLIO DEPOSITO'!$F$404*(M49/1000*MNP_VR!$D$3*10^-3),\"\")","v":182.88509038116189},{"$f":"IFERROR((1/'FOGLIO DEPOSITO'!$F$391*MATERIALI!$J$83*0.1/2.3*(1+(ABS(K49)/(INPUT!$F$38*INPUT!$F$39))/(1*MATERIALI!$J$83*0.1))^0.5)*INPUT!$F$38*INPUT!$F$39,\"\")","v":393.43476367242499},93.681601446570809,93.681601446570809]
[{"$f":"IF(MNP_V!C75<INPUT!$F$38*1000,MNP_V!C75,INPUT!$F$38*1000)","v":2300},{"$f":"MNP_V!Z75","v":453.94711520195688},{"$f":"(1.5/'FOGLIO DEPOSITO'!$E$391*MATERIALI!$J$28*(1+(ABS(B50)/(INPUT!$F$38*INPUT!$F$39))/(1.5*MATERIALI!$J$28))^0.5)*INPUT!$F$38*INPUT!$F$39","v":54.620046647771353},{"$f":"IF(MNP_V!C75>INPUT!$F$38*1000,INPUT!$F$38*1000,MNP_V!C75)","v":2300},{"$f":"IFERROR(('FOGLIO DEPOSITO'!$E$401+'FOGLIO DEPOSITO'!$E$399*'andamento taglio'!B50/('andamento taglio'!D50/1000*INPUT!$F$39)/MATERIALI!$J$35)/'FOGLIO DEPOSITO'!$E$404*(D50/1000*INPUT!$F$39),\"\")","v":53.294345643053383},{"$f":"IFERROR((1/'FOGLIO DEPOSITO'!$E$391*MATERIALI!$J$33*0.1/2.3*(1+(ABS(B50)/(INPUT!$F$38*INPUT!$F$39))/(1*MATERIALI!$J$33*0.1))^0.5)*INPUT!$F$38*INPUT!$F$39,\"\")","v":354.90384803280614},53.294345643053383,53.294345643053383,null,{"$f":"IF(MNP_VR!C75<INPUT!$F$38*1000,MNP_VR!C75,INPUT!$F$38*1000)","v":2300},{"$f":"MNP_VR!Z75","v":779.28901962544637},{"$f":"(1.5/'FOGLIO DEPOSITO'!$F$391*MATERIALI!$J$78*(1+(ABS(K50)/(MNP_VR!$D$3*MNP_VR!$D$4*10^-6))/(1.5*MATERIALI!$J$78))^0.5)*(MNP_VR!$D$3*MNP_VR!$D$4*10^-6)","v":93.698305530420043},{"$f":"IF(MNP_VR!C75>INPUT!$F$38*1000,INPUT!$F$38*1000,MNP_VR!C75)","v":2300},{"$f":"IFERROR(('FOGLIO DEPOSITO'!$F$401+'FOGLIO DEPOSITO'!$F$399*'andamento taglio'!K50/('andamento taglio'!M50/1000*MNP_VR!$D$3*10^-3)/MATERIALI!$J$85)/'FOGLIO DEPOSITO'!$F$404*(M50/1000*MNP_VR!$D$3*10^-3),\"\")","v":182.9422637748871},{"$f":"IFERROR((1/'FOGLIO DEPOSITO'!$F$391*MATERIALI!$J$83*0.1/2.3*(1+(ABS(K50)/(INPUT!$F$38*INPUT!$F$39))/(1*MATERIALI!$J$83*0.1))^0.5)*INPUT!$F$38*INPUT!$F$39,\"\")","v":393.46698865644044},93.698305530420043,93.698305530420043]
[{"$f":"IF(MNP_V!C76<INPUT!$F$38*1000,MNP_V!C76,INPUT!$F$38*1000)","v":2300},{"$f":"MNP_V!Z76","v":454.15134841522405},{"$f":"(1.5/'FOGLIO DEPOSITO'!$E$391*MATERIALI!$J$28*(1+(ABS(B51)/(INPUT!$F$38*INPUT!$F$39))/(1.5*MATERIALI!$J$28))^0.5)*INPUT!$F$38*INPUT!$F$39","v":54.631986400724259},{"$f":"IF(MNP_V!C76>INPUT!$F$38*1000,INPUT!$F$38*1000,MNP_V!C76)","v":2300},{"$f":"IFERROR(('FOGLIO DEPOSITO'!$E$401+'FOGLIO DEPOSITO'!$E$399*'andamento taglio'!B51/('andamento taglio'!D51/1000*INPUT!$F$39)/MATERIALI!$J$35)/'FOGLIO DEPOSITO'!$E$404*(D51/1000*INPUT!$F$39),\"\")","v":53.314768964380093},{"$f":"IFERROR((1/'FOGLIO DEPOSITO'!$E$391*MATERIALI!$J$33*0.1/2.3*(1+(ABS(B51)/(INPUT!$F$38*INPUT!$F$39))/(1*MATERIALI!$J$33*0.1))^0.5)*INPUT!$F$38*INPUT!$F$39,\"\")","v":354.92937030273953},53.314768964380093,53.314768964380093,null,{"$f":"IF(MNP_VR!C76<INPUT!$F$38*1000,MNP_VR!C76,INPUT!$F$38*1000)","v":2300},{"$f":"MNP_VR!Z76","v":779.52638078708537},{"$f":"(1.5/'FOGLIO DEPOSITO'!$F$391*MATERIALI!$J$78*(1+(ABS(K51)/(MNP_VR!$D$3*MNP_VR!$D$4*10^-6))/(1.5*MATERIALI!$J$78))^0.5)*(MNP_VR!$D$3*MNP_VR!$D$4*10^-6)","v":93.712173008661281},{"$f":"IF(MNP_VR!C76>INPUT!$F$38*1000,INPUT!$F$38*1000,MNP_VR!C76)","v":2300},{"$f":"IFERROR(('FOGLIO DEPOSITO'!$F$401+'FOGLIO DEPOSITO'!$F$399*'andamento taglio'!K51/('andamento taglio'!M51/1000*MNP_VR!$D$3*10^-3)/MATERIALI!$J$85)/'FOGLIO DEPOSITO'!$F$404*(M51/1000*MNP_VR!$D$3*10^-3),\"\")","v":182.9897360072149},{"$f":"IFERROR((1/'FOGLIO DEPOSITO'!$F$391*MATERIALI!$J$83*0.1/2.3*(1+(ABS(K51)/(INPUT!$F$38*INPUT!$F$39))/(1*MATERIALI!$J$83*0.1))^0.5)*INPUT!$F$38*INPUT!$F$39,\"\")","v":393.49374371111804},93.712173008661281,93.712173008661281]
[{"$f":"IF(MNP_V!C77<INPUT!$F$38*1000,MNP_V!C77,INPUT!$F$38*1000)","v":2300},{"$f":"MNP_V!Z77","v":454.32373016628759},{"$f":"(1.5/'FOGLIO DEPOSITO'!$E$391*MATERIALI!$J$28*(1+(ABS(B52)/(INPUT!$F$38*INPUT!$F$39))/(1.5*MATERIALI!$J$28))^0.5)*INPUT!$F$38*INPUT!$F$39","v":54.642062043292867},{"$f":"IF(MNP_V!C77>INPUT!$F$38*1000,INPUT!$F$38*1000,MNP_V!C77)","v":2300},{"$f":"IFERROR(('FOGLIO DEPOSITO'!$E$401+'FOGLIO DEPOSITO'!$E$399*'andamento taglio'!B52/('andamento taglio'!D52/1000*INPUT!$F$39)/MATERIALI!$J$35)/'FOGLIO DEPOSITO'!$E$404*(D52/1000*INPUT!$F$39),\"\")","v":53.33200713948645},{"$f":"IFERROR((1/'FOGLIO DEPOSITO'!$E$391*MATERIALI!$J$33*0.1/2.3*(1+(ABS(B52)/(INPUT!$F$38*INPUT!$F$39))/(1*MATERIALI!$J$33*0.1))^0.5)*INPUT!$F$38*INPUT!$F$39,\"\")","v":354.95091078498751},53.33200713948645,53.33200713948645,null,{"$f":"IF(MNP_VR!C77<INPUT!$F$38*1000,MNP_VR!C77,INPUT!$F$38*1000)","v":2300},{"$f":"MNP_VR!Z77","v":779.72562015309506},{"$f":"(1.5/'FOGLIO DEPOSITO'!$F$391*MATERIALI!$J$78*(1+(ABS(K52)/(MNP_VR!$D$3*MNP_VR!$D$4*10^-6))/(1.5*MATERIALI!$J$78))^0.5)*(MNP_VR!$D$3*MNP_VR!$D$4*10^-6)","v":93.72381169282437},{"$f":"IF(MNP_VR!C77>INPUT!$F$38*1000,INPUT!$F$38*1000,MNP_VR!C77)","v":2300},{"$f":"IFERROR(('FOGLIO DEPOSITO'!$F$401+'FOGLIO DEPOSITO'!$F$399*'andamento taglio'!K52/('andamento taglio'!M52/1000*MNP_VR!$D$3*10^-3)/MATERIALI!$J$85)/'FOGLIO DEPOSITO'!$F$404*(M52/1000*MNP_VR!$D$3*10^-3),\"\")","v":183.02958388041682},{"$f":"IFERROR((1/'FOGLIO DEPOSITO'!$F$391*MATERIALI!$J$83*0.1/2.3*(1+(ABS(K52)/(INPUT!$F$38*INPUT!$F$39))/(1*MATERIALI!$J$83*0.1))^0.5)*INPUT!$F$38*INPUT!$F$39,\"\")","v":393.5162003201479},93.72381169282437,93.72381169282437]
[{"$f":"IF(MNP_V!C78<INPUT!$F$38*1000,MNP_V!C78,INPUT!$F$38*1000)","v":2300},{"$f":"MNP_V!Z78","v":454.47055513351614},{"$f":"(1.5/'FOGLIO DEPOSITO'!$E$391*MATERIALI!$J$28*(1+(ABS(B53)/(INPUT!$F$38*INPUT!$F$39))/(1.5*MATERIALI!$J$28))^0.5)*INPUT!$F$38*INPUT!$F$39","v":54.650642437434684},{"$f":"IF(MNP_V!C78>INPUT!$F$38*1000,INPUT!$F$38*1000,MNP_V!C78)","v":2300},{"$f":"IFERROR(('FOGLIO DEPOSITO'!$E$401+'FOGLIO DEPOSITO'!$E$399*'andamento taglio'!B53/('andamento taglio'!D53/1000*INPUT!$F$39)/MATERIALI!$J$35)/'FOGLIO DEPOSITO'!$E$404*(D53/1000*INPUT!$F$39),\"\")","v":53.346689636209305},{"$f":"IFERROR((1/'FOGLIO DEPOSITO'!$E$391*MATERIALI!$J$33*0.1/2.3*(1+(ABS(B53)/(INPUT!$F$38*INPUT!$F$39))/(1*MATERIALI!$J$33*0.1))^0.5)*INPUT!$F$38*INPUT!$F$39,\"\")","v":354.96925671132516},53.346689636209305,53.346689636209305,null,{"$f":"IF(MNP_VR!C78<INPUT!$F$38*1000,MNP_VR!C78,INPUT!$F$38*1000)","v":2300},{"$f":"MNP_VR!Z78","v":779.89448472650224},{"$f":"(1.5/'FOGLIO DEPOSITO'!$F$391*MATERIALI!$J$78*(1+(ABS(K53)/(MNP_VR!$D$3*MNP_VR!$D$4*10^-6))/(1.5*MATERIALI!$J$78))^0.5)*(MNP_VR!$D$3*MNP_VR!$D$4*10^-6)","v":93.733674884237587},{"$f":"IF(MNP_VR!C78>INPUT!$F$38*1000,INPUT!$F$38*1000,MNP_VR!C78)","v":2300},{"$f":"IFERROR(('FOGLIO DEPOSITO'!$F$401+'FOGLIO DEPOSITO'!$F$399*'andamento taglio'!K53/('andamento taglio'!M53/1000*MNP_VR!$D$3*10^-3)/MATERIALI!$J$85)/'FOGLIO DEPOSITO'!$F$404*(M53/1000*MNP_VR!$D$3*10^-3),\"\")","v":183.06335679509826},{"$f":"IFERROR((1/'FOGLIO DEPOSITO'!$F$391*MATERIALI!$J$83*0.1/2.3*(1+(ABS(K53)/(INPUT!$F$38*INPUT!$F$39))/(1*MATERIALI!$J$83*0.1))^0.5)*INPUT!$F$38*INPUT!$F$39,\"\")","v":393.53523233114993},93.733674884237587,93.733674884237587]
[{"$f":"IF(MNP_V!C79<INPUT!$F$38*1000,MNP_V!C79,INPUT!$F$38*1000)","v":2300},{"$f":"MNP_V!Z79","v":454.59663648600633},{"$f":"(1.5/'FOGLIO DEPOSITO'!$E$391*MATERIALI!$J$28*(1+(ABS(B54)/(INPUT!$F$38*INPUT!$F$39))/(1.5*MATERIALI!$J$28))^0.5)*INPUT!$F$38*INPUT!$F$39","v":54.658009507808757},{"$f":"IF(MNP_V!C79>INPUT!$F$38*1000,INPUT!$F$38*1000,MNP_V!C79)","v":2300},{"$f":"IFERROR(('FOGLIO DEPOSITO'!$E$401+'FOGLIO DEPOSITO'!$E$399*'andamento taglio'!B54/('andamento taglio'!D54/1000*INPUT!$F$39)/MATERIALI!$J$35)/'FOGLIO DEPOSITO'!$E$404*(D54/1000*INPUT!$F$39),\"\")","v":53.359297771458323},{"$f":"IFERROR((1/'FOGLIO DEPOSITO'!$E$391*MATERIALI!$J$33*0.1/2.3*(1+(ABS(B54)/(INPUT!$F$38*INPUT!$F$39))/(1*MATERIALI!$J$33*0.1))^0.5)*INPUT!$F$38*INPUT!$F$39,\"\")","v":354.98500994561238},53.359297771458323,53.359297771458323,null,{"$f":"IF(MNP_VR!C79<INPUT!$F$38*1000,MNP_VR!C79,INPUT!$F$38*1000)","v":2300},{"$f":"MNP_VR!Z79","v":780.03884911144087},{"$f":"(1.5/'FOGLIO DEPOSITO'!$F$391*MATERIALI!$J$78*(1+(ABS(K54)/(MNP_VR!$D$3*MNP_VR!$D$4*10^-6))/(1.5*MATERIALI!$J$78))^0.5)*(MNP_VR!$D$3*MNP_VR!$D$4*10^-6)","v":93.742106224125777},{"$f":"IF(MNP_VR!C79>INPUT!$F$38*1000,INPUT!$F$38*1000,MNP_VR!C79)","v":2300},{"$f":"IFERROR(('FOGLIO DEPOSITO'!$F$401+'FOGLIO DEPOSITO'!$F$399*'andamento taglio'!K54/('andamento taglio'!M54/1000*MNP_VR!$D$3*10^-3)/MATERIALI!$J$85)/'FOGLIO DEPOSITO'!$F$404*(M54/1000*MNP_VR!$D$3*10^-3),\"\")","v":183.09222967208601},{"$f":"IFERROR((1/'FOGLIO DEPOSITO'!$F$391*MATERIALI!$J$83*0.1/2.3*(1+(ABS(K54)/(INPUT!$F$38*INPUT!$F$39))/(1*MATERIALI!$J$83*0.1))^0.5)*INPUT!$F$38*INPUT!$F$39,\"\")","v":393.55150229989272},93.742106224125777,93.742106224125777]
[{"$f":"IF(MNP_V!C80<INPUT!$F$38*1000,MNP_V!C80,INPUT!$F$38*1000)","v":2300},{"$f":"MNP_V!Z80","v":454.70570543027236},{"$f":"(1.5/'FOGLIO DEPOSITO'!$E$391*MATERIALI!$J$28*(1+(ABS(B55)/(INPUT!$F$38*INPUT!$F$39))/(1.5*MATERIALI!$J$28))^0.5)*INPUT!$F$38*INPUT!$F$39","v":54.664381723751369},{"$f":"IF(MNP_V!C80>INPUT!$F$38*1000,INPUT!$F$38*1000,MNP_V!C80)","v":2300},{"$f":"IFERROR(('FOGLIO DEPOSITO'!$E$401+'FOGLIO DEPOSITO'!$E$399*'andamento taglio'!B55/('andamento taglio'!D55/1000*INPUT!$F$39)/MATERIALI!$J$35)/'FOGLIO DEPOSITO'!$E$404*(D55/1000*INPUT!$F$39),\"\")","v":53.370204665884927},{"$f":"IFERROR((1/'FOGLIO DEPOSITO'!$E$391*MATERIALI!$J$33*0.1/2.3*(1+(ABS(B55)/(INPUT!$F$38*INPUT!$F$39))/(1*MATERIALI!$J$33*0.1))^0.5)*INPUT!$F$38*INPUT!$F$39,\"\")","v":354.99863700066118},53.370204665884927,53.370204665884927,null,{"$f":"IF(MNP_VR!C80<INPUT!$F$38*1000,MNP_VR!C80,INPUT!$F$38*1000)","v":2300},{"$f":"MNP_VR!Z80","v":780.16323343770034},{"$f":"(1.5/'FOGLIO DEPOSITO'!$F$391*MATERIALI!$J$78*(1+(ABS(K55)/(MNP_VR!$D$3*MNP_VR!$D$4*10^-6))/(1.5*MATERIALI!$J$78))^0.5)*(MNP_VR!$D$3*MNP_VR!$D$4*10^-6)","v":93.749370056833158},{"$f":"IF(MNP_VR!C80>INPUT!$F$38*1000,INPUT!$F$38*1000,MNP_VR!C80)","v":2300},{"$f":"IFERROR(('FOGLIO DEPOSITO'!$F$401+'FOGLIO DEPOSITO'!$F$399*'andamento taglio'!K55/('andamento taglio'!M55/1000*MNP_VR!$D$3*10^-3)/MATERIALI!$J$85)/'FOGLIO DEPOSITO'!$F$404*(M55/1000*MNP_VR!$D$3*10^-3),\"\")","v":183.11710653733789},{"$f":"IFERROR((1/'FOGLIO DEPOSITO'!$F$391*MATERIALI!$J$83*0.1/2.3*(1+(ABS(K55)/(INPUT!$F$38*INPUT!$F$39))/(1*MATERIALI!$J$83*0.1))^0.5)*INPUT!$F$38*INPUT!$F$39,\"\")","v":393.56551996241888},93.749370056833158,93.749370056833158]
[{"$f":"IF(MNP_V!C81<INPUT!$F$38*1000,MNP_V!C81,INPUT!$F$38*1000)","v":2300},{"$f":"MNP_V!Z81","v":454.80069047053229},{"$f":"(1.5/'FOGLIO DEPOSITO'!$E$391*MATERIALI!$J$28*(1+(ABS(B56)/(INPUT!$F$38*INPUT!$F$39))/(1.5*MATERIALI!$J$28))^0.5)*INPUT!$F$38*INPUT!$F$39","v":54.66993050024643},{"$f":"IF(MNP_V!C81>INPUT!$F$38*1000,INPUT!$F$38*1000,MNP_V!C81)","v":2300},{"$f":"IFERROR(('FOGLIO DEPOSITO'!$E$401+'FOGLIO DEPOSITO'!$E$399*'andamento taglio'!B56/('andamento taglio'!D56/1000*INPUT!$F$39)/MATERIALI!$J$35)/'FOGLIO DEPOSITO'!$E$404*(D56/1000*INPUT!$F$39),\"\")","v":53.379703169910918},{"$f":"IFERROR((1/'FOGLIO DEPOSITO'!$E$391*MATERIALI!$J$33*0.1/2.3*(1+(ABS(B56)/(INPUT!$F$38*INPUT!$F$39))/(1*MATERIALI!$J$33*0.1))^0.5)*INPUT!$F$38*INPUT!$F$39,\"\")","v":355.01050398905824},53.379703169910918,53.379703169910918,null,{"$f":"IF(MNP_VR!C81<INPUT!$F$38*1000,MNP_VR!C81,INPUT!$F$38*1000)","v":2300},{"$f":"MNP_VR!Z81","v":780.27116153630902},{"$f":"(1.5/'FOGLIO DEPOSITO'!$F$391*MATERIALI!$J$78*(1+(ABS(K56)/(MNP_VR!$D$3*MNP_VR!$D$4*10^-6))/(1.5*MATERIALI!$J$78))^0.5)*(MNP_VR!$D$3*MNP_VR!$D$4*10^-6)","v":93.755672417870855},{"$f":"IF(MNP_VR!C81>INPUT!$F$38*1000,INPUT!$F$38*1000,MNP_VR!C81)","v":2300},{"$f":"IFERROR(('FOGLIO DEPOSITO'!$F$401+'FOGLIO DEPOSITO'!$F$399*'andamento taglio'!K56/('andamento taglio'!M56/1000*MNP_VR!$D$3*10^-3)/MATERIALI!$J$85)/'FOGLIO DEPOSITO'!$F$404*(M56/1000*MNP_VR!$D$3*10^-3),\"\")","v":183.13869215705964},{"$f":"IFERROR((1/'FOGLIO DEPOSITO'!$F$391*MATERIALI!$J$83*0.1/2.3*(1+(ABS(K56)/(INPUT!$F$38*INPUT!$F$39))/(1*MATERIALI!$J$83*0.1))^0.5)*INPUT!$F$38*INPUT!$F$39,\"\")","v":393.57768266321784},93.755672417870855,93.755672417870855]
[{"$f":"IF(MNP_V!C82<INPUT!$F$38*1000,MNP_V!C82,INPUT!$F$38*1000)","v":2300},{"$f":"MNP_V!Z82","v":454.88391605687104},{"$f":"(1.5/'FOGLIO DEPOSITO'!$E$391*MATERIALI!$J$28*(1+(ABS(B57)/(INPUT!$F$38*INPUT!$F$39))/(1.5*MATERIALI!$J$28))^0.5)*INPUT!$F$38*INPUT!$F$39","v":54.674791857471135},{"$f":"IF(MNP_V!C82>INPUT!$F$38*1000,INPUT!$F$38*1000,MNP_V!C82)","v":2300},{"$f":"IFERROR(('FOGLIO DEPOSITO'!$E$401+'FOGLIO DEPOSITO'!$E$399*'andamento taglio'!B57/('andamento taglio'!D57/1000*INPUT!$F$39)/MATERIALI!$J$35)/'FOGLIO DEPOSITO'!$E$404*(D57/1000*INPUT!$F$39),\"\")","v":53.38802572854479},{"$f":"IFERROR((1/'FOGLIO DEPOSITO'!$E$391*MATERIALI!$J$33*0.1/2.3*(1+(ABS(B57)/(INPUT!$F$38*INPUT!$F$39))/(1*MATERIALI!$J$33*0.1))^0.5)*INPUT!$F$38*INPUT!$F$39,\"\")","v":355.02090148002469},53.38802572854479,53.38802572854479,null,{"$f":"IF(MNP_VR!C82<INPUT!$F$38*1000,MNP_VR!C82,INPUT!$F$38*1000)","v":2300},{"$f":"MNP_VR!Z82","v":780.36541329377872},{"$f":"(1.5/'FOGLIO DEPOSITO'!$F$391*MATERIALI!$J$78*(1+(ABS(K57)/(MNP_VR!$D$3*MNP_VR!$D$4*10^-6))/(1.5*MATERIALI!$J$78))^0.5)*(MNP_VR!$D$3*MNP_VR!$D$4*10^-6)","v":93.761175815168173},{"$f":"IF(MNP_VR!C82>INPUT!$F$38*1000,INPUT!$F$38*1000,MNP_VR!C82)","v":2300},{"$f":"IFERROR(('FOGLIO DEPOSITO'!$F$401+'FOGLIO DEPOSITO'!$F$399*'andamento taglio'!K57/('andamento taglio'!M57/1000*MNP_VR!$D$3*10^-3)/MATERIALI!$J$85)/'FOGLIO DEPOSITO'!$F$404*(M57/1000*MNP_VR!$D$3*10^-3),\"\")","v":183.15754250855355},{"$f":"IFERROR((1/'FOGLIO DEPOSITO'!$F$391*MATERIALI!$J$83*0.1/2.3*(1+(ABS(K57)/(INPUT!$F$38*INPUT!$F$39))/(1*MATERIALI!$J$83*0.1))^0.5)*INPUT!$F$38*INPUT!$F$39,\"\")","v":393.58830383379654},93.761175815168173,93.761175815168173]
[{"$f":"IF(MNP_V!C83<INPUT!$F$38*1000,MNP_V!C83,INPUT!$F$38*1000)","v":2300},{"$f":"MNP_V!Z83","v":454.95724615873303},{"$f":"(1.5/'FOGLIO DEPOSITO'!$E$391*MATERIALI!$J$28*(1+(ABS(B58)/(INPUT!$F$38*INPUT!$F$39))/(1.5*MATERIALI!$J$28))^0.5)*INPUT!$F$38*INPUT!$F$39","v":54.679074843346221},{"$f":"IF(MNP_V!C83>INPUT!$F$38*1000,INPUT!$F$38*1000,MNP_V!C83)","v":2300},{"$f":"IFERROR(('FOGLIO DEPOSITO'!$E$401+'FOGLIO DEPOSITO'!$E$399*'andamento taglio'!B58/('andamento taglio'!D58/1000*INPUT!$F$39)/MATERIALI!$J$35)/'FOGLIO DEPOSITO'!$E$404*(D58/1000*INPUT!$F$39),\"\")","v":53.395358738730998},{"$f":"IFERROR((1/'FOGLIO DEPOSITO'!$E$391*MATERIALI!$J$33*0.1/2.3*(1+(ABS(B58)/(INPUT!$F$38*INPUT!$F$39))/(1*MATERIALI!$J$33*0.1))^0.5)*INPUT!$F$38*INPUT!$F$39,\"\")","v":355.03006246168229},53.395358738730998,53.395358738730998,null,{"$f":"IF(MNP_VR!C83<INPUT!$F$38*1000,MNP_VR!C83,INPUT!$F$38*1000)","v":2300},{"$f":"MNP_VR!Z83","v":780.44820546416497},{"$f":"(1.5/'FOGLIO DEPOSITO'!$F$391*MATERIALI!$J$78*(1+(ABS(K58)/(MNP_VR!$D$3*MNP_VR!$D$4*10^-6))/(1.5*MATERIALI!$J$78))^0.5)*(MNP_VR!$D$3*MNP_VR!$D$4*10^-6)","v":93.766009816167326},{"$f":"IF(MNP_VR!C83>INPUT!$F$38*1000,INPUT!$F$38*1000,MNP_VR!C83)","v":2300},{"$f":"IFERROR(('FOGLIO DEPOSITO'!$F$401+'FOGLIO DEPOSITO'!$F$399*'andamento taglio'!K58/('andamento taglio'!M58/1000*MNP_VR!$D$3*10^-3)/MATERIALI!$J$85)/'FOGLIO DEPOSITO'!$F$404*(M58/1000*MNP_VR!$D$3*10^-3),\"\")","v":183.17410094263082},{"$f":"IFERROR((1/'FOGLIO DEPOSITO'!$F$391*MATERIALI!$J$83*0.1/2.3*(1+(ABS(K58)/(INPUT!$F$38*INPUT!$F$39))/(1*MATERIALI!$J$83*0.1))^0.5)*INPUT!$F$38*INPUT!$F$39,\"\")","v":393.59763339434045},93.766009816167326,93.766009816167326]
[{"$f":"IF(MNP_V!C84<INPUT!$F$38*1000,MNP_V!C84,INPUT!$F$38*1000)","v":2300},{"$f":"MNP_V!Z84","v":455.02218954753857},{"$f":"(1.5/'FOGLIO DEPOSITO'!$E$391*MATERIALI!$J$28*(1+(ABS(B59)/(INPUT!$F$38*INPUT!$F$39))/(1.5*MATERIALI!$J$28))^0.5)*INPUT!$F$38*INPUT!$F$39","v":54.682867706982336},{"$f":"IF(MNP_V!C84>INPUT!$F$38*1000,INPUT!$F$38*1000,MNP_V!C84)","v":2300},{"$f":"IFERROR(('FOGLIO DEPOSITO'!$E$401+'FOGLIO DEPOSITO'!$E$399*'andamento taglio'!B59/('andamento taglio'!D59/1000*INPUT!$F$39)/MATERIALI!$J$35)/'FOGLIO DEPOSITO'!$E$404*(D59/1000*INPUT!$F$39),\"\")","v":53.401853077611541},{"$f":"IFERROR((1/'FOGLIO DEPOSITO'!$E$391*MATERIALI!$J$33*0.1/2.3*(1+(ABS(B59)/(INPUT!$F$38*INPUT!$F$39))/(1*MATERIALI!$J$33*0.1))^0.5)*INPUT!$F$38*INPUT!$F$39,\"\")","v":355.0381755108275},53.401853077611541,53.401853077611541,null,{"$f":"IF(MNP_VR!C84<INPUT!$F$38*1000,MNP_VR!C84,INPUT!$F$38*1000)","v":2300},{"$f":"MNP_VR!Z84","v":780.52132321352303},{"$f":"(1.5/'FOGLIO DEPOSITO'!$F$391*MATERIALI!$J$78*(1+(ABS(K59)/(MNP_VR!$D$3*MNP_VR!$D$4*10^-6))/(1.5*MATERIALI!$J$78))^0.5)*(MNP_VR!$D$3*MNP_VR!$D$4*10^-6)","v":93.770278747823824},{"$f":"IF(MNP_VR!C84>INPUT!$F$38*1000,INPUT!$F$38*1000,MNP_VR!C84)","v":2300},{"$f":"IFERROR(('FOGLIO DEPOSITO'!$F$401+'FOGLIO DEPOSITO'!$F$399*'andamento taglio'!K59/('andamento taglio'!M59/1000*MNP_VR!$D$3*10^-3)/MATERIALI!$J$85)/'FOGLIO DEPOSITO'!$F$404*(M59/1000*MNP_VR!$D$3*10^-3),\"\")","v":183.18872449250242},{"$f":"IFERROR((1/'FOGLIO DEPOSITO'!$F$391*MATERIALI!$J$83*0.1/2.3*(1+(ABS(K59)/(INPUT!$F$38*INPUT!$F$39))/(1*MATERIALI!$J$83*0.1))^0.5)*INPUT!$F$38*INPUT!$F$39,\"\")","v":393.60587259427888},93.770278747823824,93.770278747823824]
[{"$f":"IF(MNP_V!C85<INPUT!$F$38*1000,MNP_V!C85,INPUT!$F$38*1000)","v":2300},{"$f":"MNP_V!Z85","v":455.07997802983829},{"$f":"(1.5/'FOGLIO DEPOSITO'!$E$391*MATERIALI!$J$28*(1+(ABS(B60)/(INPUT!$F$38*INPUT!$F$39))/(1.5*MATERIALI!$J$28))^0.5)*INPUT!$F$38*INPUT!$F$39","v":54.686242484194402},{"$f":"IF(MNP_V!C85>INPUT!$F$38*1000,INPUT!$F$38*1000,MNP_V!C85)","v":2300},{"$f":"IFERROR(('FOGLIO DEPOSITO'!$E$401+'FOGLIO DEPOSITO'!$E$399*'andamento taglio'!B60/('andamento taglio'!D60/1000*INPUT!$F$39)/MATERIALI!$J$35)/'FOGLIO DEPOSITO'!$E$404*(D60/1000*INPUT!$F$39),\"\")","v":53.407631925841514},{"$f":"IFERROR((1/'FOGLIO DEPOSITO'!$E$391*MATERIALI!$J$33*0.1/2.3*(1+(ABS(B60)/(INPUT!$F$38*INPUT!$F$39))/(1*MATERIALI!$J$33*0.1))^0.5)*INPUT!$F$38*INPUT!$F$39,\"\")","v":355.04539457780794},53.407631925841514,53.407631925841514,null,{"$f":"IF(MNP_VR!C85<INPUT!$F$38*1000,MNP_VR!C85,INPUT!$F$38*1000)","v":2300},{"$f":"MNP_VR!Z85","v":780.58621716241271},{"$f":"(1.5/'FOGLIO DEPOSITO'!$F$391*MATERIALI!$J$78*(1+(ABS(K60)/(MNP_VR!$D$3*MNP_VR!$D$4*10^-6))/(1.5*MATERIALI!$J$78))^0.5)*(MNP_VR!$D$3*MNP_VR!$D$4*10^-6)","v":93.774067375524808},{"$f":"IF(MNP_VR!C85>INPUT!$F$38*1000,INPUT!$F$38*1000,MNP_VR!C85)","v":2300},{"$f":"IFERROR(('FOGLIO DEPOSITO'!$F$401+'FOGLIO DEPOSITO'!$F$399*'andamento taglio'!K60/('andamento taglio'!M60/1000*MNP_VR!$D$3*10^-3)/MATERIALI!$J$85)/'FOGLIO DEPOSITO'!$F$404*(M60/1000*MNP_VR!$D$3*10^-3),\"\")","v":183.20170328228036},{"$f":"IFERROR((1/'FOGLIO DEPOSITO'!$F$391*MATERIALI!$J$83*0.1/2.3*(1+(ABS(K60)/(INPUT!$F$38*INPUT!$F$39))/(1*MATERIALI!$J$83*0.1))^0.5)*INPUT!$F$38*INPUT!$F$39,\"\")","v":393.6131849590858},93.774067375524808,93.774067375524808]
[{"$f":"IF(MNP_V!C86<INPUT!$F$38*1000,MNP_V!C86,INPUT!$F$38*1000)","v":2300},{"$f":"MNP_V!Z86","v":455.13162529143466},{"$f":"(1.5/'FOGLIO DEPOSITO'!$E$391*MATERIALI!$J$28*(1+(ABS(B61)/(INPUT!$F$38*INPUT!$F$39))/(1.5*MATERIALI!$J$28))^0.5)*INPUT!$F$38*INPUT!$F$39","v":54.689258445341821},{"$f":"IF(MNP_V!C86>INPUT!$F$38*1000,INPUT!$F$38*1000,MNP_V!C86)","v":2300},{"$f":"IFERROR(('FOGLIO DEPOSITO'!$E$401+'FOGLIO DEPOSITO'!$E$399*'andamento taglio'!B61/('andamento taglio'!D61/1000*INPUT!$F$39)/MATERIALI!$J$35)/'FOGLIO DEPOSITO'!$E$404*(D61/1000*INPUT!$F$39),\"\")","v":53.412796652001163},{"$f":"IFERROR((1/'FOGLIO DEPOSITO'!$E$391*MATERIALI!$J$33*0.1/2.3*(1+(ABS(B61)/(INPUT!$F$38*INPUT!$F$39))/(1*MATERIALI!$J$33*0.1))^0.5)*INPUT!$F$38*INPUT!$F$39,\"\")","v":355.05184634549477},53.412796652001163,53.412796652001163,null,{"$f":"IF(MNP_VR!C86<INPUT!$F$38*1000,MNP_VR!C86,INPUT!$F$38*1000)","v":2300},{"$f":"MNP_VR!Z86","v":780.64407589391942},{"$f":"(1.5/'FOGLIO DEPOSITO'!$F$391*MATERIALI!$J$78*(1+(ABS(K61)/(MNP_VR!$D$3*MNP_VR!$D$4*10^-6))/(1.5*MATERIALI!$J$78))^0.5)*(MNP_VR!$D$3*MNP_VR!$D$4*10^-6)","v":93.777445145267393},{"$f":"IF(MNP_VR!C86>INPUT!$F$38*1000,INPUT!$F$38*1000,MNP_VR!C86)","v":2300},{"$f":"IFERROR(('FOGLIO DEPOSITO'!$F$401+'FOGLIO DEPOSITO'!$F$399*'andamento taglio'!K61/('andamento taglio'!M61/1000*MNP_VR!$D$3*10^-3)/MATERIALI!$J$85)/'FOGLIO DEPOSITO'!$F$404*(M61/1000*MNP_VR!$D$3*10^-3),\"\")","v":183.21327502858171},{"$f":"IFERROR((1/'FOGLIO DEPOSITO'!$F$391*MATERIALI!$J$83*0.1/2.3*(1+(ABS(K61)/(INPUT!$F$38*INPUT!$F$39))/(1*MATERIALI!$J$83*0.1))^0.5)*INPUT!$F$38*INPUT!$F$39,\"\")","v":393.61970446861778},93.777445145267393,93.777445145267393]
[{"$f":"IF(MNP_V!C87<INPUT!$F$38*1000,MNP_V!C87,INPUT!$F$38*1000)","v":2300},{"$f":"MNP_V!Z87","v":455.17797165595277},{"$f":"(1.5/'FOGLIO DEPOSITO'!$E$391*MATERIALI!$J$28*(1+(ABS(B62)/(INPUT!$F$38*INPUT!$F$39))/(1.5*MATERIALI!$J$28))^0.5)*INPUT!$F$38*INPUT!$F$39","v":54.691964717037941},{"$f":"IF(MNP_V!C87>INPUT!$F$38*1000,INPUT!$F$38*1000,MNP_V!C87)","v":2300},{"$f":"IFERROR(('FOGLIO DEPOSITO'!$E$401+'FOGLIO DEPOSITO'!$E$399*'andamento taglio'!B62/('andamento taglio'!D62/1000*INPUT!$F$39)/MATERIALI!$J$35)/'FOGLIO DEPOSITO'!$E$404*(D62/1000*INPUT!$F$39),\"\")","v":53.417431288452974},{"$f":"IFERROR((1/'FOGLIO DEPOSITO'!$E$391*MATERIALI!$J$33*0.1/2.3*(1+(ABS(B62)/(INPUT!$F$38*INPUT!$F$39))/(1*MATERIALI!$J$33*0.1))^0.5)*INPUT!$F$38*INPUT!$F$39,\"\")","v":355.05763582615981},53.417431288452974,53.417431288452974,null,{"$f":"IF(MNP_VR!C87<INPUT!$F$38*1000,MNP_VR!C87,INPUT!$F$38*1000)","v":2300},{"$f":"MNP_VR!Z87","v":780.69588076837408},{"$f":"(1.5/'FOGLIO DEPOSITO'!$F$391*MATERIALI!$J$78*(1+(ABS(K62)/(MNP_VR!$D$3*MNP_VR!$D$4*10^-6))/(1.5*MATERIALI!$J$78))^0.5)*(MNP_VR!$D$3*MNP_VR!$D$4*10^-6)","v":93.78046939001041},{"$f":"IF(MNP_VR!C87>INPUT!$F$38*1000,INPUT!$F$38*1000,MNP_VR!C87)","v":2300},{"$f":"IFERROR(('FOGLIO DEPOSITO'!$F$401+'FOGLIO DEPOSITO'!$F$399*'andamento taglio'!K62/('andamento taglio'!M62/1000*MNP_VR!$D$3*10^-3)/MATERIALI!$J$85)/'FOGLIO DEPOSITO'!$F$404*(M62/1000*MNP_VR!$D$3*10^-3),\"\")","v":183.22363600347262},{"$f":"IFERROR((1/'FOGLIO DEPOSITO'!$F$391*MATERIALI!$J$83*0.1/2.3*(1+(ABS(K62)/(INPUT!$F$38*INPUT!$F$39))/(1*MATERIALI!$J$83*0.1))^0.5)*INPUT!$F$38*INPUT!$F$39,\"\")","v":393.62554173920313},93.78046939001041,93.78046939001041]
[{"$f":"IF(MNP_V!C88<INPUT!$F$38*1000,MNP_V!C88,INPUT!$F$38*1000)","v":2300},{"$f":"MNP_V!Z88","v":455.21971848344685},{"$f":"(1.5/'FOGLIO DEPOSITO'!$E$391*MATERIALI!$J$28*(1+(ABS(B63)/(INPUT!$F$38*INPUT!$F$39))/(1.5*MATERIALI!$J$28))^0.5)*INPUT!$F$38*INPUT!$F$39","v":54.694402296469789},{"$f":"IF(MNP_V!C88>INPUT!$F$38*1000,INPUT!$F$38*1000,MNP_V!C88)","v":2300},{"$f":"IFERROR(('FOGLIO DEPOSITO'!$E$401+'FOGLIO DEPOSITO'!$E$399*'andamento taglio'!B63/('andamento taglio'!D63/1000*INPUT!$F$39)/MATERIALI!$J$35)/'FOGLIO DEPOSITO'!$E$404*(D63/1000*INPUT!$F$39),\"\")","v":53.421605971202382},{"$f":"IFERROR((1/'FOGLIO DEPOSITO'!$E$391*MATERIALI!$J$33*0.1/2.3*(1+(ABS(B63)/(INPUT!$F$38*INPUT!$F$39))/(1*MATERIALI!$J$33*0.1))^0.5)*INPUT!$F$38*INPUT!$F$39,\"\")","v":355.06285066248518},53.421605971202382,53.421605971202382,null,{"$f":"IF(MNP_VR!C88<INPUT!$F$38*1000,MNP_VR!C88,INPUT!$F$38*1000)","v":2300},{"$f":"MNP_VR!Z88","v":780.74244781239088},{"$f":"(1.5/'FOGLIO DEPOSITO'!$F$391*MATERIALI!$J$78*(1+(ABS(K63)/(MNP_VR!$D$3*MNP_VR!$D$4*10^-6))/(1.5*MATERIALI!$J$78))^0.5)*(MNP_VR!$D$3*MNP_VR!$D$4*10^-6)","v":93.783187779500821},{"$f":"IF(MNP_VR!C88>INPUT!$F$38*1000,INPUT!$F$38*1000,MNP_VR!C88)","v":2300},{"$f":"IFERROR(('FOGLIO DEPOSITO'!$F$401+'FOGLIO DEPOSITO'!$F$399*'andamento taglio'!K63/('andamento taglio'!M63/1000*MNP_VR!$D$3*10^-3)/MATERIALI!$J$85)/'FOGLIO DEPOSITO'!$F$404*(M63/1000*MNP_VR!$D$3*10^-3),\"\")","v":183.23294941227599},{"$f":"IFERROR((1/'FOGLIO DEPOSITO'!$F$391*MATERIALI!$J$83*0.1/2.3*(1+(ABS(K63)/(INPUT!$F$38*INPUT!$F$39))/(1*MATERIALI!$J$83*0.1))^0.5)*INPUT!$F$38*INPUT!$F$39,\"\")","v":393.6307887475582},93.783187779500821,93.783187779500821]
[{"$f":"IF(MNP_V!C89<INPUT!$F$38*1000,MNP_V!C89,INPUT!$F$38*1000)","v":2300},{"$f":"MNP_V!Z89","v":455.25745486161253},{"$f":"(1.5/'FOGLIO DEPOSITO'!$E$391*MATERIALI!$J$28*(1+(ABS(B64)/(INPUT!$F$38*INPUT!$F$39))/(1.5*MATERIALI!$J$28))^0.5)*INPUT!$F$38*INPUT!$F$39","v":54.696605613998408},{"$f":"IF(MNP_V!C89>INPUT!$F$38*1000,INPUT!$F$38*1000,MNP_V!C89)","v":2300},{"$f":"IFERROR(('FOGLIO DEPOSITO'!$E$401+'FOGLIO DEPOSITO'!$E$399*'andamento taglio'!B64/('andamento taglio'!D64/1000*INPUT!$F$39)/MATERIALI!$J$35)/'FOGLIO DEPOSITO'!$E$404*(D64/1000*INPUT!$F$39),\"\")","v":53.425379609018954},{"$f":"IFERROR((1/'FOGLIO DEPOSITO'!$E$391*MATERIALI!$J$33*0.1/2.3*(1+(ABS(B64)/(INPUT!$F$38*INPUT!$F$39))/(1*MATERIALI!$J$33*0.1))^0.5)*INPUT!$F$38*INPUT!$F$39,\"\")","v":355.06756446461253},53.425379609018954,53.425379609018954,null,{"$f":"IF(MNP_VR!C89<INPUT!$F$38*1000,MNP_VR!C89,INPUT!$F$38*1000)","v":2300},{"$f":"MNP_VR!Z89","v":780.78446005179046},{"$f":"(1.5/'FOGLIO DEPOSITO'!$F$391*MATERIALI!$J$78*(1+(ABS(K64)/(MNP_VR!$D$3*MNP_VR!$D$4*10^-6))/(1.5*MATERIALI!$J$78))^0.5)*(MNP_VR!$D$3*MNP_VR!$D$4*10^-6)","v":93.785640210916426},{"$f":"IF(MNP_VR!C89>INPUT!$F$38*1000,INPUT!$F$38*1000,MNP_VR!C89)","v":2300},{"$f":"IFERROR(('FOGLIO DEPOSITO'!$F$401+'FOGLIO DEPOSITO'!$F$399*'andamento taglio'!K64/('andamento taglio'!M64/1000*MNP_VR!$D$3*10^-3)/MATERIALI!$J$85)/'FOGLIO DEPOSITO'!$F$404*(M64/1000*MNP_VR!$D$3*10^-3),\"\")","v":183.24135186015587},{"$f":"IFERROR((1/'FOGLIO DEPOSITO'!$F$391*MATERIALI!$J$83*0.1/2.3*(1+(ABS(K64)/(INPUT!$F$38*INPUT!$F$39))/(1*MATERIALI!$J$83*0.1))^0.5)*INPUT!$F$38*INPUT!$F$39,\"\")","v":393.63552247676824},93.785640210916426,93.785640210916426]
[{"$f":"IF(MNP_V!C90<INPUT!$F$38*1000,MNP_V!C90,INPUT!$F$38*1000)","v":2300},{"$f":"MNP_V!Z90","v":455.291678501874},{"$f":"(1.5/'FOGLIO DEPOSITO'!$E$391*MATERIALI!$J$28*(1+(ABS(B65)/(INPUT!$F$38*INPUT!$F$39))/(1.5*MATERIALI!$J$28))^0.5)*INPUT!$F$38*INPUT!$F$39","v":54.698603756218269},{"$f":"IF(MNP_V!C90>INPUT!$F$38*1000,INPUT!$F$38*1000,MNP_V!C90)","v":2300},{"$f":"IFERROR(('FOGLIO DEPOSITO'!$E$401+'FOGLIO DEPOSITO'!$E$399*'andamento taglio'!B65/('andamento taglio'!D65/1000*INPUT!$F$39)/MATERIALI!$J$35)/'FOGLIO DEPOSITO'!$E$404*(D65/1000*INPUT!$F$39),\"\")","v":53.428801973045104},{"$f":"IFERROR((1/'FOGLIO DEPOSITO'!$E$391*MATERIALI!$J$33*0.1/2.3*(1+(ABS(B65)/(INPUT!$F$38*INPUT!$F$39))/(1*MATERIALI!$J$33*0.1))^0.5)*INPUT!$F$38*INPUT!$F$39,\"\")","v":355.07183942246809},53.428801973045104,53.428801973045104,null,{"$f":"IF(MNP_VR!C90<INPUT!$F$38*1000,MNP_VR!C90,INPUT!$F$38*1000)","v":2300},{"$f":"MNP_VR!Z90","v":780.82249270104455},{"$f":"(1.5/'FOGLIO DEPOSITO'!$F$391*MATERIALI!$J$78*(1+(ABS(K65)/(MNP_VR!$D$3*MNP_VR!$D$4*10^-6))/(1.5*MATERIALI!$J$78))^0.5)*(MNP_VR!$D$3*MNP_VR!$D$4*10^-6)","v":93.787860281584955},{"$f":"IF(MNP_VR!C90>INPUT!$F$38*1000,INPUT!$F$38*1000,MNP_VR!C90)","v":2300},{"$f":"IFERROR(('FOGLIO DEPOSITO'!$F$401+'FOGLIO DEPOSITO'!$F$399*'andamento taglio'!K65/('andamento taglio'!M65/1000*MNP_VR!$D$3*10^-3)/MATERIALI!$J$85)/'FOGLIO DEPOSITO'!$F$404*(M65/1000*MNP_VR!$D$3*10^-3),\"\")","v":183.24895839000672},{"$f":"IFERROR((1/'FOGLIO DEPOSITO'!$F$391*MATERIALI!$J$83*0.1/2.3*(1+(ABS(K65)/(INPUT!$F$38*INPUT!$F$39))/(1*MATERIALI!$J$83*0.1))^0.5)*INPUT!$F$38*INPUT!$F$39,\"\")","v":393.63980775655307},93.787860281584955,93.787860281584955]
[{"$f":"IF(MNP_V!C91<INPUT!$F$38*1000,MNP_V!C91,INPUT!$F$38*1000)","v":2300},{"$f":"MNP_V!Z91","v":455.322812234948},{"$f":"(1.5/'FOGLIO DEPOSITO'!$E$391*MATERIALI!$J$28*(1+(ABS(B66)/(INPUT!$F$38*INPUT!$F$39))/(1.5*MATERIALI!$J$28))^0.5)*INPUT!$F$38*INPUT!$F$39","v":54.700421431257553},{"$f":"IF(MNP_V!C91>INPUT!$F$38*1000,INPUT!$F$38*1000,MNP_V!C91)","v":2300},{"$f":"IFERROR(('FOGLIO DEPOSITO'!$E$401+'FOGLIO DEPOSITO'!$E$399*'andamento taglio'!B66/('andamento taglio'!D66/1000*INPUT!$F$39)/MATERIALI!$J$35)/'FOGLIO DEPOSITO'!$E$404*(D66/1000*INPUT!$F$39),\"\")","v":53.431915346352497},{"$f":"IFERROR((1/'FOGLIO DEPOSITO'!$E$391*MATERIALI!$J$33*0.1/2.3*(1+(ABS(B66)/(INPUT!$F$38*INPUT!$F$39))/(1*MATERIALI!$J$33*0.1))^0.5)*INPUT!$F$38*INPUT!$F$39,\"\")","v":355.07572836781952},53.431915346352497,53.431915346352497,null,{"$f":"IF(MNP_VR!C91<INPUT!$F$38*1000,MNP_VR!C91,INPUT!$F$38*1000)","v":2300},{"$f":"MNP_VR!Z91","v":780.85703295761857},{"$f":"(1.5/'FOGLIO DEPOSITO'!$F$391*MATERIALI!$J$78*(1+(ABS(K66)/(MNP_VR!$D$3*MNP_VR!$D$4*10^-6))/(1.5*MATERIALI!$J$78))^0.5)*(MNP_VR!$D$3*MNP_VR!$D$4*10^-6)","v":93.789876446123415},{"$f":"IF(MNP_VR!C91>INPUT!$F$38*1000,INPUT!$F$38*1000,MNP_VR!C91)","v":2300},{"$f":"IFERROR(('FOGLIO DEPOSITO'!$F$401+'FOGLIO DEPOSITO'!$F$399*'andamento taglio'!K66/('andamento taglio'!M66/1000*MNP_VR!$D$3*10^-3)/MATERIALI!$J$85)/'FOGLIO DEPOSITO'!$F$404*(M66/1000*MNP_VR!$D$3*10^-3),\"\")","v":183.25586644132153},{"$f":"IFERROR((1/'FOGLIO DEPOSITO'!$F$391*MATERIALI!$J$83*0.1/2.3*(1+(ABS(K66)/(INPUT!$F$38*INPUT!$F$39))/(1*MATERIALI!$J$83*0.1))^0.5)*INPUT!$F$38*INPUT!$F$39,\"\")","v":393.64369949506806},93.789876446123415,93.789876446123415]
[{"$f":"IF(MNP_V!C92<INPUT!$F$38*1000,MNP_V!C92,INPUT!$F$38*1000)","v":2300},{"$f":"MNP_V!Z92","v":455.3512171339778},{"$f":"(1.5/'FOGLIO DEPOSITO'!$E$391*MATERIALI!$J$28*(1+(ABS(B67)/(INPUT!$F$38*INPUT!$F$39))/(1.5*MATERIALI!$J$28))^0.5)*INPUT!$F$38*INPUT!$F$39","v":54.702079736588303},{"$f":"IF(MNP_V!C92>INPUT!$F$38*1000,INPUT!$F$38*1000,MNP_V!C92)","v":2300},{"$f":"IFERROR(('FOGLIO DEPOSITO'!$E$401+'FOGLIO DEPOSITO'!$E$399*'andamento taglio'!B67/('andamento taglio'!D67/1000*INPUT!$F$39)/MATERIALI!$J$35)/'FOGLIO DEPOSITO'!$E$404*(D67/1000*INPUT!$F$39),\"\")","v":53.434755836255484},{"$f":"IFERROR((1/'FOGLIO DEPOSITO'!$E$391*MATERIALI!$J$33*0.1/2.3*(1+(ABS(B67)/(INPUT!$F$38*INPUT!$F$39))/(1*MATERIALI!$J$33*0.1))^0.5)*INPUT!$F$38*INPUT!$F$39,\"\")","v":355.07927641465824},53.434755836255484,53.434755836255484,null,{"$f":"IF(MNP_VR!C92<INPUT!$F$38*1000,MNP_VR!C92,INPUT!$F$38*1000)","v":2300},{"$f":"MNP_VR!Z92","v":780.88849568252601},{"$f":"(1.5/'FOGLIO DEPOSITO'!$F$391*MATERIALI!$J$78*(1+(ABS(K67)/(MNP_VR!$D$3*MNP_VR!$D$4*10^-6))/(1.5*MATERIALI!$J$78))^0.5)*(MNP_VR!$D$3*MNP_VR!$D$4*10^-6)","v":93.791712932985149},{"$f":"IF(MNP_VR!C92>INPUT!$F$38*1000,INPUT!$F$38*1000,MNP_VR!C92)","v":2300},{"$f":"IFERROR(('FOGLIO DEPOSITO'!$F$401+'FOGLIO DEPOSITO'!$F$399*'andamento taglio'!K67/('andamento taglio'!M67/1000*MNP_VR!$D$3*10^-3)/MATERIALI!$J$85)/'FOGLIO DEPOSITO'!$F$404*(M67/1000*MNP_VR!$D$3*10^-3),\"\")","v":183.26215898630304},{"$f":"IFERROR((1/'FOGLIO DEPOSITO'!$F$391*MATERIALI!$J$83*0.1/2.3*(1+(ABS(K67)/(INPUT!$F$38*INPUT!$F$39))/(1*MATERIALI!$J$83*0.1))^0.5)*INPUT!$F$38*INPUT!$F$39,\"\")","v":393.64724444678086},93.791712932985149,93.791712932985149]
[{"$f":"IF(MNP_V!C93<INPUT!$F$38*1000,MNP_V!C93,INPUT!$F$38*1000)","v":2300},{"$f":"MNP_V!Z93","v":455.37720303079772},{"$f":"(1.5/'FOGLIO DEPOSITO'!$E$391*MATERIALI!$J$28*(1+(ABS(B68)/(INPUT!$F$38*INPUT!$F$39))/(1.5*MATERIALI!$J$28))^0.5)*INPUT!$F$38*INPUT!$F$39","v":54.703596774211867},{"$f":"IF(MNP_V!C93>INPUT!$F$38*1000,INPUT!$F$38*1000,MNP_V!C93)","v":2300},{"$f":"IFERROR(('FOGLIO DEPOSITO'!$E$401+'FOGLIO DEPOSITO'!$E$399*'andamento taglio'!B68/('andamento taglio'!D68/1000*INPUT!$F$39)/MATERIALI!$J$35)/'FOGLIO DEPOSITO'!$E$404*(D68/1000*INPUT!$F$39),\"\")","v":53.437354425937457},{"$f":"IFERROR((1/'FOGLIO DEPOSITO'!$E$391*MATERIALI!$J$33*0.1/2.3*(1+(ABS(B68)/(INPUT!$F$38*INPUT!$F$39))/(1*MATERIALI!$J$33*0.1))^0.5)*INPUT!$F$38*INPUT!$F$39,\"\")","v":355.08252227365335},53.437354425937457,53.437354425937457,null,{"$f":"IF(MNP_VR!C93<INPUT!$F$38*1000,MNP_VR!C93,INPUT!$F$38*1000)","v":2300},{"$f":"MNP_VR!Z93","v":780.91723591593836},{"$f":"(1.5/'FOGLIO DEPOSITO'!$F$391*MATERIALI!$J$78*(1+(ABS(K68)/(MNP_VR!$D$3*MNP_VR!$D$4*10^-6))/(1.5*MATERIALI!$J$78))^0.5)*(MNP_VR!$D$3*MNP_VR!$D$4*10^-6)","v":93.793390475933919},{"$f":"IF(MNP_VR!C93>INPUT!$F$38*1000,INPUT!$F$38*1000,MNP_VR!C93)","v":2300},{"$f":"IFERROR(('FOGLIO DEPOSITO'!$F$401+'FOGLIO DEPOSITO'!$F$399*'andamento taglio'!K68/('andamento taglio'!M68/1000*MNP_VR!$D$3*10^-3)/MATERIALI!$J$85)/'FOGLIO DEPOSITO'!$F$404*(M68/1000*MNP_VR!$D$3*10^-3),\"\")","v":183.26790703298551},{"$f":"IFERROR((1/'FOGLIO DEPOSITO'!$F$391*MATERIALI!$J$83*0.1/2.3*(1+(ABS(K68)/(INPUT!$F$38*INPUT!$F$39))/(1*MATERIALI!$J$83*0.1))^0.5)*INPUT!$F$38*INPUT!$F$39,\"\")","v":393.65048262345408},93.793390475933919,93.793390475933919]
[{"$f":"IF(MNP_V!C94<INPUT!$F$38*1000,MNP_V!C94,INPUT!$F$38*1000)","v":2300},{"$f":"MNP_V!Z94","v":455.40103700078356},{"$f":"(1.5/'FOGLIO DEPOSITO'!$E$391*MATERIALI!$J$28*(1+(ABS(B69)/(INPUT!$F$38*INPUT!$F$39))/(1.5*MATERIALI!$J$28))^0.5)*INPUT!$F$38*INPUT!$F$39","v":54.704988146935108},{"$f":"IF(MNP_V!C94>INPUT!$F$38*1000,INPUT!$F$38*1000,MNP_V!C94)","v":2300},{"$f":"IFERROR(('FOGLIO DEPOSITO'!$E$401+'FOGLIO DEPOSITO'!$E$399*'andamento taglio'!B69/('andamento taglio'!D69/1000*INPUT!$F$39)/MATERIALI!$J$35)/'FOGLIO DEPOSITO'!$E$404*(D69/1000*INPUT!$F$39),\"\")","v":53.439737822936053},{"$f":"IFERROR((1/'FOGLIO DEPOSITO'!$E$391*MATERIALI!$J$33*0.1/2.3*(1+(ABS(B69)/(INPUT!$F$38*INPUT!$F$39))/(1*MATERIALI!$J$33*0.1))^0.5)*INPUT!$F$38*INPUT!$F$39,\"\")","v":355.08549931264173},{"$f":"IF(E69=\"\",C69,MINA(C69,E69,F69))","v":53.439737822936053},{"$f":"G69","v":53.439737822936053},null,{"$f":"IF(MNP_VR!C94<INPUT!$F$38*1000,MNP_VR!C94,INPUT!$F$38*1000)","v":2300},{"$f":"MNP_VR!Z94","v":780.9435589374159},{"$f":"(1.5/'FOGLIO DEPOSITO'!$F$391*MATERIALI!$J$78*(1+(ABS(K69)/(MNP_VR!$D$3*MNP_VR!$D$4*10^-6))/(1.5*MATERIALI!$J$78))^0.5)*(MNP_VR!$D$3*MNP_VR!$D$4*10^-6)","v":93.794926901956416},{"$f":"IF(MNP_VR!C94>INPUT!$F$38*1000,INPUT!$F$38*1000,MNP_VR!C94)","v":2300},{"$f":"IFERROR(('FOGLIO DEPOSITO'!$F$401+'FOGLIO DEPOSITO'!$F$399*'andamento taglio'!K69/('andamento taglio'!M69/1000*MNP_VR!$D$3*10^-3)/MATERIALI!$J$85)/'FOGLIO DEPOSITO'!$F$404*(M69/1000*MNP_VR!$D$3*10^-3),\"\")","v":183.273171637281},{"$f":"IFERROR((1/'FOGLIO DEPOSITO'!$F$391*MATERIALI!$J$83*0.1/2.3*(1+(ABS(K69)/(INPUT!$F$38*INPUT!$F$39))/(1*MATERIALI!$J$83*0.1))^0.5)*INPUT!$F$38*INPUT!$F$39,\"\")","v":393.65344842826192},93.794926901956416,93.794926901956416]
[{"$f":"IF(MNP_V!C95<INPUT!$F$38*1000,MNP_V!C95,INPUT!$F$38*1000)","v":2300},{"$f":"MNP_V!Z95","v":455.42295025268459},{"$f":"(1.5/'FOGLIO DEPOSITO'!$E$391*MATERIALI!$J$28*(1+(ABS(B70)/(INPUT!$F$38*INPUT!$F$39))/(1.5*MATERIALI!$J$28))^0.5)*INPUT!$F$38*INPUT!$F$39","v":54.706267361299361},{"$f":"IF(MNP_V!C95>INPUT!$F$38*1000,INPUT!$F$38*1000,MNP_V!C95)","v":2300},{"$f":"IFERROR(('FOGLIO DEPOSITO'!$E$401+'FOGLIO DEPOSITO'!$E$399*'andamento taglio'!B70/('andamento taglio'!D70/1000*INPUT!$F$39)/MATERIALI!$J$35)/'FOGLIO DEPOSITO'!$E$404*(D70/1000*INPUT!$F$39),\"\")","v":53.44192914812615},{"$f":"IFERROR((1/'FOGLIO DEPOSITO'!$E$391*MATERIALI!$J$33*0.1/2.3*(1+(ABS(B70)/(INPUT!$F$38*INPUT!$F$39))/(1*MATERIALI!$J$33*0.1))^0.5)*INPUT!$F$38*INPUT!$F$39,\"\")","v":355.08823641772358},53.44192914812615,53.44192914812615,null,{"$f":"IF(MNP_VR!C95<INPUT!$F$38*1000,MNP_VR!C95,INPUT!$F$38*1000)","v":2300},{"$f":"MNP_VR!Z95","v":780.96772840623987},{"$f":"(1.5/'FOGLIO DEPOSITO'!$F$391*MATERIALI!$J$78*(1+(ABS(K70)/(MNP_VR!$D$3*MNP_VR!$D$4*10^-6))/(1.5*MATERIALI!$J$78))^0.5)*(MNP_VR!$D$3*MNP_VR!$D$4*10^-6)","v":93.796337606935069},{"$f":"IF(MNP_VR!C95>INPUT!$F$38*1000,INPUT!$F$38*1000,MNP_VR!C95)","v":2300},{"$f":"IFERROR(('FOGLIO DEPOSITO'!$F$401+'FOGLIO DEPOSITO'!$F$399*'andamento taglio'!K70/('andamento taglio'!M70/1000*MNP_VR!$D$3*10^-3)/MATERIALI!$J$85)/'FOGLIO DEPOSITO'!$F$404*(M70/1000*MNP_VR!$D$3*10^-3),\"\")","v":183.27800553104581},{"$f":"IFERROR((1/'FOGLIO DEPOSITO'!$F$391*MATERIALI!$J$83*0.1/2.3*(1+(ABS(K70)/(INPUT!$F$38*INPUT!$F$39))/(1*MATERIALI!$J$83*0.1))^0.5)*INPUT!$F$38*INPUT!$F$39,\"\")","v":393.65617157343507},{"$f":"IF(N70=\"\",L70,MINA(L70,N70,O70))","v":93.796337606935069},93.796337606935069]
[{"$f":"IF(MNP_V!C96<INPUT!$F$38*1000,MNP_V!C96,INPUT!$F$38*1000)","v":2300},{"$f":"MNP_V!Z96","v":455.44314375712838},{"$f":"(1.5/'FOGLIO DEPOSITO'!$E$391*MATERIALI!$J$28*(1+(ABS(B71)/(INPUT!$F$38*INPUT!$F$39))/(1.5*MATERIALI!$J$28))^0.5)*INPUT!$F$38*INPUT!$F$39","v":54.707446156703483},{"$f":"IF(MNP_V!C96>INPUT!$F$38*1000,INPUT!$F$38*1000,MNP_V!C96)","v":2300},{"$f":"IFERROR(('FOGLIO DEPOSITO'!$E$401+'FOGLIO DEPOSITO'!$E$399*'andamento taglio'!B71/('andamento taglio'!D71/1000*INPUT!$F$39)/MATERIALI!$J$35)/'FOGLIO DEPOSITO'!$E$404*(D71/1000*INPUT!$F$39),\"\")","v":53.443948498570535},{"$f":"IFERROR((1/'FOGLIO DEPOSITO'!$E$391*MATERIALI!$J$33*0.1/2.3*(1+(ABS(B71)/(INPUT!$F$38*INPUT!$F$39))/(1*MATERIALI!$J$33*0.1))^0.5)*INPUT!$F$38*INPUT!$F$39,\"\")","v":355.09075869668783},53.443948498570535,53.443948498570535,null,{"$f":"IF(MNP_VR!C96<INPUT!$F$38*1000,MNP_VR!C96,INPUT!$F$38*1000)","v":2300},{"$f":"MNP_VR!Z96","v":780.98997298944664},{"$f":"(1.5/'FOGLIO DEPOSITO'!$F$391*MATERIALI!$J$78*(1+(ABS(K71)/(MNP_VR!$D$3*MNP_VR!$D$4*10^-6))/(1.5*MATERIALI!$J$78))^0.5)*(MNP_VR!$D$3*MNP_VR!$D$4*10^-6)","v":93.797635942920067},{"$f":"IF(MNP_VR!C96>INPUT!$F$38*1000,INPUT!$F$38*1000,MNP_VR!C96)","v":2300},{"$f":"IFERROR(('FOGLIO DEPOSITO'!$F$401+'FOGLIO DEPOSITO'!$F$399*'andamento taglio'!K71/('andamento taglio'!M71/1000*MNP_VR!$D$3*10^-3)/MATERIALI!$J$85)/'FOGLIO DEPOSITO'!$F$404*(M71/1000*MNP_VR!$D$3*10^-3),\"\")","v":183.28245444768714},{"$f":"IFERROR((1/'FOGLIO DEPOSITO'!$F$391*MATERIALI!$J$83*0.1/2.3*(1+(ABS(K71)/(INPUT!$F$38*INPUT!$F$39))/(1*MATERIALI!$J$83*0.1))^0.5)*INPUT!$F$38*INPUT!$F$39,\"\")","v":393.658677827399},93.797635942920067,93.797635942920067]
[{"$f":"IF(MNP_V!C97<INPUT!$F$38*1000,MNP_V!C97,INPUT!$F$38*1000)","v":2300},{"$f":"MNP_V!Z97","v":455.46179287095828},{"$f":"(1.5/'FOGLIO DEPOSITO'!$E$391*MATERIALI!$J$28*(1+(ABS(B72)/(INPUT!$F$38*INPUT!$F$39))/(1.5*MATERIALI!$J$28))^0.5)*INPUT!$F$38*INPUT!$F$39","v":54.708534775777679},{"$f":"IF(MNP_V!C97>INPUT!$F$38*1000,INPUT!$F$38*1000,MNP_V!C97)","v":2300},{"$f":"IFERROR(('FOGLIO DEPOSITO'!$E$401+'FOGLIO DEPOSITO'!$E$399*'andamento taglio'!B72/('andamento taglio'!D72/1000*INPUT!$F$39)/MATERIALI!$J$35)/'FOGLIO DEPOSITO'!$E$404*(D72/1000*INPUT!$F$39),\"\")","v":53.445813409953516},{"$f":"IFERROR((1/'FOGLIO DEPOSITO'!$E$391*MATERIALI!$J$33*0.1/2.3*(1+(ABS(B72)/(INPUT!$F$38*INPUT!$F$39))/(1*MATERIALI!$J$33*0.1))^0.5)*INPUT!$F$38*INPUT!$F$39,\"\")","v":355.09308805691859},53.445813409953516,53.445813409953516,null,{"$f":"IF(MNP_VR!C97<INPUT!$F$38*1000,MNP_VR!C97,INPUT!$F$38*1000)","v":2300},{"$f":"MNP_VR!Z97","v":781.01049179033282},{"$f":"(1.5/'FOGLIO DEPOSITO'!$F$391*MATERIALI!$J$78*(1+(ABS(K72)/(MNP_VR!$D$3*MNP_VR!$D$4*10^-6))/(1.5*MATERIALI!$J$78))^0.5)*(MNP_VR!$D$3*MNP_VR!$D$4*10^-6)","v":93.798833535289802},{"$f":"IF(MNP_VR!C97>INPUT!$F$38*1000,INPUT!$F$38*1000,MNP_VR!C97)","v":2300},{"$f":"IFERROR(('FOGLIO DEPOSITO'!$F$401+'FOGLIO DEPOSITO'!$F$399*'andamento taglio'!K72/('andamento taglio'!M72/1000*MNP_VR!$D$3*10^-3)/MATERIALI!$J$85)/'FOGLIO DEPOSITO'!$F$404*(M72/1000*MNP_VR!$D$3*10^-3),\"\")","v":183.28655820786437},{"$f":"IFERROR((1/'FOGLIO DEPOSITO'!$F$391*MATERIALI!$J$83*0.1/2.3*(1+(ABS(K72)/(INPUT!$F$38*INPUT!$F$39))/(1*MATERIALI!$J$83*0.1))^0.5)*INPUT!$F$38*INPUT!$F$39,\"\")","v":393.66098962667513},93.798833535289802,93.798833535289802]
[{"$f":"IF(MNP_V!C98<INPUT!$F$38*1000,MNP_V!C98,INPUT!$F$38*1000)","v":2300},{"$f":"MNP_V!Z98","v":455.4790511570489},{"$f":"(1.5/'FOGLIO DEPOSITO'!$E$391*MATERIALI!$J$28*(1+(ABS(B73)/(INPUT!$F$38*INPUT!$F$39))/(1.5*MATERIALI!$J$28))^0.5)*INPUT!$F$38*INPUT!$F$39","v":54.70954218769532},{"$f":"IF(MNP_V!C98>INPUT!$F$38*1000,INPUT!$F$38*1000,MNP_V!C98)","v":2300},{"$f":"IFERROR(('FOGLIO DEPOSITO'!$E$401+'FOGLIO DEPOSITO'!$E$399*'andamento taglio'!B73/('andamento taglio'!D73/1000*INPUT!$F$39)/MATERIALI!$J$35)/'FOGLIO DEPOSITO'!$E$404*(D73/1000*INPUT!$F$39),\"\")","v":53.447539238562584},{"$f":"IFERROR((1/'FOGLIO DEPOSITO'!$E$391*MATERIALI!$J$33*0.1/2.3*(1+(ABS(B73)/(INPUT!$F$38*INPUT!$F$39))/(1*MATERIALI!$J$33*0.1))^0.5)*INPUT!$F$38*INPUT!$F$39,\"\")","v":355.09524368274407},53.447539238562584,53.447539238562584,null,{"$f":"IF(MNP_VR!C98<INPUT!$F$38*1000,MNP_VR!C98,INPUT!$F$38*1000)","v":2300},{"$f":"MNP_VR!Z98","v":781.02945881926894},{"$f":"(1.5/'FOGLIO DEPOSITO'!$F$391*MATERIALI!$J$78*(1+(ABS(K73)/(MNP_VR!$D$3*MNP_VR!$D$4*10^-6))/(1.5*MATERIALI!$J$78))^0.5)*(MNP_VR!$D$3*MNP_VR!$D$4*10^-6)","v":93.799940543940622},{"$f":"IF(MNP_VR!C98>INPUT!$F$38*1000,INPUT!$F$38*1000,MNP_VR!C98)","v":2300},{"$f":"IFERROR(('FOGLIO DEPOSITO'!$F$401+'FOGLIO DEPOSITO'!$F$399*'andamento taglio'!K73/('andamento taglio'!M73/1000*MNP_VR!$D$3*10^-3)/MATERIALI!$J$85)/'FOGLIO DEPOSITO'!$F$404*(M73/1000*MNP_VR!$D$3*10^-3),\"\")","v":183.29035161365161},{"$f":"IFERROR((1/'FOGLIO DEPOSITO'!$F$391*MATERIALI!$J$83*0.1/2.3*(1+(ABS(K73)/(INPUT!$F$38*INPUT!$F$39))/(1*MATERIALI!$J$83*0.1))^0.5)*INPUT!$F$38*INPUT!$F$39,\"\")","v":393.66312657981609},93.799940543940622,93.799940543940622]
[{"$f":"IF(MNP_V!C99<INPUT!$F$38*1000,MNP_V!C99,INPUT!$F$38*1000)","v":2300},{"$f":"MNP_V!Z99","v":455.49505355567533},{"$f":"(1.5/'FOGLIO DEPOSITO'!$E$391*MATERIALI!$J$28*(1+(ABS(B74)/(INPUT!$F$38*INPUT!$F$39))/(1.5*MATERIALI!$J$28))^0.5)*INPUT!$F$38*INPUT!$F$39","v":54.71047627355756},{"$f":"IF(MNP_V!C99>INPUT!$F$38*1000,INPUT!$F$38*1000,MNP_V!C99)","v":2300},{"$f":"IFERROR(('FOGLIO DEPOSITO'!$E$401+'FOGLIO DEPOSITO'!$E$399*'andamento taglio'!B74/('andamento taglio'!D74/1000*INPUT!$F$39)/MATERIALI!$J$35)/'FOGLIO DEPOSITO'!$E$404*(D74/1000*INPUT!$F$39),\"\")","v":53.449139478425224},{"$f":"IFERROR((1/'FOGLIO DEPOSITO'!$E$391*MATERIALI!$J$33*0.1/2.3*(1+(ABS(B74)/(INPUT!$F$38*INPUT!$F$39))/(1*MATERIALI!$J$33*0.1))^0.5)*INPUT!$F$38*INPUT!$F$39,\"\")","v":355.09724243173821},53.449139478425224,53.449139478425224,null,{"$f":"IF(MNP_VR!C99<INPUT!$F$38*1000,MNP_VR!C99,INPUT!$F$38*1000)","v":2300},{"$f":"MNP_VR!Z99","v":781.04702669515359},{"$f":"(1.5/'FOGLIO DEPOSITO'!$F$391*MATERIALI!$J$78*(1+(ABS(K74)/(MNP_VR!$D$3*MNP_VR!$D$4*10^-6))/(1.5*MATERIALI!$J$78))^0.5)*(MNP_VR!$D$3*MNP_VR!$D$4*10^-6)","v":93.800965879516113},{"$f":"IF(MNP_VR!C99>INPUT!$F$38*1000,INPUT!$F$38*1000,MNP_VR!C99)","v":2300},{"$f":"IFERROR(('FOGLIO DEPOSITO'!$F$401+'FOGLIO DEPOSITO'!$F$399*'andamento taglio'!K74/('andamento taglio'!M74/1000*MNP_VR!$D$3*10^-3)/MATERIALI!$J$85)/'FOGLIO DEPOSITO'!$F$404*(M74/1000*MNP_VR!$D$3*10^-3),\"\")","v":183.29386518882853},{"$f":"IFERROR((1/'FOGLIO DEPOSITO'!$F$391*MATERIALI!$J$83*0.1/2.3*(1+(ABS(K74)/(INPUT!$F$38*INPUT!$F$39))/(1*MATERIALI!$J$83*0.1))^0.5)*INPUT!$F$38*INPUT!$F$39,\"\")","v":393.66510588460886},93.800965879516113,{"$f":"P74","v":93.800965879516113}]
[{"$f":"IF(MNP_V!C100<INPUT!$F$38*1000,MNP_V!C100,INPUT!$F$38*1000)","v":2300},{"$f":"MNP_V!Z100","v":455.50991903025601},{"$f":"(1.5/'FOGLIO DEPOSITO'!$E$391*MATERIALI!$J$28*(1+(ABS(B75)/(INPUT!$F$38*INPUT!$F$39))/(1.5*MATERIALI!$J$28))^0.5)*INPUT!$F$38*INPUT!$F$39","v":54.711343981038027},{"$f":"IF(MNP_V!C100>INPUT!$F$38*1000,INPUT!$F$38*1000,MNP_V!C100)","v":2300},{"$f":"IFERROR(('FOGLIO DEPOSITO'!$E$401+'FOGLIO DEPOSITO'!$E$399*'andamento taglio'!B75/('andamento taglio'!D75/1000*INPUT!$F$39)/MATERIALI!$J$35)/'FOGLIO DEPOSITO'!$E$404*(D75/1000*INPUT!$F$39),\"\")","v":53.450626025883295},{"$f":"IFERROR((1/'FOGLIO DEPOSITO'!$E$391*MATERIALI!$J$33*0.1/2.3*(1+(ABS(B75)/(INPUT!$F$38*INPUT!$F$39))/(1*MATERIALI!$J$33*0.1))^0.5)*INPUT!$F$38*INPUT!$F$39,\"\")","v":355.09909916532916},53.450626025883295,53.450626025883295,null,{"$f":"IF(MNP_VR!C100<INPUT!$F$38*1000,MNP_VR!C100,INPUT!$F$38*1000)","v":2300},{"$f":"MNP_VR!Z100","v":781.06332972518203},{"$f":"(1.5/'FOGLIO DEPOSITO'!$F$391*MATERIALI!$J$78*(1+(ABS(K75)/(MNP_VR!$D$3*MNP_VR!$D$4*10^-6))/(1.5*MATERIALI!$J$78))^0.5)*(MNP_VR!$D$3*MNP_VR!$D$4*10^-6)","v":93.80191738330879},{"$f":"IF(MNP_VR!C100>INPUT!$F$38*1000,INPUT!$F$38*1000,MNP_VR!C100)","v":2300},{"$f":"IFERROR(('FOGLIO DEPOSITO'!$F$401+'FOGLIO DEPOSITO'!$F$399*'andamento taglio'!K75/('andamento taglio'!M75/1000*MNP_VR!$D$3*10^-3)/MATERIALI!$J$85)/'FOGLIO DEPOSITO'!$F$404*(M75/1000*MNP_VR!$D$3*10^-3),\"\")","v":183.29712579483419},{"$f":"IFERROR((1/'FOGLIO DEPOSITO'!$F$391*MATERIALI!$J$83*0.1/2.3*(1+(ABS(K75)/(INPUT!$F$38*INPUT!$F$39))/(1*MATERIALI!$J$83*0.1))^0.5)*INPUT!$F$38*INPUT!$F$39,\"\")","v":393.66694267519665},93.80191738330879,93.80191738330879]
[{"$f":"IF(MNP_V!C101<INPUT!$F$38*1000,MNP_V!C101,INPUT!$F$38*1000)","v":2300},{"$f":"MNP_V!Z101","v":455.52375278472641},{"$f":"(1.5/'FOGLIO DEPOSITO'!$E$391*MATERIALI!$J$28*(1+(ABS(B76)/(INPUT!$F$38*INPUT!$F$39))/(1.5*MATERIALI!$J$28))^0.5)*INPUT!$F$38*INPUT!$F$39","v":54.712151453978507},{"$f":"IF(MNP_V!C101>INPUT!$F$38*1000,INPUT!$F$38*1000,MNP_V!C101)","v":2300},{"$f":"IFERROR(('FOGLIO DEPOSITO'!$E$401+'FOGLIO DEPOSITO'!$E$399*'andamento taglio'!B76/('andamento taglio'!D76/1000*INPUT!$F$39)/MATERIALI!$J$35)/'FOGLIO DEPOSITO'!$E$404*(D76/1000*INPUT!$F$39),\"\")","v":53.452009401330336},{"$f":"IFERROR((1/'FOGLIO DEPOSITO'!$E$391*MATERIALI!$J$33*0.1/2.3*(1+(ABS(B76)/(INPUT!$F$38*INPUT!$F$39))/(1*MATERIALI!$J$33*0.1))^0.5)*INPUT!$F$38*INPUT!$F$39,\"\")","v":355.10082702587141},53.452009401330336,53.452009401330336,null,{"$f":"IF(MNP_VR!C101<INPUT!$F$38*1000,MNP_VR!C101,INPUT!$F$38*1000)","v":2300},{"$f":"MNP_VR!Z101","v":781.07848647945968},{"$f":"(1.5/'FOGLIO DEPOSITO'!$F$391*MATERIALI!$J$78*(1+(ABS(K76)/(MNP_VR!$D$3*MNP_VR!$D$4*10^-6))/(1.5*MATERIALI!$J$78))^0.5)*(MNP_VR!$D$3*MNP_VR!$D$4*10^-6)","v":93.802801977645444},{"$f":"IF(MNP_VR!C101>INPUT!$F$38*1000,INPUT!$F$38*1000,MNP_VR!C101)","v":2300},{"$f":"IFERROR(('FOGLIO DEPOSITO'!$F$401+'FOGLIO DEPOSITO'!$F$399*'andamento taglio'!K76/('andamento taglio'!M76/1000*MNP_VR!$D$3*10^-3)/MATERIALI!$J$85)/'FOGLIO DEPOSITO'!$F$404*(M76/1000*MNP_VR!$D$3*10^-3),\"\")","v":183.30015714568975},{"$f":"IFERROR((1/'FOGLIO DEPOSITO'!$F$391*MATERIALI!$J$83*0.1/2.3*(1+(ABS(K76)/(INPUT!$F$38*INPUT!$F$39))/(1*MATERIALI!$J$83*0.1))^0.5)*INPUT!$F$38*INPUT!$F$39,\"\")","v":393.66865031225672},93.802801977645444,93.802801977645444]
[{"$f":"IF(MNP_V!C102<INPUT!$F$38*1000,MNP_V!C102,INPUT!$F$38*1000)","v":2300},{"$f":"MNP_V!Z102","v":455.5366481300124},{"$f":"(1.5/'FOGLIO DEPOSITO'!$E$391*MATERIALI!$J$28*(1+(ABS(B77)/(INPUT!$F$38*INPUT!$F$39))/(1.5*MATERIALI!$J$28))^0.5)*INPUT!$F$38*INPUT!$F$39","v":54.712904141467462},{"$f":"IF(MNP_V!C102>INPUT!$F$38*1000,INPUT!$F$38*1000,MNP_V!C102)","v":2300},{"$f":"IFERROR(('FOGLIO DEPOSITO'!$E$401+'FOGLIO DEPOSITO'!$E$399*'andamento taglio'!B77/('andamento taglio'!D77/1000*INPUT!$F$39)/MATERIALI!$J$35)/'FOGLIO DEPOSITO'!$E$404*(D77/1000*INPUT!$F$39),\"\")","v":53.453298935858939},{"$f":"IFERROR((1/'FOGLIO DEPOSITO'!$E$391*MATERIALI!$J$33*0.1/2.3*(1+(ABS(B77)/(INPUT!$F$38*INPUT!$F$39))/(1*MATERIALI!$J$33*0.1))^0.5)*INPUT!$F$38*INPUT!$F$39,\"\")","v":355.10243766986588},53.453298935858939,53.453298935858939,null,{"$f":"IF(MNP_VR!C102<INPUT!$F$38*1000,MNP_VR!C102,INPUT!$F$38*1000)","v":2300},{"$f":"MNP_VR!Z102","v":781.09260195298384},{"$f":"(1.5/'FOGLIO DEPOSITO'!$F$391*MATERIALI!$J$78*(1+(ABS(K77)/(MNP_VR!$D$3*MNP_VR!$D$4*10^-6))/(1.5*MATERIALI!$J$78))^0.5)*(MNP_VR!$D$3*MNP_VR!$D$4*10^-6)","v":93.803625792164311},{"$f":"IF(MNP_VR!C102>INPUT!$F$38*1000,INPUT!$F$38*1000,MNP_VR!C102)","v":2300},{"$f":"IFERROR(('FOGLIO DEPOSITO'!$F$401+'FOGLIO DEPOSITO'!$F$399*'andamento taglio'!K77/('andamento taglio'!M77/1000*MNP_VR!$D$3*10^-3)/MATERIALI!$J$85)/'FOGLIO DEPOSITO'!$F$404*(M77/1000*MNP_VR!$D$3*10^-3),\"\")","v":183.30298024039459},{"$f":"IFERROR((1/'FOGLIO DEPOSITO'!$F$391*MATERIALI!$J$83*0.1/2.3*(1+(ABS(K77)/(INPUT!$F$38*INPUT!$F$39))/(1*MATERIALI!$J$83*0.1))^0.5)*INPUT!$F$38*INPUT!$F$39,\"\")","v":393.67024062666724},93.803625792164311,93.803625792164311]
[{"$f":"IF(MNP_V!C103<INPUT!$F$38*1000,MNP_V!C103,INPUT!$F$38*1000)","v":2300},{"$f":"MNP_V!Z103","v":455.5486880616607},{"$f":"(1.5/'FOGLIO DEPOSITO'!$E$391*MATERIALI!$J$28*(1+(ABS(B78)/(INPUT!$F$38*INPUT!$F$39))/(1.5*MATERIALI!$J$28))^0.5)*INPUT!$F$38*INPUT!$F$39","v":54.713606890031741},{"$f":"IF(MNP_V!C103>INPUT!$F$38*1000,INPUT!$F$38*1000,MNP_V!C103)","v":2300},{"$f":"IFERROR(('FOGLIO DEPOSITO'!$E$401+'FOGLIO DEPOSITO'!$E$399*'andamento taglio'!B78/('andamento taglio'!D78/1000*INPUT!$F$39)/MATERIALI!$J$35)/'FOGLIO DEPOSITO'!$E$404*(D78/1000*INPUT!$F$39),\"\")","v":53.454502929023754},{"$f":"IFERROR((1/'FOGLIO DEPOSITO'!$E$391*MATERIALI!$J$33*0.1/2.3*(1+(ABS(B78)/(INPUT!$F$38*INPUT!$F$39))/(1*MATERIALI!$J$33*0.1))^0.5)*INPUT!$F$38*INPUT!$F$39,\"\")","v":355.10394146508304},53.454502929023754,53.454502929023754,null,{"$f":"IF(MNP_VR!C103<INPUT!$F$38*1000,MNP_VR!C103,INPUT!$F$38*1000)","v":2300},{"$f":"MNP_VR!Z103","v":781.10576938887527},{"$f":"(1.5/'FOGLIO DEPOSITO'!$F$391*MATERIALI!$J$78*(1+(ABS(K78)/(MNP_VR!$D$3*MNP_VR!$D$4*10^-6))/(1.5*MATERIALI!$J$78))^0.5)*(MNP_VR!$D$3*MNP_VR!$D$4*10^-6)","v":93.804394270301316},{"$f":"IF(MNP_VR!C103>INPUT!$F$38*1000,INPUT!$F$38*1000,MNP_VR!C103)","v":2300},{"$f":"IFERROR(('FOGLIO DEPOSITO'!$F$401+'FOGLIO DEPOSITO'!$F$399*'andamento taglio'!K78/('andamento taglio'!M78/1000*MNP_VR!$D$3*10^-3)/MATERIALI!$J$85)/'FOGLIO DEPOSITO'!$F$404*(M78/1000*MNP_VR!$D$3*10^-3),\"\")","v":183.30561372757288},{"$f":"IFERROR((1/'FOGLIO DEPOSITO'!$F$391*MATERIALI!$J$83*0.1/2.3*(1+(ABS(K78)/(INPUT!$F$38*INPUT!$F$39))/(1*MATERIALI!$J$83*0.1))^0.5)*INPUT!$F$38*INPUT!$F$39,\"\")","v":393.67172412498985},93.804394270301316,93.804394270301316]
[{"$f":"IF(MNP_V!C104<INPUT!$F$38*1000,MNP_V!C104,INPUT!$F$38*1000)","v":2300},{"$f":"MNP_V!Z104","v":455.55994659860522},{"$f":"(1.5/'FOGLIO DEPOSITO'!$E$391*MATERIALI!$J$28*(1+(ABS(B79)/(INPUT!$F$38*INPUT!$F$39))/(1.5*MATERIALI!$J$28))^0.5)*INPUT!$F$38*INPUT!$F$39","v":54.714264021864544},{"$f":"IF(MNP_V!C104>INPUT!$F$38*1000,INPUT!$F$38*1000,MNP_V!C104)","v":2300},{"$f":"IFERROR(('FOGLIO DEPOSITO'!$E$401+'FOGLIO DEPOSITO'!$E$399*'andamento taglio'!B79/('andamento taglio'!D79/1000*INPUT!$F$39)/MATERIALI!$J$35)/'FOGLIO DEPOSITO'!$E$404*(D79/1000*INPUT!$F$39),\"\")","v":53.455628782718208},{"$f":"IFERROR((1/'FOGLIO DEPOSITO'!$E$391*MATERIALI!$J$33*0.1/2.3*(1+(ABS(B79)/(INPUT!$F$38*INPUT!$F$39))/(1*MATERIALI!$J$33*0.1))^0.5)*INPUT!$F$38*INPUT!$F$39,\"\")","v":355.10534765783672},53.455628782718208,53.455628782718208,null,{"$f":"IF(MNP_VR!C104<INPUT!$F$38*1000,MNP_VR!C104,INPUT!$F$38*1000)","v":2300},{"$f":"MNP_VR!Z104","v":781.11807182219354},{"$f":"(1.5/'FOGLIO DEPOSITO'!$F$391*MATERIALI!$J$78*(1+(ABS(K79)/(MNP_VR!$D$3*MNP_VR!$D$4*10^-6))/(1.5*MATERIALI!$J$78))^0.5)*(MNP_VR!$D$3*MNP_VR!$D$4*10^-6)","v":93.805112259453338},{"$f":"IF(MNP_VR!C104>INPUT!$F$38*1000,INPUT!$F$38*1000,MNP_VR!C104)","v":2300},{"$f":"IFERROR(('FOGLIO DEPOSITO'!$F$401+'FOGLIO DEPOSITO'!$F$399*'andamento taglio'!K79/('andamento taglio'!M79/1000*MNP_VR!$D$3*10^-3)/MATERIALI!$J$85)/'FOGLIO DEPOSITO'!$F$404*(M79/1000*MNP_VR!$D$3*10^-3),\"\")","v":183.30807421423651},{"$f":"IFERROR((1/'FOGLIO DEPOSITO'!$F$391*MATERIALI!$J$83*0.1/2.3*(1+(ABS(K79)/(INPUT!$F$38*INPUT!$F$39))/(1*MATERIALI!$J$83*0.1))^0.5)*INPUT!$F$38*INPUT!$F$39,\"\")","v":393.6731101634582},93.805112259453338,93.805112259453338]
[{"$f":"IF(MNP_V!C105<INPUT!$F$38*1000,MNP_V!C105,INPUT!$F$38*1000)","v":2300},{"$f":"MNP_V!Z105","v":455.57048992352424},{"$f":"(1.5/'FOGLIO DEPOSITO'!$E$391*MATERIALI!$J$28*(1+(ABS(B80)/(INPUT!$F$38*INPUT!$F$39))/(1.5*MATERIALI!$J$28))^0.5)*INPUT!$F$38*INPUT!$F$39","v":54.714879401455562},{"$f":"IF(MNP_V!C105>INPUT!$F$38*1000,INPUT!$F$38*1000,MNP_V!C105)","v":2300},{"$f":"IFERROR(('FOGLIO DEPOSITO'!$E$401+'FOGLIO DEPOSITO'!$E$399*'andamento taglio'!B80/('andamento taglio'!D80/1000*INPUT!$F$39)/MATERIALI!$J$35)/'FOGLIO DEPOSITO'!$E$404*(D80/1000*INPUT!$F$39),\"\")","v":53.456683115210112},{"$f":"IFERROR((1/'FOGLIO DEPOSITO'!$E$391*MATERIALI!$J$33*0.1/2.3*(1+(ABS(B80)/(INPUT!$F$38*INPUT!$F$39))/(1*MATERIALI!$J$33*0.1))^0.5)*INPUT!$F$38*INPUT!$F$39,\"\")","v":355.10666451546479},53.456683115210112,53.456683115210112,null,{"$f":"IF(MNP_VR!C105<INPUT!$F$38*1000,MNP_VR!C105,INPUT!$F$38*1000)","v":2300},{"$f":"MNP_VR!Z105","v":781.12958339222098},{"$f":"(1.5/'FOGLIO DEPOSITO'!$F$391*MATERIALI!$J$78*(1+(ABS(K80)/(MNP_VR!$D$3*MNP_VR!$D$4*10^-6))/(1.5*MATERIALI!$J$78))^0.5)*(MNP_VR!$D$3*MNP_VR!$D$4*10^-6)","v":93.805784087616146},{"$f":"IF(MNP_VR!C105>INPUT!$F$38*1000,INPUT!$F$38*1000,MNP_VR!C105)","v":2300},{"$f":"IFERROR(('FOGLIO DEPOSITO'!$F$401+'FOGLIO DEPOSITO'!$F$399*'andamento taglio'!K80/('andamento taglio'!M80/1000*MNP_VR!$D$3*10^-3)/MATERIALI!$J$85)/'FOGLIO DEPOSITO'!$F$404*(M80/1000*MNP_VR!$D$3*10^-3),\"\")","v":183.31037652824202},{"$f":"IFERROR((1/'FOGLIO DEPOSITO'!$F$391*MATERIALI!$J$83*0.1/2.3*(1+(ABS(K80)/(INPUT!$F$38*INPUT!$F$39))/(1*MATERIALI!$J$83*0.1))^0.5)*INPUT!$F$38*INPUT!$F$39,\"\")","v":393.67440709587049},93.805784087616146,93.805784087616146]
[{"$f":"IF(MNP_V!C106<INPUT!$F$38*1000,MNP_V!C106,INPUT!$F$38*1000)","v":2300},{"$f":"MNP_V!Z106","v":455.58037735769665},{"$f":"(1.5/'FOGLIO DEPOSITO'!$E$391*MATERIALI!$J$28*(1+(ABS(B81)/(INPUT!$F$38*INPUT!$F$39))/(1.5*MATERIALI!$J$28))^0.5)*INPUT!$F$38*INPUT!$F$39","v":54.715456492547844},{"$f":"IF(MNP_V!C106>INPUT!$F$38*1000,INPUT!$F$38*1000,MNP_V!C106)","v":2300},{"$f":"IFERROR(('FOGLIO DEPOSITO'!$E$401+'FOGLIO DEPOSITO'!$E$399*'andamento taglio'!B81/('andamento taglio'!D81/1000*INPUT!$F$39)/MATERIALI!$J$35)/'FOGLIO DEPOSITO'!$E$404*(D81/1000*INPUT!$F$39),\"\")","v":53.457671858627357},{"$f":"IFERROR((1/'FOGLIO DEPOSITO'!$E$391*MATERIALI!$J$33*0.1/2.3*(1+(ABS(B81)/(INPUT!$F$38*INPUT!$F$39))/(1*MATERIALI!$J$33*0.1))^0.5)*INPUT!$F$38*INPUT!$F$39,\"\")","v":355.10789944812876},53.457671858627357,53.457671858627357,null,{"$f":"IF(MNP_VR!C106<INPUT!$F$38*1000,MNP_VR!C106,INPUT!$F$38*1000)","v":2300},{"$f":"MNP_VR!Z106","v":781.14037046206624},{"$f":"(1.5/'FOGLIO DEPOSITO'!$F$391*MATERIALI!$J$78*(1+(ABS(K81)/(MNP_VR!$D$3*MNP_VR!$D$4*10^-6))/(1.5*MATERIALI!$J$78))^0.5)*(MNP_VR!$D$3*MNP_VR!$D$4*10^-6)","v":93.806413628767316},{"$f":"IF(MNP_VR!C106>INPUT!$F$38*1000,INPUT!$F$38*1000,MNP_VR!C106)","v":2300},{"$f":"IFERROR(('FOGLIO DEPOSITO'!$F$401+'FOGLIO DEPOSITO'!$F$399*'andamento taglio'!K81/('andamento taglio'!M81/1000*MNP_VR!$D$3*10^-3)/MATERIALI!$J$85)/'FOGLIO DEPOSITO'!$F$404*(M81/1000*MNP_VR!$D$3*10^-3),\"\")","v":183.31253394221108},{"$f":"IFERROR((1/'FOGLIO DEPOSITO'!$F$391*MATERIALI!$J$83*0.1/2.3*(1+(ABS(K81)/(INPUT!$F$38*INPUT!$F$39))/(1*MATERIALI!$J$83*0.1))^0.5)*INPUT!$F$38*INPUT!$F$39,\"\")","v":393.67562239976417},93.806413628767316,93.806413628767316]
[{"$f":"IF(MNP_V!C107<INPUT!$F$38*1000,MNP_V!C107,INPUT!$F$38*1000)","v":2300},{"$f":"MNP_V!Z107","v":455.58966219724857},{"$f":"(1.5/'FOGLIO DEPOSITO'!$E$391*MATERIALI!$J$28*(1+(ABS(B82)/(INPUT!$F$38*INPUT!$F$39))/(1.5*MATERIALI!$J$28))^0.5)*INPUT!$F$38*INPUT!$F$39","v":54.715998406993428},{"$f":"IF(MNP_V!C107>INPUT!$F$38*1000,INPUT!$F$38*1000,MNP_V!C107)","v":2300},{"$f":"IFERROR(('FOGLIO DEPOSITO'!$E$401+'FOGLIO DEPOSITO'!$E$399*'andamento taglio'!B82/('andamento taglio'!D82/1000*INPUT!$F$39)/MATERIALI!$J$35)/'FOGLIO DEPOSITO'!$E$404*(D82/1000*INPUT!$F$39),\"\")","v":53.45860034258255},{"$f":"IFERROR((1/'FOGLIO DEPOSITO'!$E$391*MATERIALI!$J$33*0.1/2.3*(1+(ABS(B82)/(INPUT!$F$38*INPUT!$F$39))/(1*MATERIALI!$J$33*0.1))^0.5)*INPUT!$F$38*INPUT!$F$39,\"\")","v":355.10905911329399},53.45860034258255,53.45860034258255,null,{"$f":"IF(MNP_VR!C107<INPUT!$F$38*1000,MNP_VR!C107,INPUT!$F$38*1000)","v":2300},{"$f":"MNP_VR!Z107","v":781.15049257725627},{"$f":"(1.5/'FOGLIO DEPOSITO'!$F$391*MATERIALI!$J$78*(1+(ABS(K82)/(MNP_VR!$D$3*MNP_VR!$D$4*10^-6))/(1.5*MATERIALI!$J$78))^0.5)*(MNP_VR!$D$3*MNP_VR!$D$4*10^-6)","v":93.807004358844551},{"$f":"IF(MNP_VR!C107>INPUT!$F$38*1000,INPUT!$F$38*1000,MNP_VR!C107)","v":2300},{"$f":"IFERROR(('FOGLIO DEPOSITO'!$F$401+'FOGLIO DEPOSITO'!$F$399*'andamento taglio'!K82/('andamento taglio'!M82/1000*MNP_VR!$D$3*10^-3)/MATERIALI!$J$85)/'FOGLIO DEPOSITO'!$F$404*(M82/1000*MNP_VR!$D$3*10^-3),\"\")","v":183.31455836524904},{"$f":"IFERROR((1/'FOGLIO DEPOSITO'!$F$391*MATERIALI!$J$83*0.1/2.3*(1+(ABS(K82)/(INPUT!$F$38*INPUT!$F$39))/(1*MATERIALI!$J$83*0.1))^0.5)*INPUT!$F$38*INPUT!$F$39,\"\")","v":393.67676278444452},93.807004358844551,93.807004358844551]
[{"$f":"IF(MNP_V!C107<INPUT!$F$38*1000,MNP_V!C107,INPUT!$F$38*1000)","v":2300},{"$f":"MNP_V!Z107","v":455.58966219724857},{"$f":"(1.5/'FOGLIO DEPOSITO'!$E$391*MATERIALI!$J$28*(1+(ABS(B83)/(INPUT!$F$38*INPUT!$F$39))/(1.5*MATERIALI!$J$28))^0.5)*INPUT!$F$38*INPUT!$F$39","v":54.715998406993428},{"$f":"IF(MNP_V!C108>INPUT!$F$38*1000,INPUT!$F$38*1000,MNP_V!C108)","v":2300},{"$f":"IFERROR(('FOGLIO DEPOSITO'!$E$401+'FOGLIO DEPOSITO'!$E$399*'andamento taglio'!B83/('andamento taglio'!D83/1000*INPUT!$F$39)/MATERIALI!$J$35)/'FOGLIO DEPOSITO'!$E$404*(D83/1000*INPUT!$F$39),\"\")","v":53.45860034258255},{"$f":"IFERROR((1/'FOGLIO DEPOSITO'!$E$391*MATERIALI!$J$33*0.1/2.3*(1+(ABS(B83)/(INPUT!$F$38*INPUT!$F$39))/(1*MATERIALI!$J$33*0.1))^0.5)*INPUT!$F$38*INPUT!$F$39,\"\")","v":355.10905911329399},{"$f":"IF(E83=\"\",C83,MINA(C83,E83,F83))","v":53.45860034258255},{"$f":"G83","v":53.45860034258255},null,{"$f":"IF(MNP_VR!C107<INPUT!$F$38*1000,MNP_VR!C107,INPUT!$F$38*1000)","v":2300},{"$f":"MNP_VR!Z107","v":781.15049257725627},{"$f":"(1.5/'FOGLIO DEPOSITO'!$F$391*MATERIALI!$J$78*(1+(ABS(K83)/(MNP_VR!$D$3*MNP_VR!$D$4*10^-6))/(1.5*MATERIALI!$J$78))^0.5)*(MNP_VR!$D$3*MNP_VR!$D$4*10^-6)","v":93.807004358844551},{"$f":"IF(MNP_VR!C108>INPUT!$F$38*1000,INPUT!$F$38*1000,MNP_VR!C108)","v":2300},{"$f":"IFERROR(('FOGLIO DEPOSITO'!$F$401+'FOGLIO DEPOSITO'!$F$399*'andamento taglio'!K83/('andamento taglio'!M83/1000*MNP_VR!$D$3*10^-3)/MATERIALI!$J$85)/'FOGLIO DEPOSITO'!$F$404*(M83/1000*MNP_VR!$D$3*10^-3),\"\")","v":183.31455836524904},{"$f":"IFERROR((1/'FOGLIO DEPOSITO'!$F$391*MATERIALI!$J$83*0.1/2.3*(1+(ABS(K83)/(INPUT!$F$38*INPUT!$F$39))/(1*MATERIALI!$J$83*0.1))^0.5)*INPUT!$F$38*INPUT!$F$39,\"\")","v":393.67676278444452},{"$f":"IF(N83=\"\",L83,MINA(L83,N83,O83))","v":93.807004358844551},{"$f":"P83","v":93.807004358844551}]
[{"$f":"IF(MNP_V!C108<INPUT!$F$38*1000,MNP_V!C108,INPUT!$F$38*1000)","v":2300},{"$f":"MNP_V!Z108","v":455.80888888888887},{"$f":"(1.5/'FOGLIO DEPOSITO'!$E$391*MATERIALI!$J$28*(1+(ABS(B84)/(INPUT!$F$38*INPUT!$F$39))/(1.5*MATERIALI!$J$28))^0.5)*INPUT!$F$38*INPUT!$F$39","v":54.728792126754179},{"$f":"IF(MNP_V!C109>INPUT!$F$38*1000,INPUT!$F$38*1000,MNP_V!C109)","v":0},{"$f":"IFERROR(('FOGLIO DEPOSITO'!$E$401+'FOGLIO DEPOSITO'!$E$399*'andamento taglio'!B84/('andamento taglio'!D84/1000*INPUT!$F$39)/MATERIALI!$J$85)/'FOGLIO DEPOSITO'!$E$404*(D84/1000*INPUT!$F$39),\"\")","v":""},{"$f":"IFERROR((1/'FOGLIO DEPOSITO'!$E$391*MATERIALI!$J$33*0.1/2.3*(1+(ABS(B84)/(INPUT!$F$38*INPUT!$F$39))/(1*MATERIALI!$J$33*0.1))^0.5)*INPUT!$F$38*INPUT!$F$39,\"\")","v":355.13643916014161},54.728792126754179,0,null,{"$f":"IF(MNP_VR!C108<INPUT!$F$38*1000,MNP_VR!C108,INPUT!$F$38*1000)","v":2300},{"$f":"MNP_VR!Z108","v":781.38666666666654},{"$f":"(1.5/'FOGLIO DEPOSITO'!$F$391*MATERIALI!$J$78*(1+(ABS(K84)/(MNP_VR!$D$3*MNP_VR!$D$4*10^-6))/(1.5*MATERIALI!$J$78))^0.5)*(MNP_VR!$D$3*MNP_VR!$D$4*10^-6)","v":93.820786503007142},{"$f":"IF(MNP_VR!C109>INPUT!$F$38*1000,INPUT!$F$38*1000,MNP_VR!C109)","v":0},{"$f":"IFERROR(('FOGLIO DEPOSITO'!$F$401+'FOGLIO DEPOSITO'!$F$399*'andamento taglio'!K84/('andamento taglio'!M84/1000*MNP_VR!$D$3*10^-3)/MATERIALI!$J$85)/'FOGLIO DEPOSITO'!$F$404*(M84/1000*MNP_VR!$D$3*10^-3),\"\")","v":""},{"$f":"IFERROR((1/'FOGLIO DEPOSITO'!$F$391*MATERIALI!$J$83*0.1/2.3*(1+(ABS(K84)/(INPUT!$F$38*INPUT!$F$39))/(1*MATERIALI!$J$83*0.1))^0.5)*INPUT!$F$38*INPUT!$F$39,\"\")","v":393.70336985393379},{"$f":"IF(N84=\"\",L84,MINA(L84,N84,O84))","v":93.820786503007142},0]

{"sheet":"NEL PIANO","index":5,"n_rows":133,"n_cols":10,"rows_kept":133,"cut":false,"hidden":false,"merged":[[101,6,101,7],[103,6,103,9],[1,1,1,9],[95,6,95,9],[97,6,97,9],[98,6,98,7],[99,6,99,7],[100,6,100,7],[90,6,90,7],[91,6,91,7],[92,6,92,7],[93,6,93,7],[94,6,94,7],[85,6,85,7],[86,6,86,7],[87,6,87,7],[88,6,88,7],[89,6,89,7],[78,6,78,7],[80,6,80,9],[82,6,82,7],[83,6,83,7],[84,6,84,7],[73,6,73,7],[75,6,75,7],[76,6,76,7],[77,6,77,7],[68,1,68,4],[68,6,68,9],[70,6,70,9],[72,6,72,7],[78,1,78,2],[70,1,70,4],[72,1,72,2],[73,1,73,2],[6,6,6,9],[100,1,100,2],[101,1,101,2],[80,1,80,4],[74,1,74,2],[91,1,91,2],[85,1,85,2],[88,1,88,2],[82,1,82,2],[76,1,76,2],[75,1,75,2],[77,1,77,2],[90,1,90,2],[92,1,92,2],[95,1,95,4],[65,6,65,7],[62,6,62,7],[64,6,64,7],[63,6,63,7],[61,6,61,7],[59,6,59,7],[83,1,83,2],[93,1,93,2],[94,1,94,2],[130,6,130,7],[131,6,131,7],[132,6,132,7],[125,6,125,9],[126,6,126,7],[128,6,128,7],[129,6,129,7],[66,6,66,7],[132,1,132,2],[131,1,131,2],[125,1,125,4],[128,1,128,2],[130,1,130,2],[129,1,129,2],[126,1,126,2],[103,1,103,4],[99,1,99,2],[84,1,84,2],[89,1,89,2],[87,1,87,2],[86,1,86,2],[97,1,97,4],[98,1,98,2],[74,6,74,7],[3,2,3,4],[63,1,63,2],[8,1,8,4],[64,1,64,2],[60,1,60,2],[61,1,61,2],[62,1,62,2],[18,1,18,4],[59,1,59,2],[58,1,58,2],[13,1,13,2],[14,1,14,2],[15,1,15,2],[16,1,16,2],[37,1,37,4],[6,1,6,4],[60,6,60,7],[58,3,58,4],[58,8,58,9],[58,6,58,7],[37,6,37,9],[18,6,18,9],[65,1,65,2],[66,1,66,2],[8,6,8,9],[13,6,13,7],[14,6,14,7],[15,6,15,7],[16,6,16,7]]}
[]
[null,"Verifiche nel Piano"]
[]
[null,null,null,null,null,null,null,null,"Developed by Ing. Davide Cicchini"]
[null,{"$f":"INPUT!B5","v":"Versione 2.03"},null,null,null,null,null,null,"data:",{"$f":"NOW()","v":"2025-03-02T20:19:24.680"}]
[]
[null,"VERIFICHE EX-ANTE NEL PIANO",null,null,null,null,"VERIFICHE EX-POST NEL PIANO"]
[]
[null,"VERIFICA A FLESSIONE NEL PIANO EX-ANTE",null,null,null,null,"VERIFICA A FLESSIONE NEL PIANO EX-POST"]
[]
[null,"Dati di calcolo",null,null,null,null,"Dati di calcolo"]
[null,"Lunghezza del pannello murario",null,"l",{"$f":"INPUT!$F$38*1000","v":2300},null,"Lunghezza del pannello murario",null,"l",{"$f":"INPUT!$F$38*1000","v":2300}]
[null,"Spessore del pannello murario",null,"t",{"$f":"INPUT!$F$39*1000","v":420},null,"Spessore del pannello murario",null,"t",{"$f":"MNPR!D3","v":480}]
[null,"Resistenza di calcolo a compressione della muratura",null,"fmd",{"$f":"'RELAZIONE TECNICA'!E166","v":0.47185185185185174},null,"Resistenza di calcolo a compressione della muratura",null,"fmd",{"$f":"'RELAZIONE TECNICA'!E200","v":0.70777777777777762}]
[null,"Valore di calcolo del modulo di elasticità normale di calcolo",null,"Ed",{"$f":"'RELAZIONE TECNICA'!E172","v":816.00000000000011},null,"Valore di calcolo del modulo di elasticità normale di calcolo",null,"Ed",{"$f":"'RELAZIONE TECNICA'!E206","v":1440.0000000000002}]
[null,"Deformazione al limite elastico della muratura",null,"εm1",{"$f":"'RELAZIONE TECNICA'!E176","v":-5.7824981844589664E-4},null,"Deformazione al limite elastico della muratura",null,"εm1",{"$f":"'RELAZIONE TECNICA'!E210","v":-4.9151234567901215E-4}]
[null,"Deformazione ultima della muratura",null,"εmu",{"$f":"MATERIALI!$J$88","v":-3.5000000000000001E-3},null,"Deformazione ultima della muratura",null,"εmu",{"$f":"MATERIALI!$J$88","v":-3.5000000000000001E-3}]
[]
[null,"In-Plane Masonry bending capacity",null,null,null,null,"In-Plane Masonry bending capacity"]
[]
[]
[]
[]
[]
[]
[]
[]
[]
[]
[]
[]
[]
[]
[]
[]
[]
[]
[null,"Stress and strain plane section Masonry",null,null,null,null,{"$f":"B38","v":"Stress and strain plane section Masonry"}]
[]
[]
[]
[]
[]
[]
[]
[]
[]
[]
[]
[]
[]
[]
[]
[]
[]
[]
[]
[]
[null,"Campo di rottura:",null,{"$f":"VLOOKUP('FOGLIO DEPOSITO'!B462,'FOGLIO DEPOSITO'!B465:C470,2,FALSE)","v":"CAMPO 3"},null,null,"Campo di rottura:",null,{"$f":"VLOOKUP('FOGLIO DEPOSITO'!B472,'FOGLIO DEPOSITO'!B465:C470,2,FALSE)","v":"CAMPO 2B"}]
[null,"Posizione asse neutro",null,"L'",{"$f":"IF($E$133<1,\"\",IFERROR(INPUT!$F$38*1000-'FOGLIO DEPOSITO'!F298,\"\"))","v":1089.9389626261791},null,"Posizione asse neutro",null,"L'",{"$f":"IF($J$133<1,\"\",IFERROR(INPUT!$F$38*1000-'FOGLIO DEPOSITO'!F299,\"\"))","v":1589.0531583614429}]
[null,"Def. Muratura lembo superiore (zona compressa)",null,"εm_sup",{"$f":"IF($E$133<1,\"\",IFERROR(IF(MNP!E261=0,\"\",MNP!E261),\"\"))","v":-3.5000000000000005E-3},null,"Def. Muratura lembo superiore (zona compressa)",null,"εm_sup ",{"$f":"IF($J$133<1,\"\",IFERROR(IF(MNPR!E261=0,\"\",MNPR!E261),\"\"))","v":-3.4360535486517574E-3}]
[null,"Def. Muratura lembo inferiore",null,"εm_inf",{"$f":"IF(E60=\"\",\"\",IF('FOGLIO DEPOSITO'!E288=\"\",0,'FOGLIO DEPOSITO'!E288))","v":0},null,"Def. Muratura lembo inferiore",null,"εm_inf ",{"$f":"IF(J60=\"\",\"\",IF('FOGLIO DEPOSITO'!E289=\"\",0,'FOGLIO DEPOSITO'!E289))","v":0}]
[null,"Sforzo normale sollecitante",null,"Ned",{"$f":"'FOGLIO DEPOSITO'!F304","v":220},null,"Sforzo normale sollecitante",null,"Ned",{"$f":"'FOGLIO DEPOSITO'!F304","v":220}]
[null,"Momento sollecitante",null,"Med",{"$f":"INPUT!F86","v":165},null,"Momento sollecitante",null,"Med",{"$f":"INPUT!F86","v":165}]
[null,"Momento Resistente sezione non rinforzata",null,"MRd",{"$f":"IF($E$133<1,\"\",IFERROR(MNP!U261,\"\"))","v":130.55728617060058},null,"Momento Resistente sezione rinforzata",null,"MRd",{"$f":"IF($J$133<1,\"\",IFERROR(MNPR!U261,\"\"))","v":180.37668939882727}]
[null,"Verifica a flessione nel piano per la senzione non rinforzata",null,"ver NM pl",{"$f":"IF('NEL PIANO'!$E$133<1,\"\",IF('FOGLIO DEPOSITO'!B462=\"fuori dominio asse N\",\"NON VERIFICATO ROTTURA A COMPRESSIONE\",IF('NEL PIANO'!E65>='NEL PIANO'!E64, \"verificato\", \"NON VERIFICATO ex-ante\")))","v":"NON VERIFICATO ex-ante"},null,"Verifica a flessione nel piano per la senzione rinforzata",null,"ver NM pl-reinf",{"$f":"IF('NEL PIANO'!$J$133<1,\"\",IF('FOGLIO DEPOSITO'!B472=\"fuori dominio asse N\",\"NON VERIFICATO ROTTURA A COMPRESSIONE\",IF('NEL PIANO'!J65>='NEL PIANO'!J64, \"verificato\", \"NON VERIFICATO ex-post\")))","v":"verificato"}]
[null,"Coeff. Di Sicurezza",null,"R/E",{"$f":"IF($E$133<1,\"\",IFERROR(IF(E65/E64>10,\">10\",E65/E64),\">10\"))","v":0.79125627982182167},null,"Coeff. Di Sicurezza",null,"R/E",{"$f":"IF($J$133<1,\"\",IFERROR(IF(J65/J64>10,\">10\",J65/J64),\">10\"))","v":1.0931920569625895}]
[]
[null,"VERIFICA A TAGLIO NEL PIANO EX-ANTE",null,null,null,null,"VERIFICA A TAGLIO NEL PIANO EX-POST"]
[]
[null,"RESISTENZA A TAGLIO DIAGONALE EX-ANTE C8.7.1.16",null,null,null,null,"RESISTENZA A TAGLIO DIAGONALE EX-POST C8.7.1.16"]
[null,"RESISTENZA A TAGLIO DIAGONALE EX-ANTE C8.7.1.16",null,null,null,null,"RESISTENZA A TAGLIO DIAGONALE EX-POST C8.7.1.16"]
[null,"Coeff. Correttivo legato alla distribuzione degli sforzi",null,"b",{"$f":"'FOGLIO DEPOSITO'!E391","v":1.4347826086956521},null,"Coeff. Correttivo legato alla distribuzione degli sforzi",null,"b",{"$f":"'FOGLIO DEPOSITO'!F391","v":1.4347826086956521}]
[null,"Resistenza media a taglio della muratura",null,"τ0d",{"$f":"'FOGLIO DEPOSITO'!E392/1000","v":9.0740740740740729E-3},null,"Resistenza media a taglio della muratura",null,"τ0d",{"$f":"'FOGLIO DEPOSITO'!F392/1000","v":1.3611111111111107E-2}]
[null,"Resistenza di calcolo per fessurazione diagonale",null,"ftd",{"$f":"'FOGLIO DEPOSITO'!E393/1000","v":1.3611111111111109E-2},null,"Resistenza di calcolo per fessurazione diagonale",null,"ftd",{"$f":"'FOGLIO DEPOSITO'!F393/1000","v":2.0416666666666659E-2}]
[null,"Tensione media di compressione (su tutto il pannello)",null,"σmed,tot",{"$f":"'FOGLIO DEPOSITO'!E394/1000","v":0.22774327122153212},null,"Tensione media di compressione (su tutto il pannello)",null,"σmed,tot",{"$f":"'FOGLIO DEPOSITO'!F394/1000","v":0.1992753623188406}]
[null,"Tensione resistente a taglio per fessurazione diagonale",null,"τdiag,d",{"$f":"'FOGLIO DEPOSITO'!E395/1000","v":3.9947378101102521E-2},null,"Tensione resistente a taglio per fessurazione diagonale",null,"τdiag,d",{"$f":"'FOGLIO DEPOSITO'!F395/1000","v":4.6678131722181847E-2}]
[null,"Sezione pannello",null,"A",{"$f":"'FOGLIO DEPOSITO'!E396","v":0.96599999999999986},null,"Sezione pannello",null,"A",{"$f":"'FOGLIO DEPOSITO'!F396","v":1.1039999999999999}]
[null,"Resistenza a taglio per fessurazione diagonale C8.7.1.16",null,"Vrd,diag",{"$f":"'FOGLIO DEPOSITO'!E397","v":38.589167245665031},null,"Resistenza a taglio per fessurazione diagonale C8.7.1.16",null,"Vrd,diag",{"$f":"'FOGLIO DEPOSITO'!F397","v":51.532657421288754}]
[]
[null,"RESISTENZA A TAGLIO SCORRIMENTO EX-ANTE C8.7.1.17 E C8.7.1.18",null,null,null,null,"RESISTENZA A TAGLIO SCORRIMENTO EX-POST C8.7.1.17 E C8.7.1.18"]
[null,"Per muratura con tessitura regolare",null,null,null,null,"Per muratura con tessitura regolare"]
[null,"Coeff. Di attrito equivalente della muratura",null,null,{"$f":"'FOGLIO DEPOSITO'!E399","v":0.2},null,"Coeff. Di attrito equivalente della muratura",null,null,{"$f":"'FOGLIO DEPOSITO'!F399","v":0.4}]
[null,"Coeff. Di attrito della muratura ( corr. Angolo di attrito di 30°)",null,null,{"$f":"'FOGLIO DEPOSITO'!E400","v":0.57699999999999996},null,"Coeff. Di attrito della muratura ( corr. Angolo di attrito di 30°)",null,null,{"$f":"'FOGLIO DEPOSITO'!F400","v":0.57699999999999996}]
[null,"Resistenza a taglio equivalente della muratura in assenza di tensioni normali",null,null,{"$f":"IFERROR('FOGLIO DEPOSITO'!E401/1000,\"\")","v":8.1776750754220407E-3},null,"Resistenza a taglio equivalente della muratura in assenza di tensioni normali",null,null,{"$f":"IFERROR('FOGLIO DEPOSITO'!F401/1000,\"\")","v":2.4533025226266124E-2}]
[null,"Tensione media di compressione (solo su parte compressa: L')",null,"σmed,comp",{"$f":"IFERROR('FOGLIO DEPOSITO'!E402/1000,\"\")","v":0.4328785967246252},null,"Tensione media di compressione (solo su parte compressa: L')",null,"σmed,comp",{"$f":"IFERROR('FOGLIO DEPOSITO'!F402/1000,\"\")","v":0.64468017366388197}]
[null,"Resistenza a taglio equivalente della muratura in presenza di tensioni normali",null,null,{"$f":"IFERROR('FOGLIO DEPOSITO'!E403/1000,\"\")","v":5.146553474788456E-2},null,"Resistenza a taglio equivalente della muratura in presenza di tensioni normali",null,null,{"$f":"IFERROR('FOGLIO DEPOSITO'!F403/1000,\"\")","v":0.1534690599590425}]
[null,"Coeff. Correttivo legato alla distribuzione degli sforzi",null,"b",{"$f":"'FOGLIO DEPOSITO'!E404","v":1},null,"Coeff. Correttivo legato alla distribuzione degli sforzi",null,"b",{"$f":"'FOGLIO DEPOSITO'!F404","v":1}]
[null,"Resistenza a taglio scorrimento ",null,null,{"$f":"IFERROR('FOGLIO DEPOSITO'!E405/1000,\"\")","v":5.146553474788456E-2},null,"Resistenza a taglio scorrimento ",null,null,{"$f":"IFERROR('FOGLIO DEPOSITO'!F405/1000,\"\")","v":0.1534690599590425}]
[null,"Lunghezza del lembo compresso di muratura",null,"L'",{"$f":"'FOGLIO DEPOSITO'!E406","v":1210.0610373738209},null,"Lunghezza del lembo compresso di muratura",null,"L'",{"$f":"'FOGLIO DEPOSITO'!F406","v":710.94684163855709}]
[null,"Sezione compressa pannello murario",null,"Acomp",{"$f":"'FOGLIO DEPOSITO'!E407","v":0.50822563569700474},null,"Sezione compressa pannello murario",null,"Acomp",{"$f":"'FOGLIO DEPOSITO'!F407","v":0.34125448398650743}]
[null,"Resistenza a taglio scorrimento C8.7.1.17 (*)",null,"Vrd,scor",{"$f":"'FOGLIO DEPOSITO'!E408","v":26.156104113729917},null,"Resistenza a taglio scorrimento C8.7.1.17 (*)",null,"Vrd,scor",{"$f":"'FOGLIO DEPOSITO'!F408","v":52.372004864217423}]
[null,"Resistenza a trazione dei blocchi",null,"fbtd",{"$f":"IFERROR('FOGLIO DEPOSITO'!E409/1000,\"\")","v":1},null,"Resistenza a trazione dei blocchi",null,"fbtd",{"$f":"IFERROR('FOGLIO DEPOSITO'!F409/1000,\"\")","v":1}]
[null,"Resistenza limite rottura a trazione dei blocchi",null,"τbloc,d",{"$f":"IFERROR('FOGLIO DEPOSITO'!E410/1000,\"\")","v":0.33576841564680054},null,"Resistenza limite rottura a trazione dei blocchi",null,"τbloc,d",{"$f":"IFERROR('FOGLIO DEPOSITO'!F410/1000,\"\")","v":0.33185282264438687}]
[null,"Resistenza a taglio per rottura a trazione dei blocchi C8.7.1.18",null,"Vrd,lim,scor",{"$f":"'FOGLIO DEPOSITO'!E411","v":324.35228951480923},null,"Resistenza a taglio per rottura a trazione dei blocchi C8.7.1.18",null,"Vrd,lim,scor",{"$f":"'FOGLIO DEPOSITO'!F411","v":366.36551619940309}]
[null,"* Nel calcolo viene utilizzato L' (lunghezza porzione compressa del pannello murario) seguendo l'approccio della formula 7.8.3 NTC18; in luogo di L (lunghezza del pannello murario) indicato nella formula C8.7.1.17",null,null,null,null,"* Nel calcolo viene utilizzato L' (lunghezza porzione compressa del pannello murario) seguendo l'approccio della formula 7.8.3 NTC18; in luogo di L (lunghezza del pannello murario) indicato nella formula C8.7.1.17"]
[]
[null,"VERIFICA A TAGLIO EX-ANTE C.8.7.1.16/C.8.7.1.17/C.8.7.1.18",null,null,null,null,"VERIFICA A TAGLIO EX-POST C.8.7.1.16/C.8.7.1.17/C.8.7.1.18"]
[null,"Taglio sollecitante",null,"Ved",{"$f":"INPUT!F89","v":48},null,"Taglio sollecitante",null,"Ved",{"$f":"INPUT!F89","v":48}]
[null,"RESISTENZA A TAGLIO DELLA MURATURA MIN(C8.7.1.16;C8.7.1.17;C8.7.1.18)",null,"Vrd",{"$f":"IF('FOGLIO DEPOSITO'!E408=\"\",'FOGLIO DEPOSITO'!E397,MINA('FOGLIO DEPOSITO'!E397,'FOGLIO DEPOSITO'!E411,'FOGLIO DEPOSITO'!E408))","v":26.156104113729917},null,"RESISTENZA A TAGLIO DELLA MURATURA MIN(C8.7.1.16;C8.7.1.17;C8.7.1.18)",null,"Vrd",{"$f":"IF('FOGLIO DEPOSITO'!F408=\"\",'FOGLIO DEPOSITO'!F397,MINA('FOGLIO DEPOSITO'!F397,'FOGLIO DEPOSITO'!F411,'FOGLIO DEPOSITO'!F408))","v":51.532657421288754}]
[null,"Verifica capacità tagliante ex-ante",null,"verifica",{"$f":"IF(E100>=E99, \"verificato\",\"NON Verificato Ex-Ante\")","v":"NON Verificato Ex-Ante"},null,"Verifica capacità tagliante ex-ante",null,"verifica",{"$f":"IF(J100>=J99, \"verificato\",\"NON Verificato Ex-Post\")","v":"verificato"}]
[null,"Coeff. Di Sicurezza",null,"R/E",{"$f":"IFERROR(IF(E100/E99>10,\">10\",E100/E99),\">10\")","v":0.54491883570270661},null,"Coeff. Di Sicurezza",null,"R/E",{"$f":"IFERROR(IF(J100/J99>10,\">10\",J100/J99),\">10\")","v":1.0735970296101824}]
[]
[null,"In-Plane Masonry shear capacity",null,null,null,null,"In-Plane Masonry shear capacity"]
[]
[]
[]
[]
[]
[]
[]
[]
[]
[]
[]
[]
[]
[]
[]
[]
[]
[]
[]
[]
[]
[null,"VERIFICA A COMPRESSIONE SEMPLICE EX-ANTE",null,null,null,null,"VERIFICA A COMPRESSIONE SEMPLICE EX-POST"]
[null,"Peso Pannello murario",null,"W",{"$f":"MNP!D3/1000*MNP!D4/1000*INPUT!F40*MATERIALI!L17","v":57.380399999999995},null,"Peso Pannello murario",null,"W",{"$f":"MNPR!D3/1000*MNPR!D4/1000*INPUT!F40*MATERIALI!L67","v":65.577600000000004}]
[null,"Tensione media di compressione",null,"σmed",{"$f":"-ABS(INPUT!F82*1000)/(MNP!D3*MNP!D4)","v":-0.2277432712215321},null,"Tensione media di compressione",null,"σmed",{"$f":"-ABS(INPUT!F82*1000)/(MNPR!D3*MNPR!D4)","v":-0.19927536231884058}]
[null,"Resistenza di calcolo, a compressione della muratura",null,"fmd",{"$f":"MATERIALI!K27","v":0.47185185185185174},null,"Resistenza di calcolo, a compressione della muratura",null,"fmd",{"$f":"MATERIALI!K77","v":0.70777777777777762}]
[null,"Sforzo normale sollecitante",null,"Ned",{"$f":"ABS(INPUT!F82)","v":220},null,"Sforzo normale sollecitante",null,"Ned",{"$f":"ABS(INPUT!F82)","v":220}]
[null,"Capacità assiale (da dominio M-N)",null,"NRd",{"$f":"ABS(MNP!T108)","v":455.80888888888887},null,"Capacità assiale (da dominio M-N)",null,"NRd",{"$f":"ABS(MNPR!T108)","v":781.38666666666654}]
[null,"Verifica di capacità assiale",null,"verifica",{"$f":"IF(E131>E130, \"verificato\", \"NON verificato ex-ante\")","v":"verificato"},null,"Verifica di capacità assiale",null,"verifica",{"$f":"IF(J131>J130, \"verificato\", \"NON verificato ex-POST\")","v":"verificato"}]
[null,"Coeff. Di Sicurezza",null,"R/E",{"$f":"IFERROR(IF(E131/E130>10,\">10\",E131/E130),\">10\")","v":2.0718585858585858},null,"Coeff. Di Sicurezza",null,"R/E",{"$f":"IFERROR(IF(J131/J130>10,\">10\",J131/J130),\">10\")","v":3.5517575757575752}]

{"sheet":"FUORI PIANO","index":6,"n_rows":78,"n_cols":10,"rows_kept":78,"cut":false,"hidden":false,"merged":[[1,1,1,9],[74,6,74,7],[75,6,75,7],[76,6,76,7],[77,6,77,7],[6,1,6,4],[6,6,6,9],[69,6,69,7],[70,6,70,7],[71,6,71,7],[72,6,72,7],[73,6,73,7],[13,1,13,2],[14,1,14,2],[15,1,15,2],[16,1,16,2],[3,2,3,4],[68,1,68,4],[59,6,59,7],[59,1,59,2],[60,1,60,2],[61,1,61,2],[62,1,62,2],[63,1,63,2],[64,1,64,2],[65,1,65,2],[66,1,66,2],[8,6,8,9],[58,6,58,7],[18,6,18,9],[8,1,8,4],[37,1,37,4],[18,1,18,4],[77,1,77,2],[74,1,74,2],[75,1,75,2],[69,1,69,2],[72,1,72,2],[70,1,70,2],[71,1,71,2],[76,1,76,2],[73,1,73,2],[58,1,58,2],[58,3,58,4],[68,6,68,9],[13,6,13,7],[14,6,14,7],[15,6,15,7],[16,6,16,7],[61,6,61,7],[37,6,37,9],[58,8,58,9],[60,6,60,7],[66,6,66,7],[62,6,62,7],[63,6,63,7],[64,6,64,7],[65,6,65,7]]}
[]
[null,"Verifiche Fuori del Piano"]
[]
[null,null,null,null,null,null,null,null,"Developed by Ing. Davide Cicchini"]
[null,{"$f":"INPUT!B5","v":"Versione 2.03"},null,null,null,null,null,null,"data:",{"$f":"NOW()","v":"2025-03-02T20:19:24.680"}]
[]
[null,"VERIFICHE EX-ANTE FUORI PIANO",null,null,null,null,"VERIFICHE EX-POST FUORI PIANO"]
[]
[null,"VERIFICA A FLESSIONE FUORI DEL PIANO EX-ANTE",null,null,null,null,"VERIFICA A FLESSIONE FUORI DEL PIANO EX-POST"]
[]
[null,"Dati di calcolo",null,null,null,null,"Dati di calcolo"]
[null,"Lunghezza del pannello murario",null,"l",{"$f":"'NEL PIANO'!E12","v":2300},null,"Lunghezza del pannello murario",null,"l",{"$f":"'NEL PIANO'!J12","v":2300}]
[null,"Spessore del pannello murario",null,"t",{"$f":"'NEL PIANO'!E13","v":420},null,"Spessore del pannello murario",null,"t",{"$f":"'NEL PIANO'!J13","v":480}]
[null,"Resistenza di calcolo a compressione della muratura",null,"fmd",{"$f":"'NEL PIANO'!E14","v":0.47185185185185174},null,"Resistenza di calcolo a compressione della muratura",null,"fmd",{"$f":"'NEL PIANO'!J14","v":0.70777777777777762}]
[null,"Valore di calcolo del modulo di elasticità normale di calcolo",null,"Ed",{"$f":"'NEL PIANO'!E15","v":816.00000000000011},null,"Valore di calcolo del modulo di elasticità normale di calcolo",null,"Ed",{"$f":"'NEL PIANO'!J15","v":1440.0000000000002}]
[null,"Deformazione al limite elastico della muratura",null,"εm1",{"$f":"'NEL PIANO'!E16","v":-5.7824981844589664E-4},null,"Deformazione al limite elastico della muratura",null,"εm1",{"$f":"'NEL PIANO'!J16","v":-4.9151234567901215E-4}]
[null,"Deformazione ultima della muratura",null,"εmu",{"$f":"'NEL PIANO'!E17","v":-3.5000000000000001E-3},null,"Deformazione ultima della muratura",null,"εmu",{"$f":"'NEL PIANO'!J17","v":-3.5000000000000001E-3}]
[]
[null,"Out of Plane Masonry capacity",null,null,null,null,"Out of Plane Masonry capacity"]
[]
[]
[]
[]
[]
[]
[]
[]
[]
[]
[]
[]
[]
[]
[]
[]
[]
[]
[null,"Stress and strain plane section Masonry",null,null,null,null,"Stress and strain plane section Masonry"]
[]
[]
[]
[]
[]
[]
[]
[]
[]
[]
[]
[]
[]
[]
[]
[]
[]
[]
[]
[]
[null,"Campo di rottura:",null,{"$f":"VLOOKUP('FOGLIO DEPOSITO'!B492,'FOGLIO DEPOSITO'!B495:C500,2,FALSE)","v":"CAMPO 3"},null,null,"Campo di rottura:",null,{"$f":"VLOOKUP('FOGLIO DEPOSITO'!B511,'FOGLIO DEPOSITO'!B514:C519,2,FALSE)","v":"CAMPO 2B"}]
[null,"Posizione asse neutro",null,"L'",{"$f":"IF('NEL PIANO'!E133<1,\"\",IFERROR(INPUT!$F$39*1000-'FOGLIO DEPOSITO'!F300,\"\"))","v":199.03233230565013},null,"discesa asse neutro",null,"L'",{"$f":"IF('NEL PIANO'!J133<1,\"\",IFERROR(MNFPR!D3-'FOGLIO DEPOSITO'!F301,\"\"))","v":331.62848522325771}]
[null,"Def. Muratura lembo superiore (zona compressa)",null,"εm_sup ",{"$f":"IF('NEL PIANO'!E133<1,\"\",IFERROR(IF(MNFP!E261=0,\"\",MNFP!E261),\"\"))","v":-3.5000000000000005E-3},null,"Def. Muratura lembo superiore (zona compressa)",null,"εm_sup ",{"$f":"IF('NEL PIANO'!J133<1,\"\",IFERROR(IF(MNFPR!E261=0,\"\",MNFPR!E261),\"\"))","v":-3.4360535486517552E-3}]
[null,"Def. Muratura lembo inferiore",null,"εm_inf ",{"$f":"IF('NEL PIANO'!E133<1,\"\",IF(E60=\"\",\"\",IF('FOGLIO DEPOSITO'!E292=\"\",0,'FOGLIO DEPOSITO'!E292)))","v":0},null,"Def. Muratura lembo inferiore",null,"εm_inf ",{"$f":"IF('NEL PIANO'!J133<1,\"\",IF(J60=\"\",\"\",IF('FOGLIO DEPOSITO'!E293=\"\",0,'FOGLIO DEPOSITO'!E293)))","v":0}]
[null,"Sforzo normale sollecitante",null,"Ned",{"$f":"'FOGLIO DEPOSITO'!F304","v":220},null,"Sforzo normale sollecitante",null,"Ned",{"$f":"'FOGLIO DEPOSITO'!F304","v":220}]
[null,"Momento sollecitante",null,"Med",{"$f":"INPUT!F87","v":32},null,"Momento sollecitante",null,"Med",{"$f":"INPUT!F87","v":32}]
[null,"Momento Resistente sezione non rinforzata",null,"MRd",{"$f":"IF('NEL PIANO'!E133<1,\"\",IFERROR(MNFP!V261,\"\"))","v":23.840895737995115},null,"Momento Resistente sezione rinforzata",null,"MRd",{"$f":"IF('NEL PIANO'!J133<1,\"\",IFERROR(MNFPR!V261,\"\"))","v":37.643830842359861}]
[null,"Verifica a flessione fuori del piano per la senzione non rinforzata",null,"ver NM out-pl",{"$f":"IFERROR(VLOOKUP('FOGLIO DEPOSITO'!B502,'FOGLIO DEPOSITO'!B505:C509,2,FALSE),\"\")","v":"NON verificato EX-ANTE"},null,"Verifica a flessione fuori del piano per la senzione rinforzata",null,"ver NM out-pl-reinf",{"$f":"IFERROR(VLOOKUP('FOGLIO DEPOSITO'!B521,'FOGLIO DEPOSITO'!B524:C528,2,FALSE),\"\")","v":"verificato"}]
[null,"Coeff. Di Sicurezza",null,"R/E",{"$f":"IF('NEL PIANO'!E133<1,\"\",IFERROR(IF(E65/E64>10,\">10\",E65/E64),\">10\"))","v":0.74502799181234736},null,"Coeff. Di Sicurezza",null,"R/E",{"$f":"IF('NEL PIANO'!J133<1,\"\",IFERROR(IF(J65/J64>10,\">10\",J65/J64),\">10\"))","v":1.1763697138237457}]
[]
[null,"VERIFICA A TAGLIO SCORRIMENTO FUORI PIANO EX-ANTE",null,null,null,null,"VERIFICA A TAGLIO SCORRIMENTO FUORI PIANO EX-POST"]
[null,"Coeff. Di attrito della muratura",null,null,{"$f":"IF('FOGLIO DEPOSITO'!E401=\"\",0.2,MATERIALI!$J$32)","v":0.2},null,"Coeff. Di attrito della muratura",null,null,{"$f":"IF('FOGLIO DEPOSITO'!E401=\"\",0.2,MATERIALI!$J$82)","v":0.4}]
[null,"Coeff. Di attrito della muratura ( corr. Angolo di attrito di 30°)",null,null,0.57699999999999996,null,"Coeff. Di attrito della muratura ( corr. Angolo di attrito di 30°)",null,null,0.57699999999999996]
[null,"Tensione media di compressione (solo su parte compressa: L')",null,"σmed,comp",{"$f":"IF(E60=\"\",\"\",'FOGLIO DEPOSITO'!E572/1000)","v":0.4328785967246252},null,"Tensione media di compressione (solo su parte compressa: L')",null,"σmed,comp",{"$f":"IF(J60=\"\",\"\",'FOGLIO DEPOSITO'!E575/1000)","v":0.64468017366388219}]
[null,"tensione tangenziale resistente della muratura in presenza di compressione",null,{"$f":"'FOGLIO DEPOSITO'!D573","v":"fvd"},{"$f":"IF(E60=\"\",\"\",'FOGLIO DEPOSITO'!E573/1000)","v":5.146553474788456E-2},null,"tensione tangenziale resistente della muratura in presenza di compressione",null,{"$f":"'FOGLIO DEPOSITO'!D576","v":"fvd"},{"$f":"IF(J60=\"\",\"\",'FOGLIO DEPOSITO'!E576/1000)","v":0.15346905995904256}]
[null,"Lunghezza del lembo compresso di muratura",null,"L'",{"$f":"IF(E60=\"\",\"\",IF(E60<0,INPUT!F39*1000,'FOGLIO DEPOSITO'!F300))","v":220.96766769434987},null,"Lunghezza del lembo compresso di muratura",null,"L'",{"$f":"IF(J60=\"\",\"\",IF(J60<0,MNFPR!D3,'FOGLIO DEPOSITO'!F301))","v":148.37151477674229}]
[null,"Taglio sollecitante fuori del piano",null,"Ved",{"$f":"INPUT!F90","v":25},null,"Taglio sollecitante fuori del piano",null,"Ved",{"$f":"INPUT!F90","v":25}]
[null,"Resistenza a taglio scorrimento C8.7.1.17",null,"Vrd",{"$f":"IFERROR(E74*'FOGLIO DEPOSITO'!E573/1000*INPUT!F38,\"\")","v":26.156104113729914},null,"Resistenza a taglio scorrimento C8.7.1.17",null,"Vrd",{"$f":"IFERROR(J74*'FOGLIO DEPOSITO'!E576/1000*INPUT!F38,\"\")","v":52.372004864217409}]
[null,"Verifica capacità tagliante ex-ante",null,"verifica",{"$f":"IF('NEL PIANO'!E133<1,\"\",IF(E76>=E75,\"verificato\",\"NON verificato\"))","v":"verificato"},null,"Verifica capacità tagliante ex-ante",null,"verifica",{"$f":"IF('NEL PIANO'!J133<1,\"\",IF(J76>=J75,\"verificato\",\"NON verificato\"))","v":"verificato"}]
[null,"Coeff. Di Sicurezza",null,"R/E",{"$f":"IF('NEL PIANO'!E133<1,\"\",IFERROR(IF(E76/E75>10,\">10\",E76/E75),\">10\"))","v":1.0462441645491964},null,"Coeff. Di Sicurezza",null,"R/E",{"$f":"IF('NEL PIANO'!J133<1,\"\",IFERROR(IF(J76/J75>10,\">10\",J76/J75),\">10\"))","v":2.0948801945686966}]

{"sheet":"RELAZIONE TECNICA","index":7,"n_rows":593,"n_cols":5,"rows_kept":593,"cut":false,"hidden":false,"merged":[[568,1,568,2],[569,1,569,2],[570,1,570,2],[571,1,571,2],[488,1,488,4],[489,1,489,4],[490,1,493,4],[495,1,495,2],[496,1,496,2],[497,1,497,2],[498,1,498,2],[499,1,499,2],[500,1,500,2],[501,1,501,2],[503,1,503,4],[504,1,506,4],[508,1,508,2],[509,1,509,2],[510,1,510,2],[511,1,511,2],[512,1,512,2],[513,1,513,2],[514,1,514,2],[556,1,556,2],[459,1,459,2],[461,1,461,4],[561,1,561,4],[562,1,562,4],[563,1,563,2],[564,1,564,2],[565,1,565,2],[566,1,566,2],[567,1,567,2],[515,1,515,2],[516,1,516,2],[517,1,517,2],[518,1,518,2],[519,1,519,2],[520,1,520,2],[522,1,522,4],[523,1,523,2],[524,1,524,2],[525,1,525,2],[526,1,526,2],[528,1,528,4],[553,1,553,2],[552,1,552,2],[375,1,375,4],[555,1,555,2],[221,1,221,2],[462,1,462,2],[463,1,463,2],[464,1,464,2],[465,1,465,2],[455,1,455,2],[438,1,438,2],[439,1,439,2],[440,1,440,2],[442,1,442,4],[447,1,447,2],[448,1,448,2],[428,1,428,4],[434,1,434,2],[435,1,435,2],[436,1,436,2],[437,1,437,2],[453,1,453,2],[454,1,454,2],[456,1,456,2],[457,1,457,2],[458,1,458,2],[165,1,166,2],[165,3,166,3],[588,1,588,2],[589,1,589,2],[590,1,590,2],[591,1,591,2],[187,1,187,3],[188,1,188,2],[209,1,209,2],[210,1,210,2],[211,1,212,2],[211,3,212,3],[585,1,585,4],[586,1,586,2],[217,1,217,4],[218,1,218,2],[222,1,222,2],[219,1,219,2],[290,1,290,4],[298,1,298,2],[298,3,298,4],[272,1,272,2],[275,1,275,4],[415,1,415,2],[592,1,592,2],[150,1,150,4],[183,1,183,4],[191,1,191,2],[192,1,192,2],[193,1,193,2],[194,1,194,2],[195,1,195,2],[196,1,196,2],[197,1,197,2],[199,1,200,2],[199,3,200,3],[199,4,200,4],[201,1,202,2],[201,3,202,3],[201,4,202,4],[175,1,175,2],[177,1,178,2],[177,3,178,3],[180,1,181,2],[180,3,181,4],[176,1,176,2],[177,4,178,4],[173,1,174,2],[19,2,20,4],[21,2,22,4],[23,2,24,4],[25,2,26,4],[27,2,28,4],[29,2,31,4],[51,1,51,3],[52,1,52,3],[21,1,22,1],[23,1,24,1],[25,1,26,1],[27,1,28,1],[29,1,31,1],[50,1,50,3],[15,1,16,4],[19,1,20,1],[143,4,144,4],[145,4,146,4],[165,4,166,4],[167,4,168,4],[137,1,138,2],[137,3,138,3],[135,1,135,4],[136,1,136,4],[139,1,140,2],[139,3,140,3],[141,1,142,2],[141,3,142,3],[143,1,144,2],[143,3,144,3],[145,1,146,2],[145,3,146,3],[147,1,148,2],[147,3,148,3],[139,4,140,4],[141,4,142,4],[57,1,57,3],[53,1,53,3],[54,1,54,3],[55,1,55,3],[56,1,56,3],[58,1,58,3],[133,1,133,2],[132,1,132,3],[90,1,90,2],[90,3,90,4],[91,1,91,2],[91,3,91,4],[92,1,92,2],[92,3,92,4],[94,1,94,4],[128,2,130,2],[129,3,130,3],[95,1,101,4],[102,1,102,4],[103,1,117,4],[122,1,122,4],[123,1,123,2],[124,1,124,2],[125,1,125,4],[76,2,76,4],[78,2,78,4],[276,1,276,4],[224,1,225,4],[137,4,138,4],[157,1,157,2],[158,1,158,2],[147,4,148,4],[169,1,170,2],[169,3,170,3],[171,1,172,2],[171,3,172,3],[159,1,159,2],[160,1,160,2],[161,1,161,2],[169,4,170,4],[171,4,172,4],[162,1,162,2],[211,4,212,4],[214,1,215,2],[214,3,215,4],[151,1,151,3],[152,1,152,3],[153,1,153,3],[154,1,154,3],[155,1,155,3],[270,1,270,2],[271,1,271,2],[79,3,79,4],[81,1,81,4],[82,1,82,2],[83,1,84,4],[85,1,85,2],[86,1,87,4],[89,1,89,2],[89,3,89,4],[185,1,185,3],[186,1,186,3],[173,3,174,3],[173,4,174,4],[203,1,204,2],[203,3,204,3],[203,4,204,4],[205,1,206,2],[205,3,206,3],[205,4,206,4],[207,1,208,2],[207,3,208,3],[207,4,208,4],[163,1,163,2],[420,1,420,2],[418,1,418,2],[167,1,168,2],[167,3,168,3],[345,1,345,2],[346,1,346,2],[347,1,347,2],[348,1,348,2],[326,1,326,4],[327,1,327,4],[220,1,220,2],[299,1,299,2],[300,1,300,2],[301,1,301,2],[227,1,227,4],[228,1,228,4],[247,1,247,4],[267,1,267,2],[273,1,273,2],[265,1,265,2],[265,3,265,4],[266,1,266,2],[268,1,268,2],[269,1,269,2],[302,1,302,2],[303,1,303,2],[304,1,304,2],[305,1,305,2],[414,1,414,2],[550,1,550,4],[573,1,574,4],[184,1,184,3],[579,1,579,2],[416,1,416,2],[414,3,414,4],[349,1,349,2],[350,1,350,2],[351,1,351,2],[352,1,352,2],[390,1,390,4],[306,1,306,2],[307,1,307,4],[374,1,374,4],[549,1,549,4],[397,1,397,4],[354,1,354,4],[344,1,344,2],[344,3,344,4],[580,1,580,2],[581,1,581,2],[582,1,582,2],[583,1,583,2],[558,1,558,2],[417,1,417,2],[559,1,559,2],[577,1,577,2],[421,1,421,2],[422,1,422,2],[576,1,576,4],[551,1,551,2],[554,1,554,2],[557,1,557,2],[449,1,449,2],[450,1,450,2],[451,1,451,2],[452,1,452,2],[424,1,425,4],[467,1,467,4],[427,1,427,4],[429,1,432,4],[443,1,445,4],[419,1,419,2]]}
[]
[]
[]
[]
[]
[]
[]
[]
[]
[]
[]
[]
[]
[]
[]
[null,"REPORT Rinforzo muratura esistente"]
[]
[null,{"$f":"INPUT!E5","v":"Data:"},{"$f":"NOW()","v":"2025-03-02T20:19:24.680"}]
[]
[null,{"$f":"INPUT!B9","v":"Oggetto dei lavori:"},{"$f":"B84","v":"Oggetto dei lavori"}]
[]
[null,{"$f":"INPUT!B14","v":"Indirizzo Cantiere:"},{"$f":"B87","v":"Indirizzo cantiere"}]
[]
[null,{"$f":"INPUT!B10","v":"Committente:"},{"$f":"D90","v":"Committente"}]
[]
[null,{"$f":"INPUT!B11","v":"Progettista:"},{"$f":"D91","v":"Progettista"}]
[]
[null,{"$f":"INPUT!B12","v":"Direttore dei Lavori:"},{"$f":"D92","v":"Direttore dei lavori"}]
[]
[null,{"$f":"INPUT!B13","v":"Impresa:"},{"$f":"D93","v":"Impresa"}]
[]
[]
[]
[]
[]
[]
[]
[]
[]
[]
[]
[]
[]
[]
[]
[null,null,null,"Developed by Ing. Davide Cicchini",{"$f":"B80","v":"Versione 2.03"}]
[]
[]
[null,"SOMMARIO"]
[]
[null,{"$f":"B82","v":"RIFERIMENTO CANTIERE"},null,null,"Pag. 3"]
[null,{"$f":"B95","v":"NORMATIVA DI RIFERIMENTO"},null,null,"Pag. 3"]
[null,{"$f":"B103","v":"GEOMETRIA PARETE"},null,null,"Pag. 3"]
[null,{"$f":"B123","v":"LIVELLO DI CONOSCENZA §8.5.4 NTC18"},null,null,"Pag. 4"]
[null,{"$f":"B136","v":"TIPOLOGIA MURARIA Tab. C8.5.I Circolare 21/01/2019 n.7"},null,null,"Pag. 4"]
[null,{"$f":"B151","v":"CARATTERISTICHE MECCANICHE DELLA MURATURA CORRETTA DAI COEFFICIENTI: EX ANTE"},null,null,"Pag. 5"]
[null,{"$f":"B184","v":"CARATTERISTICHE MECCANICHE DELLA MURATURA CORRETTA DAI COEFFICIENTI: EX POST"},null,null,"Pag. 6"]
[null,{"$f":"B218","v":"SOLLECITAZIONI AGENTI"},null,null,"Pag. 6"]
[null,{"$f":"B225","v":"VERIFICHE A FLESSIONE"},null,null,"Pag. 7"]
[null,null,{"$f":"B228","v":"VERIFICA A FLESSIONE NEL PIANO EX-ANTE"},null,"Pag. 7"]
[null,null,{"$f":"B276","v":"VERIFICA A FLESSIONE NEL PIANO EX-POST"},null,"Pag. 8"]
[null,null,{"$f":"B327","v":"VERIFICA A FLESSIONE FUORI DEL PIANO EX-ANTE"},null,"Pag. 9"]
[null,null,{"$f":"B375","v":"VERIFICA A FLESSIONE FUORI DEL PIANO EX-POST"},null,"Pag. 10"]
[null,{"$f":"B425","v":"VERIFICHE A TAGLIO"},null,null,"Pag. 11"]
[null,null,{"$f":"B428","v":"VERIFICA A TAGLIO NEL PIANO EX-ANTE"},null,"Pag. 11"]
[null,null,{"$f":"B489","v":"VERIFICA A TAGLIO NEL PIANO EX-POST"},null,"Pag. 13"]
[null,null,{"$f":"B550","v":"VERIFICA A TAGLIO SCORRIMENTO FUORI PIANO EX-ANTE"},null,"Pag. 14"]
[null,null,{"$f":"B562","v":"VERIFICA A TAGLIO SCORRIMENTO FUORI PIANO EX-POST"},null,"Pag. 15"]
[null,{"$f":"B574","v":"VERIFICHE A COMPRESSIONE SEMPLICE"},null,null,"Pag. 15"]
[null,null,{"$f":"B577","v":"VERIFICA A COMPRESSIONE SEMPLICE EX-ANTE"},null,"Pag. 15"]
[null,null,{"$f":"B586","v":"VERIFICA A COMPRESSIONE SEMPLICE EX-POST"},null,"Pag. 15"]
[]
[]
[]
[]
[]
[null,null,{"$f":"B16","v":"REPORT Rinforzo muratura esistente"}]
[]
[]
[null,{"$f":"INPUT!B5","v":"Versione 2.03"},"data:",{"$f":"NOW()","v":"2025-03-02T20:19:24.680"}]
[]
[null,"RIFERIMENTO CANTIERE"]
[null,{"$f":"B20","v":"Oggetto dei lavori:"}]
[null,{"$f":"INPUT!$D$9","v":"Oggetto dei lavori"}]
[]
[null,{"$f":"B22","v":"Indirizzo Cantiere:"}]
[null,{"$f":"INPUT!$D$14","v":"Indirizzo cantiere"}]
[]
[]
[null,{"$f":"INPUT!B10","v":"Committente:"},null,{"$f":"INPUT!$D$10","v":"Committente"}]
[null,{"$f":"INPUT!B11","v":"Progettista:"},null,{"$f":"INPUT!$D$11","v":"Progettista"}]
[null,{"$f":"INPUT!B12","v":"Direttore dei Lavori:"},null,{"$f":"INPUT!$D$12","v":"Direttore dei lavori"}]
[null,{"$f":"INPUT!B13","v":"Impresa:"},null,{"$f":"INPUT!$D$13","v":"Impresa"}]
[]
[null,"NORMATIVA DI RIFERIMENTO"]
[null,"Le verifiche sono eseguite in conformità a:\n• Aggiornamento delle Norme Tecniche per le Costruzioni di cui al Decreto 17 gennaio 2018 e successive Istruzioni per l’applicazione dell’Aggiornamento delle Norme Tecniche per le Costruzioni di cui alla Circolare n. 7 del 21 gennaio 2019; \n• Istruzioni per la Progettazione, l’Esecuzione ed il Controllo di Interventi di Consolidamento Statico mediante l’utilizzo di Compositi Fibrorinforzati a Matrice Inorganica di cui al CNR DT 215/2018."]
[]
[]
[]
[]
[]
[]
[null,"GEOMETRIA PARETE"]
[]
[]
[]
[]
[]
[]
[]
[]
[]
[]
[]
[]
[]
[]
[]
[null,"Lunghezza del pannello murario",null,"l",{"$f":"INPUT!$F$38","v":2.2999999999999998}]
[null,"Spessore del pannello murario",null,"t",{"$f":"INPUT!$F$39","v":0.42}]
[null,{"$f":"INPUT!B40","v":"Altezza del pannello murario"},null,"H",{"$f":"INPUT!$F$40","v":3.3}]
[]
[null,"LIVELLO DI CONOSCENZA §8.5.4 NTC18"]
[null,"Livello di conoscenza §8.5.4 NTC18",null,"LC",{"$f":"INPUT!$F$47","v":"LC1"}]
[null,"Fattore di confidenza §8.5.4 NTC18",null,"FC",{"$f":"INPUT!$F$48","v":1.35}]
[null,{"$f":"VLOOKUP(E124,'FOGLIO DEPOSITO'!$B$43:$E$45,4,FALSE)","v":"Resistenze:i valori minimi degli intervalli riportati in Tabella C8.5.I; Moduli elastici: I valori medi degli intervalli riportati nella tabella suddetta."}]
[]
[null,"Livello di conoscenza","GEOMETRIA","DETTAGLI COSTRUTTIVI","METODI DI ANALISI CONSENTITI"]
[null,"LC1 → FC=1,35","Rilievo strutturale completo","Limitate verifiche in situ","tutti"]
[null,"LC2 → FC=1,20",null,"Estese ed esaustive verifiche in situ","tutti"]
[null,"LC3 → FC=1,00",null,"METODI DI ANALISI CONSENTITI","tutti"]
[]
[null,"Tipo di analisi utilizzata per il calcolo delle sollecitazioni:",null,null,{"$f":"'FOGLIO DEPOSITO'!B422","v":"lineare "}]
[null,"Coefficiente di sicurezza del materale muratura",null,"γm",{"$f":"MATERIALI!$J$85","v":2}]
[]
[null,"TIPOLOGIA MURARIA Tab. C8.5.I Circolare 21/01/2019 n.7"]
[null,{"$f":"MATERIALI!B7","v":"Muratura in mattoni pieni e malta di calce"}]
[null,"Resistenza media a compressione della muratura",null,"fm",{"$f":"MATERIALI!K23","v":1.2739999999999998}]
[]
[null,"Resistenza a taglio della muratura",null,"τ0",{"$f":"MATERIALI!K24","v":2.4499999999999997E-2}]
[]
[null,"Resistenza a taglio in assenza di tensioni normali",null,"fv0",{"$f":"MATERIALI!K25","v":6.3699999999999993E-2}]
[]
[null,"Valore del modulo di elasticità normale",null,"E",{"$f":"MATERIALI!J9","v":1500}]
[]
[null,"Valore del modulo di elasticità tangenziale",null,"G",{"$f":"MATERIALI!K9","v":500}]
[]
[null,"Peso specifico della muratura",null,"w",{"$f":"MATERIALI!L9","v":18}]
[]
[]
[null,"CARATTERISTICHE MECCANICHE DELLA MURATURA CORRETTA DAI COEFFICIENTI: EX ANTE"]
[null,"Rigidezza fessurata EX-ANTE (100% = \"non fessurato\")",null,null,{"$f":"INPUT!F55","v":0.85}]
[null,"Malta buona (solo se è >2MPa, validata da prove in situ) / scadente",null,null,{"$f":"INPUT!F57","v":"scadente"}]
[null,"Giunto di malta >13mm",null,null,{"$f":"INPUT!F58","v":"si"}]
[null,"Ricorsi o listature",null,null,{"$f":"INPUT!F59","v":"no"}]
[null,"Connessione trasversale (ovvero apparecchiata secondo la regola dell'arte)",null,null,{"$f":"INPUT!F60","v":"no"}]
[]
[null,"Coefficiente massimo applicabile",null,"Cmax",{"$f":"MATERIALI!F16","v":1.8}]
[null,"Coeff. correttivo della resistenza a compressione della muratura",null,"Cfm",{"$f":"MATERIALI!$G$16","v":0.48999999999999994}]
[null,"Coeff. correttivo della resistenza a taglio della muratura",null,"Cτ0d",{"$f":"MATERIALI!H16","v":0.48999999999999994}]
[null,"Coeff. correttivo della resistenza a taglio in assenza di tensioni normali",null,"Cfv0,d",{"$f":"MATERIALI!I16","v":0.48999999999999994}]
[null,"Coeff. correttivo del modulo di elasticità normale",null,"CEd",{"$f":"MATERIALI!J16","v":0.54400000000000004}]
[null,"Coeff. correttivo del modulo di elasticità tangenziale",null,"CGd",{"$f":"MATERIALI!K16","v":0.54400000000000004}]
[null,"Coefficiente di sicurezza del materale muratura",null,"γm",{"$f":"MATERIALI!J$85","v":2}]
[null,"Resistenze di progetto ",null,"Rd=R/(γm*FC)"]
[null,"Resistenza di calcolo a compressione della muratura",null,"fmd",{"$f":"MATERIALI!K27","v":0.47185185185185174}]
[]
[null,"Resistenza di calcolo a taglio della muratura",null,"τ0d",{"$f":"MATERIALI!K28","v":9.0740740740740729E-3}]
[]
[null,"Resistenza di calcolo a taglio in assenza di tensioni normali",null,"fv0,d",{"$f":"MATERIALI!K29","v":2.3592592592592589E-2}]
[]
[null,"Valore di calcolo del modulo di elasticità normale di calcolo",null,"Ed",{"$f":"MATERIALI!J30","v":816.00000000000011}]
[]
[null,"Valore di calcolo del modulo di elasticità tangenziale di calcolo",null,"Gd",{"$f":"MATERIALI!J31","v":272}]
[]
[null,"Deformazione al limite elastico della muratura",null,"εm1",{"$f":"MATERIALI!J37","v":-5.7824981844589664E-4}]
[null,"Deformazione ultima della muratura",null,"εmu",{"$f":"MATERIALI!$J$88","v":-3.5000000000000001E-3}]
[null,"Stima resistenza di calcolo a compressione blocco muratura regolare",null,"fbd",{"$f":"MATERIALI!K33","v":10}]
[]
[null,"Caratteristiche tessitura muratura:",{"$f":"MATERIALI!H32","v":"regolare"},null,{"$f":"MATERIALI!J32","v":0.2}]
[null,"Legame costitutivo di calcolo"]
[]
[]
[null,"CARATTERISTICHE MECCANICHE DELLA MURATURA CORRETTA DAI COEFFICIENTI: EX POST"]
[null,"Rigidezza fessurata EX-POST (100% = \"non fessurato\")",null,null,{"$f":"INPUT!F62","v":1}]
[null,"Iniezioni di miscele leganti (rinforzo consigliato per murature fortemente incoerenti con cavità e/o con nucleo scadente)",null,null,{"$f":"INPUT!F64","v":"no"}]
[null,"Ristilatura armata con connessione dei paramenti",null,null,{"$f":"INPUT!F65","v":"no"}]
[null,"Diatoni artificiali o tirantini antiespulsivi",null,null,{"$f":"INPUT!F66","v":"no"}]
[null,"Intonaco Armato",null,null,{"$f":"INPUT!E67","v":"CRM doppia faccia + connettori"}]
[null,"Spessore del rinforzo (per incremento sezione resistente solo CRM)",null,null,3]
[]
[null,"Coefficiente massimo applicabile",null,"Cmax",{"$f":"MATERIALI!$F$66","v":1.8}]
[null,"Coeff. correttivo della resistenza a compressione della muratura",null,"Cfm",{"$f":"MATERIALI!$G$66","v":0.73499999999999988}]
[null,"Coeff. correttivo della resistenza a taglio della muratura",null,"Cτ0d",{"$f":"MATERIALI!$H$65","v":0.73499999999999988}]
[null,"Coeff. correttivo della resistenza a taglio in assenza di tensioni normali",null,"Cfv0,d",{"$f":"MATERIALI!$I$65","v":0.73499999999999988}]
[null,"Coeff. correttivo del modulo di elasticità normale",null,"CEd",{"$f":"MATERIALI!$J$65","v":0.96000000000000019}]
[null,"Coeff. correttivo del modulo di elasticità tangenziale",null,"CGd",{"$f":"MATERIALI!$K$65","v":0.96000000000000019}]
[null,"Coefficiente di sicurezza del materale muratura",null,"γm",{"$f":"MATERIALI!J$85","v":2}]
[null,"Resistenze di progetto ",null,"Rd=R/(γm*FC)"]
[null,"Resistenza di calcolo a compressione della muratura",null,"fmd",{"$f":"MATERIALI!$K$77","v":0.70777777777777762}]
[]
[null,"Resistenza di calcolo a taglio della muratura",null,"τ0d",{"$f":"MATERIALI!$K$78","v":1.3611111111111107E-2}]
[]
[null,"Resistenza di calcolo a taglio in assenza di tensioni normali",null,"fv0,d",{"$f":"MATERIALI!$K$79","v":3.5388888888888879E-2}]
[]
[null,"Valore di calcolo del modulo di elasticità normale di calcolo",null,"Ed",{"$f":"MATERIALI!$J$80","v":1440.0000000000002}]
[]
[null,"Valore di calcolo del modulo di elasticità tangenziale di calcolo",null,"Gd",{"$f":"MATERIALI!$J$81","v":480.00000000000011}]
[]
[null,"Deformazione al limite elastico della muratura",null,"εm1",{"$f":"MATERIALI!J87","v":-4.9151234567901215E-4}]
[null,"Deformazione ultima della muratura",null,"εmu",{"$f":"MATERIALI!J88","v":-3.5000000000000001E-3}]
[null,"Stima resistenza di calcolo a compressione blocco muratura regolare",null,"fbd",{"$f":"MATERIALI!K83","v":10}]
[]
[null,"Caratteristiche tessitura muratura:",{"$f":"MATERIALI!H82","v":"regolare"},null,{"$f":"MATERIALI!J82","v":0.4}]
[null,"Legame costitutivo di calcolo"]
[]
[]
[null,"SOLLECITAZIONI AGENTI"]
[null,"Sforzo normale agente (Compressione)",null,"Ned",{"$f":"INPUT!$F$82","v":220}]
[null,"Momento flettente agente nel piano",null,"Med,pl",{"$f":"INPUT!$F$86","v":165}]
[null,"Momento flettente agente fuori del piano",null,"Med,out-pl",{"$f":"INPUT!$F$87","v":32}]
[null,"Sforzo di taglio agente nel piano del pannello",null,"Ved",{"$f":"INPUT!$F$89","v":48}]
[null,"Sforzo di taglio agente nel piano del pannello",null,"Ved,out-pl",{"$f":"INPUT!$F$90","v":25}]
[]
[null,"VERIFICHE A FLESSIONE"]
[]
[]
[null,{"$f":"'NEL PIANO'!B9","v":"VERIFICA A FLESSIONE NEL PIANO EX-ANTE"}]
[null,{"$f":"'NEL PIANO'!B19","v":"In-Plane Masonry bending capacity"}]
[]
[]
[]
[]
[]
[]
[]
[]
[]
[]
[]
[]
[]
[]
[]
[]
[]
[]
[null,{"$f":"'NEL PIANO'!B38","v":"Stress and strain plane section Masonry"}]
[]
[]
[]
[]
[]
[]
[]
[]
[]
[]
[]
[]
[]
[]
[]
[]
[]
[null,{"$f":"'NEL PIANO'!B59","v":"Campo di rottura:"},null,{"$f":"'NEL PIANO'!D59","v":"CAMPO 3"}]
[null,{"$f":"'NEL PIANO'!B60","v":"Posizione asse neutro"},null,"Y",{"$f":"'NEL PIANO'!$E$60","v":1089.9389626261791}]
[null,{"$f":"'NEL PIANO'!B61","v":"Def. Muratura lembo superiore (zona compressa)"},null,"εm_sup",{"$f":"'NEL PIANO'!$E$61","v":-3.5000000000000005E-3}]
[null,{"$f":"'NEL PIANO'!B62","v":"Def. Muratura lembo inferiore"},null,"εm_inf",{"$f":"'NEL PIANO'!$E$62","v":0}]
[null,{"$f":"'NEL PIANO'!B63","v":"Sforzo normale sollecitante"},null,"Ned",{"$f":"'NEL PIANO'!$E$63","v":220}]
[null,{"$f":"'NEL PIANO'!B64","v":"Momento sollecitante"},null,"Med",{"$f":"'NEL PIANO'!$E$64","v":165}]
[null,{"$f":"'NEL PIANO'!B65","v":"Momento Resistente sezione non rinforzata"},null,"MRd",{"$f":"'NEL PIANO'!$E$65","v":130.55728617060058}]
[null,{"$f":"'NEL PIANO'!B66","v":"Verifica a flessione nel piano per la senzione non rinforzata"},null,{"$f":"'NEL PIANO'!D66","v":"ver NM pl"},{"$f":"'NEL PIANO'!E66","v":"NON VERIFICATO ex-ante"}]
[null,{"$f":"'NEL PIANO'!B67","v":"Coeff. Di Sicurezza"},null,{"$f":"'NEL PIANO'!D67","v":"R/E"},{"$f":"'NEL PIANO'!E67","v":0.79125627982182167}]
[]
[null,{"$f":"'NEL PIANO'!G9","v":"VERIFICA A FLESSIONE NEL PIANO EX-POST"}]
[null,{"$f":"'NEL PIANO'!G19","v":"In-Plane Masonry bending capacity"}]
[]
[]
[]
[]
[]
[]
[]
[]
[]
[]
[]
[]
[]
[null,{"$f":"'FOGLIO DEPOSITO'!B539","v":"ULTERIORI COPPIE DI VERIFICHE GRAFICHE A SCELTA DELL'UTENTE"}]
[null,null,null,"NED","MED-PL"]
[null,{"$f":"'FOGLIO DEPOSITO'!B542","v":"COMBINAZIONE PRINCIPALE PER LA VERIFICA ANALITICA"},1,{"$f":"'FOGLIO DEPOSITO'!$D$542","v":220},{"$f":"'FOGLIO DEPOSITO'!$E$542","v":165}]
[null,{"$f":"'FOGLIO DEPOSITO'!B543","v":"COMBINAZIONI A SCELTA DELL'UTENTE"},2,{"$f":"'FOGLIO DEPOSITO'!$D$543","v":210},{"$f":"'FOGLIO DEPOSITO'!$E$543","v":115}]
[null,{"$f":"'FOGLIO DEPOSITO'!B544","v":"COMBINAZIONI A SCELTA DELL'UTENTE"},3,{"$f":"'FOGLIO DEPOSITO'!$D$544","v":215},{"$f":"'FOGLIO DEPOSITO'!$E$544","v":132}]
[null,{"$f":"'FOGLIO DEPOSITO'!B545","v":"COMBINAZIONI A SCELTA DELL'UTENTE"},4,{"$f":"'FOGLIO DEPOSITO'!$D$545","v":230},{"$f":"'FOGLIO DEPOSITO'!$E$545","v":161}]
[null,{"$f":"'FOGLIO DEPOSITO'!B546","v":"COMBINAZIONI A SCELTA DELL'UTENTE"},5,{"$f":"'FOGLIO DEPOSITO'!$D$546","v":285},{"$f":"'FOGLIO DEPOSITO'!$E$546","v":155}]
[]
[null,{"$f":"'NEL PIANO'!G59","v":"Campo di rottura:"},null,{"$f":"'NEL PIANO'!I59","v":"CAMPO 2B"}]
[null,{"$f":"'NEL PIANO'!G60","v":"Posizione asse neutro"},null,"Y",{"$f":"'NEL PIANO'!J60","v":1589.0531583614429}]
[null,{"$f":"'NEL PIANO'!G61","v":"Def. Muratura lembo superiore (zona compressa)"},null,"εm_sup ",{"$f":"'NEL PIANO'!$J$61","v":-3.4360535486517574E-3}]
[null,{"$f":"'NEL PIANO'!G62","v":"Def. Muratura lembo inferiore"},null,"εm_inf ",{"$f":"'NEL PIANO'!$J$62","v":0}]
[null,{"$f":"'NEL PIANO'!G63","v":"Sforzo normale sollecitante"},null,"Ned",{"$f":"'NEL PIANO'!$J$63","v":220}]
[null,{"$f":"'NEL PIANO'!G64","v":"Momento sollecitante"},null,"Med",{"$f":"'NEL PIANO'!$J$64","v":165}]
[null,{"$f":"'NEL PIANO'!G65","v":"Momento Resistente sezione rinforzata"},null,"MRd",{"$f":"'NEL PIANO'!$J$65","v":180.37668939882727}]
[null,{"$f":"'NEL PIANO'!G66","v":"Verifica a flessione nel piano per la senzione rinforzata"},null,{"$f":"'NEL PIANO'!I66","v":"ver NM pl-reinf"},{"$f":"'NEL PIANO'!J66","v":"verificato"}]
[null,{"$f":"'NEL PIANO'!G67","v":"Coeff. Di Sicurezza"},null,{"$f":"'NEL PIANO'!I67","v":"R/E"},{"$f":"'NEL PIANO'!J67","v":1.0931920569625895}]
[null,{"$f":"'NEL PIANO'!G38","v":"Stress and strain plane section Masonry"}]
[]
[]
[]
[]
[]
[]
[]
[]
[]
[]
[]
[]
[]
[]
[]
[]
[]
[]
[null,{"$f":"'FUORI PIANO'!B9","v":"VERIFICA A FLESSIONE FUORI DEL PIANO EX-ANTE"}]
[null,{"$f":"'FUORI PIANO'!B19","v":"Out of Plane Masonry capacity"}]
[]
[]
[]
[]
[]
[]
[]
[]
[]
[]
[]
[]
[]
[]
[]
[]
[null,{"$f":"'FUORI PIANO'!B59","v":"Campo di rottura:"},null,{"$f":"'FUORI PIANO'!D59","v":"CAMPO 3"}]
[null,{"$f":"'FUORI PIANO'!B60","v":"Posizione asse neutro"},null,"Y",{"$f":"'FUORI PIANO'!$E$60","v":199.03233230565013}]
[null,{"$f":"'FUORI PIANO'!B61","v":"Def. Muratura lembo superiore (zona compressa)"},null,"εm_sup ",{"$f":"'FUORI PIANO'!$E$61","v":-3.5000000000000005E-3}]
[null,{"$f":"'FUORI PIANO'!B62","v":"Def. Muratura lembo inferiore"},null,"εm_inf ",{"$f":"'FUORI PIANO'!$E$62","v":0}]
[null,{"$f":"'FUORI PIANO'!B63","v":"Sforzo normale sollecitante"},null,"Ned",{"$f":"'FUORI PIANO'!$E$63","v":220}]
[null,{"$f":"'FUORI PIANO'!B64","v":"Momento sollecitante"},null,"Med",{"$f":"'FUORI PIANO'!$E$64","v":32}]
[null,{"$f":"'FUORI PIANO'!B65","v":"Momento Resistente sezione non rinforzata"},null,"MRd",{"$f":"'FUORI PIANO'!$E$65","v":23.840895737995115}]
[null,{"$f":"'FUORI PIANO'!B66","v":"Verifica a flessione fuori del piano per la senzione non rinforzata"},null,{"$f":"'FUORI PIANO'!D66","v":"ver NM out-pl"},{"$f":"'FUORI PIANO'!E66","v":"NON verificato EX-ANTE"}]
[null,{"$f":"'FUORI PIANO'!B67","v":"Coeff. Di Sicurezza"},null,{"$f":"'FUORI PIANO'!D67","v":"R/E"},{"$f":"'FUORI PIANO'!E67","v":0.74502799181234736}]
[]
[null,{"$f":"'FUORI PIANO'!B38","v":"Stress and strain plane section Masonry"}]
[]
[]
[]
[]
[]
[]
[]
[]
[]
[]
[]
[]
[]
[]
[]
[]
[]
[]
[]
[null,{"$f":"'FUORI PIANO'!G9","v":"VERIFICA A FLESSIONE FUORI DEL PIANO EX-POST"}]
[null,{"$f":"'FUORI PIANO'!G19","v":"Out of Plane Masonry capacity"}]
[]
[]
[]
[]
[]
[]
[]
[]
[]
[]
[]
[]
[]
[]
[null,{"$f":"'FOGLIO DEPOSITO'!B549","v":"ULTERIORI COPPIE DI VERIFICHE GRAFICHE A SCELTA DELL'UTENTE"}]
[null,null,null,"NED","MED-OUT-PL"]
[null,{"$f":"'FOGLIO DEPOSITO'!B552","v":"COMBINAZIONE PRINCIPALE PER LA VERIFICA ANALITICA"},1,{"$f":"'FOGLIO DEPOSITO'!$D$552","v":220},{"$f":"'FOGLIO DEPOSITO'!$E$552","v":32}]
[null,{"$f":"'FOGLIO DEPOSITO'!B553","v":"COMBINAZIONI A SCELTA DELL'UTENTE"},2,{"$f":"'FOGLIO DEPOSITO'!$D$553","v":210},{"$f":"'FOGLIO DEPOSITO'!$E$553","v":21.5}]
[null,{"$f":"'FOGLIO DEPOSITO'!B554","v":"COMBINAZIONI A SCELTA DELL'UTENTE"},3,{"$f":"'FOGLIO DEPOSITO'!$D$554","v":215},{"$f":"'FOGLIO DEPOSITO'!$E$554","v":18}]
[null,{"$f":"'FOGLIO DEPOSITO'!B555","v":"COMBINAZIONI A SCELTA DELL'UTENTE"},4,{"$f":"'FOGLIO DEPOSITO'!$D$555","v":230},{"$f":"'FOGLIO DEPOSITO'!$E$555","v":17}]
[null,{"$f":"'FOGLIO DEPOSITO'!B556","v":"COMBINAZIONI A SCELTA DELL'UTENTE"},5,{"$f":"'FOGLIO DEPOSITO'!$D$556","v":285},{"$f":"'FOGLIO DEPOSITO'!$E$556","v":23}]
[null,{"$f":"'FUORI PIANO'!G38","v":"Stress and strain plane section Masonry"}]
[]
[]
[]
[]
[]
[]
[]
[]
[]
[]
[]
[]
[]
[]
[]
[]
[null,{"$f":"'FUORI PIANO'!G59","v":"Campo di rottura:"},null,{"$f":"'FUORI PIANO'!I59","v":"CAMPO 2B"}]
[null,{"$f":"'FUORI PIANO'!G60","v":"discesa asse neutro"},null,"Y",{"$f":"'FUORI PIANO'!$J$60","v":331.62848522325771}]
[null,{"$f":"'FUORI PIANO'!G61","v":"Def. Muratura lembo superiore (zona compressa)"},null,"εm_sup ",{"$f":"'FUORI PIANO'!$J$61","v":-3.4360535486517552E-3}]
[null,{"$f":"'FUORI PIANO'!G62","v":"Def. Muratura lembo inferiore"},null,"εm_inf ",{"$f":"'FUORI PIANO'!$J$62","v":0}]
[null,{"$f":"'FUORI PIANO'!G63","v":"Sforzo normale sollecitante"},null,"Ned",{"$f":"'FUORI PIANO'!$J$63","v":220}]
[null,{"$f":"'FUORI PIANO'!G64","v":"Momento sollecitante"},null,"Med",{"$f":"'FUORI PIANO'!$J$64","v":32}]
[null,{"$f":"'FUORI PIANO'!G65","v":"Momento Resistente sezione rinforzata"},null,"MRd",{"$f":"'FUORI PIANO'!$J$65","v":37.643830842359861}]
[null,{"$f":"'FUORI PIANO'!G66","v":"Verifica a flessione fuori del piano per la senzione rinforzata"},null,{"$f":"'FUORI PIANO'!I66","v":"ver NM out-pl-reinf"},{"$f":"'FUORI PIANO'!J66","v":"verificato"}]
[null,{"$f":"'FUORI PIANO'!G67","v":"Coeff. Di Sicurezza"},null,{"$f":"'FUORI PIANO'!I67","v":"R/E"},{"$f":"'FUORI PIANO'!J67","v":1.1763697138237457}]
[]
[null,"VERIFICHE A TAGLIO"]
[]
[]
[null,"VERIFICA A TAGLIO NEL PIANO EX-ANTE"]
[null,{"$f":"'NEL PIANO'!B71","v":"RESISTENZA A TAGLIO DIAGONALE EX-ANTE C8.7.1.16"}]
[]
[]
[]
[]
[null,{"$f":"'NEL PIANO'!B72","v":"RESISTENZA A TAGLIO DIAGONALE EX-ANTE C8.7.1.16"}]
[null,{"$f":"'NEL PIANO'!B73","v":"Coeff. Correttivo legato alla distribuzione degli sforzi"},{"$f":"'NEL PIANO'!C73","v":0},"b",{"$f":"'NEL PIANO'!E73","v":1.4347826086956521}]
[null,{"$f":"'NEL PIANO'!B74","v":"Resistenza media a taglio della muratura"},{"$f":"'NEL PIANO'!C74","v":0},"τ0d",{"$f":"'NEL PIANO'!E74","v":9.0740740740740729E-3}]
[null,{"$f":"'NEL PIANO'!B75","v":"Resistenza di calcolo per fessurazione diagonale"},{"$f":"'NEL PIANO'!C75","v":0},"ftd",{"$f":"'NEL PIANO'!E75","v":1.3611111111111109E-2}]
[null,{"$f":"'NEL PIANO'!B76","v":"Tensione media di compressione (su tutto il pannello)"},{"$f":"'NEL PIANO'!C76","v":0},"σmed,tot",{"$f":"'NEL PIANO'!E76","v":0.22774327122153212}]
[null,{"$f":"'NEL PIANO'!B77","v":"Tensione resistente a taglio per fessurazione diagonale"},{"$f":"'NEL PIANO'!C77","v":0},"τdiag,d",{"$f":"'NEL PIANO'!E77","v":3.9947378101102521E-2}]
[null,{"$f":"'NEL PIANO'!B78","v":"Sezione pannello"},{"$f":"'NEL PIANO'!C78","v":0},"A",{"$f":"'NEL PIANO'!E78","v":0.96599999999999986}]
[null,{"$f":"'NEL PIANO'!B79","v":"Resistenza a taglio per fessurazione diagonale C8.7.1.16"},{"$f":"'NEL PIANO'!C79","v":0},"Vrd,diag",{"$f":"'NEL PIANO'!E79","v":38.589167245665031}]
[]
[null,{"$f":"'NEL PIANO'!B81","v":"RESISTENZA A TAGLIO SCORRIMENTO EX-ANTE C8.7.1.17 E C8.7.1.18"}]
[]
[]
[]
[null,{"$f":"'NEL PIANO'!B82","v":"Per muratura con tessitura regolare"}]
[null,{"$f":"'NEL PIANO'!B83","v":"Coeff. Di attrito equivalente della muratura"},{"$f":"'NEL PIANO'!C83","v":0},null,{"$f":"'NEL PIANO'!E83","v":0.2}]
[null,{"$f":"'NEL PIANO'!B84","v":"Coeff. Di attrito della muratura ( corr. Angolo di attrito di 30°)"},{"$f":"'NEL PIANO'!C84","v":0},null,{"$f":"'NEL PIANO'!E84","v":0.57699999999999996}]
[null,{"$f":"'NEL PIANO'!B85","v":"Resistenza a taglio equivalente della muratura in assenza di tensioni normali"},{"$f":"'NEL PIANO'!C85","v":0},null,{"$f":"'NEL PIANO'!E85","v":8.1776750754220407E-3}]
[null,{"$f":"'NEL PIANO'!B86","v":"Tensione media di compressione (solo su parte compressa: L')"},{"$f":"'NEL PIANO'!C86","v":0},"σmed,comp",{"$f":"'NEL PIANO'!E86","v":0.4328785967246252}]
[null,{"$f":"'NEL PIANO'!B87","v":"Resistenza a taglio equivalente della muratura in presenza di tensioni normali"},{"$f":"'NEL PIANO'!C87","v":0},null,{"$f":"'NEL PIANO'!E87","v":5.146553474788456E-2}]
[null,{"$f":"'NEL PIANO'!B88","v":"Coeff. Correttivo legato alla distribuzione degli sforzi"},{"$f":"'NEL PIANO'!C88","v":0},"b",{"$f":"'NEL PIANO'!E88","v":1}]
[null,{"$f":"'NEL PIANO'!B89","v":"Resistenza a taglio scorrimento "},{"$f":"'NEL PIANO'!C89","v":0},null,{"$f":"'NEL PIANO'!E89","v":5.146553474788456E-2}]
[null,{"$f":"'NEL PIANO'!B90","v":"Lunghezza del lembo compresso di muratura"},{"$f":"'NEL PIANO'!C90","v":0},"L'",{"$f":"'NEL PIANO'!E90","v":1210.0610373738209}]
[null,{"$f":"'NEL PIANO'!B91","v":"Sezione compressa pannello murario"},{"$f":"'NEL PIANO'!C91","v":0},"Acomp",{"$f":"'NEL PIANO'!E91","v":0.50822563569700474}]
[null,{"$f":"'NEL PIANO'!B92","v":"Resistenza a taglio scorrimento C8.7.1.17 (*)"},{"$f":"'NEL PIANO'!C92","v":0},"Vrd,scor",{"$f":"'NEL PIANO'!E92","v":26.156104113729917}]
[null,{"$f":"'NEL PIANO'!B93","v":"Resistenza a trazione dei blocchi"},{"$f":"'NEL PIANO'!C93","v":0},"fbtd",{"$f":"'NEL PIANO'!E93","v":1}]
[null,{"$f":"'NEL PIANO'!B94","v":"Resistenza limite rottura a trazione dei blocchi"},{"$f":"'NEL PIANO'!C94","v":0},"τbloc,d",{"$f":"'NEL PIANO'!E94","v":0.33576841564680054}]
[null,{"$f":"'NEL PIANO'!B95","v":"Resistenza a taglio per rottura a trazione dei blocchi C8.7.1.18"},{"$f":"'NEL PIANO'!C95","v":0},"Vrd,lim,scor",{"$f":"'NEL PIANO'!E95","v":324.35228951480923}]
[]
[null,{"$f":"'NEL PIANO'!B98","v":"VERIFICA A TAGLIO EX-ANTE C.8.7.1.16/C.8.7.1.17/C.8.7.1.18"}]
[null,{"$f":"'NEL PIANO'!B99","v":"Taglio sollecitante"},null,"Ved",{"$f":"'NEL PIANO'!E99","v":48}]
[null,{"$f":"'NEL PIANO'!B100","v":"RESISTENZA A TAGLIO DELLA MURATURA MIN(C8.7.1.16;C8.7.1.17;C8.7.1.18)"},null,"Vrd",{"$f":"'NEL PIANO'!E100","v":26.156104113729917}]
[null,{"$f":"'NEL PIANO'!B101","v":"Verifica capacità tagliante ex-ante"},null,{"$f":"'NEL PIANO'!D101","v":"verifica"},{"$f":"'NEL PIANO'!E101","v":"NON Verificato Ex-Ante"}]
[null,{"$f":"'NEL PIANO'!B102","v":"Coeff. Di Sicurezza"},null,"R/E",{"$f":"'NEL PIANO'!E102","v":0.54491883570270661}]
[]
[null,{"$f":"'NEL PIANO'!B104","v":"In-Plane Masonry shear capacity"}]
[]
[]
[]
[]
[]
[]
[]
[]
[]
[]
[]
[]
[]
[]
[]
[]
[]
[]
[]
[]
[null,"VERIFICA A TAGLIO NEL PIANO EX-POST"]
[null,{"$f":"'NEL PIANO'!G71","v":"RESISTENZA A TAGLIO DIAGONALE EX-POST C8.7.1.16"}]
[]
[]
[]
[]
[null,{"$f":"'NEL PIANO'!G72","v":"RESISTENZA A TAGLIO DIAGONALE EX-POST C8.7.1.16"}]
[null,{"$f":"'NEL PIANO'!G73","v":"Coeff. Correttivo legato alla distribuzione degli sforzi"},{"$f":"'NEL PIANO'!#REF!","v":{"$error":"#REF!"}},"b",{"$f":"'NEL PIANO'!J73","v":1.4347826086956521}]
[null,{"$f":"'NEL PIANO'!G74","v":"Resistenza media a taglio della muratura"},{"$f":"'NEL PIANO'!#REF!","v":{"$error":"#REF!"}},"τ0d",{"$f":"'NEL PIANO'!J74","v":1.3611111111111107E-2}]
[null,{"$f":"'NEL PIANO'!G75","v":"Resistenza di calcolo per fessurazione diagonale"},{"$f":"'NEL PIANO'!#REF!","v":{"$error":"#REF!"}},"ftd",{"$f":"'NEL PIANO'!J75","v":2.0416666666666659E-2}]
[null,{"$f":"'NEL PIANO'!G76","v":"Tensione media di compressione (su tutto il pannello)"},{"$f":"'NEL PIANO'!#REF!","v":{"$error":"#REF!"}},"σmed,tot",{"$f":"'NEL PIANO'!J76","v":0.1992753623188406}]
[null,{"$f":"'NEL PIANO'!G77","v":"Tensione resistente a taglio per fessurazione diagonale"},{"$f":"'NEL PIANO'!#REF!","v":{"$error":"#REF!"}},"τdiag,d",{"$f":"'NEL PIANO'!J77","v":4.6678131722181847E-2}]
[null,{"$f":"'NEL PIANO'!G78","v":"Sezione pannello"},{"$f":"'NEL PIANO'!#REF!","v":{"$error":"#REF!"}},"A",{"$f":"'NEL PIANO'!J78","v":1.1039999999999999}]
[null,{"$f":"'NEL PIANO'!G79","v":"Resistenza a taglio per fessurazione diagonale C8.7.1.16"},{"$f":"'NEL PIANO'!#REF!","v":{"$error":"#REF!"}},"Vrd,diag",{"$f":"'NEL PIANO'!J79","v":51.532657421288754}]
[]
[null,{"$f":"'NEL PIANO'!G81","v":"RESISTENZA A TAGLIO SCORRIMENTO EX-POST C8.7.1.17 E C8.7.1.18"}]
[]
[]
[]
[null,{"$f":"'NEL PIANO'!G82","v":"Per muratura con tessitura regolare"}]
[null,{"$f":"'NEL PIANO'!G83","v":"Coeff. Di attrito equivalente della muratura"},{"$f":"'NEL PIANO'!#REF!","v":{"$error":"#REF!"}},null,{"$f":"'NEL PIANO'!J83","v":0.4}]
[null,{"$f":"'NEL PIANO'!G84","v":"Coeff. Di attrito della muratura ( corr. Angolo di attrito di 30°)"},{"$f":"'NEL PIANO'!#REF!","v":{"$error":"#REF!"}},null,{"$f":"'NEL PIANO'!J84","v":0.57699999999999996}]
[null,{"$f":"'NEL PIANO'!G85","v":"Resistenza a taglio equivalente della muratura in assenza di tensioni normali"},{"$f":"'NEL PIANO'!#REF!","v":{"$error":"#REF!"}},null,{"$f":"'NEL PIANO'!J85","v":2.4533025226266124E-2}]
[null,{"$f":"'NEL PIANO'!G86","v":"Tensione media di compressione (solo su parte compressa: L')"},{"$f":"'NEL PIANO'!#REF!","v":{"$error":"#REF!"}},"σmed,comp",{"$f":"'NEL PIANO'!J86","v":0.64468017366388197}]
[null,{"$f":"'NEL PIANO'!G87","v":"Resistenza a taglio equivalente della muratura in presenza di tensioni normali"},{"$f":"'NEL PIANO'!#REF!","v":{"$error":"#REF!"}},null,{"$f":"'NEL PIANO'!J87","v":0.1534690599590425}]
[null,{"$f":"'NEL PIANO'!G88","v":"Coeff. Correttivo legato alla distribuzione degli sforzi"},{"$f":"'NEL PIANO'!#REF!","v":{"$error":"#REF!"}},"b",{"$f":"'NEL PIANO'!J88","v":1}]
[null,{"$f":"'NEL PIANO'!G89","v":"Resistenza a taglio scorrimento "},{"$f":"'NEL PIANO'!#REF!","v":{"$error":"#REF!"}},null,{"$f":"'NEL PIANO'!J89","v":0.1534690599590425}]
[null,{"$f":"'NEL PIANO'!G90","v":"Lunghezza del lembo compresso di muratura"},{"$f":"'NEL PIANO'!#REF!","v":{"$error":"#REF!"}},"L'",{"$f":"'NEL PIANO'!J90","v":710.94684163855709}]
[null,{"$f":"'NEL PIANO'!G91","v":"Sezione compressa pannello murario"},{"$f":"'NEL PIANO'!#REF!","v":{"$error":"#REF!"}},"Acomp",{"$f":"'NEL PIANO'!J91","v":0.34125448398650743}]
[null,{"$f":"'NEL PIANO'!G92","v":"Resistenza a taglio scorrimento C8.7.1.17 (*)"},{"$f":"'NEL PIANO'!#REF!","v":{"$error":"#REF!"}},"Vrd,scor",{"$f":"'NEL PIANO'!J92","v":52.372004864217423}]
[null,{"$f":"'NEL PIANO'!G93","v":"Resistenza a trazione dei blocchi"},{"$f":"'NEL PIANO'!#REF!","v":{"$error":"#REF!"}},"fbtd",{"$f":"'NEL PIANO'!J93","v":1}]
[null,{"$f":"'NEL PIANO'!G94","v":"Resistenza limite rottura a trazione dei blocchi"},{"$f":"'NEL PIANO'!#REF!","v":{"$error":"#REF!"}},"τbloc,d",{"$f":"'NEL PIANO'!J94","v":0.33185282264438687}]
[null,{"$f":"'NEL PIANO'!G95","v":"Resistenza a taglio per rottura a trazione dei blocchi C8.7.1.18"},{"$f":"'NEL PIANO'!#REF!","v":{"$error":"#REF!"}},"Vrd,lim,scor",{"$f":"'NEL PIANO'!J95","v":366.36551619940309}]
[]
[null,{"$f":"'NEL PIANO'!G98","v":"VERIFICA A TAGLIO EX-POST C.8.7.1.16/C.8.7.1.17/C.8.7.1.18"}]
[null,{"$f":"'NEL PIANO'!G99","v":"Taglio sollecitante"},null,"Ved",{"$f":"'NEL PIANO'!J99","v":48}]
[null,{"$f":"'NEL PIANO'!G100","v":"RESISTENZA A TAGLIO DELLA MURATURA MIN(C8.7.1.16;C8.7.1.17;C8.7.1.18)"},null,"Vrd",{"$f":"'NEL PIANO'!J100","v":51.532657421288754}]
[null,{"$f":"'NEL PIANO'!G101","v":"Verifica capacità tagliante ex-ante"},null,{"$f":"'NEL PIANO'!I101","v":"verifica"},{"$f":"'NEL PIANO'!J101","v":"verificato"}]
[null,{"$f":"'NEL PIANO'!G102","v":"Coeff. Di Sicurezza"},null,"R/E",{"$f":"'NEL PIANO'!J102","v":1.0735970296101824}]
[]
[null,{"$f":"'NEL PIANO'!G104","v":"In-Plane Masonry shear capacity"}]
[]
[]
[]
[]
[]
[]
[]
[]
[]
[]
[]
[]
[]
[]
[]
[]
[]
[]
[]
[]
[null,{"$f":"'FUORI PIANO'!B69","v":"VERIFICA A TAGLIO SCORRIMENTO FUORI PIANO EX-ANTE"}]
[]
[null,{"$f":"'FUORI PIANO'!B70","v":"Coeff. Di attrito della muratura"},null,null,{"$f":"'FUORI PIANO'!$E$70","v":0.2}]
[null,{"$f":"'FUORI PIANO'!B71","v":"Coeff. Di attrito della muratura ( corr. Angolo di attrito di 30°)"},null,null,0.57699999999999996]
[null,{"$f":"'FOGLIO DEPOSITO'!B572","v":"Tensione media di compressione (solo su parte compressa: L')"},null,"σmed,comp",{"$f":"'FUORI PIANO'!$E$72","v":0.4328785967246252}]
[null,{"$f":"'FOGLIO DEPOSITO'!B573","v":"tensione tangenziale resistente della muratura in presenza di compressione"},null,{"$f":"'FOGLIO DEPOSITO'!D573","v":"fvd"},{"$f":"'FUORI PIANO'!$E$73","v":5.146553474788456E-2}]
[null,{"$f":"'FUORI PIANO'!B74","v":"Lunghezza del lembo compresso di muratura"},null,"L'",{"$f":"'FUORI PIANO'!$E$74","v":220.96766769434987}]
[null,{"$f":"'FUORI PIANO'!B75","v":"Taglio sollecitante fuori del piano"},null,"Ved",{"$f":"'FUORI PIANO'!$E$75","v":25}]
[null,{"$f":"'FUORI PIANO'!B76","v":"Resistenza a taglio scorrimento C8.7.1.17"},null,"Vrd",{"$f":"'FUORI PIANO'!$E$76","v":26.156104113729914}]
[null,{"$f":"'FUORI PIANO'!B77","v":"Verifica capacità tagliante ex-ante"},null,{"$f":"'FUORI PIANO'!D77","v":"verifica"},{"$f":"'FUORI PIANO'!E77","v":"verificato"}]
[null,{"$f":"'FUORI PIANO'!B78","v":"Coeff. Di Sicurezza"},null,{"$f":"'FUORI PIANO'!D78","v":"R/E"},{"$f":"'FUORI PIANO'!E78","v":1.0462441645491964}]
[]
[null,{"$f":"'FUORI PIANO'!G69","v":"VERIFICA A TAGLIO SCORRIMENTO FUORI PIANO EX-POST"}]
[]
[null,{"$f":"'FUORI PIANO'!G70","v":"Coeff. Di attrito della muratura"},null,null,{"$f":"'FUORI PIANO'!J70","v":0.4}]
[null,{"$f":"'FUORI PIANO'!G71","v":"Coeff. Di attrito della muratura ( corr. Angolo di attrito di 30°)"},null,null,{"$f":"'FUORI PIANO'!J71","v":0.57699999999999996}]
[null,{"$f":"'FUORI PIANO'!G72","v":"Tensione media di compressione (solo su parte compressa: L')"},null,"σmed,comp",{"$f":"'FUORI PIANO'!J72","v":0.64468017366388219}]
[null,{"$f":"'FUORI PIANO'!G73","v":"tensione tangenziale resistente della muratura in presenza di compressione"},null,{"$f":"'FOGLIO DEPOSITO'!D585","v":0},{"$f":"'FUORI PIANO'!J73","v":0.15346905995904256}]
[null,{"$f":"'FUORI PIANO'!G74","v":"Lunghezza del lembo compresso di muratura"},null,"L'",{"$f":"'FUORI PIANO'!J74","v":148.37151477674229}]
[null,{"$f":"'FUORI PIANO'!G75","v":"Taglio sollecitante fuori del piano"},null,"Ved",{"$f":"'FUORI PIANO'!J75","v":25}]
[null,{"$f":"'FUORI PIANO'!G76","v":"Resistenza a taglio scorrimento C8.7.1.17"},null,"Vrd",{"$f":"'FUORI PIANO'!J76","v":52.372004864217409}]
[null,{"$f":"'FUORI PIANO'!G77","v":"Verifica capacità tagliante ex-ante"},null,{"$f":"'FUORI PIANO'!I77","v":"verifica"},{"$f":"'FUORI PIANO'!J77","v":"verificato"}]
[null,{"$f":"'FUORI PIANO'!G78","v":"Coeff. Di Sicurezza"},null,{"$f":"'FUORI PIANO'!I78","v":"R/E"},{"$f":"'FUORI PIANO'!J78","v":2.0948801945686966}]
[]
[null,"VERIFICHE A COMPRESSIONE SEMPLICE"]
[]
[]
[null,{"$f":"'NEL PIANO'!B126","v":"VERIFICA A COMPRESSIONE SEMPLICE EX-ANTE"}]
[null,{"$f":"'NEL PIANO'!B127","v":"Peso Pannello murario"},null,"W",{"$f":"'NEL PIANO'!E127","v":57.380399999999995}]
[null,{"$f":"'NEL PIANO'!B128","v":"Tensione media di compressione"},null,"σmed",{"$f":"'NEL PIANO'!E128","v":-0.2277432712215321}]
[null,{"$f":"'NEL PIANO'!B129","v":"Resistenza di calcolo, a compressione della muratura"},null,"fmd",{"$f":"'NEL PIANO'!E129","v":0.47185185185185174}]
[null,{"$f":"'NEL PIANO'!B130","v":"Sforzo normale sollecitante"},null,"Ned",{"$f":"'NEL PIANO'!E130","v":220}]
[null,{"$f":"'NEL PIANO'!B131","v":"Capacità assiale (da dominio M-N)"},null,"NRd",{"$f":"'NEL PIANO'!E131","v":455.80888888888887}]
[null,{"$f":"'NEL PIANO'!B132","v":"Verifica di capacità assiale"},null,{"$f":"'NEL PIANO'!D132","v":"verifica"},{"$f":"'NEL PIANO'!E132","v":"verificato"}]
[null,{"$f":"'NEL PIANO'!B133","v":"Coeff. Di Sicurezza"},null,{"$f":"'NEL PIANO'!D133","v":"R/E"},{"$f":"'NEL PIANO'!E133","v":2.0718585858585858}]
[]
[null,{"$f":"'NEL PIANO'!G126","v":"VERIFICA A COMPRESSIONE SEMPLICE EX-POST"}]
[null,{"$f":"'NEL PIANO'!G127","v":"Peso Pannello murario"},null,"W",{"$f":"'NEL PIANO'!J127","v":65.577600000000004}]
[null,{"$f":"'NEL PIANO'!G128","v":"Tensione media di compressione"},null,"σmed",{"$f":"'NEL PIANO'!J128","v":-0.19927536231884058}]
[null,{"$f":"'NEL PIANO'!G129","v":"Resistenza di calcolo, a compressione della muratura"},null,"fmd",{"$f":"'NEL PIANO'!J129","v":0.70777777777777762}]
[null,{"$f":"'NEL PIANO'!G130","v":"Sforzo normale sollecitante"},null,"Ned",{"$f":"'NEL PIANO'!J130","v":220}]
[null,{"$f":"'NEL PIANO'!G131","v":"Capacità assiale (da dominio M-N)"},null,"NRd",{"$f":"'NEL PIANO'!J131","v":781.38666666666654}]
[null,{"$f":"'NEL PIANO'!G132","v":"Verifica di capacità assiale"},null,{"$f":"'NEL PIANO'!I132","v":"verifica"},{"$f":"'NEL PIANO'!J132","v":"verificato"}]
[null,{"$f":"'NEL PIANO'!G133","v":"Coeff. Di Sicurezza"},null,{"$f":"'NEL PIANO'!I133","v":"R/E"},{"$f":"'NEL PIANO'!J133","v":3.5517575757575752}]

{"sheet":"MNP","index":8,"n_rows":270,"n_cols":32,"rows_kept":270,"cut":false,"hidden":true,"merged":[[10,25,10,26],[61,0,107,0],[4,5,8,6],[10,7,10,8],[10,9,10,10],[12,0,27,0],[28,0,38,0],[39,0,49,0],[50,0,60,0]]}
[]
[]
[null,null,"t parete=S",{"$f":"INPUT!F39*1000","v":420},"mm"]
[null,null,"B parete=H",{"$f":"INPUT!F38*1000","v":2300},"mm",null,null,null,null,null,"fmd",{"$f":"MATERIALI!K27","v":0.47185185185185174},"N/mm2",null,null,null,null,null,"εmu",{"$f":"MATERIALI!J38","v":-3.5000000000000001E-3},"[‰]"]
[null,null,"facce",{"$f":"10^-9","v":1.0000000000000001E-9},"-","FRCM non operativo sulla muratura non rinforzata",null,null,null,null,"Ed",{"$f":"MATERIALI!J30","v":816.00000000000011},"N/mm2",null,null,null,null,null,"εm1",{"$f":"MATERIALI!J37","v":-5.7824981844589664E-4},"[‰]"]
[null,null,"nf",1,"-",null,null,null,null,null,"Ef",52000,"N/mm2"]
[null,null,"tVf",6.3E-2,"mm",null,null,null,null,null,"ffd",{"$f":"+D5*D6*D7*D9*D8*L6*T7/D10","v":1.5095808E-8},"N/mm2",null,null,null,null,null,"εfd",7.6800000000000002E-3,"[‰]"]
[null,null,"a",1,"-",null,null,null,null,null,"Seq",{"$f":"+D5*D6*D8","v":1.0000000000000001E-9},null,null,null,null,null,null,null,null,null,null,null,null,null,{"$f":"IF(ABS('FOGLIO DEPOSITO'!F304)<AC9,AC9,ABS('FOGLIO DEPOSITO'!F304))","v":220}]
[null,null,"η",0.9,"-",null,null,null,null,null,"RO",{"$f":"$T$5/$T$4*$D$4","v":379.99273783587489},null,null,null,null,null,null,null,null,null,null,null,null,null,"Ned  [kN]","MRd  [kNm]",null,{"$f":"MINA(AE13:AE108)","v":2.3120212577189161E-3}]
[null,null,"γmFRCM",1.5,"-",null,null,null,null,null,null,null,null,null,null,null,null,null,null,null,null,null,null,null,null,{"$f":"VLOOKUP(AA10,AA13:AB108,2,)","v":217.08197144470455},{"$f":"VLOOKUP(Z8,Z13:AA108,2,TRUE)","v":130.42820787331621},{"$f":"VLOOKUP(Z8,Z13:AF108,7,TRUE)","v":"CAMPO 3"}]
[null,null,null,null,null,null,null,"muratura",null,"FRCM",null,null,null,null,null,null,null,null,null,null,null,null,null,null,null,"COPPIA DI VERIFICA",null,null,"y",{"$f":"AC13","v":-100000000000}]
[null,null,"Y[mm]","εm_inf [-]","εm_sup [-]","εf_inf [-]","εf_sup [-]","A(σ-ε)","Sy(σ-ε)","A(σ-ε)","Sy(σ-ε)","β1","β2","k1","k2","C  [N]","T  [N]","Ned  [N]","MRd  [Nmm]","Ned  [kN]","MRd  [kNm]","-MRd  [kNm]",null,null,null,"Ned  [kN]","MRd  [kNm]",null,-100000000000,-5000]
["CAMPO 1",{"$f":"+B14+1","v":14},-100000000000,null,null,{"$f":"$T$7","v":7.6800000000000002E-3},{"$f":"+$T$7*(ABS(C13)/(ABS(C13)+$D$4))","v":7.6799998233600042E-3},null,null,{"$f":"(G13+F13)/2*$L$7","v":1.1593580410673827E-10},{"$f":"1/6*(2*G13+$T$7)*$L$7","v":5.7967901831158852E-11},null,null,{"$f":"+J13/($T$7*$L$7)","v":0.99999998850000027},{"$f":"+K13/J13","v":0.4999999980833334},0,{"$f":"$L$8*$D$4*$L$6*$T$7*N13","v":9.1852798943692826E-4},{"$f":"Q13+P13","v":9.1852798943692826E-4},{"$f":"+Q13*($D$4/2-O13*$D$4)","v":4.0491773369727969E-9},{"$f":"+R13/1000","v":9.1852798943692825E-7},{"$f":"+S13/1000000","v":4.0491773369727965E-15},{"$f":"-U13","v":-4.0491773369727965E-15},null,null,null,{"$f":"IF(T13>0,0,ABS(T13))","v":0},{"$f":"IF(T13>0,0,U13)","v":0},{"$f":"Z13","v":0},{"$f":"C13","v":-100000000000},-4615.3846153846152,{"$f":"IF(Z13=0,10^7,Z13)","v":10000000},"CAMPO 1"]
[null,13,-5000,null,null,7.6800000000000002E-3,5.2602739726027399E-3,null,null,{"$f":"(G14+F14)/2*$L$7","v":9.7671945678904108E-11},4.5791996212602736E-11,null,null,0.84246575342465746,{"$f":"+K14/J14","v":0.46883468834688347},0,7.7382838356164377E-4,{"$f":"Q14+P14","v":7.7382838356164377E-4},{"$f":"+Q14*($D$4/2-O14*$D$4)","v":5.5468186301369793E-2},{"$f":"+R14/1000","v":7.7382838356164378E-7},{"$f":"+S14/1000000","v":5.5468186301369794E-8},{"$f":"-U14","v":-5.5468186301369794E-8},null,null,null,{"$f":"IF(T14>0,0,ABS(T14))","v":0},{"$f":"IF(T14>0,0,U14)","v":0},{"$f":"Z14","v":0},{"$f":"C14","v":-5000},-4230.7692307692314,{"$f":"IF(Z14=0,10^7,Z14)","v":10000000},"CAMPO 1"]
[null,12,{"$f":"+$C$14/$B$14*B15","v":-4615.3846153846152},null,null,7.6800000000000002E-3,5.1256952169076754E-3,null,null,9.6656158150478304E-11,4.5114804526985537E-11,null,null,0.83370411568409342,0.46675561485434736,0,7.6578057397107898E-4,7.6578057397107898E-4,5.8553179977753021E-2,{"$f":"+R15/1000","v":7.65780573971079E-7},{"$f":"+S15/1000000","v":5.8553179977753023E-8},-5.8553179977753023E-8,null,null,null,0,0,{"$f":"Z15","v":0},-4615.3846153846152,-4230.7692307692314,10000000,"CAMPO 1"]
[null,{"$f":"+B18+1","v":11},-4230.7692307692314,null,null,7.6800000000000002E-3,4.975265017667845E-3,null,null,9.5520725447915195E-11,4.4357849391943469E-11,null,null,0.8239104829210836,0.46437931856087689,0,7.5678484805653714E-4,7.5678484805653714E-4,6.20015415783274E-2,7.5678484805653711E-7,6.2001541578327406E-8,-6.2001541578327406E-8,null,null,null,0,0,0,-4230.7692307692314,-3846.1538461538466,10000000,"CAMPO 1"]
[null,11,-4230.7692307692314,null,null,7.6800000000000002E-3,4.975265017667845E-3,null,null,9.5520725447915195E-11,4.4357849391943469E-11,null,null,0.8239104829210836,0.46437931856087689,0,7.5678484805653714E-4,7.5678484805653714E-4,6.20015415783274E-2,7.5678484805653711E-7,6.2001541578327406E-8,-6.2001541578327406E-8,null,null,null,0,0,0,-4230.7692307692314,-3461.5384615384619,10000000,"CAMPO 1"]
[null,10,{"$f":"+$C$14/$B$14*B18","v":-3846.1538461538466},null,null,7.6800000000000002E-3,4.8060075093867335E-3,null,null,9.424318602413017E-11,4.3506156442753435E-11,null,null,0.81289111389236546,0.46163715678727213,0,7.4666324906132674E-4,7.4666324906132674E-4,6.5881487859824936E-2,7.4666324906132674E-7,6.5881487859824931E-8,-6.5881487859824931E-8,null,null,null,0,0,0,-3846.1538461538466,-3076.9230769230771,10000000,"CAMPO 1"]
[null,9,-3461.5384615384619,null,null,7.6800000000000002E-3,4.6141522029372493E-3,null,null,9.2795080589158883E-11,4.2540752819439246E-11,null,null,0.80040053404539391,0.45843758687795377,0,7.3519030173564758E-4,7.3519030173564758E-4,7.0279451001335314E-2,7.3519030173564763E-7,7.0279451001335319E-8,-7.0279451001335319E-8,null,null,null,0,0,0,-3461.5384615384619,-2692.3076923076924,10000000,"CAMPO 1"]
[null,8,-3076.9230769230771,null,null,7.6800000000000002E-3,4.394849785407726E-3,null,null,9.113980699467812E-11,4.1437237089785404E-11,null,null,0.78612303290414887,0.45465574764937816,0,7.2207601716738209E-4,7.2207601716738209E-4,7.5306593419170356E-2,7.2207601716738204E-7,7.5306593419170354E-8,-7.5306593419170354E-8,null,null,null,0,0,0,-3076.9230769230771,-2307.6923076923076,10000000,"CAMPO 1"]
[null,7,-2692.3076923076924,null,null,7.6800000000000002E-3,4.1417565485362103E-3,null,null,8.9229483539722661E-11,4.0163688119815105E-11,null,null,0.76964560862865961,0.4501167834501168,0,7.069410416024655E-4,7.069410416024655E-4,8.1108334052388292E-2,7.0694104160246549E-7,8.1108334052388294E-8,-8.1108334052388294E-8,null,null,null,0,0,0,-2692.3076923076924,-1923.0769230769233,10000000,"CAMPO 1"]
[null,6,-2307.6923076923076,null,null,7.6800000000000002E-3,3.8464106844741234E-3,null,null,8.7000241310984975E-11,3.8677526633989985E-11,null,null,0.75041736227045075,0.44456803856136451,0,6.8927935893155266E-4,6.8927935893155266E-4,8.787864574290484E-2,6.8927935893155264E-7,8.7878645742904843E-8,-8.7878645742904843E-8,null,null,null,0,0,0,-2307.6923076923076,-1538.4615384615386,10000000,"CAMPO 1"]
[null,5,-1923.0769230769233,null,null,7.6800000000000002E-3,3.4972677595628415E-3,null,null,8.4364944031475403E-11,3.6920661780983603E-11,null,null,0.72768670309653904,0.43763037129745513,0,6.6840061202185787E-4,6.6840061202185787E-4,9.5882165391621157E-2,6.6840061202185792E-7,9.5882165391621158E-8,-9.5882165391621158E-8,null,null,null,0,0,0,-1923.0769230769233,-1153.8461538461538,10000000,"CAMPO 1"]
[null,4,-1538.4615384615386,null,null,7.6800000000000002E-3,3.0781563126252506E-3,null,null,8.1201531064689375E-11,3.481171980312625E-11,null,null,0.70040080160320639,0.42870767763471623,0,6.4333774749498996E-4,6.4333774749498996E-4,0.10548959679358724,6.4333774749498993E-7,1.0548959679358724E-7,-1.0548959679358724E-7,null,null,null,0,0,0,-1538.4615384615386,-769.23076923076928,10000000,"CAMPO 1"]
[null,3,-1153.8461538461538,null,null,7.6800000000000002E-3,2.5657015590200448E-3,null,null,7.7333571780133635E-11,3.223308028008909E-11,null,null,0.66703786191536751,0.41680578742348362,0,6.126929532293987E-4,6.126929532293987E-4,0.11723676792873047,6.1269295322939868E-7,1.1723676792873047E-7,-1.1723676792873047E-7,null,null,null,0,0,0,-1153.8461538461538,-384.61538461538464,10000000,"CAMPO 1"]
[null,2,-769.23076923076928,null,null,7.6800000000000002E-3,1.9248120300751879E-3,null,null,7.2496199141052626E-11,2.9008165187368421E-11,null,null,0.62531328320802004,0.40013360053440217,0,5.7436775939849623E-4,5.7436775939849623E-4,0.13192809223057639,5.7436775939849628E-7,1.3192809223057638E-7,-1.3192809223057638E-7,null,null,null,0,0,0,-769.23076923076928,0,10000000,"CAMPO 1"]
[null,{"$f":"+B28+1","v":1},-384.61538461538464,null,null,7.6800000000000002E-3,1.1002865329512895E-3,null,null,6.6272759843209167E-11,2.4859205655472779E-11,null,null,0.57163323782234954,0.37510442773600672,0,5.2506113467048706E-4,5.2506113467048706E-4,0.15082896504297991,5.2506113467048704E-7,1.5082896504297992E-7,-1.5082896504297992E-7,null,null,null,0,0,0,{"$f":"C27","v":-384.61538461538464},0,10000000,"CAMPO 1"]
[null,0,{"$f":"+$C$14/$B$14*B28","v":0},null,null,7.6800000000000002E-3,0,null,null,5.7967902720000002E-11,1.9322634239999998E-11,null,null,0.5,0.33333333333333331,0,4.5926400000000003E-4,4.5926400000000003E-4,0.17605120000000002,4.59264E-7,1.7605120000000003E-7,-1.7605120000000003E-7,null,null,null,0,0,0,0,16.104799584227731,10000000,"CAMPO 1"]
["CAMPO 2A",0,{"$f":"+$C$39/$B$39*B29","v":0},null,{"$f":"-$T$7*C29/($D$4-C29)","v":0},7.6800000000000002E-3,null,{"$f":"$L$4/ABS($T$5)*ABS(E29)^2/2","v":0},{"$f":"+$L$4/(ABS($T$5))*ABS(E29)^3/3","v":0},null,null,{"$f":"H29/($L$4*ABS($T$4))","v":0},0.33300000000000002,null,null,{"$f":"-$L$4*$D$3*C29*L29","v":0},{"$f":"$L$8*($D$4-C29)*$L$6*F29*0.5","v":4.5926400000000003E-4},4.5926400000000003E-4,{"$f":"-P29*($D$4/2-M29*C29)+Q29*($D$4/6+C29/3)","v":0.17605119999999999},{"$f":"+R29/1000","v":4.59264E-7},1.760512E-7,-1.760512E-7,null,null,null,0,0,0,{"$f":"C29","v":0},32.209599168455462,10000000,"CAMPO 2A"]
[null,{"$f":"+B29+1","v":1},16.104799584227731,null,-5.4155226029790132E-5,7.6800000000000002E-3,null,{"$f":"$L$4/ABS($T$5)*ABS(E30)^2/2","v":1.1965777105857649E-6},{"$f":"+$L$4/(ABS($T$5))*ABS(E30)^3/3","v":4.3200624252653932E-11},null,null,{"$f":"H30/($L$4*ABS($T$4))","v":7.245480642703669E-4},{"$f":"1-I30/H30/ABS(E30)","v":0.33333333333333337},null,null,{"$f":"-$L$4*$D$3*C30*L30","v":-2.3124773059125352},{"$f":"$L$8*($D$4-C30)*$L$6*F30*0.5","v":4.5604819361902145E-4},-2.3120212577189161,{"$f":"-P30*($D$4/2-M30*C30)+Q30*($D$4/6+C30/3)","v":2647.1121739436235},{"$f":"+R30/1000","v":-2.3120212577189161E-3},{"$f":"+S30/1000000","v":2.6471121739436235E-3},-2.6471121739436235E-3,null,null,null,2.3120212577189161E-3,2.6471121739436235E-3,2.3120212577189161E-3,16.104799584227731,48.314398752683189,2.3120212577189161E-3,"CAMPO 2A"]
[null,{"$f":"+B30+1","v":2},32.209599168455462,null,-1.0907962284478909E-4,7.6800000000000002E-3,null,4.8545325609442666E-6,3.5302038722369914E-10,null,null,2.9395016628278813E-3,{"$f":"1-I31/H31/ABS(E31)","v":0.33333333333333337},null,null,-18.763505752587648,4.5283238723804281E-4,-18.763052920200408,21376.755063312179,{"$f":"+R31/1000","v":-1.8763052920200408E-2},{"$f":"+S31/1000000","v":2.1376755063312179E-2},-2.1376755063312179E-2,null,null,null,1.8763052920200408E-2,2.1376755063312179E-2,1.8763052920200408E-2,32.209599168455462,64.419198336910924,1.8763052920200408E-2,"CAMPO 2A"]
[null,3,{"$f":"+$C$39/$B$39*B32","v":48.314398752683189},null,-1.6478969453597871E-4,7.6800000000000002E-3,null,1.107950251750656E-5,1.2171918903136753E-9,null,null,6.7088263730136167E-3,{"$f":"1-I32/H32/ABS(E32)","v":0.33333333333333337},null,null,{"$f":"-$L$4*$D$3*C32*L32","v":-64.23594031346029},4.4961658085706428E-4,-64.235490696879438,72837.004009634227,-6.4235490696879435E-2,7.2837004009634221E-2,-7.2837004009634221E-2,null,null,null,6.4235490696879435E-2,7.2837004009634221E-2,6.4235490696879435E-2,48.314398752683189,80.523997921138658,6.4235490696879435E-2,"CAMPO 2A"]
[null,4,64.419198336910924,null,-2.2130242076664387E-4,7.6800000000000002E-3,null,1.9981702666368095E-5,2.9479994474043746E-9,null,null,1.2099259295625447E-2,{"$f":"1-I33/H33/ABS(E33)","v":0.33333333333333337},null,null,-154.46463206087375,4.4640077447608565E-4,-154.46418566009928,174317.67831963924,-0.15446418566009928,0.17431767831963924,-0.17431767831963924,null,null,null,0.15446418566009928,0.17431767831963924,0.15446418566009928,64.419198336910924,96.628797505366379,0.15446418566009928,"CAMPO 2A"]
[null,5,80.523997921138658,null,-2.7863527402643723E-4,7.6800000000000002E-3,null,3.1676147300169417E-5,5.8840613220563298E-9,null,null,1.918044353228469E-2,0.33333333333333337,null,null,-306.08280232182284,4.4318496809510701E-4,-306.08235913685473,343779.7341407229,-0.30608235913685472,0.34377973414072288,-0.34377973414072288,null,null,null,0.30608235913685472,0.34377973414072288,0.30608235913685472,80.523997921138658,112.73359708959411,0.30608235913685472,"CAMPO 2A"]
[null,6,96.628797505366379,null,-3.3680623764212119E-4,7.6800000000000002E-3,null,4.6282884219573539E-5,{"$f":"+$L$4/(ABS($T$5))*ABS(E35)^3/3","v":1.0392242734146976E-8},null,null,2.8025070058947874E-2,0.33333333333333337,null,null,{"$f":"-$L$4*$D$3*C35*L35","v":-536.67113366609851},4.3996916171412849E-4,-536.67069369693684,599886.02444142336,-0.53667069369693687,0.59988602444142336,-0.59988602444142336,null,null,null,0.53667069369693687,0.59988602444142336,0.53667069369693687,96.628797505366379,128.83839667382185,0.53667069369693687,"CAMPO 2A"]
[null,7,112.73359708959411,null,-3.9583382458398568E-4,7.6800000000000002E-3,null,6.3927242007392505E-5,1.6869709799261472E-8,null,null,3.8709027454577216E-2,0.33333333333333337,null,null,-864.80975322124345,4.3675335533314985E-4,-864.80931646788815,962033.69527921022,-0.86480931646788817,0.96203369527921023,-0.96203369527921023,null,null,null,0.86480931646788817,0.96203369527921023,0.86480931646788817,112.73359708959411,144.94319625804957,0.86480931646788817,"CAMPO 2A"]
[null,8,128.83839667382185,null,-4.5573709710925668E-4,7.6800000000000002E-3,null,8.4740091086081405E-5,2.5746135413563159E-8,null,null,5.1311559975873479E-2,0.33333333333333326,null,null,-1310.133296342922,4.3353754895217127E-4,-1310.132862805373,1450388.3178259111,-1.310132862805373,1.4503883178259112,-1.4503883178259112,null,null,null,1.310132862805373,1.4503883178259112,1.310132862805373,128.83839667382185,161.04799584227732,1.310132862805373,"CAMPO 2A"]
[null,9,144.94319625804957,null,-5.1653568728627936E-4,7.6800000000000002E-3,null,1.0885811942604607E-4,{"$f":"+$L$4/(ABS($T$5))*ABS(E38)^3/3","v":3.7486069022949724E-8},null,null,6.5915434503324613E-2,0.33333333333333337,null,null,-1893.389252190191,4.3032174257119269E-4,-1893.3888218684483,2085919.8624417624,-1.8933888218684483,2.0859198624417625,-2.0859198624417625,null,null,null,1.8933888218684483,2.0859198624417625,1.8933888218684483,144.94319625804957,161.04799584227732,1.8933888218684483,"CAMPO 2A"]
[null,10,{"$f":"ABS($T$5)*ABS($D$4)/(ABS($T$7)+ABS($T$5))","v":161.04799584227732},null,-5.7824981844589664E-4,7.6800000000000002E-3,null,1.3642412383334669E-4,5.2591483225515491E-8,null,null,8.2607116920842369E-2,0.33333333333333337,null,null,-2636.4998073478969,4.2710593619021411E-4,-2636.4993802419608,2890440.6284315661,-2.6364993802419607,2.8904406284315662,-2.8904406284315662,null,null,null,2.6364993802419607,2.8904406284315662,2.6364993802419607,161.04799584227732,216.94677407558089,2.6364993802419607,"CAMPO 2A"]
["CAMPO 2B",0,{"$f":"+($C$50-$C$39)/$B$50*B40+$C$39","v":161.04799584227732},null,-5.7824981844589664E-4,7.6800000000000002E-3,null,{"$f":"$L$4*(ABS(E40)-ABS($T$5)/2)","v":1.3642412383334669E-4},{"$f":"$I$39+$L$4*(ABS(E40)^2-ABS($T$5)^2)/2","v":5.2591483225515491E-8},null,null,8.2607116920842369E-2,{"$f":"1-I40/H40/ABS(E40)","v":0.33333333333333337},null,null,-2636.4998073478969,4.2710593619021411E-4,-2636.4993802419608,2890440.6284315661,-2.6364993802419607,2.8904406284315662,-2.8904406284315662,null,null,null,2.6364993802419607,2.8904406284315662,2.6364993802419607,{"$f":"C40","v":161.04799584227732},272.84555230888446,2.6364993802419607,"CAMPO 2B"]
[null,{"$f":"+B40+1","v":1},216.94677407558089,null,-7.998601303915579E-4,7.6800000000000002E-3,null,{"$f":"$L$4*(ABS(E41)-ABS($T$5)/2)","v":2.409913599143735E-4},1.2464405740836444E-7,null,null,0.14592434890531703,0.35336969311979083,null,null,-6273.8757736212701,4.1594406815258803E-4,-6273.8753576772024,6733986.8611085396,-6.2738753576772019,6.7339868611085398,-6.7339868611085398,null,null,null,6.2738753576772019,6.7339868611085398,6.2738753576772019,216.94677407558089,328.74433054218804,6.2738753576772019,"CAMPO 2B"]
[null,{"$f":"+B41+1","v":2},272.84555230888446,null,-1.0336922498031212E-3,7.6800000000000002E-3,null,3.5132547848116299E-4,2.2579575026577383E-7,null,null,0.2127335258800494,0.37825134105445424,null,null,-11502.911305965123,4.04782200114962E-4,-11502.910901182922,12041199.480140967,-11.502910901182922,12.041199480140968,-12.041199480140968,null,null,null,11.502910901182922,12.041199480140968,11.502910901182922,272.84555230888446,384.64310877549161,11.502910901182922,"CAMPO 2B"]
[null,3,328.74433054218804,null,-1.2807858958541034E-3,7.6800000000000002E-3,null,4.6791707295114484E-4,3.6072009894982527E-7,null,null,0.28333171046604422,0.3980992099895041,null,null,-18459.010187590109,3.9362033207733591E-4,-18459.009793969777,18812078.48552883,-18.459009793969777,18.812078485528829,-18.812078485528829,null,null,null,18.459009793969777,18.812078485528829,18.459009793969777,328.74433054218804,440.54188700879519,18.459009793969777,"CAMPO 2B"]
[null,4,{"$f":"+($C$50-$C$39)/$B$50*B44+$C$39","v":384.64310877549161},null,-1.5423021625527E-3,7.6800000000000002E-3,null,5.9131400768226044E-4,5.3490030539153325E-7,null,null,0.35805064380850044,0.41347677867552501,null,null,-27293.382981287948,3.8245846403970983E-4,-27293.382598829485,27046623.877272159,-27.293382598829485,27.046623877272157,-27.046623877272157,null,null,null,27.293382598829485,27.046623877272157,27.293382598829485,384.64310877549161,496.44066524209876,27.293382598829485,"CAMPO 2B"]
[null,5,440.54188700879519,null,-1.8195417625110817E-3,7.6800000000000002E-3,null,7.2213002632928952E-4,7.5479182418630558E-7,null,null,0.43726195808232388,0.42555327765140505,null,null,-38175.42293577794,3.7129659600208386E-4,-38175.422564481341,36744835.655370936,-38.175422564481345,36.744835655370935,-36.744835655370935,null,null,null,38.175422564481345,36.744835655370935,38.175422564481345,440.54188700879519,552.33944347540228,38.175422564481345,"CAMPO 2B"]
[null,6,496.44066524209876,null,-2.1139666633541096E-3,7.6800000000000002E-3,null,8.6105496102337003E-4,1.0280230247772745E-6,null,null,0.52138335832318894,0.4352271199046297,null,null,-51295.523719254146,3.6013472796445778E-4,-51295.523359119419,47906713.81982515,-51.295523359119422,47.90671381982515,-47.90671381982515,null,null,null,51.295523359119422,47.90671381982515,51.295523359119422,496.44066524209876,608.23822170870585,51.295523359119422,"CAMPO 2B"]
[null,7,552.33944347540228,null,-2.4272258763604966E-3,7.6800000000000002E-3,null,1.0088669007900875E-3,1.3636442638519552E-6,null,null,0.61088599061072812,0.44312589583321371,null,null,-66868.437902778096,3.4897285992683169E-4,-66868.437553805241,60532258.370634824,-66.868437553805236,60.532258370634821,-60.532258370634821,null,null,null,66.868437553805236,60.532258370634821,66.868437553805236,552.33944347540228,664.13699994200942,66.868437553805236,"CAMPO 2B"]
[null,8,608.23822170870585,null,-2.7611863577157512E-3,7.6800000000000002E-3,null,1.1664467723629002E-3,1.7724389306082278E-6,null,null,0.70630327099794377,0.44968590577135048,null,null,-85137.301264784401,3.3781099188920566E-4,-85137.300926973403,74621469.307799935,-85.13730092697341,74.621469307799941,-74.621469307799941,null,null,null,85.13730092697341,74.621469307799941,85.13730092697341,608.23822170870585,720.03577817531311,85.13730092697341,"CAMPO 2B"]
[null,9,{"$f":"+($C$50-$C$39)/$B$50*B49+$C$39","v":664.13699994200942},null,-3.117970245291824E-3,7.6800000000000002E-3,null,1.3347959104265731E-3,2.2673144039370659E-6,null,null,0.80824152459110743,0.45521528606055861,null,null,-106378.48217826807,{"$f":"$L$8*($D$4-C49)*$L$6*F49*0.5","v":3.2664912385157958E-4},-106378.48185161894,90174346.631320462,-106.37848185161894,90.174346631320461,-90.174346631320461,null,null,null,106.37848185161894,90.174346631320461,106.37848185161894,664.13699994200942,720.03577817531311,106.37848185161894,"CAMPO 2B"]
[null,10,{"$f":"ABS($T$4)*ABS($D$4)/(ABS($T$7)+ABS($T$4))","v":720.03577817531311},null,-3.5000000000000005E-3,7.6800000000000002E-3,null,{"$f":"$L$4*(ABS(E50)-ABS($T$5)/2)","v":1.5150573576481346E-3},2.8637968509798352E-6,null,null,0.91739288307915767,0.4599361749718297,null,null,-130907.46041932897,{"$f":"$L$8*($D$4-C50)*$L$6*F50*0.5","v":3.1548725581395345E-4},-130907.46010384172,107190890.34119652,-130.90746010384171,107.19089034119652,-107.19089034119652,null,null,null,130.90746010384171,107.19089034119652,130.90746010384171,720.03577817531311,878.03220035778179,130.90746010384171,"CAMPO 2B"]
["CAMPO 3",0,{"$f":"+($C$61-$C$50)/$B$61*B51+$C$50","v":720.03577817531311},null,-3.5000000000000005E-3,{"$f":"ABS($T$4)*($D$4-C51)/C51","v":7.6799999999999985E-3},null,{"$f":"$H$50","v":1.5150573576481346E-3},{"$f":"$I$50","v":2.8637968509798352E-6},{"$f":"+$L$7*(F51-F51^2/(2*$T$7))","v":5.7967902720000002E-11},null,0.91739288307915767,0.4599361749718297,{"$f":"+J51/($T$7*$L$7)","v":0.5},0.33300000000000002,-130907.46041932897,{"$f":"$L$8*($D$4-C51)*$L$6*F51*N51","v":3.1548725581395339E-4},-130907.46010384172,107190890.34119652,-130.90746010384171,107.19089034119652,-107.19089034119652,null,null,null,130.90746010384171,107.19089034119652,130.90746010384171,{"$f":"C51","v":720.03577817531311},1036.0286225402506,130.90746010384171,"CAMPO 3"]
[null,{"$f":"+B51+1","v":1},878.03220035778179,null,-3.5000000000000005E-3,{"$f":"ABS($T$4)*($D$4-C52)/C52","v":5.6682286785379567E-3},null,{"$f":"$H$50","v":1.5150573576481346E-3},{"$f":"$I$50","v":2.8637968509798352E-6},5.3990291120360413E-11,null,0.91739288307915767,0.4599361749718297,0.46569125832572827,0.33300000000000002,-159632.29744848458,{"$f":"$L$8*($D$4-C52)*$L$6*F52*N52","v":1.9518145642368658E-4},-159632.29725330311,119111431.26692453,-159.63229725330311,119.11143126692453,-119.11143126692453,null,null,null,159.63229725330311,119.11143126692453,159.63229725330311,878.03220035778179,1194.025044722719,159.63229725330311,"CAMPO 3"]
[null,{"$f":"+B52+1","v":2},1036.0286225402506,null,-3.5000000000000005E-3,{"$f":"ABS($T$4)*($D$4-C53)/C53","v":4.2700555996822874E-3},null,1.5150573576481346E-3,2.8637968509798352E-6,4.654017870472992E-11,null,0.91739288307915767,0.4599361749718297,0.40143058935158521,0.33300000000000002,-188357.13447764021,1.1266384689311106E-4,-188357.13436497637,126857203.77716278,-188.35713436497636,126.85720377716278,-126.85720377716278,null,null,null,188.35713436497636,126.85720377716278,188.35713436497636,1036.0286225402506,1352.0214669051879,188.35713436497636,"CAMPO 3"]
[null,3,1194.025044722719,null,-3.5000000000000005E-3,3.2419021364576161E-3,null,1.5150573576481346E-3,2.8637968509798352E-6,3.8609973531138249E-11,null,0.91739288307915767,0.4599361749718297,0.33302889805789965,0.33300000000000002,-217081.97150679579,6.2091257739793008E-5,-217081.97144470454,130428207.8733162,-217.08197144470455,130.42820787331621,-130.42820787331621,null,null,null,217.08197144470455,130.42820787331621,217.08197144470455,1194.025044722719,1510.0178890876564,217.08197144470455,"CAMPO 3"]
[null,4,1352.0214669051879,null,-3.5000000000000005E-3,2.4540474741326836E-3,null,1.5150573576481346E-3,2.8637968509798352E-6,3.1127064889986063E-11,null,0.91739288307915767,0.4599361749718297,0.2684853464540356,0.33300000000000002,-245806.80853595142,3.2479205272548151E-5,-245806.80850347222,129824443.55127077,-245.80680850347221,129.82444355127078,-129.82444355127078,null,null,null,245.80680850347221,129.82444355127078,245.80680850347221,1352.0214669051879,1668.0143112701253,245.80680850347221,"CAMPO 3"]
[null,5,1510.0178890876564,null,-3.5000000000000005E-3,1.8310626702997281E-3,null,1.5150573576481346E-3,2.8637968509798352E-6,2.4346248000890949E-11,null,0.91739288307915767,0.4599361749718297,0.20999766127894637,0.33300000000000002,-274531.645565107,1.5795677833436668E-5,-274531.6455493113,125045910.80721651,-274.53164554931129,125.04591080721652,-125.04591080721652,null,null,null,274.53164554931129,125.04591080721652,274.53164554931129,1510.0178890876564,1826.0107334525937,274.53164554931129,"CAMPO 3"]
[null,6,1668.0143112701253,null,-3.5000000000000005E-3,1.3260976813024173E-3,null,1.5150573576481346E-3,2.8637968509798352E-6,1.829022772886895E-11,null,0.91739288307915767,{"$f":"1-I57/H57/ABS(E57)","v":0.4599361749718297},0.15776168250570916,0.33300000000000002,-303256.48259426269,{"$f":"$L$8*($D$4-C57)*$L$6*F57*N57","v":6.875236349368103E-6},-303256.48258738744,116092609.63834392,-303.25648258738744,116.09260963834392,-116.09260963834392,null,null,null,303.25648258738744,116.09260963834392,303.25648258738744,1668.0143112701253,1984.0071556350626,303.25648258738744,"CAMPO 3"]
[null,7,1826.0107334525937,null,-3.5000000000000005E-3,9.0851735015772916E-4,null,1.5150573576481346E-3,2.8637968509798352E-6,1.2903596652051473E-11,null,0.91739288307915767,0.4599361749718297,0.1112994954671656,0.33300000000000002,-331981.31962341821,2.4922882617170578E-6,-331981.31962092593,102964540.04267974,-331.98131962092594,102.96454004267974,-102.96454004267974,null,null,null,331.98131962092594,102.96454004267974,331.98131962092594,1826.0107334525937,2142.0035778175311,331.98131962092594,"CAMPO 3"]
[null,8,1984.0071556350626,null,-3.5000000000000005E-3,5.5744504355039403E-4,null,1.5150573576481346E-3,2.8637968509798352E-6,8.1096831850066434E-12,null,0.91739288307915767,0.4599361749718297,6.9949772240152586E-2,0.33300000000000002,-360706.1566525739,6.4072099469928498E-7,-360706.15665193315,85661702.018845186,-360.70615665193316,85.66170201884519,-85.66170201884519,null,null,null,360.70615665193316,85.66170201884519,360.70615665193316,1984.0071556350626,2300,360.70615665193316,"CAMPO 3"]
[null,9,{"$f":"+($C$61-$C$50)/$B$61*B60+$C$50","v":2142.0035778175311},null,-3.5000000000000005E-3,2.5816365731847905E-4,null,1.5150573576481346E-3,2.8637968509798352E-6,3.8316868832496144E-12,null,0.91739288307915767,0.4599361749718297,3.3050073432513642E-2,0.33300000000000002,-389430.99368172942,7.010001805773518E-8,-389430.99368165934,64184095.565868072,-389.43099368165934,64.184095565868077,-64.184095565868077,null,null,null,389.43099368165934,64.184095565868077,389.43099368165934,2142.0035778175311,2300,389.43099368165934,"CAMPO 3"]
[null,10,{"$f":"D4","v":2300},null,-3.5000000000000005E-3,0,null,1.5150573576481346E-3,2.8637968509798352E-6,0,null,0.91739288307915767,0.4599361749718297,0,0.33300000000000002,-418155.83071088511,{"$f":"$L$8*($D$4-C61)*$L$6*F61*N61","v":0},-418155.83071088511,38531720.68305327,-418.15583071088514,38.531720683053273,-38.531720683053273,null,null,null,418.15583071088514,38.531720683053273,418.15583071088514,2300,2402.2222222222222,418.15583071088514,"CAMPO 3"]
["CAMPO 4",0,{"$f":"+($C$107-$C$61)/$B$107*B62+$C$61","v":2300},{"$f":"-(ABS($T$5)-ABS($T$5)*$L$9/(C62-($D$4-$L$9)))","v":2.1684043449710089E-19},{"$f":"-(ABS($T$4)-($D$4-$L$9)*ABS(D62)/$L$9)","v":-3.4999999999999988E-3},null,null,{"$f":"$H$61-$L$4/ABS($T$5)*D62^2/2+$L$4*ABS(D62)","v":1.5150573576481346E-3},{"$f":"+$I$61-$L$4/ABS($T$5)*ABS(D62)^3/3+$L$4*(ABS(D62)^2)/2","v":2.8637968509798352E-6},null,null,0.91739288307915767,{"$f":"1-I62/H62/ABS($T$4)","v":0.45993617497182959},null,null,{"$f":"-$L$4*$D$3*$D$4*L62","v":-418155.83071088511},null,-418155.83071088511,{"$f":"-P62*($D$4/2-M62*$D$4)","v":38531720.683053359},-418.15583071088514,38.531720683053358,-38.531720683053358,null,null,null,418.15583071088514,38.531720683053358,418.15583071088514,{"$f":"C62","v":2300},2504.4444444444443,418.15583071088514,"CAMPO 4"]
[null,{"$f":"+B62+1","v":1},{"$f":"+($C$107-$C$61)/$B$107*B63+$C$61","v":2402.2222222222222},{"$f":"-(ABS($T$5)-ABS($T$5)*$L$9/(C63-($D$4-$L$9)))","v":-1.225801485586728E-4},{"$f":"-(ABS($T$4)-($D$4-$L$9)*ABS(D63)/$L$9)","v":-2.8806334911288156E-3},null,null,{"$f":"$H$61-$L$4/ABS($T$5)*D63^2/2+$L$4*ABS(D63)","v":1.5667664634749876E-3},{"$f":"+$I$61-$L$4/ABS($T$5)*ABS(D63)^3/3+$L$4*(ABS(D63)^2)/2","v":2.8668408583370365E-6},null,null,0.94870362219835547,{"$f":"1-I63/H63/ABS($T$4)","v":0.47720518201570983},null,null,{"$f":"-$L$4*$D$3*$D$4*L63","v":-432427.54391909653},null,-432427.54391909653,{"$f":"-P63*($D$4/2-M63*$D$4)","v":22671346.456567768},-432.42754391909654,22.671346456567768,-22.671346456567768,null,null,null,432.42754391909654,22.671346456567768,432.42754391909654,2402.2222222222222,2606.6666666666665,432.42754391909654,"CAMPO 4"]
[null,{"$f":"+B63+1","v":2},{"$f":"+($C$107-$C$61)/$B$107*B64+$C$61","v":2504.4444444444443},{"$f":"-(ABS($T$5)-ABS($T$5)*$L$9/(C64-($D$4-$L$9)))","v":-2.0228001651265425E-4},{"$f":"-(ABS($T$4)-($D$4-$L$9)*ABS(D64)/$L$9)","v":-2.4779302022800167E-3},null,null,{"$f":"$H$61-$L$4/ABS($T$5)*D64^2/2+$L$4*ABS(D64)","v":1.593809338359467E-3},{"$f":"+$I$61-$L$4/ABS($T$5)*ABS(D64)^3/3+$L$4*(ABS(D64)^2)/2","v":2.8711990091206686E-6},null,null,0.96507854083215106,0.48529441113774108,null,null,-439891.37738721282,null,-439891.37738721282,14878382.001791038,-439.8913773872128,14.878382001791037,-14.878382001791037,null,null,null,439.8913773872128,14.878382001791037,439.8913773872128,2504.4444444444443,2708.8888888888887,439.8913773872128,"CAMPO 4"]
[null,3,2606.6666666666665,{"$f":"-(ABS($T$5)-ABS($T$5)*$L$9/(C65-($D$4-$L$9)))","v":-2.5825022297899927E-4},-2.1951268953214953E-3,null,null,1.6097023871130983E-3,2.8748467010571454E-6,null,null,0.97470205095433193,0.48972879812664272,null,null,-444277.8588432151,null,-444277.8588432151,10495515.424895676,-444.27785884321509,10.495515424895675,-10.495515424895675,null,null,null,444.27785884321509,10.495515424895675,444.27785884321509,2606.6666666666665,2811.1111111111113,444.27785884321509,"CAMPO 4"]
[null,4,2708.8888888888887,-2.9971534100265823E-4,-1.9856141341426116E-3,null,null,1.6198282477906537E-3,2.8776667938946219E-6,null,null,0.98083343104614618,0.49242117881155745,null,null,-447072.59639022039,null,-447072.59639022039,7793051.5124767311,-447.07259639022038,7.7930515124767314,-7.7930515124767314,null,null,null,447.07259639022038,7.7930515124767314,447.07259639022038,2708.8888888888887,2913.3333333333335,447.07259639022038,"CAMPO 4"]
[null,5,2811.1111111111113,-3.3166718733729038E-4,-1.8241695303550965E-3,null,null,1.6266738599439886E-3,2.8798256756693043E-6,null,null,0.98497856511522086,0.49417805488443312,null,null,-448961.98534454079,null,-448961.98534454079,6011813.6865992593,-448.96198534454078,6.0118136865992593,-6.0118136865992593,null,null,null,448.96198534454078,6.0118136865992593,448.96198534454078,2811.1111111111113,3015.5555555555557,448.96198534454078,"CAMPO 4"]
[null,6,2913.3333333333335,-3.5704276666106153E-4,-1.6959531416400418E-3,null,null,1.631516997099671E-3,2.8814923229437816E-6,null,null,0.98791116666721512,0.49538771443716367,null,null,-450298.69119950914,null,-450298.69119950914,4776884.1504822951,-450.29869119950911,4.776884150482295,-4.776884150482295,null,null,null,450.29869119950911,4.776884150482295,450.29869119950911,2913.3333333333335,3117.7777777777778,450.29869119950911,"CAMPO 4"]
[null,7,3015.5555555555557,-3.7768291236807769E-4,-1.5916637021226128E-3,null,null,1.6350688312855208E-3,2.8827965369101237E-6,null,null,0.99006186240657257,0.49625597550207168,null,null,-451278.99743480369,null,-451278.99743480369,3886079.1301318477,-451.27899743480367,3.8860791301318476,-3.8860791301318476,null,null,null,451.27899743480367,3.8860791301318476,451.27899743480367,3015.5555555555557,3220,451.27899743480367,"CAMPO 4"]
[null,8,3117.7777777777778,-3.9480004338462006E-4,-1.5051751654038634E-3,null,null,1.6377507229337078E-3,2.8838320536665585E-6,null,null,0.99168579320946659,0.49690022798014422,null,null,-452019.1995297033,null,-452019.1995297033,3222659.8744214578,-452.01919952970331,3.2226598744214576,-3.2226598744214576,null,null,null,452.01919952970331,3.2226598744214576,452.01919952970331,3117.7777777777778,3322.2222222222222,452.01919952970331,"CAMPO 4"]
[null,9,3220,-4.092252344854168E-4,-1.4322883206989586E-3,null,null,1.6398252030084119E-3,2.8846658167614112E-6,null,null,0.99294192601989517,0.49739140985981334,null,null,-452591.75603032159,null,-452591.75603032159,2715440.7023140718,-452.59175603032156,2.7154407023140719,-2.7154407023140719,null,null,null,452.59175603032156,2.7154407023140719,452.59175603032156,3220,3424.4444444444443,452.59175603032156,"CAMPO 4"]
[null,10,3322.2222222222222,-4.2154721725895029E-4,-1.3700284560915882E-3,null,null,1.6414627537522293E-3,2.8853459055659325E-6,null,null,0.9939334907223637,0.49777444382277702,null,null,-453043.7200356152,null,-453043.7200356152,2319030.7742578438,-453.04372003561519,2.3190307742578438,-2.3190307742578438,null,null,null,453.04372003561519,2.3190307742578438,453.04372003561519,3322.2222222222222,3526.666666666667,453.04372003561519,"CAMPO 4"]
[null,11,3424.4444444444443,-4.3219471275427737E-4,-1.3162293524789357E-3,null,null,1.6427779871708566E-3,2.8859072584419124E-6,null,null,0.9947298868269373,0.49807890206551264,null,null,-453406.72445915634,null,-453406.72445915634,2003389.0602346957,-453.40672445915635,2.0033890602346958,-2.0033890602346958,null,null,null,453.40672445915635,2.0033890602346958,453.40672445915635,3424.4444444444443,3628.8888888888887,453.40672445915635,"CAMPO 4"]
[null,12,3526.666666666667,-4.4148733409571324E-4,-1.2692760855251748E-3,null,null,1.6438502588142225E-3,2.8863756161177995E-6,null,null,0.99537916546274985,0.49832489727068963,null,null,-453702.67143272539,null,-453702.67143272539,1747996.7413884585,-453.70267143272537,1.7479967413884585,-1.7479967413884585,null,null,null,453.70267143272537,1.7479967413884585,453.70267143272537,3526.666666666667,3731.1111111111113,453.70267143272537,"CAMPO 4"]
[null,13,3628.8888888888887,-4.4966821968092598E-4,-1.2279401383594513E-3,null,null,1.6447359246447714E-3,2.8867702118981981E-6,null,null,0.99591545111928315,0.49852649488889311,null,null,-453947.11520195688,null,-453947.11520195688,1538454.8071712744,-453.94711520195688,1.5384548071712745,-1.5384548071712745,null,null,null,453.94711520195688,1.5384548071712745,453.94711520195688,3628.8888888888887,{"$f":"AC77","v":3833.3333333333335},453.94711520195688,"CAMPO 4"]
[null,14,3731.1111111111113,-4.5692561509217403E-4,-1.1912703536331674E-3,null,null,1.6454759000551599E-3,2.8871056144779766E-6,null,null,0.99636351875957219,0.49869377096642553,null,null,-454151.34841522406,null,-454151.34841522406,1364419.0569549701,-454.15134841522405,1.3644190569549701,-1.3644190569549701,null,null,null,454.15134841522405,1.3644190569549701,454.15134841522405,3731.1111111111113,3935.5555555555557,454.15134841522405,"CAMPO 4"]
[null,15,3833.3333333333335,-4.6340753673796E-4,-1.1585188418448992E-3,null,null,1.6461004716169841E-3,2.8873930029158797E-6,null,null,0.99674170741553214,0.4988340969283851,null,null,-454323.73016628757,null,-454323.73016628757,1218304.0947693412,-454.32373016628759,1.2183040947693411,-1.2183040947693411,null,null,null,454.32373016628759,1.2183040947693411,454.32373016628759,3833.3333333333335,4037.7777777777778,454.32373016628759,"CAMPO 4"]
[null,16,3935.5555555555557,-4.6923197333406983E-4,-1.1290894358351052E-3,null,null,1.6466324461359282E-3,2.8876410597072179E-6,null,null,0.99706382699417062,0.49895296627394137,null,null,-454470.55513351614,null,{"$f":"Q78+P78","v":-454470.55513351614},1094445.7970683859,-454.47055513351614,1.0944457970683859,{"$f":"-U78","v":-1.0944457970683859},null,null,null,{"$f":"IF(T78>0,0,ABS(T78))","v":454.47055513351614},{"$f":"IF(T78>0,0,U78)","v":1.0944457970683859},{"$f":"Z78","v":454.47055513351614},{"$f":"C78","v":3935.5555555555557},4140,{"$f":"IF(Z78=0,10^7,Z78)","v":454.47055513351614},"CAMPO 4"]
[null,17,4037.7777777777778,-4.7449413290567941E-4,-1.1025010735161368E-3,null,null,1.6470892626304578E-3,2.8878566046247012E-6,null,null,0.99734043711644693,0.49905454078553513,null,null,-454596.63648600632,null,-454596.63648600632,988545.93130997149,-454.59663648600633,0.98854593130997148,-0.98854593130997148,null,null,null,454.59663648600633,0.98854593130997148,454.59663648600633,4037.7777777777778,4242.2222222222226,454.59663648600633,"CAMPO 4"]
[null,18,4140,-4.7927168760815572E-4,-1.0783612971183502E-3,null,null,1.6474844399647552E-3,2.8880450505266964E-6,null,null,0.99757972368352543,0.49914201997588159,null,null,-454705.70543027238,null,-454705.70543027238,897295.3478572336,-454.70570543027236,0.89729534785723364,-0.89729534785723364,null,null,null,454.70570543027236,0.89729534785723364,454.70570543027236,4140,4344.4444444444443,454.70570543027236,"CAMPO 4"]
[null,19,4242.2222222222226,-4.8362863330855837E-4,-1.0563467517002716E-3,null,null,1.6478285886613491E-3,2.8882107353477627E-6,null,null,0.99778811154645508,0.49921789625425161,null,null,-454800.69047053228,null,-454800.69047053228,818113.04424768384,-454.80069047053229,0.81811304424768383,-0.81811304424768383,null,null,null,454.80069047053229,0.81811304424768383,454.80069047053229,4242.2222222222226,4446.666666666667,454.80069047053229,"CAMPO 4"]
[null,20,4344.4444444444443,-4.8761817277146228E-4,-1.0361886171393574E-3,null,null,1.6481301306408374E-3,2.8883571668720556E-6,null,null,0.99797070032075841,0.49928413449991971,null,null,-454883.91605687106,null,-454883.91605687106,748962.11470702186,-454.88391605687104,0.7489621147070219,-0.7489621147070219,null,null,null,454.88391605687104,0.7489621147070219,454.88391605687104,4344.4444444444443,4548.8888888888887,454.88391605687104,"CAMPO 4"]
[null,21,4446.666666666667,-4.9128489896652766E-4,-1.0176615764306641E-3,null,null,1.6483958194156996E-3,2.8884872052986634E-6,null,null,0.99813157937259245,0.4993423005954386,null,null,-454957.24615873303,null,-454957.24615873303,688217.75276885252,-454.95724615873303,0.68821775276885255,-0.68821775276885255,null,null,null,454.95724615873303,0.68821775276885255,454.95724615873303,4446.666666666667,4651.1111111111113,454.95724615873303,"CAMPO 4"]
[null,22,4548.8888888888887,-4.9466646899774781E-4,-1.000575357745444E-3,null,null,1.648631121549053E-3,2.8886032008993511E-6,null,null,0.99827405879848485,0.49939365485137044,null,null,-455022.18954753858,null,-455022.18954753858,634571.14344721963,-455.02218954753857,0.63457114344721965,-0.63457114344721965,null,null,null,455.02218954753857,0.63457114344721965,455.02218954753857,4548.8888888888887,4753.3333333333339,455.02218954753857,"CAMPO 4"]
[null,23,4651.1111111111113,-4.9779490211268064E-4,-9.8476817591856359E-4,null,null,1.64884050010811E-3,2.8887070988832098E-6,null,null,0.99840084106120153,0.49943922087000703,null,null,-455079.9780298383,null,-455079.9780298383,586958.51456065488,-455.07997802983829,0.58695851456065484,-0.58695851456065484,null,null,null,455.07997802983829,0.58695851456065484,455.07997802983829,4651.1111111111113,4855.5555555555557,455.07997802983829,"CAMPO 4"]
[null,24,4753.3333333333339,-5.0069759673013799E-4,-9.7010159366464144E-4,null,null,1.6490276278675171E-3,2.8888005200521772E-6,null,null,0.99851415008797861,0.49947983695996923,null,null,-455131.62529143464,null,-455131.62529143464,544508.09459920449,-455.13162529143466,0.54450809459920446,-0.54450809459920446,null,null,null,455.13162529143466,0.54450809459920446,455.13162529143466,4753.3333333333339,4957.7777777777774,455.13162529143466,"CAMPO 4"]
[null,25,4855.5555555555557,-5.033981349770822E-4,-9.5645645645645559E-4,null,null,1.6491955494780902E-3,2.8888848233991521E-6,null,null,0.99861582946643734,0.49951619497788691,null,null,-455177.9716559528,null,-455177.9716559528,506499.99387753394,-455.17797165595277,0.50649999387753397,-0.50649999387753397,null,null,null,455.17797165595277,0.50649999387753397,455.17797165595277,4855.5555555555557,5060,455.17797165595277,"CAMPO 4"]
[null,26,4957.7777777777774,-5.0591692478754648E-4,-9.437296481613843E-4,null,null,1.6493468060994453E-3,2.8889611551054255E-6,null,null,0.99870741791175222,0.49954886999217507,null,null,-455219.71848344686,null,-455219.71848344686,472335.5328714358,-455.21971848344685,0.47233553287143581,-0.47233553287143581,null,null,null,455.21971848344685,0.47233553287143581,455.21971848344685,4957.7777777777774,5162.2222222222226,455.21971848344685,"CAMPO 4"]
[null,27,5060,-5.0827171658066896E-4,-9.3183148039789306E-4,null,null,1.649483532107292E-3,2.8890304871995893E-6,null,null,0.99879020782455463,0.49957834316630556,null,null,-455257.45486161252,null,-455257.45486161252,441513.55894530745,-455.25745486161253,0.44151355894530747,-0.44151355894530747,null,null,null,455.25745486161253,0.44151355894530747,455.25745486161253,5060,5264.4444444444453,455.25745486161253,"CAMPO 4"]
[null,28,5162.2222222222226,-5.1047802219818066E-4,-9.2068357575029016E-4,null,null,1.6496075308038915E-3,2.8890936482891667E-6,null,null,0.99886529113489742,0.49960501957677428,null,null,-455291.67850187398,null,-455291.67850187398,413611.98969136254,-455.291678501874,0.41361198969136254,-0.41361198969136254,null,null,null,455.291678501874,0.41361198969136254,455.291678501874,5162.2222222222226,5366.666666666667,455.291678501874,"CAMPO 4"]
[null,29,5264.4444444444453,-5.125494570133234E-4,-9.1021713917883258E-4,null,null,{"$f":"$H$61-$L$4/ABS($T$5)*D91^2/2+$L$4*ABS(D91)","v":1.6497203341845942E-3},{"$f":"+$I$61-$L$4/ABS($T$5)*ABS(D91)^3/3+$L$4*(ABS(D91)^2)/2","v":2.8891513481638724E-6},null,null,0.99893359549190519,0.49962924220782456,null,null,-455322.81223494798,null,-455322.81223494798,388273.30536006775,-455.322812234948,0.38827330536006777,-0.38827330536006777,null,null,null,455.322812234948,0.38827330536006777,455.322812234948,5264.4444444444453,5468.8888888888887,455.322812234948,"CAMPO 4"]
[null,30,5366.666666666667,-5.1449802116145687E-4,-9.0037153703254914E-4,null,null,1.649823250485427E-3,2.8892041976243909E-6,null,null,{"$f":"H92/($L$4*ABS($T$4))","v":0.99899591305464308},0.49965130303256056,null,null,-455351.2171339778,null,-455351.2171339778,365193.05362929276,-455.3512171339778,0.36519305362929277,-0.36519305362929277,null,null,null,455.3512171339778,0.36519305362929277,455.3512171339778,5366.666666666667,5571.1111111111113,455.3512171339778,"CAMPO 4"]
[null,31,5468.8888888888887,-5.1633433216715546E-4,-8.91093121643316E-4,null,null,1.6499174022854991E-3,2.8892527245641464E-6,null,null,0.99905292356376951,0.49967145185365125,null,null,-455377.20303079771,null,-455377.20303079771,344110.67267404165,-455.37720303079772,0.34411067267404166,-0.34411067267404166,null,null,null,455.37720303079772,0.34411067267404166,455.37720303079772,5468.8888888888887,5673.3333333333339,455.37720303079772,"CAMPO 4"]
[null,32,{"$f":"+($C$107-$C$61)/$B$107*B94+$C$61","v":5571.1111111111113},-5.1806781849327238E-4,-8.8233425337135366E-4,null,null,1.650003757249216E-3,2.889297387090023E-6,null,null,{"$f":"H94/($L$4*ABS($T$4))","v":0.99910521295646648},0.49968990340675168,null,null,-455401.03700078354,null,-455401.03700078354,324802.11331206531,-455.40103700078356,0.32480211331206532,-0.32480211331206532,null,null,null,455.40103700078356,0.32480211331206532,455.40103700078356,5571.1111111111113,5775.5555555555557,455.40103700078356,"CAMPO 4"]
[null,33,5673.3333333333339,-5.1970688146203237E-4,-8.7405248245887206E-4,null,null,1.6500831530894371E-3,2.8893385842877242E-6,null,null,0.99915328848205442,{"$f":"1-I95/H95/ABS($T$4)","v":0.49970684310613778},null,null,-455422.95025268459,null,-455422.95025268459,307073.86822621629,-455.42295025268459,0.3070738682262163,-0.3070738682262163,null,null,null,455.42295025268459,0.3070738682262163,455.42295025268459,5673.3333333333339,5877.7777777777774,455.42295025268459,"CAMPO 4"]
[null,34,5775.5555555555557,-5.2125903141802274E-4,-8.6620986103288968E-4,null,null,1.6501563179606104E-3,2.8893766651019016E-6,null,null,0.99919759105038097,0.49972243172127129,null,null,-455443.14375712839,null,-455443.14375712839,290758.10978438833,-455.44314375712838,0.29075810978438832,-0.29075810978438832,null,null,null,455.44314375712838,0.29075810978438832,455.44314375712838,5775.5555555555557,5980,455.44314375712838,"CAMPO 4"]
[null,35,5877.7777777777774,-5.2273100279008676E-4,-8.5877236172657084E-4,null,null,1.6502238872136172E-3,2.8894119356984066E-6,null,null,0.99923850537716241,0.49973680920573349,null,null,-455461.79287095828,null,-455461.79287095828,275708.70735468221,-455.46179287095828,0.27570870735468223,-0.27570870735468223,null,null,null,455.46179287095828,0.27570870735468223,455.46179287095828,5877.7777777777774,6082.2222222222226,455.46179287095828,"CAMPO 4"]
[null,36,5980,-5.2412885177109453E-4,-8.5170938412802797E-4,null,null,1.6502864172356847E-3,2.8894446655975775E-6,null,null,0.99927636836428557,0.49975009784967306,null,null,-455479.0511570489,null,-455479.0511570489,261797.94691990572,-455.4790511570489,0.26179794691990571,-0.26179794691990571,null,null,null,455.4790511570489,0.26179794691990571,455.4790511570489,5980,6184.4444444444453,455.4790511570489,"CAMPO 4"]
[null,37,6082.2222222222226,-5.2545803960387196E-4,-8.4499333395757735E-4,null,null,1.6503443969408528E-3,2.8894750928071461E-6,null,null,0.99931147605747994,0.49976240488899548,null,null,-455495.05355567532,null,-455495.05355567532,248913.81496658796,-455.49505355567533,0.24891381496658796,-0.24891381496658796,null,null,null,455.49505355567533,0.24891381496658796,455.49505355567533,6082.2222222222226,6286.666666666667,455.49505355567533,"CAMPO 4"]
[null,38,6184.4444444444453,-5.2672350388851879E-4,-8.3859926276987811E-4,null,null,1.650398257356E-3,2.8895034281367143E-6,null,null,0.99934408945081876,0.49977382467571241,null,null,-455509.91903025599,null,-455509.91903025599,236957.73840163305,-455.50991903025601,0.23695773840163303,-0.23695773840163303,null,null,null,455.50991903025601,0.23695773840163303,455.50991903025601,6184.4444444444453,6388.8888888888887,455.50991903025601,"CAMPO 4"]
[null,{"$f":"+B100+1","v":39},{"$f":"+($C$107-$C$61)/$B$107*B101+$C$61","v":6286.666666666667},-5.2792971987402596E-4,-8.3250455826288684E-4,null,null,{"$f":"$H$61-$L$4/ABS($T$5)*D101^2/2+$L$4*ABS(D101)","v":1.650448379654806E-3},{"$f":"+$I$61-$L$4/ABS($T$5)*ABS(D101)^3/3+$L$4*(ABS(D101)^2)/2","v":2.889529858839384E-6},null,null,0.9993744393514189,0.49978444049182147,null,null,-455523.75278472638,null,-455523.75278472638,225842.69506203104,-455.52375278472641,0.22584269506203103,-0.22584269506203103,null,null,null,455.52375278472641,0.22584269506203103,455.52375278472641,6286.666666666667,6491.1111111111113,455.52375278472641,"CAMPO 4"]
[null,{"$f":"+B101+1","v":40},6388.8888888888887,-5.2908075333790131E-4,-8.2668867709047083E-4,null,null,1.6504951019203349E-3,2.8895545516976835E-6,null,null,0.99940273047430028,{"$f":"1-I102/H102/ABS($T$4)","v":0.4997943260720954},null,null,-455536.64813001239,null,-455536.64813001239,215491.62696845812,-455.5366481300124,0.21549162696845811,-0.21549162696845811,null,null,null,455.5366481300124,0.21549162696845811,455.5366481300124,6388.8888888888887,6593.3333333333339,455.5366481300124,"CAMPO 4"]
[null,41,6491.1111111111113,-5.3018030637060835E-4,-8.2113291352520993E-4,null,null,1.6505387248610896E-3,2.8895776556485115E-6,null,null,0.99942914490355295,0.49980354688796702,null,null,-455548.68806166068,null,-455548.68806166068,205836.10214018603,-455.5486880616607,0.20583610214018602,-0.20583610214018602,null,null,null,455.5486880616607,0.20583610214018602,455.5486880616607,6491.1111111111113,6695.5555555555557,455.5486880616607,"CAMPO 4"]
[null,42,6593.3333333333339,-5.3123175715119651E-4,-8.1582019848219474E-4,null,null,1.6505795166616131E-3,2.8895993040240505E-6,null,null,0.99945384502945867,0.49981216123440741,null,null,-455559.94659860519,null,-455559.94659860519,196815.18145171538,-455.55994659860522,0.19681518145171539,-0.19681518145171539,null,null,null,455.55994659860522,0.19681518145171539,455.55994659860522,6593.3333333333339,6797.7777777777783,455.55994659860522,"CAMPO 4"]
[null,43,6695.5555555555557,-5.3223819461446667E-4,-8.1073492435459419E-4,null,null,1.6506177171142185E-3,2.8896196164714732E-6,null,null,0.99947697605032315,0.49982022115360258,null,null,-455570.48992352426,null,-455570.48992352426,188374.45540161387,-455.57048992352424,0.18837445540161388,-0.18837445540161388,null,null,null,455.57048992352424,0.18837445540161388,455.57048992352424,6695.5555555555557,6900,455.57048992352424,"CAMPO 4"]
[null,44,6797.7777777777783,-5.3320244875906949E-4,-8.0586279187450224E-4,null,null,1.6506535411510751E-3,2.8896387006029465E-6,null,null,0.99949866811121402,0.49982777322284622,null,null,-455580.37735769665,null,-455580.37735769665,180465.22229171515,-455.58037735769665,0.18046522229171516,-0.18046522229171516,null,null,null,455.58037735769665,0.18046522229171516,455.58037735769665,6797.7777777777783,100000000000,455.58037735769665,"CAMPO 4"]
[null,45,{"$f":"C61*3","v":6900},-5.3412711722287422E-4,-8.0119067583431063E-4,null,null,1.650687181874089E-3,2.8896566534183325E-6,null,null,0.99951903813860532,0.49983485922899207,null,null,-455589.66219724854,null,-455589.66219724854,173043.78458057836,-455.58966219724857,0.17304378458057837,-0.17304378458057837,null,null,null,455.58966219724857,0.17304378458057837,455.58966219724857,6900,100000000000,455.58966219724857,"CAMPO 4"]
[null,46,100000000000,-5.7824981624858931E-4,-5.782498295483344E-4,null,null,1.6514814814814814E-3,{"$f":"+L4*ABS($T$4)^2/2","v":2.8900925925925922E-6},null,null,1.0000000000000002,0.5,null,null,-455808.88888888888,null,-455808.88888888888,0,-455.80888888888887,0,0,null,null,null,455.80888888888887,0,455.80888888888887,100000000000,null,455.80888888888887,"CAMPO 4"]
[]
[null,null,"Calcolo Mrd",null,null,"Ned",{"$f":"Z8","v":220}]
[]
["check",null,"Y[mm]","Y[mm]checked","εm_inf [-]","εm_sup [-]","εf_inf [-]","εf_sup [-]","A(σ-ε)","Sy(σ-ε)","A(σ-ε)","Sy(σ-ε)","β1","β2","k1","k2","C  [N]","T  [N]","Ned  [N]","MRd  [Nmm]","Ned  [kN]","MRd  [kNm]",null,null,null,null,"Y"]
[null,"CAMPO 1",{"$f":"VLOOKUP($Z$10,$Z$13:$AC$108,4,FALSE)","v":1194.025044722719},{"$f":"IF(A113=0,0,C113)","v":0},null,null,null,null,null,null,{"$f":"(H113+G113)/2*$L$7","v":0},{"$f":"1/6*(2*H113+$T$7)*$L$7","v":1.9322634239999998E-11},null,null,{"$f":"+K113/($T$7*$L$7)","v":0},{"$f":"+L113/K113","v":{"$error":"#DIV/0!"}},0,{"$f":"$L$8*$D$4*$L$6*$T$7*O113","v":0},{"$f":"R113+Q113","v":0},{"$f":"+R113*($D$4/2-P113*$D$4)","v":{"$error":"#DIV/0!"}},{"$f":"+S113/1000","v":0},{"$f":"+T113/1000000","v":{"$error":"#DIV/0!"}},1,{"$f":"B113","v":"CAMPO 1"},{"$f":"ABS(S113)/($G$110*1000)","v":0},{"$f":"IF(A113=0,10^8,ABS(1*10^5-ABS(Y113)*10^5))","v":100000000},{"$f":"C113","v":1194.025044722719}]
[{"$f":"IF($AB$10=B114,IF(ABS((ROUND(ABS(U114/100),1))-(ROUND(ABS($G$110/100),1)))=0,1,0),0)","v":0},"CAMPO 2A",{"$f":"VLOOKUP($Z$10,$Z$13:$AC$108,4,FALSE)","v":1194.025044722719},{"$f":"IF(A114=0,0,C114)","v":0},null,{"$f":"-$T$7*C114/($D$4-C114)","v":-8.2914285714285694E-3},null,null,{"$f":"$L$4/ABS($T$5)*ABS(F114)^2/2","v":2.8049097404081621E-2},{"$f":"+$L$4/(ABS($T$5))*ABS(F114)^3/3","v":1.5504472507932353E-4},null,null,{"$f":"I114/($L$4*ABS($T$4))","v":16.984203406822246},{"$f":"1-J114/I114/ABS(F114)","v":0.33333333333333326},null,null,{"$f":"-$L$4*$D$3*C114*M114","v":-4018958.9738808549},{"$f":"$L$8*($D$4-C114)*$L$6*G114*0.5","v":0},{"$f":"R114+Q114","v":-4018958.9738808549},{"$f":"-Q114*($D$4/2-N114*C114)+R114*($D$4/6+C114/3)","v":3022223597.1206965},{"$f":"+S114/1000","v":-4018.958973880855},{"$f":"+T114/1000000","v":3022.2235971206965},1,"CAMPO 2A",18.267995335822068,100000000,1194.025044722719]
[0,"CAMPO 2A",{"$f":"VLOOKUP(C$144,$AC$12:$AD$108,2,FALSE)","v":1510.0178890876564},0,null,-1.4679999999999995E-2,null,null,{"$f":"$L$4/ABS($T$5)*ABS(F115)^2/2","v":8.7924979199999947E-2},{"$f":"+$L$4/(ABS($T$5))*ABS(F115)^3/3","v":8.6049246310399919E-4},null,null,{"$f":"I115/($L$4*ABS($T$4))","v":53.240063655528125},{"$f":"1-J115/I115/ABS(F115)","v":0.33333333333333326},null,null,-15932194.978759201,0,{"$f":"R115+Q115","v":-15932194.978759201},10302724415.453442,{"$f":"+S115/1000","v":-15932.194978759202},{"$f":"+T115/1000000","v":10302.724415453442},{"$f":"+W114+1","v":2},"CAMPO 2A",72.419068085269103,100000000,1510.0178890876564]
[0,"CAMPO 2A",{"$f":"+(C115-C114)/2+C114","v":1352.0214669051877},0,null,-1.0953333333333331E-2,null,null,4.8950008533333318E-2,3.5744384009007388E-4,null,null,29.640058990805109,0.33333333333333337,null,null,-7941775.4810710521,0,-7941775.4810710521,5553891491.3152637,-7941.7754810710521,5553.8914913152639,{"$f":"+W115+1","v":3},"CAMPO 2A",36.098979459413876,100000000,1352.0214669051877]
[0,"CAMPO 2A",{"$f":"IF(ABS(U116)>$G$110,C116-(C116-$C$144)/2,C116+(C116-$C$144)/2)","v":1273.0232558139533},0,null,-9.5199999999999972E-3,null,null,3.6977203199999982E-2,2.3468198297599987E-4,null,null,22.39032263736263,0.33333333333333315,null,null,-5648740.7530269716,0,-5648740.7530269716,4099059084.4252329,-5648.740753026972,4099.0590844252329,4,"CAMPO 2A",25.676094331940782,100000000,1273.0232558139533]
[0,"CAMPO 2A",{"$f":"IF(ABS(U117)>$G$110,C117-(C117-$C$144)/2,C117+(C117-$C$144)/2)","v":1233.5241502683361},0,null,-8.8829629629629606E-3,null,null,3.2194068648559657E-2,1.9065247962149498E-4,null,null,19.494053678203876,0.33333333333333326,null,null,-4765459.3408074034,0,-4765459.3408074034,3520841847.2592621,-4765.4593408074034,3520.8418472592621,5,"CAMPO 2A",21.661178821851834,100000000,1233.5241502683361]
[0,"CAMPO 2A",{"$f":"IF(ABS(U118)>$G$110,C118-(C118-$C$144)/2,C118+(C118-$C$144)/2)","v":1213.7745974955276},0,null,-8.58181818181818E-3,null,null,3.0048222148760323E-2,1.719122527783621E-4,null,null,18.194707289000423,0.33333333333333315,null,null,-4376612.2492881306,0,-4376612.2492881306,3262363829.5901189,-4376.6122492881304,3262.3638295901187,6,"CAMPO 2A",19.893692042218774,100000000,1213.7745974955276]
[0,"CAMPO 2A",{"$f":"IF(ABS(U119)>$G$110,C119-(C119-$C$144)/2,C119+(C119-$C$144)/2)","v":1203.8998211091234},0,null,-8.435315315315316E-3,null,null,2.9031054143267603E-2,1.6325739708963557E-4,null,null,17.578794838937551,0.33333333333333337,null,null,-4194057.7067626966,0,-4194057.7067626966,3140091255.1461172,-4194.0577067626964,3140.0912551461174,7,"CAMPO 2A",19.063898667103167,100000000,1203.8998211091234]
[0,"CAMPO 2A",{"$f":"IF(ABS(U120)>$G$110,C120-(C120-$C$144)/2,C120+(C120-$C$144)/2)","v":1198.9624329159212},0,null,-8.3630493273542592E-3,null,null,2.8535762373118299E-2,1.5909732554669865E-4,null,null,17.278887285808349,0.33333333333333326,null,null,-4105596.8495981419,0,-4105596.8495981419,3080617581.2491536,-4105.5968495981415,3080.6175812491538,8,"CAMPO 2A",18.661803861809737,100000000,1198.9624329159212]
[0,"CAMPO 2A",{"$f":"IF(ABS(U121)>$G$110,C121-(C121-$C$144)/3,C121+(C121-$C$144)/3)","v":1197.3166368515206},0,null,-8.3391044776119413E-3,null,null,2.8372590703319232E-2,1.5773466545033357E-4,null,null,17.180084076914543,0.33333333333333337,null,null,-4076516.9855595483,0,-4076516.9855595483,3061033997.6540613,-4076.5169855595482,3061.0339976540613,9,"CAMPO 2A",18.52962266163431,100000000,1197.3166368515206]
[0,"CAMPO 2A",1196.2194394752535,0,null,-8.3231809145129232E-3,null,null,2.8264338938570575E-2,1.5683280427655671E-4,null,null,17.114535800435203,0.33333333333333337,null,null,-4057242.2018682566,0,-4057242.2018682566,3048044534.6370983,-4057.2422018682564,3048.0445346370984,10,"CAMPO 2A",18.442010008492076,100000000,1196.2194394752535]
[0,"CAMPO 2A",1195.4879745577421,0,null,-8.3125827814569554E-3,null,null,2.8192405259418463E-2,1.562344683515323E-4,null,null,17.070978739724122,0.33333333333333326,null,null,-4044441.7753791846,0,-4044441.7753791846,3039414206.2644696,-4044.4417753791845,3039.4142062644696,11,"CAMPO 2A",18.383826251723566,100000000,1195.4879745577421]
[0,"CAMPO 2A",1195.0003312794011,0,null,-8.3055251544571947E-3,null,null,2.8144553221259059E-2,1.5583686316008425E-4,null,null,17.042003520385617,0.33333333333333337,null,null,-4035930.0507738367,0,-4035930.0507738367,3033673642.4915037,-4035.9300507738367,3033.6736424915039,12,"CAMPO 2A",18.345136594426531,100000000,1195.0003312794011]
[0,"CAMPO 2A",1194.6752357605071,0,null,-8.300823529411765E-3,null,null,2.8112697876705887E-2,1.5557236267346961E-4,null,null,17.022714569882464,0.33333333333333337,null,null,-4030265.2756461012,0,-4030265.2756461012,3029852360.8730526,-4030.2652756461011,3029.8523608730525,13,"CAMPO 2A",18.319387616573188,100000000,1194.6752357605071]
[0,"CAMPO 2A",1194.4585054145778,0,null,-8.2976906488923755E-3,null,null,2.8091481402724123E-2,1.5539628169927868E-4,null,null,17.00986763564816,0.33333333333333337,null,null,-4026493.0669415109,0,-4026493.0669415109,3027307396.7156987,-4026.4930669415107,3027.3073967156988,14,"CAMPO 2A",18.302241213370504,100000000,1194.4585054145778]
[0,"CAMPO 2A",1194.3140185172915,0,null,-8.2956027442012414E-3,null,null,2.8077346154956467E-2,1.5527900654196337E-4,null,null,17.001308503786156,0.33333333333333326,null,null,-4023980.173875249,0,-4023980.173875249,3025611889.3249178,-4023.980173875249,3025.6118893249177,15,"CAMPO 2A",18.290818972160224,100000000,1194.3140185172915]
[0,"CAMPO 2A",1194.2176939191006,0,null,-8.2942111108691378E-3,null,null,2.8067926684279348E-2,1.5520087290920673E-4,null,null,16.995604854800238,0.33333333333333348,null,null,-4022305.7613588562,0,-4022305.7613588562,3024482055.3735218,-4022.3057613588562,3024.4820553735217,16,"CAMPO 2A",18.283208006176618,100000000,1194.2176939191006]
[0,"CAMPO 2A",1194.1534775203068,0,null,-8.2932834900010868E-3,null,null,2.8061648826574047E-2,1.5514880594375661E-4,null,null,16.991803505662691,0.33333333333333337,null,null,-4021189.8637448438,0,-4021189.8637448438,3023729056.7864656,-4021.1898637448439,3023.7290567864657,17,"CAMPO 2A",18.278135744294744,100000000,1194.1534775203068]
[0,"CAMPO 2A",1194.1106665877776,0,null,-8.2926651359387961E-3,null,null,2.8057464383180446E-2,1.5511410446216334E-4,null,null,16.989269754336672,0.33333333333333326,null,null,-4020446.099683491,0,-4020446.099683491,3023227157.278254,-4020.446099683491,3023.2271572782543,18,"CAMPO 2A",18.274754998561324,100000000,1194.1106665877776]
[0,"CAMPO 2A",1194.0821259660913,0,null,-8.2922529264938902E-3,null,null,2.8054675107554168E-2,1.5509097450830091E-4,null,null,16.987580800716813,0.33333333333333326,null,null,-4019950.3314859509,0,-4019950.3314859509,3022892601.8425646,-4019.9503314859508,3022.8926018425645,19,"CAMPO 2A",18.27250150675432,100000000,1194.0821259660913]
[0,"CAMPO 2A",1194.0630988849673,0,null,-8.2919781320170468E-3,null,null,2.8052815747474362E-2,1.5507555647970722E-4,null,null,16.986454926705715,0.33333333333333348,null,null,-4019619.8524653884,0,-4019619.8524653884,3022669584.5437436,-4019.6198524653882,3022.6695845437434,20,"CAMPO 2A",18.270999329388129,100000000,1194.0630988849673]
[0,"CAMPO 2A",1194.050414164218,0,null,-8.291794940952087E-3,null,null,2.8051576243861846E-2,1.5506527865639027E-4,null,null,16.985704386281004,0.33333333333333326,null,null,-4019399.5478330841,0,-4019399.5478330841,3022520915.0808592,-4019.3995478330839,3022.5209150808591,21,"CAMPO 2A",18.269997944695838,100000000,1194.050414164218]
[0,"CAMPO 2A",{"$f":"IF(ABS(U134)>$G$110,C134-(C134-$C$144)/4,C134+(C134-$C$144)/4)","v":1194.0440718038433},0,null,-8.2917033469954351E-3,null,null,2.8050956512986724E-2,1.5506014000343693E-4,null,null,16.985329128742805,0.33333333333333348,null,null,-4019289.3999311044,0,-4019289.3999311044,3022446582.9701819,-4019.2893999311045,3022.4465829701821,22,"CAMPO 2A",18.26949727241411,100000000,1194.0440718038433]
[0,"CAMPO 2A",1194.0393150335622,0,null,-8.2916346522173556E-3,null,null,2.8050491723987468E-2,1.5505628612690043E-4,null,null,16.985047691133925,0.33333333333333337,null,null,-4019206.7909357511,0,-4019206.7909357511,3022390835.0337248,-4019.2067909357511,3022.3908350337247,23,"CAMPO 2A",18.269121776980686,100000000,1194.0393150335622]
[0,"CAMPO 2A",1194.0357474558514,0,null,-8.2915831315215835E-3,null,null,2.8050143137388777E-2,1.5505339578315912E-4,null,null,16.984836616046135,0.33333333333333337,null,null,-4019144.8352754749,0,-4019144.8352754749,3022349024.7263041,-4019.1448352754751,3022.3490247263039,24,"CAMPO 2A",18.268840160343068,100000000,1194.0357474558514]
[0,"CAMPO 2A",1194.0330717725683,0,null,-8.291544491217882E-3,null,null,2.8049881700337013E-2,1.5505122806116174E-4,null,null,16.984678311484625,0.33333333333333348,null,null,-4019098.3691412657,0,-4019098.3691412657,3022317667.3584995,-4019.0983691412657,3022.3176673584994,25,"CAMPO 2A",18.268628950642118,100000000,1194.0330717725683]
[0,"CAMPO 2A",1194.031065010106,0,null,-8.2915155111128042E-3,null,null,2.8049685624177888E-2,1.5504960228980588E-4,null,null,16.984559584050306,0.33333333333333326,null,null,-4019063.5198842934,0,-4019063.5198842934,3022294149.5367017,-4019.0635198842933,3022.2941495367018,26,"CAMPO 2A",18.268470544928608,100000000,1194.031065010106]
[0,"CAMPO 2A",1194.0295599382594,0,null,-8.2914937761030122E-3,null,null,2.8049538567975235E-2,1.550483829726187E-4,null,null,16.984470539029637,0.33333333333333326,null,null,-4019037.3831348838,0,-4019037.3831348838,3022276511.285131,-4019.0373831348838,3022.2765112851312,27,"CAMPO 2A",18.268351741522199,100000000,1194.0295599382594]
[0,"CAMPO 2A",1194.0284311343744,0,null,-8.2914774748844913E-3,null,null,2.8049428276338901E-2,1.5504746849110142E-4,null,null,16.984403755576373,0.33333333333333326,null,null,-4019017.7806815715,0,-4019017.7806815715,3022263282.6610169,-4019.0177806815714,3022.263282661017,28,"CAMPO 2A",18.268262639461689,100000000,1194.0284311343744]
[0,"CAMPO 2A",1194.0275845314604,0,null,-8.2914652489924339E-3,null,null,2.8049345557901662E-2,1.5504678263354794E-4,null,null,16.984353668162033,0.33333333333333337,null,null,-4019003.0789027484,0,-4019003.0789027484,3022253361.2292433,-4019.0030789027483,3022.2533612292432,29,"CAMPO 2A",18.268195813194311,100000000,1194.0275845314604]
[0,"CAMPO 2A",1194.026949579275,0,null,-8.2914560795856723E-3,null,null,2.804928351923687E-2,1.5504626824239918E-4,null,null,16.98431610270006,0.33333333333333326,null,null,-4018992.0526030352,0,-4018992.0526030352,3022245920.1758404,-4018.9920526030351,3022.2459201758402,30,"CAMPO 2A",18.268145693650162,100000000,1194.026949579275]
[0,"CAMPO 2B",{"$f":"VLOOKUP($Z$10,$Z$13:$AC$108,4,FALSE)","v":1194.025044722719},0,null,-8.2914285714285694E-3,null,null,{"$f":"$L$4*(ABS(F144)-ABS($T$5)/2)","v":3.7759018020925772E-3},{"$f":"$I$39+$L$4*(ABS(F144)^2-ABS($T$5)^2)/2","v":1.619308973986871E-5},null,null,2.2863724749158916,0.48277481022131785,null,null,-541022.55817346217,0,-541022.55817346217,310306077.37660283,-541.02255817346213,310.30607737660284,1,"CAMPO 2B",2.4591934462430101,100000000,1194.025044722719]
[0,"CAMPO 2B",{"$f":"VLOOKUP(C$144,$AC$12:$AD$108,2,FALSE)","v":1510.0178890876564},0,null,-1.4679999999999995E-2,null,null,6.7903610613518342E-3,5.0816307517646455E-5,null,null,4.11167859736487,0.49021837008902591,null,null,-1230428.0011206616,0,-1230428.0011206616,504182013.0532099,-1230.4280011206615,504.18201305320991,{"$f":"+W144+1","v":2},{"$f":"B145","v":"CAMPO 2B"},{"$f":"ABS(S145)/($G$110*1000)","v":5.5928545505484619},{"$f":"IF(A145=0,10^8,ABS(1*10^5-ABS(Y145)*10^5))","v":100000000},{"$f":"C145","v":1510.0178890876564}]
[{"$f":"IF($AB$10=B146,IF(ABS((ROUND(ABS(U146/100),1))-(ROUND(ABS($G$110/100),1)))=0,1,0),0)","v":0},"CAMPO 2B",{"$f":"+(C145-C144)/2+C144","v":1352.0214669051877},0,null,{"$f":"-$T$7*C146/($D$4-C146)","v":-1.0953333333333331E-2},null,null,5.0319264934506015E-3,2.8279037805712325E-5,null,null,3.046916692602966,0.48692124075721566,null,null,{"$f":"-$L$4*$D$3*C146*M146","v":-816392.71668409905},{"$f":"$L$8*($D$4-C146)*$L$6*G146*0.5","v":0},-816392.71668409905,{"$f":"-Q146*($D$4/2-N146*C146)+R146*($D$4/6+C146/3)","v":401397464.12938333},-816.39271668409901,401.39746412938331,{"$f":"+W145+1","v":3},"CAMPO 2B",3.7108759849277231,100000000,1352.0214669051877]
[0,"CAMPO 2B",{"$f":"IF(ABS(U146)>$G$110,C146-(C146-$C$144)/2,C146+(C146-$C$144)/2)","v":1273.0232558139533},0,null,-9.5199999999999972E-3,null,null,4.3556055057962801E-3,2.1355765295424262E-5,null,null,2.6373928830791562,0.48497340861169758,null,null,-665374.45224359515,0,-665374.45224359515,354390125.48161221,-665.3744522435951,354.39012548161219,4,"CAMPO 2B",3.0244293283799779,100000000,1273.0232558139533]
[0,"CAMPO 2B",1233.5241502683361,0,null,-8.8829629629629606E-3,null,null,4.0550184001721381E-3,1.8589918609451599E-5,null,null,2.4553823010685747,0.48390837943270903,null,null,-600235.57516737643,0,-600235.57516737643,331982690.11126238,-600.2355751673764,331.9826901112624,5,"CAMPO 2B",2.7283435234880749,100000000,1233.5241502683361]
[0,"CAMPO 2B",1213.7745974955276,0,null,-8.58181818181818E-3,null,null,3.9129226775134526E-3,1.7349083260529869E-5,null,null,2.3693409350272088,0.48335056814248556,null,null,-569928.7377516015,0,-569928.7377516015,321053030.91447133,-569.92873775160149,321.05303091447132,6,"CAMPO 2B",2.5905851715981885,100000000,1213.7745974955276]
[0,"CAMPO 2B",1203.8998211091234,0,null,-8.435315315315316E-3,null,null,3.8437950286524716E-3,1.6760906046024728E-5,null,null,2.3274829731692477,0.48306498605332027,null,null,-555305.29768498184,0,-555305.29768498184,315656715.93817192,-555.30529768498184,315.65671593817194,7,"CAMPO 2B",2.5241149894771904,100000000,1203.8998211091234]
[0,"CAMPO 2B",1198.9624329159212,0,null,-8.3630493273542592E-3,null,null,3.8096961884071436E-3,1.6474503669858145E-5,null,null,2.3068355480375171,0.48292047923447079,null,null,-548121.91328677675,0,-548121.91328677675,312975687.10554594,-548.1219132867767,312.97568710554594,8,"CAMPO 2B",2.4914632422126215,100000000,1198.9624329159212]
[0,"CAMPO 2B",1196.4937388193202,0,null,-8.3271588366890387E-3,null,null,3.7927611939228877E-3,1.6333179378258569E-5,null,null,2.2965811221331687,0.48284779087409646,null,null,-544561.80256387498,0,-544561.80256387498,311639454.85311425,-544.56180256387495,311.63945485311427,9,"CAMPO 2B",2.4752809207448863,100000000,1196.4937388193202]
[0,"CAMPO 2B",1195.2593917710196,0,null,-8.3092737430167599E-3,null,null,3.7843220793530789E-3,1.6262980997972052E-5,null,null,2.2914710953696602,0.48281133719400826,null,null,-542789.58081998408,0,-542789.58081998408,310972409.26786846,-542.78958081998405,310.97240926786844,10,"CAMPO 2B",2.467225367363564,100000000,1195.2593917710196]
[0,"CAMPO 2B",1194.6422182468693,0,null,-8.3003461753210495E-3,null,null,3.7801095900033251E-3,1.6227997074467325E-5,null,null,2.2889203617423144,0.48279308288300504,null,null,-541905.42069814028,0,-541905.42069814028,310639154.11048818,-541.90542069814023,310.63915411048816,11,"CAMPO 2B",2.4632064577188193,100000000,1194.6422182468693]
[0,"CAMPO 2B",1194.3336314847943,0,null,-8.2958861289422273E-3,null,null,3.7780051088601328E-3,1.6210533845501143E-5,null,null,2.2876460627769366,0.4827839488477208,null,null,-541463.8273719633,0,-541463.8273719633,310472593.44060868,-541.46382737196325,310.4725934406087,12,"CAMPO 2B",2.4611992153271061,100000000,1194.3336314847943]
[0,"CAMPO 2B",{"$f":"IF(ABS(U155)>$G$110,C155-(C155-$C$144)/3,C155+(C155-$C$144)/3)","v":1194.2307692307693},0,null,-8.2944000000000021E-3,null,null,3.7773038761666532E-3,1.6204717019987244E-5,null,null,2.2872214545077294,0.48278090314921451,null,null,-541316.70163834421,0,-541316.70163834421,310417083.12973195,-541.31670163834417,310.41708312973196,13,"CAMPO 2B",2.4605304619924735,100000000,1194.2307692307693]
[0,"CAMPO 2B",1194.1621943947525,0,null,-8.2934094009673824E-3,null,null,3.776836460178669E-3,1.6200840316327424E-5,null,null,2.2869384262126951,0.482778872400078,null,null,-541218.63781884813,0,-541218.63781884813,310380079.0092631,-541.21863781884815,310.38007900926311,14,"CAMPO 2B",2.4600847173584004,100000000,1194.1621943947525]
[0,"CAMPO 2B",1194.116477837408,0,null,-8.2927490698635788E-3,null,null,3.776524881724504E-3,1.6198256371518981E-5,null,null,2.2867497601830373,0.48277751844131378,null,null,-541153.27082762378,0,-541153.27082762378,310355410.81937218,-541.15327082762383,310.3554108193722,15,"CAMPO 2B",2.4597875946710173,100000000,1194.116477837408]
[0,"CAMPO 2B",1194.0860001325116,0,null,-8.2923088794576386E-3,null,null,3.7763171770662934E-3,1.6196533974622604E-5,null,null,2.2866239914956257,0.48277661574612762,null,null,-541109.69678337453,0,-541109.69678337453,310338965.90333617,-541.10969678337449,310.33896590333615,16,"CAMPO 2B",2.4595895308335205,100000000,1194.0860001325116]
[0,"CAMPO 2B",1194.0656816625808,0,null,-8.2920154326658075E-3,null,null,3.7761787136541482E-3,1.6195385813556409E-5,null,null,2.2865401495551025,0.48277601392444203,null,null,-541080.64917590015,0,-541080.64917590015,310328002.86770821,-541.08064917590013,310.32800286770822,17,"CAMPO 2B",2.4594574962540916,100000000,1194.0656816625808]
[0,"CAMPO 2B",1194.0521360159603,0,null,-8.2918198074614802E-3,null,null,3.7760864075392173E-3,1.6194620418855577E-5,null,null,2.2864842566395804,0.48277561269891967,null,null,-541061.28488436434,0,-541061.28488436434,310320694.28472501,-541.06128488436434,310.32069428472499,18,"CAMPO 2B",2.4593694767471108,100000000,1194.0521360159603]
[0,"CAMPO 2B",1194.0431055848799,0,null,-8.2916893933208131E-3,null,null,3.7760248713854358E-3,1.619411017616937E-5,null,null,2.2864469954565325,0.48277534521032017,null,null,-541048.37570337742,0,-541048.37570337742,310315821.94381839,-541.04837570337736,310.31582194381838,19,"CAMPO 2B",2.4593107986517153,100000000,1194.0431055848799]
[0,"CAMPO 2B",1194.0370852974929,0,null,-8.2916024517435457E-3,null,null,3.7759838478411993E-3,1.6193770023466071E-5,null,null,2.2864221550058845,0.48277516688240152,null,null,-541039.76973680605,0,-541039.76973680605,310312573.73776907,-541.03976973680608,310.31257373776907,20,"CAMPO 2B",2.4592716806218458,100000000,1194.0370852974929]
[0,"CAMPO 2B",1194.0330717725683,0,null,-8.291544491217882E-3,null,null,3.7759564990598308E-3,1.6193543259035998E-5,null,null,2.2864055948556952,0.48277504799615079,null,null,-541034.03249424021,0,-541034.03249424021,310310408.27650142,-541.03403249424025,310.31040827650139,21,"CAMPO 2B",2.4592456022465465,100000000,1194.0330717725683]
[0,"CAMPO 2B",1194.0303960892852,0,null,-8.291505851101149E-3,null,null,3.7759382666491944E-3,1.6193392084544274E-5,null,null,2.2863945548223428,0.48277496873821857,null,null,-541030.20769629907,0,-541030.20769629907,310308964.63984835,-541.03020769629904,310.30896463984834,22,"CAMPO 2B",2.4592282168013595,100000000,1194.0303960892852]
[0,"CAMPO 2B",1194.0286123004298,0,null,-8.291480091127193E-3,null,null,3.7759261117577794E-3,1.6193291302347548E-5,null,null,2.2863871948297838,0.48277491589940502,null,null,-541027.65784453182,0,-541027.65784453182,310308002.2172761,-541.02765784453186,310.30800221727611,23,"CAMPO 2B",2.4592166265660538,100000000,1194.0286123004298]
[0,"CAMPO 2B",{"$f":"IF(ABS(U166)>$G$110,C166-(C166-$C$144)/4,C166+(C166-$C$144)/4)","v":1194.0277204060021},0,null,-8.2914672111713758E-3,null,null,3.7759200343267757E-3,1.6193240911488508E-5,null,null,2.2863835148424076,0.48277488947994085,null,null,-541026.38292270631,0,-541026.38292270631,310307521.00654882,-541.02638292270626,310.30752100654882,24,"CAMPO 2B",2.459210831466847,100000000,1194.0277204060021]
[0,"CAMPO 2B",1194.0270514851813,0,null,-8.2914575512181479E-3,null,null,3.7759154762599563E-3,1.6193203118448943E-5,null,null,2.2863807548557711,0.48277486966531757,null,null,-541025.42673311266,0,-541025.42673311266,310307160.09874785,-541.02542673311268,310.30716009874783,25,"CAMPO 2B",2.4592064851505122,100000000,1194.0270514851813]
[0,"CAMPO 2B",1194.0265497945657,0,null,-8.2914503062608922E-3,null,null,3.7759120577134583E-3,1.6193174773728153E-5,null,null,2.2863786848679837,0.4827748548043358,null,null,-541024.70959191583,0,-541024.70959191583,310306889.41803473,-541.02470959191578,310.30688941803476,26,"CAMPO 2B",2.4592032254177991,100000000,1194.0265497945657]
[0,"CAMPO 2B",1194.026173526604,0,null,-8.2914448725472656E-3,null,null,3.7759094938056214E-3,1.61931535152207E-5,null,null,2.2863771323783761,0.48277484365859147,null,null,-541024.1717365802,0,-541024.1717365802,310306686.40757734,-541.02417173658023,310.30668640757733,27,"CAMPO 2B",2.4592007806208191,100000000,1194.026173526604]
[0,"CAMPO 2B",1194.0258913256328,0,null,-8.2914407972644721E-3,null,null,3.7759075708758884E-3,1.6193137571358743E-5,null,null,2.2863759680118636,0.48277483529927889,null,null,-541023.7683453944,0,-541023.7683453944,310306534.14977771,-541.02376834539439,310.30653414977769,28,"CAMPO 2B",2.4591989470245199,100000000,1194.0258913256328]
[0,"CAMPO 2B",1194.0256796749043,0,null,-8.2914377408037417E-3,null,null,3.7759061286792325E-3,1.6193125613472758E-5,null,null,2.2863750947373691,0.48277482902979185,null,null,-541023.46580218279,0,-541023.46580218279,310306419.95645249,-541.02346580218284,310.30641995645249,29,"CAMPO 2B",2.4591975718281036,100000000,1194.0256796749043]
[0,"CAMPO 2B",1194.0255209368579,0,null,-8.2914354484589607E-3,null,null,3.7759050470321026E-3,1.6193116645064165E-5,null,null,2.2863744397817176,0.48277482432767505,null,null,-541023.238894874,0,-541023.238894874,310306334.31147242,-541.023238894874,310.30633431147243,30,"CAMPO 2B",2.4591965404312455,100000000,1194.0255209368579]
[1,"CAMPO 3",{"$f":"VLOOKUP($Z$10,$Z$13:$AC$108,4,FALSE)","v":1194.025044722719},1194.025044722719,null,-3.5000000000000005E-3,null,null,{"$f":"$H$50","v":1.5150573576481346E-3},{"$f":"$I$50","v":2.8637968509798352E-6},{"$f":"+$L$7*(G174-G174^2/(2*$T$7))","v":0},null,0.91739288307915767,0.4599361749718297,{"$f":"+K174/($T$7*$L$7)","v":0},0.33300000000000002,-217081.97150679579,{"$f":"$L$8*($D$4-C174)*$L$6*G174*O174","v":0},-217081.97150679579,130428207.82480171,-217.08197150679578,130.42820782480172,1,"CAMPO 3",0.98673623412179901,1326.3765878200938,1194.025044722719]
[0,"CAMPO 3",{"$f":"VLOOKUP(C$144,$AC$12:$AD$108,2,FALSE)","v":1510.0178890876564},0,null,-3.5000000000000005E-3,null,null,1.5150573576481346E-3,2.8637968509798352E-6,0,null,{"$f":"I175/($L$4*ABS($T$4))","v":0.91739288307915767},0.4599361749718297,0,0.33300000000000002,-274531.645565107,0,-274531.645565107,125045910.79321091,-274.531645565107,125.04591079321091,{"$f":"+W174+1","v":2},"CAMPO 3",1.2478711162050318,100000000,1510.0178890876564]
[0,"CAMPO 3",{"$f":"+(C175-C174)/2+C174","v":1352.0214669051877},0,null,-3.5000000000000005E-3,null,null,1.5150573576481346E-3,2.8637968509798352E-6,0,null,0.91739288307915767,0.4599361749718297,0,0.33300000000000002,-245806.80853595142,0,-245806.80853595142,129824443.52418292,-245.80680853595143,129.82444352418293,{"$f":"+W175+1","v":3},"CAMPO 3",1.1173036751634156,100000000,1352.0214669051877]
[0,"CAMPO 3",{"$f":"IF(ABS(U176)>$G$110,C176-(C176-$C$144)/2,C176+(C176-$C$144)/2)","v":1273.0232558139533},0,null,-3.5000000000000005E-3,null,null,1.5150573576481346E-3,2.8637968509798352E-6,0,null,0.91739288307915767,0.4599361749718297,0,0.33300000000000002,-231444.39002137355,0,-231444.39002137355,130648171.72828643,-231.44439002137355,130.64817172828643,4,{"$f":"B177","v":"CAMPO 3"},{"$f":"ABS(S177)/($G$110*1000)","v":1.052019954642607},{"$f":"IF(A177=0,10^8,ABS(1*10^5-ABS(Y177)*10^5))","v":100000000},{"$f":"C177","v":1273.0232558139533}]
[{"$f":"IF($AB$10=B178,IF(ABS((ROUND(ABS(U178/100),1))-(ROUND(ABS($G$110/100),1)))=0,1,0),0)","v":1},"CAMPO 3",{"$f":"IF(ABS(U177)>$G$110,C177-(C177-$C$144)/2,C177+(C177-$C$144)/2)","v":1233.5241502683361},{"$f":"IF(A178=0,0,C178)","v":1233.5241502683361},null,-3.5000000000000005E-3,null,null,1.5150573576481346E-3,2.8637968509798352E-6,0,null,0.91739288307915767,0.4599361749718297,0,0.33300000000000002,{"$f":"-$L$4*$D$3*C178*M178","v":-224263.18076408468},0,-224263.18076408468,{"$f":"-Q178*($D$4/2-N178*C178)+R178*($D$4/6+C178/3)","v":130668651.2899926},-224.26318076408469,130.6686512899926,5,"CAMPO 3",1.0193780943822031,1937.8094382203126,1233.5241502683361]
[1,"CAMPO 3",{"$f":"IF(ABS(U178)>$G$110,C178-(C178-$C$144)/2,C178+(C178-$C$144)/2)","v":1213.7745974955276},1213.7745974955276,null,-3.5000000000000005E-3,null,null,1.5150573576481346E-3,2.8637968509798352E-6,0,null,{"$f":"I179/($L$4*ABS($T$4))","v":0.91739288307915767},{"$f":"1-J179/I179/ABS(F179)","v":0.4599361749718297},0,0.33300000000000002,-220672.57613544023,0,{"$f":"R179+Q179","v":-220672.57613544023},130581044.93575929,{"$f":"+S179/1000","v":-220.67257613544024},{"$f":"+T179/1000000","v":130.58104493575928},6,"CAMPO 3",1.003057164252001,305.71642520009482,1213.7745974955276]
[1,"CAMPO 3",{"$f":"IF(ABS(U179)>$G$110,C179-(C179-$C$144)/2,C179+(C179-$C$144)/2)","v":1203.8998211091234},1203.8998211091234,null,-3.5000000000000005E-3,null,null,1.5150573576481346E-3,2.8637968509798352E-6,0,null,0.91739288307915767,0.4599361749718297,0,0.33300000000000002,-218877.27382111803,0,-218877.27382111803,130512780.22487102,-218.87727382111802,130.51278022487102,7,"CAMPO 3",0.99489669918690016,510.33008130997769,1203.8998211091234]
[1,"CAMPO 3",{"$f":"IF(ABS(U180)>$G$110,C180-(C180-$C$144)/3,C180+(C180-$C$144)/3)","v":1207.191413237925},1207.191413237925,null,-3.5000000000000005E-3,null,null,1.5150573576481346E-3,2.8637968509798352E-6,0,null,0.91739288307915767,0.4599361749718297,0,0.33300000000000002,-219475.70792589211,0,-219475.70792589211,130537347.09396501,-219.47570792589212,130.537347093965,8,"CAMPO 3",0.99761685420860047,238.31457913995837,1207.191413237925]
[1,"CAMPO 3",1211.5802027429936,1211.5802027429936,null,-3.5000000000000005E-3,null,null,1.5150573576481346E-3,2.8637968509798352E-6,0,null,0.91739288307915767,0.4599361749718297,0,0.33300000000000002,-220273.62006559092,0,-220273.62006559092,130567284.3064788,-220.27362006559093,130.5672843064788,9,"CAMPO 3",1.0012437275708679,124.37275708679226,1211.5802027429936]
[1,"CAMPO 3",1205.7284834029022,1205.7284834029022,null,-3.5000000000000005E-3,null,null,1.5150573576481346E-3,2.8637968509798352E-6,0,null,0.91739288307915767,0.4599361749718297,0,0.33300000000000002,-219209.73721265921,0,-219209.73721265921,130526652.18491887,-219.20973721265921,130.52665218491887,10,"CAMPO 3",0.99640789642117822,359.21035788218433,1205.7284834029022]
[1,"CAMPO 3",1209.6296296296298,1209.6296296296298,null,-3.5000000000000005E-3,null,null,1.5150573576481346E-3,2.8637968509798352E-6,0,null,0.91739288307915767,0.4599361749718297,0,0.33300000000000002,-219918.99244794701,0,-219918.99244794701,130554376.56658833,-219.91899244794701,130.55437656658833,11,"CAMPO 3",0.99963178385430462,36.821614569533267,1209.6296296296298]
[1,"CAMPO 3",1214.8311579319334,1214.8311579319334,null,-3.5000000000000005E-3,null,null,1.5150573576481346E-3,2.8637968509798352E-6,0,null,0.91739288307915767,0.4599361749718297,0,0.33300000000000002,-220864.6660949974,0,-220864.6660949974,130587383.20489721,-220.8646660949974,130.58738320489721,12,"CAMPO 3",1.0039303004318063,393.03004318062449,1214.8311579319334]
[1,"CAMPO 3",1207.8957868621953,1207.8957868621953,null,-3.5000000000000005E-3,null,null,1.5150573576481346E-3,2.8637968509798352E-6,0,null,0.91739288307915767,0.4599361749718297,0,0.33300000000000002,-219603.76789893021,0,-219603.76789893021,130542368.84171279,-219.60376789893022,130.5423688417128,13,"CAMPO 3",0.99819894499513728,180.10550048627192,1207.8957868621953]
[1,"CAMPO 3",1212.5193675753542,1212.5193675753542,null,-3.5000000000000005E-3,null,null,1.5150573576481346E-3,2.8637968509798352E-6,0,null,0.91739288307915767,0.4599361749718297,0,0.33300000000000002,-220444.36669630837,0,-220444.36669630837,130573272.20570768,-220.44436669630838,130.5732722057077,14,"CAMPO 3",1.0020198486195835,201.98486195834994,1212.5193675753542]
[1,"CAMPO 3",1206.3545932911425,1206.3545932911425,null,-3.5000000000000005E-3,null,null,1.5150573576481346E-3,2.8637968509798352E-6,0,null,0.91739288307915767,0.4599361749718297,0,0.33300000000000002,-219323.56829980417,0,-219323.56829980417,130531273.24168019,-219.32356829980418,130.5312732416802,15,"CAMPO 3",0.99692531045365529,307.46895463447436,1206.3545932911425]
[1,"CAMPO 3",1210.4644428139502,1210.4644428139502,null,-3.5000000000000005E-3,null,null,1.5150573576481346E-3,2.8637968509798352E-6,0,null,0.91739288307915767,0.4599361749718297,0,0.33300000000000002,-220070.76723080696,0,-220070.76723080696,130559978.7543216,-220.07076723080695,130.55997875432161,16,"CAMPO 3",1.0003216692309407,32.166923094075173,1210.4644428139502]
[1,"CAMPO 3",1204.9846434502065,1204.9846434502065,null,-3.5000000000000005E-3,null,null,1.5150573576481346E-3,2.8637968509798352E-6,0,null,0.91739288307915767,0.4599361749718297,0,0.33300000000000002,-219074.50198946989,0,-219074.50198946989,130521077.00120881,-219.07450198946989,130.52107700120882,17,"CAMPO 3",0.99579319086122675,420.6809138773242,1204.9846434502065]
[1,"CAMPO 3",1208.6378430260356,1208.6378430260356,null,-3.5000000000000005E-3,null,null,1.5150573576481346E-3,2.8637968509798352E-6,0,null,0.91739288307915767,0.4599361749718297,0,0.33300000000000002,-219738.67881702795,0,-219738.67881702795,130547569.49106851,{"$f":"+S191/1000","v":-219.73867881702796},130.54756949106851,18,"CAMPO 3",0.99881217644103615,118.78235589638643,1208.6378430260356]
[1,"CAMPO 3",1213.5087757938079,1213.5087757938079,null,-3.5000000000000005E-3,null,null,1.5150573576481346E-3,2.8637968509798352E-6,0,null,0.91739288307915767,0.4599361749718297,0,0.33300000000000002,-220624.24792043868,0,-220624.24792043868,130579420.88688898,-220.62424792043868,130.57942088688898,19,"CAMPO 3",1.0028374905474484,283.74905474483967,1213.5087757938079]
[1,"CAMPO 3",1207.0141987701115,1207.0141987701115,null,-3.5000000000000005E-3,null,null,1.5150573576481346E-3,2.8637968509798352E-6,0,null,0.91739288307915767,0.4599361749718297,0,0.33300000000000002,-219443.48911589102,0,-219443.48911589102,130536070.60065407,-219.44348911589103,130.53607060065406,20,"CAMPO 3",0.99747040507223195,252.95949277680484,1207.0141987701115]
[1,"CAMPO 3",1211.343916785909,1211.343916785909,null,-3.5000000000000005E-3,null,null,1.5150573576481346E-3,2.8637968509798352E-6,0,null,0.91739288307915767,0.4599361749718297,0,0.33300000000000002,-220230.66165225609,0,-220230.66165225609,130565754.5767878,-220.23066165225609,130.56575457678781,21,"CAMPO 3",1.0010484620557094,104.84620557093876,1211.343916785909]
[1,"CAMPO 3",1205.5709594315124,1205.5709594315124,null,-3.5000000000000005E-3,null,null,1.5150573576481346E-3,2.8637968509798352E-6,0,null,0.91739288307915767,0.4599361749718297,0,0.33300000000000002,-219181.09827043599,0,-219181.09827043599,130525479.24388908,-219.181098270436,130.52547924388907,22,"CAMPO 3",0.99627771941107268,372.22805889273877,1205.5709594315124]
[1,"CAMPO 3",1209.4195976677768,1209.4195976677768,null,-3.5000000000000005E-3,null,null,1.5150573576481346E-3,2.8637968509798352E-6,0,null,0.91739288307915767,0.4599361749718297,0,0.33300000000000002,-219880.80719164942,0,-219880.80719164942,130552948.75298047,-219.88080719164941,130.55294875298048,23,"CAMPO 3",0.99945821450749739,54.178549250267679,1209.4195976677768]
[1,"CAMPO 3",1214.5511153161294,1214.5511153161294,null,-3.5000000000000005E-3,null,null,1.5150573576481346E-3,2.8637968509798352E-6,0,null,0.91739288307915767,0.4599361749718297,0,0.33300000000000002,-220813.75241993394,0,-220813.75241993394,130585721.42278033,-220.81375241993393,130.58572142278032,24,"CAMPO 3",1.0036988746360633,369.88746360632649,1214.5511153161294]
[1,"CAMPO 3",1207.7090917849926,1207.7090917849926,null,-3.5000000000000005E-3,null,null,1.5150573576481346E-3,2.8637968509798352E-6,0,null,0.91739288307915767,0.4599361749718297,0,0.33300000000000002,-219569.82544888789,0,-219569.82544888789,130541045.90309238,-219.56982544888788,130.5410459030924,25,"CAMPO 3",0.99804466113130863,195.5338868691324,1207.7090917849926]
[1,"CAMPO 3",{"$f":"IF(ABS(U198)>$G$110,C198-(C198-$C$144)/4,C198+(C198-$C$144)/4)","v":1211.130103550561},1211.130103550561,null,-3.5000000000000005E-3,null,null,1.5150573576481346E-3,2.8637968509798352E-6,0,null,0.91739288307915767,0.4599361749718297,0,0.33300000000000002,-220191.78893441093,0,-220191.78893441093,130564362.28955781,-220.19178893441094,130.56436228955781,26,"CAMPO 3",1.000871767883686,87.176788368597045,1211.130103550561]
[1,"CAMPO 3",1206.8538388436004,1206.8538388436004,null,-3.5000000000000005E-3,null,null,1.5150573576481346E-3,2.8637968509798352E-6,0,null,0.91739288307915767,0.4599361749718297,0,0.33300000000000002,-219414.33457750714,0,-219414.33457750714,130534910.98565683,-219.41433457750713,130.53491098565684,27,"CAMPO 3",0.99733788444321425,266.21155567857204,1206.8538388436004]
[1,"CAMPO 3",1210.0610373738209,1210.0610373738209,null,-3.5000000000000005E-3,null,null,1.5150573576481346E-3,2.8637968509798352E-6,0,null,0.91739288307915767,0.4599361749718297,0,0.33300000000000002,-219997.42534518498,0,-219997.42534518498,130557286.17060056,-219.99742534518498,130.55728617060058,28,"CAMPO 3",0.99998829702356806,1.1702976431988645,1210.0610373738209]
[1,"CAMPO 3",1214.0700355365964,1214.0700355365964,null,-3.5000000000000005E-3,null,null,1.5150573576481346E-3,2.8637968509798352E-6,0,null,0.91739288307915767,0.4599361749718297,0,0.33300000000000002,-220726.28880478226,0,-220726.28880478226,130582836.06131583,-220.72628880478226,130.58283606131585,29,"CAMPO 3",1.0033013127490102,330.13127490102488,1214.0700355365964]
[1,"CAMPO 3",1209.0587878331271,1209.0587878331271,null,-3.5000000000000005E-3,null,null,1.5150573576481346E-3,2.8637968509798352E-6,0,null,0.91739288307915767,0.4599361749718297,0,0.33300000000000002,-219815.20948028567,0,-219815.20948028567,130550478.71693833,-219.81520948028566,130.55047871693833,30,"CAMPO 3",0.99916004309220763,83.995690779236611,1209.0587878331271]
[1,"CAMPO 3",1212.8172236107291,1212.8172236107291,null,-3.5000000000000005E-3,null,null,1.5150573576481346E-3,2.8637968509798352E-6,0,null,0.91739288307915767,0.4599361749718297,0,0.33300000000000002,-220498.51897365812,0,-220498.51897365812,130575140.45739339,-220.49851897365812,130.57514045739339,31,"CAMPO 3",1.0022659953348096,226.59953348097042,1212.8172236107291]
[1,"CAMPO 3",1208.1191788887265,1208.1191788887265,null,-3.5000000000000005E-3,null,null,1.5150573576481346E-3,2.8637968509798352E-6,0,null,0.91739288307915767,0.4599361749718297,0,0.33300000000000002,-219644.38210694253,0,-219644.38210694253,130543944.15791336,-219.64438210694254,130.54394415791336,32,"CAMPO 3",0.99838355503155696,161.6444968443102,1208.1191788887265]
[1,"CAMPO 3",1211.6427124302284,1211.6427124302284,null,-3.5000000000000005E-3,null,null,1.5150573576481346E-3,2.8637968509798352E-6,{"$f":"+$L$7*(G206-G206^2/(2*$T$7))","v":0},null,0.91739288307915767,0.4599361749718297,{"$f":"+K206/($T$7*$L$7)","v":0},0.33300000000000002,-220284.98475697922,{"$f":"$L$8*($D$4-C206)*$L$6*G206*O206","v":0},-220284.98475697922,130567687.43619014,-220.28498475697921,130.56768743619014,33,"CAMPO 3",1.0012953852589965,129.53852589965391,1211.6427124302284]
[1,"CAMPO 3",1207.2382955033511,1207.2382955033511,null,-3.5000000000000005E-3,null,null,1.5150573576481346E-3,2.8637968509798352E-6,0,null,0.91739288307915767,0.4599361749718297,0,0.33300000000000002,-219484.23144443336,0,-219484.23144443336,130537683.91303161,-219.48423144443336,130.5376839130316,34,"CAMPO 3",0.99765559747469712,234.44025253028667,1207.2382955033511]
[1,"CAMPO 3",1210.541608198509,1210.541608198509,null,-3.5000000000000005E-3,null,null,1.5150573576481346E-3,2.8637968509798352E-6,0,null,0.91739288307915767,0.4599361749718297,0,0.33300000000000002,-220084.79642884273,0,-220084.79642884273,130560490.70413104,-220.08479642884274,130.56049070413104,35,"CAMPO 3",1.0003854383129216,38.543831292161485,1210.541608198509]
[1,"CAMPO 3",1206.4124673295614,1206.4124673295614,null,-3.5000000000000005E-3,null,null,1.5150573576481346E-3,2.8637968509798352E-6,0,null,0.91739288307915767,0.4599361749718297,0,0.33300000000000002,-219334.09019833099,0,-219334.09019833099,130531697.07582188,-219.33409019833098,130.53169707582188,36,{"$f":"B209","v":"CAMPO 3"},{"$f":"ABS(S209)/($G$110*1000)","v":0.99697313726514081},{"$f":"IF(A209=0,10^8,ABS(1*10^5-ABS(Y209)*10^5))","v":302.6862734859169},{"$f":"C209","v":1206.4124673295614}]
[{"$f":"IF($AB$10=B210,IF(ABS((ROUND(ABS(U210/100),1))-(ROUND(ABS($G$110/100),1)))=0,1,0),0)","v":1},"CAMPO 3",1209.5093229812719,1209.5093229812719,null,-3.5000000000000005E-3,null,null,1.5150573576481346E-3,2.8637968509798352E-6,0,null,0.91739288307915767,0.4599361749718297,0,0.33300000000000002,{"$f":"-$L$4*$D$3*C210*M210","v":-219897.11987121479},0,-219897.11987121479,{"$f":"-Q210*($D$4/2-N210*C210)+R210*($D$4/6+C210/3)","v":130553559.61527397},-219.89711987121478,130.55355961527397,37,"CAMPO 3",0.99953236305097626,46.763694902372663,1209.5093229812719]
[1,"CAMPO 3",1213.3803925459101,1213.3803925459101,null,-3.5000000000000005E-3,null,null,1.5150573576481346E-3,2.8637968509798352E-6,0,null,0.91739288307915767,0.4599361749718297,0,0.33300000000000002,-220600.90696231951,0,-220600.90696231951,130578632.29210611,-220.6009069623195,130.57863229210611,38,"CAMPO 3",1.0027313952832706,273.13952832705399,1213.3803925459101]
[1,"CAMPO 3",1208.5415555901122,1208.5415555901122,null,-3.5000000000000005E-3,null,null,1.5150573576481346E-3,2.8637968509798352E-6,0,null,0.91739288307915767,0.4599361749718297,0,0.33300000000000002,-219721.17309843856,0,-219721.17309843856,130546899.86664179,-219.72117309843856,130.54689986664178,39,"CAMPO 3",0.99873260499290262,126.7395007097366,1208.5415555901122]
[1,"CAMPO 3",1212.1706833069607,1212.1706833069607,null,-3.5000000000000005E-3,null,null,1.5150573576481346E-3,2.8637968509798352E-6,0,null,0.91739288307915767,0.4599361749718297,0,0.33300000000000002,-220380.97349634927,0,-220380.97349634927,130571066.29145014,-220.38097349634927,130.57106629145014,40,"CAMPO 3",1.0017316977106785,173.16977106785635,1212.1706833069607]
[1,"CAMPO 3",1207.6342736609004,1207.6342736609004,null,-3.5000000000000005E-3,null,null,1.5150573576481346E-3,2.8637968509798352E-6,0,null,0.91739288307915767,0.4599361749718297,0,0.33300000000000002,-219556.22299896093,0,-219556.22299896093,130540514.09883648,-219.55622299896092,130.54051409883647,41,"CAMPO 3",0.99798283181345881,201.71681865412393,1207.6342736609004]
[1,"CAMPO 3",1211.0365808954457,1211.0365808954457,null,-3.5000000000000005E-3,null,null,1.5150573576481346E-3,2.8637968509798352E-6,0,null,0.91739288307915767,0.4599361749718297,0,0.33300000000000002,-220174.78587200222,0,-220174.78587200222,130563750.89479977,-220.17478587200222,130.56375089479977,42,"CAMPO 3",1.0007944812363738,79.448123637383105,1211.0365808954457]
[1,"CAMPO 3",1206.783696852264,1206.783696852264,null,-3.5000000000000005E-3,null,null,1.5150573576481346E-3,2.8637968509798352E-6,0,null,0.91739288307915767,0.4599361749718297,0,0.33300000000000002,-219401.58228070062,0,-219401.58228070062,130534402.41406156,-219.40158228070061,130.53440241406156,43,"CAMPO 3",0.99727991945773009,272.00805422698613,1206.783696852264]
[1,"CAMPO 3",1209.9733598846503,1209.9733598846503,null,-3.5000000000000005E-3,null,null,1.5150573576481346E-3,2.8637968509798352E-6,0,null,0.91739288307915767,0.4599361749718297,0,0.33300000000000002,-219981.48497417683,0,-219981.48497417683,130556697.35503778,-219.98148497417682,130.55669735503778,44,"CAMPO 3",0.99991584079171281,8.4159208287164802,1209.9733598846503]
[1,"CAMPO 3",1213.9604386751332,1213.9604386751332,null,-3.5000000000000005E-3,null,null,1.5150573576481346E-3,2.8637968509798352E-6,0,null,0.91739288307915767,0.4599361749718297,0,0.33300000000000002,-220706.36334102211,0,-220706.36334102211,130582173.32144256,-220.7063633410221,130.58217332144255,45,"CAMPO 3",1.0032107424591914,321.07424591913878,1213.9604386751332]
[1,"CAMPO 3",1208.9765901870296,1208.9765901870296,null,-3.5000000000000005E-3,null,null,1.5150573576481346E-3,2.8637968509798352E-6,0,null,0.91739288307915767,0.4599361749718297,0,0.33300000000000002,-219800.26538246553,0,-219800.26538246553,130549912.96242698,-219.80026538246554,130.54991296242699,46,"CAMPO 3",0.99909211537484333,90.788462515673018,1208.9765901870296]
[1,"CAMPO 3",1212.7144765531073,1212.7144765531073,null,-3.5000000000000005E-3,null,null,1.5150573576481346E-3,2.8637968509798352E-6,0,null,0.91739288307915767,0.4599361749718297,0,0.33300000000000002,-220479.83885138293,0,-220479.83885138293,130574497.67013519,-220.47983885138294,130.57449767013517,47,"CAMPO 3",1.0021810856881042,218.10856881042127,1212.7144765531073]
[1,"CAMPO 3",1208.0421185955101,1208.0421185955101,null,-3.5000000000000005E-3,null,null,1.5150573576481346E-3,2.8637968509798352E-6,0,null,0.91739288307915767,0.4599361749718297,0,0.33300000000000002,-219630.37201523615,0,-219630.37201523615,130543401.68695629,-219.63037201523616,130.54340168695629,48,"CAMPO 3",0.9983198727965279,168.01272034720751,1208.0421185955101]
[1,"CAMPO 3",1211.5463870637079,1211.5463870637079,null,-3.5000000000000005E-3,null,null,1.5150573576481346E-3,2.8637968509798352E-6,0,null,0.91739288307915767,0.4599361749718297,0,0.33300000000000002,-220267.47214234623,0,-220267.47214234623,130567065.95422511,-220.26747214234624,130.56706595422511,49,"CAMPO 3",1.0012157824652101,121.57824652102136,1211.5463870637079]
[1,"CAMPO 3",1207.1660514784608,1207.1660514784608,null,-3.5000000000000005E-3,null,null,1.5150573576481346E-3,2.8637968509798352E-6,0,null,0.91739288307915767,0.4599361749718297,0,0.33300000000000002,-219471.09698345864,0,-219471.09698345864,130537164.73274721,-219.47109698345864,130.53716473274721,50,"CAMPO 3",0.99759589537935744,240.41046206426108,1207.1660514784608]
[0,"CAMPO 4",{"$f":"VLOOKUP($Z$10,$Z$13:$AC$108,4,FALSE)","v":1194.025044722719},0,{"$f":"-(ABS($T$5)-ABS($T$5)*$L$9/(C224-($D$4-$L$9)))","v":-8.8091664193746275E-4},{"$f":"-(ABS($T$4)-($D$4-$L$9)*ABS(E224)/$L$9)","v":9.5104914244885331E-4},null,null,{"$f":"$H$61-$L$4/ABS($T$5)*E224^2/2+$L$4*ABS(E224)","v":1.6141057414161518E-3},{"$f":"+$I$61-$L$4/ABS($T$5)*ABS(E224)^3/3+$L$4*(ABS(E224)^2)/2","v":2.860938480004722E-6},null,null,{"$f":"I224/($L$4*ABS($T$4))","v":0.97736835654263521},{"$f":"1-J224/I224/ABS($T$4)","v":0.49358274782549272},null,null,{"$f":"-$L$4*$D$3*$D$4*M224","v":-445493.18463085784},null,{"$f":"R224+Q224","v":-445493.18463085784},{"$f":"-Q224*($D$4/2-N224*$D$4)","v":6575336.8479413064},{"$f":"+S224/1000","v":-445.49318463085785},{"$f":"+T224/1000000","v":6.5753368479413066},1,"CAMPO 4",2.0249690210493538,100000000,1194.025044722719]
[0,"CAMPO 4",{"$f":"VLOOKUP($Z$10,$Z$13:$AC$108,4,FALSE)","v":1194.025044722719},0,-8.8091664193746275E-4,9.5104914244885331E-4,null,null,1.6141057414161518E-3,2.860938480004722E-6,null,null,0.97736835654263521,0.49358274782549272,null,null,-445493.18463085784,null,-445493.18463085784,6575336.8479413064,-445.49318463085785,6.5753368479413066,{"$f":"+W224+1","v":2},"CAMPO 4",2.0249690210493538,100000000,1194.025044722719]
[0,"CAMPO 4",{"$f":"VLOOKUP(C$144,$AC$12:$AD$108,2,FALSE)","v":1510.0178890876564},0,-1.114192323529732E-3,2.1297322017469361E-3,null,null,1.5342898590292222E-3,2.7804545770449255E-6,null,null,0.92903848831103397,0.48222587227158564,null,null,-423464.00109206524,null,-423464.00109206524,17311417.460730243,-423.46400109206525,17.311417460730244,{"$f":"+W225+1","v":3},"CAMPO 4",1.9248363686002965,100000000,1510.0178890876564]
[0,"CAMPO 4",{"$f":"+(C226-C225)/2+C225","v":1352.0214669051877},0,-9.6510937285461461E-4,1.3764537322917812E-3,null,null,1.5904200730278582E-3,2.839035718062943E-6,null,null,0.96302628328666018,0.48997558817311937,null,null,-438955.94015568879,null,-438955.94015568879,10120632.771345276,-438.95594015568878,10.120632771345276,4,"CAMPO 4",1.995254273434949,100000000,1352.0214669051877]
[0,"CAMPO 4",{"$f":"IF(ABS(U227)>$G$110,C227-(C227-$C$144)/2,C227+(C227-$C$144)/2)","v":1273.0232558139533},0,-9.1787294592306549E-4,1.1377800058837997E-3,null,null,1.6044211830447931E-3,2.8522248064088505E-6,null,null,0.97150419246937469,0.49207765275627124,null,null,-442820.24652036279,null,-442820.24652036279,8068804.2468221355,-442.82024652036279,8.0688042468221362,5,"CAMPO 4",2.0128193023652856,100000000,1273.0232558139533]
[0,"CAMPO 4",{"$f":"IF(ABS(U228)>$G$110,C228-(C228-$C$144)/2,C228+(C228-$C$144)/2)","v":1233.5241502683361},0,-8.9833159155397252E-4,1.0390424812804053E-3,null,null,1.6096809261592693E-3,2.8570016984902956E-6,null,null,0.9746890559834106,0.49288943771214899,null,null,-444271.93561995827,null,-444271.93561995827,7265753.5232306616,-444.27193561995824,7.2657535232306616,6,"CAMPO 4",2.0194178891816286,100000000,1233.5241502683361]
[0,"CAMPO 4",{"$f":"IF(ABS(U229)>$G$110,C229-(C229-$C$144)/2,C229+(C229-$C$144)/2)","v":1213.7745974955276},0,-8.893806152173308E-4,9.9381546018603327E-4,null,null,1.6119861134200331E-3,2.8590622529591138E-6,null,null,0.97608488590134335,0.49324940046550036,null,null,-444908.16730392905,null,-444908.16730392905,6907812.7943231016,-444.90816730392902,6.9078127943231014,7,"CAMPO 4",2.0223098513814959,100000000,1213.7745974955276]
[0,"CAMPO 4",{"$f":"IF(ABS(U230)>$G$110,C230-(C230-$C$144)/2,C230+(C230-$C$144)/2)","v":1203.8998211091234},0,-8.8509027152181583E-4,9.7213743786517823E-4,null,null,1.6130678475147966E-3,2.860022011158424E-6,null,null,0.97673989421169571,0.49341923385044195,null,null,-445206.72591408377,null,-445206.72591408377,6738543.1083372645,-445.20672591408379,6.7385431083372644,8,"CAMPO 4",2.0236669359731079,100000000,1203.8998211091234]
[0,"CAMPO 4",{"$f":"IF(ABS(U231)>$G$110,C231-(C231-$C$144)/2,C231+(C231-$C$144)/2)","v":1198.9624329159212},0,-8.8298916716774475E-4,9.6152108861241028E-4,null,null,1.6135921246524397E-3,2.8604854936027865E-6,null,null,0.97705735289562412,0.49350176099995857,null,null,-445351.42640407331,null,-445351.42640407331,6656200.0179009726,-445.35142640407332,6.6562000179009724,9,"CAMPO 4",2.0243246654730607,100000000,1198.9624329159212]
[0,"CAMPO 4",{"$f":"IF(ABS(U232)>$G$110,C232-(C232-$C$144)/3,C232+(C232-$C$144)/3)","v":1197.3166368515206},0,-8.8229517889222575E-4,9.5801454125984216E-4,null,null,1.6137645003482346E-3,2.860637639684229E-6,null,null,0.97716172929810141,0.49352892585416952,null,null,-445399.0020961127,null,-445399.0020961127,6629082.9241985977,-445.39900209611272,6.629082924198598,10,"CAMPO 4",2.024540918618694,100000000,1197.3166368515206]
[0,"CAMPO 4",1196.2194394752535,0,-8.8183427341510876E-4,9.5568570237656398E-4,null,null,1.6138787647915083E-3,2.8607384283257524E-6,null,null,0.97723091835323461,0.49354694138373412,null,null,-445430.53908245626,null,-445430.53908245626,6611095.5698002158,-445.43053908245628,6.6110955698002156,11,"CAMPO 4",2.0246842685566193,100000000,1196.2194394752535]
[0,"CAMPO 4",1195.4879745577421,0,-8.8152777863697044E-4,9.5413706172834409E-4,null,null,1.6139546528573165E-3,2.8608053373954348E-6,null,null,0.97727686986202178,0.49355891003846342,null,null,-445451.4841886193,null,-445451.4841886193,6599144.0912654595,-445.4514841886193,6.59914409126546,12,"CAMPO 4",2.0247794735846334,100000000,1195.4879745577421]
[0,"CAMPO 4",1195.0003312794011,0,-8.8132379236807278E-4,9.531063706685731E-4,null,null,1.6140051173445377E-3,2.8608498180963012E-6,null,null,0.97730742696350137,0.4935668706812758,null,null,-445465.41238709236,null,-445465.41238709236,6591194.1912813922,-445.46541238709239,6.5911941912813923,13,"CAMPO 4",2.0248427835776925,100000000,1195.0003312794011]
[0,"CAMPO 4",1194.6752357605071,0,-8.8118795390068291E-4,9.5242001322565174E-4,null,null,1.6140387038050498E-3,2.8608794163620552E-6,null,null,0.977327764134029,0.49357216959320493,null,null,-445474.68225019373,null,-445474.68225019373,6585902.128457834,-445.47468225019372,6.5859021284578336,14,"CAMPO 4",2.0248849193190623,100000000,1194.6752357605071]
[0,"CAMPO 4",1194.4585054145778,0,-8.8109746255012717E-4,9.5196278330273365E-4,null,null,1.6140610697013725E-3,2.8608991239085634E-6,null,null,0.97734130706295275,0.49357569857044303,null,null,-445480.85523757874,null,-445480.85523757874,6582377.5788289905,-445.48085523757874,6.5823775788289902,15,"CAMPO 4",2.0249129783526305,100000000,1194.4585054145778]
[0,"CAMPO 4",1194.3140185172915,0,-8.8103716501142172E-4,9.5165811507969206E-4,null,null,1.6140759691674832E-3,2.8609122513411617E-6,null,null,0.97735032894196128,0.49357804961014706,null,null,-445484.96749022533,null,-445484.96749022533,6580029.429489187,-445.48496749022536,6.580029429489187,16,"CAMPO 4",2.024931670410115,100000000,1194.3140185172915]
[0,"CAMPO 4",1194.2176939191006,0,-8.8099697998979655E-4,9.5145507032207447E-4,null,null,1.6140858972017429E-3,2.8609209981088447E-6,null,null,{"$f":"I240/($L$4*ABS($T$4))","v":0.97735634053480747},0.49357961625415081,null,null,-445487.70762768097,null,{"$f":"R240+Q240","v":-445487.70762768097},6578464.685165274,{"$f":"+S240/1000","v":-445.48770762768095},{"$f":"+T240/1000000","v":6.5784646851652742},17,"CAMPO 4",2.024944125580368,100000000,1194.2176939191006]
[0,"CAMPO 4",1194.1534775203068,0,-8.8097019590067189E-4,9.5131973708933179E-4,null,null,1.6140925136955259E-3,2.8609268271312787E-6,null,null,0.9773603469338239,0.49358066036551695,null,null,-445489.53377996513,null,-445489.53377996513,6577421.8281645887,-445.48953377996514,6.5774218281645886,18,{"$f":"B241","v":"CAMPO 4"},{"$f":"ABS(S241)/($G$110*1000)","v":2.0249524262725687},{"$f":"IF(A241=0,10^8,ABS(1*10^5-ABS(Y241)*10^5))","v":100000000},{"$f":"C241","v":1194.1534775203068}]
[{"$f":"IF($AB$10=B242,IF(ABS((ROUND(ABS(U242/100),1))-(ROUND(ABS($G$110/100),1)))=0,1,0),0)","v":0},"CAMPO 4",1194.1106665877776,{"$f":"IF(A242=0,0,C242)","v":0},-8.8095234247398077E-4,9.5122952823666626E-4,null,null,1.6140969237158683E-3,2.8609307121883971E-6,null,null,0.97736301727581187,0.49358135629848943,null,null,-445490.75094557961,null,-445490.75094557961,6576726.726067543,-445.49075094557963,6.5767267260675428,19,"CAMPO 4",2.0249579588435438,100000000,1194.1106665877776]
[0,"CAMPO 4",1194.0821259660913,0,-8.809404413594017E-4,9.5116939491267241E-4,null,null,1.6140998632959769E-3,2.8609333018008879E-6,null,null,0.97736479724134073,0.49358182019103136,null,null,-445491.56226968957,null,-445491.56226968957,6576263.3850579867,-445.49156226968955,6.5762633850579864,20,"CAMPO 4",2.0249616466804072,100000000,1194.0821259660913]
[0,"CAMPO 4",1194.0630988849673,0,-8.8093250780289832E-4,9.5112930865684552E-4,null,null,1.6141018228234354E-3,2.8609350280200993E-6,null,null,0.97736598376839567,0.49358212942483115,null,null,-445492.1030992681,null,-445492.1030992681,6575954.5178869963,-445.49210309926809,6.5759545178869967,21,"CAMPO 4",2.0249641049966733,100000000,1194.0630988849673]
[0,"CAMPO 4",1194.050414164218,0,-8.8092721899626913E-4,9.5110258565367931E-4,null,null,1.6141031290894776E-3,2.860936178748865E-6,null,null,0.97736677473460198,0.49358233556830133,null,null,-445492.46362869575,null,-445492.46362869575,6575748.618365326,-445.49246362869576,6.575748618365326,22,"CAMPO 4",2.0249657437667987,100000000,1194.050414164218]
[0,"CAMPO 4",1194.0419576837182,0,-8.8092369322786165E-4,9.5108477083704441E-4,null,null,1.6141039998954657E-3,2.8609369458640271E-6,null,null,0.97736730202237232,0.49358247299177216,null,null,-445492.70397114847,null,-445492.70397114847,6575611.3573175864,-445.49270397114844,6.5756113573175865,23,"CAMPO 4",2.0249668362324931,100000000,1194.0419576837182]
[0,"CAMPO 4",1194.0363200300519,0,-8.8092134276122349E-4,9.5107289452319626E-4,null,null,1.6141045804158849E-3,2.8609374572575372E-6,null,null,0.97736765353731558,0.49358256460497085,null,null,-445492.8641947842,null,-445492.8641947842,6575519.8523080489,-445.4928641947842,6.5755198523080489,24,"CAMPO 4",2.0249675645217464,100000000,1194.0363200300519]
[0,"CAMPO 4",1194.0325615942743,0,-8.8091977580374544E-4,9.5106497708310382E-4,null,null,1.6141049674219844E-3,2.8609377981791666E-6,null,null,0.97736788787606155,0.49358262567934863,null,null,-445492.9710084676,null,-445492.9710084676,6575458.8500149716,-445.49297100846758,6.5754588500149715,25,"CAMPO 4",2.0249680500384892,100000000,1194.0325615942743]
[0,"CAMPO 4",1194.0300559704226,0,-8.809187311744405E-4,9.5105969883525288E-4,null,null,1.6141052254227115E-3,2.860938025456974E-6,null,null,0.97736804409987033,0.49358266639511694,null,null,-445493.04221666831,null,-445493.04221666831,6575418.1822848395,-445.4930422166683,6.5754181822848397,26,"CAMPO 4",2.0249683737121287,100000000,1194.0300559704226]
[0,"CAMPO 4",{"$f":"IF(ABS(U249)>$G$110,C249-(C249-$C$144)/4,C249+(C249-$C$144)/4)","v":1194.0288031584967},0,-8.8091820886249204E-4,9.5105705972499009E-4,null,null,1.6141053544220733E-3,2.8609381390948948E-6,null,null,0.97736812221116809,0.49358268675285588,null,null,-445493.07782049215,null,-445493.07782049215,6575397.8485593898,-445.49307782049215,6.5753978485593896,27,"CAMPO 4",2.0249685355476914,100000000,1194.0288031584967]
[0,"CAMPO 4",{"$f":"IF(ABS(U250)>$G$110,C250-(C250-$C$144)/4,C250+(C250-$C$144)/4)","v":1194.0278635495522},0,-8.8091781712971366E-4,9.5105508039827107E-4,null,null,1.6141054511711564E-3,2.8609382243229048E-6,null,null,0.97736818079437615,0.49358270202109678,null,null,-445493.10452323913,null,-445493.10452323913,6575382.5983262844,-445.49310452323914,6.5753825983262848,28,"CAMPO 4",2.0249686569238143,100000000,1194.0278635495522]
[0,"CAMPO 4",{"$f":"IF(ABS(U251)>$G$110,C251-(C251-$C$144)/4,C251+(C251-$C$144)/4)","v":1194.0271588428438},0,-8.8091752333079531E-4,9.5105359590659305E-4,null,null,1.6141055237327221E-3,2.8609382882436702E-6,null,null,0.97736822473163276,0.49358271347224159,null,null,-445493.12455023127,null,-445493.12455023127,6575371.1606859639,-445.49312455023124,6.5753711606859637,29,"CAMPO 4",2.0249687479555964,100000000,1194.0271588428438]
[0,"CAMPO 4",{"$f":"IF(ABS(U252)>$G$110,C252-(C252-$C$144)/4,C252+(C252-$C$144)/4)","v":1194.0266303128126},0,-8.8091730298198092E-4,9.5105248253972647E-4,null,null,1.6141055781537577E-3,2.8609383361841083E-6,null,null,0.97736825768449132,0.49358272206058018,null,null,-445493.13957043708,null,-445493.13957043708,6575362.5824749526,-445.49313957043711,6.5753625824749529,30,"CAMPO 4",2.0249688162292596,100000000,1194.0266303128126]
[null,null,null,null,null,null,null,null,null,null,null,null,null,null,null,null,null,null,null,null,null,null,null,null,{"$f":"MINA(Z113:Z253)","v":1.1702976431988645}]
[]
[null,null,null,null,null,null,null,null,null,null,null,null,null,null,null,null,null,null,null,null,null,null,null,"y(verifica)",{"$f":"VLOOKUP(Y254,Z113:AA253,2,FALSE)","v":1210.0610373738209}]
[]
[]
[null,null,1,{"$f":"+C259+1","v":2},3,4,5,6,7,8,9,10,11,12,13,14,15,16,17,18,19,{"$f":"+U259+1+1","v":21}]
[null,null,"Y[mm]","εm_inf [-]","εm_sup [-]","εf_inf [-]","εf_sup [-]","A(σ-ε)","Sy(σ-ε)","A(σ-ε)","Sy(σ-ε)","β1","β2","k1","k2","C  [N]","T  [N]","Ned  [N]","MRd  [Nmm]","Ned  [kN]","MRd  [kNm]"]
[null,{"$f":"V261","v":"CAMPO 3"},{"$f":"Y256","v":1210.0610373738209},{"$f":"VLOOKUP($Y$256,MNP!$D$114:$V$253,D259,FALSE)","v":0},{"$f":"VLOOKUP($Y$256,MNP!$D$114:$V$253,E259,FALSE)","v":-3.5000000000000005E-3},{"$f":"VLOOKUP($Y$256,MNP!$D$114:$V$253,F259,FALSE)","v":0},{"$f":"VLOOKUP($Y$256,MNP!$D$114:$V$253,G259,FALSE)","v":0},{"$f":"VLOOKUP($Y$256,MNP!$D$114:$V$253,H259,FALSE)","v":1.5150573576481346E-3},{"$f":"VLOOKUP($Y$256,MNP!$D$114:$V$253,I259,FALSE)","v":2.8637968509798352E-6},{"$f":"VLOOKUP($Y$256,MNP!$D$114:$V$253,J259,FALSE)","v":0},{"$f":"VLOOKUP($Y$256,MNP!$D$114:$V$253,K259,FALSE)","v":0},{"$f":"VLOOKUP($Y$256,MNP!$D$114:$V$253,L259,FALSE)","v":0.91739288307915767},{"$f":"VLOOKUP($Y$256,MNP!$D$114:$V$253,M259,FALSE)","v":0.4599361749718297},{"$f":"VLOOKUP($Y$256,MNP!$D$114:$V$253,N259,FALSE)","v":0},{"$f":"VLOOKUP($Y$256,MNP!$D$114:$V$253,O259,FALSE)","v":0.33300000000000002},{"$f":"VLOOKUP($Y$256,MNP!$D$114:$V$253,P259,FALSE)","v":-219997.42534518498},{"$f":"VLOOKUP($Y$256,MNP!$D$114:$V$253,Q259,FALSE)","v":0},{"$f":"VLOOKUP($Y$256,MNP!$D$114:$V$253,R259,FALSE)","v":-219997.42534518498},{"$f":"VLOOKUP($Y$256,MNP!$D$114:$V$253,S259,FALSE)","v":130557286.17060056},{"$f":"VLOOKUP($Y$256,MNP!$D$114:$V$253,T259,FALSE)","v":-219.99742534518498},{"$f":"VLOOKUP($Y$256,MNP!$D$114:$V$253,U259,FALSE)","v":130.55728617060058},{"$f":"VLOOKUP($Y$256,MNP!$D$114:$X$253,V259,FALSE)","v":"CAMPO 3"}]
[]
[]
[]
[null,null,"β1",{"$f":"MNP!L261","v":0.91739288307915767}]
[null,null,"β2",{"$f":"MNP!M261","v":0.4599361749718297}]
[null,null,"k1",{"$f":"MNP!N261","v":0}]
[null,null,"k2",{"$f":"MNP!O261","v":0.33300000000000002}]
[null,null,"C  [kN]",{"$f":"MNP!P261/1000","v":-219.99742534518498}]
[null,null,"T  [kN]",{"$f":"MNP!Q261/1000","v":0}]

{"sheet":"MNPR","index":9,"n_rows":270,"n_cols":32,"rows_kept":270,"cut":false,"hidden":true,"merged":[[61,0,107,0],[12,0,27,0],[28,0,38,0],[10,25,10,26],[10,7,10,8],[10,9,10,10],[39,0,49,0],[50,0,60,0]]}
[]
[]
[null,null,"t parete=S",{"$f":"INPUT!F39*1000+IF('FOGLIO DEPOSITO'!M94=0,0,INPUT!F69*2*10)","v":480},"mm",null,null,null,null,null,"fmd",{"$f":"MATERIALI!K77","v":0.70777777777777762},"N/mm2"]
[null,null,"B parete=H",{"$f":"INPUT!F38*1000","v":2300},"mm",null,null,null,null,null,"Ed",{"$f":"MATERIALI!J80","v":1440.0000000000002},"N/mm2",null,null,null,null,null,"εmu",{"$f":"MATERIALI!J88","v":-3.5000000000000001E-3},"[‰]"]
[null,null,"facce",1.0000000000000001E-9,"-",null,null,null,null,null,null,null,null,null,null,null,null,null,"εm1",{"$f":"MATERIALI!J87","v":-4.9151234567901215E-4},"[‰]"]
[null,null,"nf",1,"-",null,null,null,null,null,"Ef",52000,"N/mm2"]
[null,null,"tVf",6.3E-2,"mm",null,null,null,null,null,"ffd",{"$f":"+D5*D6*D7*D9*D8*L6*T7/D10","v":1.5095808E-8},"N/mm2",null,null,null,null,null,"εfd",7.6800000000000002E-3,"[‰]"]
[null,null,"a",1,"-",null,null,null,null,null,"Seq",{"$f":"+D5*D6*D7","v":6.3000000000000002E-11},null,null,null,null,null,null,null,null,null,null,null,null,null,{"$f":"IF(ABS('FOGLIO DEPOSITO'!F304)<AC9,AC9,ABS('FOGLIO DEPOSITO'!F304))","v":220}]
[null,null,"η",0.9,"-",null,null,null,null,null,"RO",{"$f":"$T$5/$T$4*$D$4","v":322.99382716049365},null,null,null,null,null,null,null,null,null,null,null,null,null,"Ned  [kN]","MRd  [kNm]",null,{"$f":"MINA(AE13:AE108)","v":2.9504482103911468E-3}]
[null,null,"γmFRCM",1.5,"-",null,null,null,null,null,null,null,null,null,null,null,null,null,null,null,null,null,null,null,null,{"$f":"VLOOKUP(AA10,AA13:AB108,2,)","v":183.56444226478146},{"$f":"VLOOKUP(Z8,Z13:AA108,2,TRUE)","v":155.02475851918155},{"$f":"VLOOKUP(Z8,Z13:AF108,7,TRUE)","v":"CAMPO 2B"}]
[null,null,null,null,null,null,null,"muratura",null,"FRCM",null,null,null,null,null,null,null,null,null,null,null,null,null,null,null,"COPPIA DI VERIFICA",null,null,"y",{"$f":"AC13","v":-100000000000}]
[null,null,"Y[mm]","εm_inf [-]","εm_sup [-]","εf_inf [-]","εf_sup [-]","A(σ-ε)","Sy(σ-ε)","A(σ-ε)","Sy(σ-ε)","β1","β2","k1","k2","C  [N]","T  [N]","Ned  [N]","MRd  [Nmm]","Ned  [kN]","MRd  [kNm]","-MRd  [kNm]",null,null,null,"Ned  [kN]","MRd  [kNm]",null,-100000000000,-5000]
["CAMPO 1",{"$f":"+B14+1","v":14},-100000000000,null,null,{"$f":"$T$7","v":7.6800000000000002E-3},{"$f":"+$T$7*(ABS(C13)/(ABS(C13)+($D$4)))","v":7.6799998233600042E-3},null,null,{"$f":"(G13+F13)/2*$L$7","v":1.1593580410673827E-10},{"$f":"1/6*(2*G13+$T$7)*$L$7","v":5.7967901831158852E-11},null,null,{"$f":"+J13/($T$7*$L$7)","v":0.99999998850000027},{"$f":"+K13/J13","v":0.4999999980833334},0,{"$f":"$L$8*($D$4)*$L$6*$T$7*N13","v":5.786726333452648E-5},{"$f":"Q13+P13","v":5.786726333452648E-5},{"$f":"+Q13*(($D$4)/2-O13*($D$4))","v":2.5509817222928618E-10},{"$f":"+R13/1000","v":5.7867263334526483E-8},{"$f":"+S13/1000000","v":2.5509817222928619E-16},{"$f":"-U13","v":-2.5509817222928619E-16},null,null,null,{"$f":"IF(T13>0,0,ABS(T13))","v":0},{"$f":"IF(T13>0,0,U13)","v":0},{"$f":"Z13","v":0},{"$f":"C13","v":-100000000000},-4615.3846153846152,{"$f":"IF(Z13=0,10^7,Z13)","v":10000000},"CAMPO 1"]
[null,13,-5000,null,null,7.6800000000000002E-3,5.2602739726027399E-3,null,null,{"$f":"(G14+F14)/2*$L$7","v":9.7671945678904108E-11},4.5791996212602736E-11,null,null,0.84246575342465746,{"$f":"+K14/J14","v":0.46883468834688347},0,4.8751188164383558E-5,{"$f":"Q14+P14","v":4.8751188164383558E-5},{"$f":"+Q14*(($D$4)/2-O14*($D$4))","v":3.4944957369862969E-3},{"$f":"+R14/1000","v":4.8751188164383556E-8},{"$f":"+S14/1000000","v":3.4944957369862968E-9},{"$f":"-U14","v":-3.4944957369862968E-9},null,null,null,0,0,{"$f":"Z14","v":0},-5000,-4230.7692307692314,{"$f":"IF(Z14=0,10^7,Z14)","v":10000000},"CAMPO 1"]
[null,12,{"$f":"+$C$14/$B$14*B15","v":-4615.3846153846152},null,null,7.6800000000000002E-3,5.1256952169076754E-3,null,null,{"$f":"(G15+F15)/2*$L$7","v":9.6656158150478304E-11},4.5114804526985537E-11,null,null,0.83370411568409342,0.46675561485434736,0,4.8244176160177978E-5,4.8244176160177978E-5,3.6888503385984405E-3,{"$f":"+R15/1000","v":4.8244176160177975E-8},{"$f":"+S15/1000000","v":3.6888503385984405E-9},-3.6888503385984405E-9,null,null,null,0,0,0,-4615.3846153846152,-4230.7692307692314,10000000,"CAMPO 1"]
[null,{"$f":"+B18+1","v":11},-4230.7692307692314,null,null,7.6800000000000002E-3,4.975265017667845E-3,null,null,9.5520725447915195E-11,4.4357849391943469E-11,null,null,0.8239104829210836,{"$f":"+K16/J16","v":0.46437931856087689},0,4.7677445427561837E-5,4.7677445427561837E-5,3.9060971194346261E-3,4.7677445427561834E-8,3.9060971194346257E-9,-3.9060971194346257E-9,null,null,null,0,0,0,-4230.7692307692314,-3846.1538461538466,10000000,"CAMPO 1"]
[null,11,-4230.7692307692314,null,null,7.6800000000000002E-3,4.975265017667845E-3,null,null,9.5520725447915195E-11,4.4357849391943469E-11,null,null,0.8239104829210836,0.46437931856087689,0,4.7677445427561837E-5,4.7677445427561837E-5,3.9060971194346261E-3,4.7677445427561834E-8,3.9060971194346257E-9,-3.9060971194346257E-9,null,null,null,0,0,0,-4230.7692307692314,-3461.5384615384619,10000000,"CAMPO 1"]
[null,10,{"$f":"+$C$14/$B$14*B18","v":-3846.1538461538466},null,null,7.6800000000000002E-3,4.8060075093867335E-3,null,null,9.424318602413017E-11,4.3506156442753435E-11,null,null,0.81289111389236546,{"$f":"+K18/J18","v":0.46163715678727213},0,4.7039784690863585E-5,{"$f":"Q18+P18","v":4.7039784690863585E-5},4.1505337351689714E-3,{"$f":"+R18/1000","v":4.7039784690863584E-8},{"$f":"+S18/1000000","v":4.1505337351689714E-9},-4.1505337351689714E-9,null,null,null,0,0,0,-3846.1538461538466,-3076.9230769230771,10000000,"CAMPO 1"]
[null,9,{"$f":"+$C$14/$B$14*B19","v":-3461.5384615384619},null,null,7.6800000000000002E-3,4.6141522029372493E-3,null,null,9.2795080589158883E-11,4.2540752819439246E-11,null,null,0.80040053404539391,{"$f":"+K19/J19","v":0.45843758687795377},0,4.6316989009345796E-5,{"$f":"Q19+P19","v":4.6316989009345796E-5},4.4276054130841253E-3,{"$f":"+R19/1000","v":4.6316989009345795E-8},{"$f":"+S19/1000000","v":4.4276054130841253E-9},-4.4276054130841253E-9,null,null,null,0,0,0,-3461.5384615384619,-2692.3076923076924,10000000,"CAMPO 1"]
[null,8,{"$f":"+$C$14/$B$14*B20","v":-3076.9230769230771},null,null,7.6800000000000002E-3,4.394849785407726E-3,null,null,9.113980699467812E-11,4.1437237089785404E-11,null,null,0.78612303290414887,{"$f":"+K20/J20","v":0.45465574764937816},0,4.5490789081545073E-5,{"$f":"Q20+P20","v":4.5490789081545073E-5},4.7443153854077325E-3,{"$f":"+R20/1000","v":4.5490789081545075E-8},{"$f":"+S20/1000000","v":4.7443153854077322E-9},-4.7443153854077322E-9,null,null,null,0,0,0,-3076.9230769230771,-2307.6923076923076,10000000,"CAMPO 1"]
[null,7,{"$f":"+$C$14/$B$14*B21","v":-2692.3076923076924},null,null,7.6800000000000002E-3,4.1417565485362103E-3,null,null,8.9229483539722661E-11,4.0163688119815105E-11,null,null,0.76964560862865961,{"$f":"+K21/J21","v":0.4501167834501168},0,4.4537285620955324E-5,{"$f":"Q21+P21","v":4.4537285620955324E-5},5.1098250453004614E-3,{"$f":"+R21/1000","v":4.4537285620955326E-8},{"$f":"+S21/1000000","v":5.1098250453004614E-9},-5.1098250453004614E-9,null,null,null,0,0,0,-2692.3076923076924,-1923.0769230769233,10000000,"CAMPO 1"]
[null,6,-2307.6923076923076,null,null,7.6800000000000002E-3,3.8464106844741234E-3,null,null,8.7000241310984975E-11,3.8677526633989985E-11,null,null,0.75041736227045075,0.44456803856136451,0,4.3424599612687813E-5,4.3424599612687813E-5,5.5363546818030041E-3,4.3424599612687811E-8,5.5363546818030039E-9,-5.5363546818030039E-9,null,null,null,0,0,0,-2307.6923076923076,-1538.4615384615386,10000000,"CAMPO 1"]
[null,5,-1923.0769230769233,null,null,7.6800000000000002E-3,3.4972677595628415E-3,null,null,8.4364944031475403E-11,3.6920661780983603E-11,null,null,0.72768670309653904,0.43763037129745513,0,4.2109238557377045E-5,4.2109238557377045E-5,6.0405764196721327E-3,4.2109238557377047E-8,6.0405764196721325E-9,-6.0405764196721325E-9,null,null,null,0,0,0,-1923.0769230769233,-1153.8461538461538,10000000,"CAMPO 1"]
[null,4,-1538.4615384615386,null,null,7.6800000000000002E-3,3.0781563126252506E-3,null,null,8.1201531064689375E-11,3.481171980312625E-11,null,null,0.70040080160320639,0.42870767763471623,0,4.0530278092184371E-5,4.0530278092184371E-5,6.645844597995997E-3,4.0530278092184371E-8,6.6458445979959967E-9,-6.6458445979959967E-9,null,null,null,0,0,0,-1538.4615384615386,-769.23076923076928,10000000,"CAMPO 1"]
[null,3,-1153.8461538461538,null,null,7.6800000000000002E-3,2.5657015590200448E-3,null,null,7.7333571780133635E-11,3.223308028008909E-11,null,null,0.66703786191536751,0.41680578742348362,0,3.8599656053452118E-5,3.8599656053452118E-5,7.3859163795100199E-3,3.8599656053452118E-8,7.3859163795100196E-9,-7.3859163795100196E-9,null,null,null,0,0,0,-1153.8461538461538,-384.61538461538464,10000000,"CAMPO 1"]
[null,2,-769.23076923076928,null,null,7.6800000000000002E-3,1.9248120300751879E-3,null,null,7.2496199141052626E-11,2.9008165187368421E-11,null,null,0.62531328320802004,0.40013360053440217,0,3.6185168842105261E-5,3.6185168842105261E-5,8.3114698105263111E-3,3.6185168842105264E-8,8.3114698105263117E-9,-8.3114698105263117E-9,null,null,null,0,0,0,-769.23076923076928,0,10000000,"CAMPO 1"]
[null,{"$f":"+B28+1","v":1},-384.61538461538464,null,null,7.6800000000000002E-3,1.1002865329512895E-3,null,null,6.6272759843209167E-11,2.4859205655472779E-11,null,null,0.57163323782234954,0.37510442773600672,0,3.3078851484240684E-5,3.3078851484240684E-5,9.502224797707735E-3,3.3078851484240686E-8,9.5022247977077355E-9,-9.5022247977077355E-9,null,null,null,0,0,0,-384.61538461538464,0,10000000,"CAMPO 1"]
[null,0,{"$f":"+$C$14/$B$14*B28","v":0},null,null,7.6800000000000002E-3,0,null,null,5.7967902720000002E-11,1.9322634239999998E-11,null,null,0.5,0.33333333333333331,0,2.8933632000000001E-5,2.8933632000000001E-5,1.1091225600000001E-2,2.8933632000000001E-8,1.1091225600000001E-8,-1.1091225600000001E-8,null,null,null,0,0,0,0,13.834383982293193,10000000,"CAMPO 1"]
["CAMPO 2A",0,{"$f":"+$C$39/$B$39*B29","v":0},null,{"$f":"-$T$7*C29/($D$4-C29)","v":0},7.6800000000000002E-3,null,{"$f":"$L$3/ABS($T$5)*ABS(E29)^2/2","v":0},{"$f":"+$L$3/(ABS($T$5))*ABS(E29)^3/3","v":0},null,null,{"$f":"H29/($L$3*ABS($T$4))","v":0},0,null,null,{"$f":"-$L$3*$D$3*C29*L29","v":0},{"$f":"$L$8*($D$4-C29)*$L$6*F29*0.5","v":2.8933632000000001E-5},{"$f":"Q29+P29","v":2.8933632000000001E-5},{"$f":"-P29*($D$4/2-M29*C29)+Q29*($D$4/6+C29/3)","v":1.1091225599999999E-2},{"$f":"+R29/1000","v":2.8933632000000001E-8},1.1091225599999999E-8,-1.1091225599999999E-8,null,null,null,0,0,0,0,27.668767964586387,10000000,"CAMPO 2A"]
[null,{"$f":"+B29+1","v":1},13.834383982293193,null,-4.64743534937273E-5,7.6800000000000002E-3,null,1.5551031835151448E-6,4.8181610046602342E-11,null,null,6.2776087246630666E-4,{"$f":"1-I30/H30/ABS(E30)","v":0.33333333333333337},null,null,-2.9504769699888098,{"$f":"$L$8*($D$4-C30)*$L$6*F30*0.5","v":2.8759597663004187E-5},-2.9504482103911469,{"$f":"-P30*($D$4/2-M30*C30)+Q30*($D$4/6+C30/3)","v":3379.453662178762},{"$f":"+R30/1000","v":-2.9504482103911468E-3},{"$f":"+S30/1000000","v":3.3794536621787621E-3},-3.3794536621787621E-3,null,null,null,2.9504482103911468E-3,3.3794536621787621E-3,2.9504482103911468E-3,13.834383982293193,41.503151946879584,2.9504482103911468E-3,"CAMPO 2A"]
[null,{"$f":"+B30+1","v":2},27.668767964586387,null,-9.3514596363525131E-5,7.6800000000000002E-3,null,6.2963854077837813E-6,3.9253595997205987E-10,null,null,2.5417119834067747E-3,{"$f":"1-I31/H31/ABS(E31)","v":0.33333333333333337},null,null,-23.892099684147713,2.8585563326008373E-5,-23.892071098584388,27255.570870762436,{"$f":"+R31/1000","v":-2.3892071098584388E-2},{"$f":"+S31/1000000","v":2.7255570870762438E-2},-2.7255570870762438E-2,null,null,null,2.3892071098584388E-2,2.7255570870762438E-2,2.3892071098584388E-2,27.668767964586387,55.337535929172773,2.3892071098584388E-2,"CAMPO 2A"]
[null,3,41.503151946879584,null,-1.4113112764660286E-4,7.6800000000000002E-3,null,1.4340956537377234E-5,1.3493035784339799E-9,null,null,5.7891280034265587E-3,0.33333333333333348,null,null,-81.626728900712692,2.8411528989012573E-5,-81.626700489183705,92741.494009130693,-8.1626700489183704E-2,9.274149400913069E-2,-9.274149400913069E-2,null,null,null,8.1626700489183704E-2,9.274149400913069E-2,8.1626700489183704E-2,41.503151946879584,69.171919911465963,8.1626700489183704E-2,"CAMPO 2A"]
[null,4,55.337535929172773,null,-1.8933460274704218E-4,7.6800000000000002E-3,null,2.5810266094113796E-5,3.2578509851496585E-9,null,null,1.0419035427092362E-2,0.33333333333333337,null,null,-195.87792374736435,{"$f":"$L$8*($D$4-C33)*$L$6*F33*0.5","v":2.8237494652016759E-5},-195.87789550986969,221646.48977367257,-0.1958778955098697,0.22164648977367257,-0.22164648977367257,null,null,null,0.1958778955098697,0.22164648977367257,0.1958778955098697,55.337535929172773,83.006303893759167,0.1958778955098697,"CAMPO 2A"]
[null,5,69.171919911465963,null,-2.3813594138503736E-4,7.6800000000000002E-3,null,4.0830283137123326E-5,6.48210527458432E-9,null,null,1.6482285186549001E-2,0.33333333333333326,null,null,-387.3338160169472,2.8063460315020945E-5,-387.33378795348688,436503.02525737463,-0.38733378795348689,0.43650302525737461,-0.43650302525737461,null,null,null,0.38733378795348689,0.43650302525737461,0.38733378795348689,69.171919911465963,96.840687876052357,0.38733378795348689,"CAMPO 2A"]
[null,6,83.006303893759167,null,-2.8754633584376292E-4,7.6800000000000002E-3,null,5.953168458516536E-5,1.1412078512713948E-8,null,null,2.4031628673087613E-2,0.33333333333333337,null,null,-677.69212827204387,2.7889425978025138E-5,-677.69210038261792,760595.05272687727,-0.67769210038261796,0.76059505272687722,-0.76059505272687722,null,null,null,0.67769210038261796,0.76059505272687722,0.67769210038261796,83.006303893759167,{"$f":"AC37","v":110.67507185834555},0.67769210038261796,"CAMPO 2A"]
[null,7,96.840687876052357,null,-3.3757725952694983E-4,7.6800000000000002E-3,null,8.2050052427802472E-5,1.8465487895080077E-8,null,null,3.3121797346948749E-2,0.33333333333333326,null,null,-1089.707453811367,2.7715391641029325E-5,-1089.7074260959753,1217987.5769317134,-1.0897074260959754,1.2179875769317134,-1.2179875769317134,null,null,null,1.0897074260959754,1.2179875769317134,1.0897074260959754,96.840687876052357,124.50945584063874,1.0897074260959754,"CAMPO 2A"]
[null,8,110.67507185834555,null,-3.8824047584091543E-4,7.6800000000000002E-3,null,1.0852608029844993E-4,2.8089478037479737E-8,null,null,4.3809586126308572E-2,0.33333333333333315,null,null,-1647.2409237305862,2.7541357304033507E-5,-1647.240896189229,1833557.5713297783,-1.6472408961892291,1.8335575713297783,-1.8335575713297783,null,null,null,1.6472408961892291,1.8335575713297783,1.6472408961892291,110.67507185834555,138.34383982293193,1.6472408961892291,"CAMPO 2A"]
[null,9,124.50945584063874,null,-4.3954804741548831E-4,7.6800000000000002E-3,null,1.3910578991047326E-4,4.0762452226225106E-8,null,null,5.6153940757760014E-2,0.33333333333333326,null,null,-2375.312393970547,2.73673229670377E-5,-2375.3123666032238,2633026.3134845002,-2.3753123666032239,2.6330263134845002,-2.6330263134845002,null,null,null,2.3753123666032239,2.6330263134845002,2.3753123666032239,124.50945584063874,138.34383982293193,2.3753123666032239,"CAMPO 2A"]
[null,10,{"$f":"ABS($T$5)*ABS($D$4)/(ABS($T$7)+ABS($T$5))","v":138.34383982293193},null,-4.9151234567901215E-4,7.6800000000000002E-3,null,1.7394075788751705E-4,5.6996019945652423E-8,null,null,7.0216049382716014E-2,0.33333333333333337,null,null,-3300.1552934221763,2.7193288630041893E-5,-3300.1552662288877,3642993.2140122722,-3.3001552662288876,3.6429932140122721,-3.6429932140122721,null,null,null,3.3001552662288876,3.6429932140122721,3.3001552662288876,138.34383982293193,196.51303365817006,3.3001552662288876,"CAMPO 2A"]
["CAMPO 2B",0,{"$f":"+($C$50-$C$39)/$B$50*B40+$C$39","v":138.34383982293193},null,-4.9151234567901215E-4,7.6800000000000002E-3,null,{"$f":"$L$3*(ABS(E40)-ABS($T$5)/2)","v":1.7394075788751705E-4},{"$f":"$I$39+$L$3*(ABS(E40)^2-ABS($T$5)^2)/2","v":5.6996019945652423E-8},null,null,7.0216049382716014E-2,{"$f":"1-I40/H40/ABS(E40)","v":0.33333333333333337},null,null,-3300.1552934221763,{"$f":"$L$8*($D$4-C40)*$L$6*F40*0.5","v":2.7193288630041893E-5},-3300.1552662288877,3642993.2140122722,-3.3001552662288876,3.6429932140122721,-3.6429932140122721,null,null,null,3.3001552662288876,3.6429932140122721,3.3001552662288876,138.34383982293193,254.68222749340816,3.3001552662288876,"CAMPO 2B"]
[null,{"$f":"+B40+1","v":1},196.51303365817006,null,-7.1748488231397406E-4,7.6800000000000002E-3,null,3.3387909770581781E-4,1.5367852469071538E-7,null,null,0.13477963127841941,0.35847852834692406,null,null,-8998.1615129448437,2.6461529478665606E-5,-8998.1614864833136,9714003.9373158216,-8.9981614864833137,9.7140039373158213,-9.7140039373158213,null,null,null,8.9981614864833137,9.7140039373158213,8.9981614864833137,196.51303365817006,312.85142132864632,8.9981614864833137,"CAMPO 2B"]
[null,{"$f":"+B41+1","v":2},254.68222749340816,null,-9.5631081558162669E-4,7.6800000000000002E-3,null,5.0291478602970078E-4,2.9514412864438384E-7,null,null,0.20301561221203443,0.38632182776455459,null,null,-17565.73137537119,2.572977032728933E-5,-17565.731349641421,18472311.016048182,-17.565731349641421,18.472311016048181,-18.472311016048181,null,null,null,17.565731349641421,18.472311016048181,17.565731349641421,254.68222749340816,371.02061516388437,17.565731349641421,"CAMPO 2B"]
[null,3,312.85142132864632,null,-1.2091189061516955E-3,7.6800000000000002E-3,null,6.8184673457762719E-4,4.8887640842105263E-7,null,null,0.27524649523205408,0.40701555232151554,null,null,-29254.864462752943,2.4998011175913046E-5,-29254.864437754932,29917914.450209353,-29.254864437754932,29.917914450209352,-29.917914450209352,null,null,null,29.254864437754932,29.917914450209352,29.254864437754932,312.85142132864632,{"$f":"AC45","v":429.18980899912253},29.254864437754932,"CAMPO 2B"]
[null,4,371.02061516388437,null,-1.4771740677263475E-3,7.6800000000000002E-3,null,8.7157022115879755E-4,7.4370284291237414E-7,null,null,0.35183368425338324,0.42234919427902484,null,null,-44347.956975477915,2.4266252024536763E-5,-44347.956951211665,44050814.239799351,-44.347956951211664,44.050814239799351,-44.050814239799351,null,null,null,44.347956951211664,44.050814239799351,44.347956951211664,371.02061516388437,487.35900283436069,44.347956951211664,"CAMPO 2B"]
[null,5,429.18980899912253,null,-1.7618985341050642E-3,7.6800000000000002E-3,null,1.0730918712512892E-3,1.0700744706575973E-6,null,null,0.43318353179015945,0.43402636114642346,null,null,-63162.527350059667,2.3534492873160479E-5,-63162.527326525174,60871010.384818144,-63.162527326525172,60.871010384818142,-60.871010384818142,null,null,null,{"$f":"IF(T45>0,0,ABS(T45))","v":63.162527326525172},{"$f":"IF(T45>0,0,U45)","v":60.871010384818142},63.162527326525172,{"$f":"C45","v":429.18980899912253},545.52819666959874,63.162527326525172,"CAMPO 2B"]
[null,6,487.35900283436069,null,-2.0648971018643806E-3,7.6800000000000002E-3,null,1.2875475242098275E-3,1.4804134490829536E-6,null,null,0.51975455114996405,0.44317164938008113,null,null,-86056.851771531597,2.2802733721784199E-5,-86056.851748728863,80378502.885265753,-86.05685174872886,80.378502885265746,-80.378502885265746,null,null,null,86.05685174872886,80.378502885265746,86.05685174872886,487.35900283436069,603.6973905048369,86.05685174872886,"CAMPO 2B"]
[null,7,545.52819666959874,null,-2.3879873945363856E-3,7.6800000000000002E-3,null,1.5162236535787913E-3,1.9895476446649499E-6,null,null,0.61206606334196567,0.45051094490618737,null,null,-113436.7207521776,2.2070974570407912E-5,-113436.72073010662,102573291.74114223,-113.43672073010663,102.57329174114223,-102.57329174114223,null,null,null,113.43672073010663,102.57329174114223,113.43672073010663,545.52819666959874,661.86658434007506,113.43672073010663,"CAMPO 2B"]
[null,8,603.6973905048369,null,-2.7332363536580221E-3,7.6800000000000002E-3,null,1.7605831946459938E-3,2.6152575870705724E-6,null,null,0.71070862309100458,0.45652354967835806,null,null,-145763.58587992535,2.1339215419031636E-5,-145763.58585858613,127455376.95244746,-145.76358585858614,127.45537695244747,-127.45537695244747,null,null,null,145.76358585858614,127.45537695244747,145.76358585858614,603.6973905048369,720.03577817531311,145.76358585858614,"CAMPO 2B"]
[null,9,{"$f":"+($C$50-$C$39)/$B$50*B49+$C$39","v":661.86658434007506},null,-3.1030045044798909E-3,7.6800000000000002E-3,null,2.0222968747276942E-3,3.3789696234838E-6,null,null,0.81635666618296709,0.46153563081414939,null,null,-183564.44228538891,{"$f":"$L$8*($D$4-C49)*$L$6*F49*0.5","v":2.0607456267655352E-5},-183564.44226478145,155024758.51918155,-183.56444226478146,155.02475851918155,-155.02475851918155,null,null,null,183.56444226478146,155.02475851918155,183.56444226478146,661.86658434007506,720.03577817531311,183.56444226478146,"CAMPO 2B"]
[null,10,{"$f":"ABS($T$4)*ABS($D$4)/(ABS($T$7)+ABS($T$4))","v":720.03577817531311},null,-3.5000000000000005E-3,7.6800000000000002E-3,null,2.3032814643347051E-3,4.3066408789160634E-6,null,null,0.92978395061728414,0.46577574577805092,null,null,-227443.89415255049,{"$f":"$L$8*($D$4-C50)*$L$6*F50*0.5","v":1.9875697116279069E-5},-227443.89413267479,185281436.44134444,-227.44389413267479,185.28143644134445,-185.28143644134445,null,null,null,227.44389413267479,185.28143644134445,227.44389413267479,720.03577817531311,878.03220035778179,227.44389413267479,"CAMPO 2B"]
["CAMPO 3",0,{"$f":"+($C$61-$C$50)/$B$61*B51+$C$50","v":720.03577817531311},null,-3.5000000000000005E-3,{"$f":"ABS($T$4)*($D$4-C51)/C51","v":7.6799999999999985E-3},null,{"$f":"$H$50","v":2.3032814643347051E-3},{"$f":"$I$50","v":4.3066408789160634E-6},{"$f":"+$L$7*(F51-F51^2/(2*$T$7))","v":5.7967902720000002E-11},null,0.92978395061728414,{"$f":"1-I51/H51/ABS(E51)","v":0.46577574577805092},{"$f":"+J51/($T$7*$L$7)","v":0.5},0.33300000000000002,-227443.89415255049,{"$f":"$L$8*($D$4-C51)*$L$6*F51*N51","v":1.9875697116279065E-5},-227443.89413267479,185281436.44134444,-227.44389413267479,185.28143644134445,-185.28143644134445,null,null,null,227.44389413267479,185.28143644134445,227.44389413267479,720.03577817531311,1036.0286225402506,227.44389413267479,"CAMPO 3"]
[null,{"$f":"+B51+1","v":1},878.03220035778179,null,-3.5000000000000005E-3,5.6682286785379567E-3,null,{"$f":"$H$50","v":2.3032814643347051E-3},{"$f":"$I$50","v":4.3066408789160634E-6},5.3990291120360413E-11,null,0.92978395061728414,0.46577574577805092,0.46569125832572827,0.33300000000000002,-277351.58292659582,{"$f":"$L$8*($D$4-C52)*$L$6*F52*N52","v":1.2296431754692256E-5},-277351.58291429939,205526924.36050349,-277.3515829142994,205.5269243605035,-205.5269243605035,null,null,null,277.3515829142994,205.5269243605035,277.3515829142994,878.03220035778179,1194.025044722719,277.3515829142994,"CAMPO 3"]
[null,{"$f":"+B52+1","v":2},1036.0286225402506,null,-3.5000000000000005E-3,4.2700555996822874E-3,null,2.3032814643347051E-3,4.3066408789160634E-6,4.654017870472992E-11,null,0.92978395061728414,0.46577574577805092,0.40143058935158521,0.33300000000000002,-327259.2717006412,7.0978223542659967E-6,-327259.27169354336,218426908.67601827,-327.25927169354338,218.42690867601826,-218.42690867601826,null,null,null,327.25927169354338,218.42690867601826,327.25927169354338,1036.0286225402506,1352.0214669051879,327.25927169354338,"CAMPO 3"]
[null,3,1194.025044722719,null,-3.5000000000000005E-3,3.2419021364576161E-3,null,2.3032814643347051E-3,4.3066408789160634E-6,3.8609973531138249E-11,null,0.92978395061728414,0.46577574577805092,0.33302889805789965,0.33300000000000002,-377166.96047468646,3.9117492376069592E-6,-377166.96047077473,223981389.38797712,-377.16696047077471,223.98138938797712,-223.98138938797712,null,null,null,377.16696047077471,223.98138938797712,377.16696047077471,1194.025044722719,1510.0178890876564,377.16696047077471,"CAMPO 3"]
[null,4,1352.0214669051879,null,-3.5000000000000005E-3,2.4540474741326836E-3,null,{"$f":"$H$50","v":2.3032814643347051E-3},4.3066408789160634E-6,3.1127064889986063E-11,null,0.92978395061728414,0.46577574577805092,0.2684853464540356,0.33300000000000002,-427074.64924873196,2.0461899321705335E-6,-427074.64924668579,222190366.49612105,-427.07464924668579,222.19036649612104,-222.19036649612104,null,null,null,427.07464924668579,222.19036649612104,427.07464924668579,1352.0214669051879,1668.0143112701253,427.07464924668579,"CAMPO 3"]
[null,5,1510.0178890876564,null,-3.5000000000000005E-3,1.8310626702997281E-3,null,2.3032814643347051E-3,4.3066408789160634E-6,2.4346248000890949E-11,null,0.92978395061728414,0.46577574577805092,0.20999766127894637,0.33300000000000002,-476982.33802277723,9.9512770350651006E-7,-476982.33802178211,213053840.00020987,-476.98233802178208,213.05384000020987,-213.05384000020987,null,null,null,476.98233802178208,213.05384000020987,476.98233802178208,1510.0178890876564,1826.0107334525937,476.98233802178208,"CAMPO 3"]
[null,6,1668.0143112701253,null,-3.5000000000000005E-3,1.3260976813024173E-3,null,2.3032814643347051E-3,4.3066408789160634E-6,1.829022772886895E-11,null,0.92978395061728414,{"$f":"1-I57/H57/ABS(E57)","v":0.46577574577805092},0.15776168250570916,0.33300000000000002,-526890.02679682267,{"$f":"$L$8*($D$4-C57)*$L$6*F57*N57","v":4.3313989001019049E-7},-526890.02679638949,196571809.90006667,-526.89002679638952,196.57180990006668,-196.57180990006668,null,null,null,526.89002679638952,196.57180990006668,526.89002679638952,1668.0143112701253,1984.0071556350626,526.89002679638952,"CAMPO 3"]
[null,7,1826.0107334525937,null,-3.5000000000000005E-3,9.0851735015772916E-4,null,2.3032814643347051E-3,4.3066408789160634E-6,1.2903596652051473E-11,null,0.92978395061728414,0.46577574577805092,0.1112994954671656,0.33300000000000002,-576797.71557086799,1.5701416048817468E-7,-576797.71557071095,172744276.1955671,-576.79771557071092,172.7442761955671,-172.7442761955671,null,null,null,576.79771557071092,172.7442761955671,576.79771557071092,1826.0107334525937,2142.0035778175311,576.79771557071092,"CAMPO 3"]
[null,8,1984.0071556350626,null,-3.5000000000000005E-3,5.5744504355039403E-4,null,2.3032814643347051E-3,4.3066408789160634E-6,8.1096831850066434E-12,null,0.92978395061728414,0.46577574577805092,6.9949772240152586E-2,0.33300000000000002,-626705.40434491332,{"$f":"$L$8*($D$4-C59)*$L$6*F59*N59","v":4.0365422666054955E-8},-626705.40434487292,141571238.88662422,-626.70540434487293,141.57123888662423,-141.57123888662423,null,null,null,626.70540434487293,141.57123888662423,626.70540434487293,1984.0071556350626,2300,626.70540434487293,"CAMPO 3"]
[null,9,{"$f":"+($C$61-$C$50)/$B$61*B60+$C$50","v":2142.0035778175311},null,-3.5000000000000005E-3,2.5816365731847905E-4,null,2.3032814643347051E-3,4.3066408789160634E-6,3.8316868832496144E-12,null,0.92978395061728414,0.46577574577805092,3.3050073432513642E-2,0.33300000000000002,-676613.09311895864,4.4163011376373148E-9,-676613.09311895422,103052697.97317699,-676.61309311895423,103.05269797317699,-103.05269797317699,null,null,null,676.61309311895423,103.05269797317699,676.61309311895423,2142.0035778175311,2300,676.61309311895423,"CAMPO 3"]
[null,10,{"$f":"D4","v":2300},null,-3.5000000000000005E-3,0,null,2.3032814643347051E-3,4.3066408789160634E-6,0,null,{"$f":"H61/($L$3*ABS($T$4))","v":0.92978395061728414},0.46577574577805092,0,0.33300000000000002,-726520.78189300396,{"$f":"$L$8*($D$4-C61)*$L$6*F61*N61","v":0},-726520.78189300396,57188653.45518142,-726.52078189300391,57.188653455181417,-57.188653455181417,null,null,null,726.52078189300391,57.188653455181417,726.52078189300391,2300,2402.2222222222222,726.52078189300391,"CAMPO 3"]
["CAMPO 4",0,{"$f":"+($C$107-$C$61)/$B$107*B62+$C$61","v":2300},{"$f":"-(ABS($T$5)-ABS($T$5)*$L$9/(C62-($D$4-$L$9)))","v":-2.1684043449710089E-19},{"$f":"-(ABS($T$4)-($D$4-$L$9)*ABS(D62)/$L$9)","v":-3.4999999999999988E-3},null,null,{"$f":"$H$61-$L$3/ABS($T$5)*D62^2/2+$L$3*ABS(D62)","v":2.3032814643347051E-3},{"$f":"+$I$61-$L$3/ABS($T$5)*ABS(D62)^3/3+$L$3*(ABS(D62)^2)/2","v":4.3066408789160634E-6},null,null,0.92978395061728414,{"$f":"1-I62/H62/ABS($T$4)","v":0.46577574577805092},null,null,{"$f":"-$L$3*$D$3*$D$4*L62","v":-726520.78189300396},null,-726520.78189300396,{"$f":"-P62*($D$4/2-M62*$D$4)","v":57188653.45518142},-726.52078189300391,57.188653455181417,-57.188653455181417,null,null,null,726.52078189300391,57.188653455181417,726.52078189300391,2300,2504.4444444444443,726.52078189300391,"CAMPO 4"]
[null,{"$f":"+B62+1","v":1},{"$f":"+($C$107-$C$61)/$B$107*B63+$C$61","v":2402.2222222222222},{"$f":"-(ABS($T$5)-ABS($T$5)*$L$9/(C63-($D$4-$L$9)))","v":-1.181598961231683E-4},{"$f":"-(ABS($T$4)-($D$4-$L$9)*ABS(D63)/$L$9)","v":-2.7767575588944532E-3},null,null,2.3768599450778908E-3,4.3107899253085513E-6,null,null,0.95948596123350616,{"$f":"1-I63/H63/ABS($T$4)","v":0.48181453984092026},null,null,-749729.53696171171,null,-749729.53696171171,{"$f":"-P63*($D$4/2-M63*$D$4)","v":31358606.236355718},-749.72953696171169,31.358606236355719,-31.358606236355719,null,null,null,749.72953696171169,31.358606236355719,749.72953696171169,2402.2222222222222,2606.6666666666665,749.72953696171169,"CAMPO 4"]
[null,{"$f":"+B63+1","v":2},{"$f":"+($C$107-$C$61)/$B$107*B64+$C$61","v":2504.4444444444443},-1.9051891730222819E-4,-2.3338567369522948E-3,null,null,2.4119923505954949E-3,4.3161667768063E-6,null,null,0.97366813883648606,{"$f":"1-I64/H64/ABS($T$4)","v":0.48872536542063183},null,null,-760811.3014449788,null,{"$f":"Q64+P64","v":-760811.3014449788},{"$f":"-P64*($D$4/2-M64*$D$4)","v":19729099.637584981},{"$f":"+R64/1000","v":-760.81130144497877},{"$f":"+S64/1000000","v":19.72909963758498},-19.72909963758498,null,null,null,760.81130144497877,19.72909963758498,760.81130144497877,2504.4444444444443,2708.8888888888887,760.81130144497877,"CAMPO 4"]
[null,3,2606.6666666666665,-2.3938369034197664E-4,-2.0347613679068018E-3,null,null,2.4314526438559379E-3,4.3203357908978943E-6,null,null,0.98152383021769207,0.49232749498065409,null,null,-766949.63394770143,null,{"$f":"Q65+P65","v":-766949.63394770143},13534177.306913257,-766.94963394770139,13.534177306913257,-13.534177306913257,null,null,null,766.94963394770139,13.534177306913257,766.94963394770139,2606.6666666666665,2811.1111111111113,766.94963394770139,"CAMPO 4"]
[null,4,2708.8888888888887,-2.7459855587886619E-4,-1.8192154326974886E-3,null,null,2.4433450758342898E-3,4.3233868000099259E-6,null,null,0.98632454283510251,0.4944417046742261,null,null,-770700.84677744436,null,-770700.84677744436,9852700.7026900612,-770.70084677744433,9.8527007026900613,-9.8527007026900613,null,null,null,770.70084677744433,9.8527007026900613,770.70084677744433,2708.8888888888887,2913.3333333333335,770.70084677744433,"CAMPO 4"]
[null,5,2811.1111111111113,-3.0118203309692677E-4,-1.6565011820330955E-3,null,null,2.4511397701431539E-3,4.3256285625245241E-6,null,null,0.98947108909120374,0.49578808599118485,null,null,-773159.51606801176,null,-773159.51606801176,7489907.2125838948,-773.15951606801173,7.489907212583895,-7.489907212583895,null,null,null,773.15951606801173,7.489907212583895,773.15951606801173,2811.1111111111113,3015.5555555555557,773.15951606801173,"CAMPO 4"]
[null,6,2913.3333333333335,-3.2196108162749556E-4,-1.5293151377306032E-3,null,null,2.456523927800366E-3,4.3273050363013397E-6,null,null,0.99164455484204073,0.49669821916949608,null,null,-774857.83322617249,null,-774857.83322617249,5884344.7022575503,-774.85783322617249,5.8843447022575504,-5.8843447022575504,null,null,null,774.85783322617249,5.8843447022575504,774.85783322617249,2913.3333333333335,3117.7777777777778,774.85783322617249,"CAMPO 4"]
[null,7,3015.5555555555557,-3.3864965443912811E-4,-1.4271664008506102E-3,null,null,2.46039798051359E-3,4.3285840989595105E-6,null,null,0.99320842451770863,0.49734216830633571,null,null,-776079.82013914373,null,-776079.82013914373,4744185.9483918734,-776.07982013914375,4.7441859483918734,-4.7441859483918734,null,null,null,776.07982013914375,4.7441859483918734,776.07982013914375,3015.5555555555557,3220,776.07982013914375,"CAMPO 4"]
[null,8,3117.7777777777778,-3.5234736914886255E-4,-1.3433243448800381E-3,null,null,2.4632780609235238E-3,4.3295788540470169E-6,null,null,0.99437104948695754,0.49781449794428045,null,null,-776988.27978844848,null,-776988.27978844848,3905651.8103195322,-776.98827978844849,3.9056518103195321,-3.9056518103195321,null,null,null,776.98827978844849,3.9056518103195321,776.98827978844849,3117.7777777777778,3322.2222222222222,776.98827978844849,"CAMPO 4"]
[null,9,3220,-3.6379211878926319E-4,-1.2732724157624208E-3,null,null,2.4654772536453484E-3,4.3303661385347114E-6,null,null,0.99525881510689118,0.49817120952000926,null,null,-777681.96800698969,null,-777681.96800698969,3271099.9729687837,-777.68196800698968,3.2710999729687837,-3.2710999729687837,null,null,null,777.68196800698968,3.2710999729687837,777.68196800698968,3220,3424.4444444444443,777.68196800698968,"CAMPO 4"]
[null,10,3322.2222222222222,-3.7349750806215179E-4,-1.2138669012019929E-3,null,null,2.4671944208558534E-3,4.3309990536172401E-6,null,null,0.99595199765430298,0.49844718739099547,null,null,-778223.61160710338,null,-778223.61160710338,2779401.5044757547,-778.22361160710341,2.7794015044757545,-2.7794015044757545,null,null,null,778.22361160710341,2.7794015044757545,778.22361160710341,3322.2222222222222,3526.666666666667,778.22361160710341,"CAMPO 4"]
[null,11,3424.4444444444443,-3.8183205274916888E-4,-1.1628521606451957E-3,null,null,2.4685607902290552E-3,4.3315150137317908E-6,null,null,0.99650357084823959,0.49866508327135439,null,null,-778654.60354653618,null,-778654.60354653618,2390709.8290557931,-778.65460354653612,2.3907098290557931,-2.3907098290557931,null,null,null,778.65460354653612,2.3907098290557931,778.65460354653612,3424.4444444444443,3628.8888888888887,778.65460354653612,"CAMPO 4"]
[null,12,3526.666666666667,-3.8906703313482967E-4,-1.1185677202626347E-3,null,null,2.469665791937384E-3,4.331940890689461E-6,null,null,0.99694963567779593,0.49884012590670945,null,null,-779003.15265682049,null,-779003.15265682049,2078154.8233241539,-779.00315265682048,2.0781548233241538,-2.0781548233241538,null,null,null,779.00315265682048,2.0781548233241538,779.00315265682048,3526.666666666667,3731.1111111111113,779.00315265682048,"CAMPO 4"]
[null,13,3628.8888888888887,-3.9540657976412153E-4,-1.0797641216635625E-3,null,null,2.4705720730879193E-3,4.3322963369394394E-6,null,null,0.99731548139902571,0.4989828603283093,null,null,-779289.01962544641,null,-779289.01962544641,1823085.2884201992,-779.28901962544637,1.8230852884201991,-1.8230852884201991,null,null,null,779.28901962544637,1.8230852884201991,779.28901962544637,3628.8888888888887,{"$f":"AC77","v":3833.3333333333335},779.28901962544637,"CAMPO 4"]
[null,14,3731.1111111111113,-4.0100723953415162E-4,-1.0454831602140376E-3,null,null,2.4713245767706516E-3,4.3325959680240706E-6,null,null,0.99761925054657408,0.49910077618773585,null,null,-779526.38078708539,null,-779526.38078708539,1612227.972951235,-779.52638078708537,1.612227972951235,-1.612227972951235,null,null,null,779.52638078708537,1.612227972951235,779.52638078708537,3731.1111111111113,3935.5555555555557,779.52638078708537,"CAMPO 4"]
[null,15,3833.3333333333335,-4.0599107711918405E-4,-1.0149776927979603E-3,null,null,2.4719562233114431E-3,4.3328508220166325E-6,null,null,0.99787423233025307,0.49919931184676691,null,null,-779725.62015309511,null,-779725.62015309511,1435929.2537065013,-779.72562015309506,1.4359292537065014,-1.4359292537065014,null,null,null,{"$f":"IF(T77>0,0,ABS(T77))","v":779.72562015309506},{"$f":"IF(T77>0,0,U77)","v":1.4359292537065014},779.72562015309506,{"$f":"C77","v":3833.3333333333335},4037.7777777777778,779.72562015309506,"CAMPO 4"]
[null,16,3935.5555555555557,-4.1045467359349189E-4,-9.8765655833433922E-4,null,null,2.4724915729553969E-3,4.3330693533158486E-6,null,null,0.99809034117957285,0.49928249350784215,null,null,-779894.48472650221,null,-779894.48472650221,1287032.5187754731,-779.89448472650224,1.2870325187754732,{"$f":"-U78","v":-1.2870325187754732},null,null,null,779.89448472650224,1.2870325187754732,{"$f":"Z78","v":779.89448472650224},3935.5555555555557,4140,{"$f":"IF(Z78=0,10^7,Z78)","v":779.89448472650224},"CAMPO 4"]
[null,17,4037.7777777777778,-4.1447544685574298E-4,-9.630458912236379E-4,null,null,2.4729492499004015E-3,4.333258121264257E-6,null,null,0.99827509527264491,0.49935335349784937,null,null,-780038.84911144082,null,-780038.84911144082,1160141.6046349367,-780.03884911144087,1.1601416046349367,-1.1601416046349367,null,null,null,780.03884911144087,1.1601416046349367,780.03884911144087,4037.7777777777778,4242.2222222222226,780.03884911144087,"CAMPO 4"]
[null,18,4140,-4.1811617984903172E-4,-9.407614046603209E-4,null,null,2.4733435842680721E-3,4.3334222752196571E-6,null,null,0.99843427936365337,0.49941421081246506,null,null,-780163.23343770031,null,-780163.23343770031,1051125.7293182127,-780.16323343770034,1.0511257293182128,-1.0511257293182128,null,null,null,780.16323343770034,1.0511257293182128,780.16323343770034,4140,4344.4444444444443,780.16323343770034,"CAMPO 4"]
[null,19,4242.2222222222226,-4.2142832271318631E-4,-9.2048817855774857E-4,null,null,2.4736857476241685E-3,4.3335659015417311E-6,null,null,0.99857240316741513,0.49946686342678626,null,null,-780271.16153630905,null,-780271.16153630905,956779.51444969815,-780.27116153630902,0.95677951444969811,-0.95677951444969811,null,null,null,780.27116153630902,0.95677951444969811,780.27116153630902,4242.2222222222226,4446.666666666667,780.27116153630902,"CAMPO 4"]
[null,20,4344.4444444444443,-4.2445443944694308E-4,-9.0196568382475356E-4,null,null,2.4739845530146972E-3,4.3336922753809181E-6,null,null,0.99869302431631657,0.49951272272207237,null,null,-780365.41329377866,null,-780365.41329377866,874584.96907097776,-780.36541329377872,0.87458496907097771,-0.87458496907097771,null,null,null,780.36541329377872,0.87458496907097771,780.36541329377872,4344.4444444444443,4548.8888888888887,780.36541329377872,"CAMPO 4"]
[null,21,4446.666666666667,-4.2723004694835667E-4,-8.8497652582159589E-4,null,null,2.4742470281925522E-3,4.3338040458334475E-6,null,null,0.99879897975927223,0.49955290911857053,null,null,-780448.20546416496,null,-780448.20546416496,802541.93500939,-780.44820546416497,0.80254193500938997,-0.80254193500938997,null,null,null,780.44820546416497,0.80254193500938997,780.44820546416497,4446.666666666667,4651.1111111111113,780.44820546416497,"CAMPO 4"]
[null,22,4548.8888888888887,-4.2978501548747189E-4,-8.6933787223602253E-4,null,null,2.4744788326515679E-3,4.3339033737884864E-6,null,null,0.99889255410917765,0.49958832120223284,null,null,-780521.32321352302,null,-780521.32321352302,739045.38393595198,-780.52132321352303,0.73904538393595198,-0.73904538393595198,null,null,null,780.52132321352303,0.73904538393595198,780.52132321352303,4548.8888888888887,4753.3333333333339,780.52132321352303,"CAMPO 4"]
[null,23,4651.1111111111113,-4.3214464796625653E-4,-8.5489484706368106E-4,null,null,2.4746845652793888E-3,4.3339920357392424E-6,null,null,0.99897560383559103,0.49961968642139243,null,null,-780586.21716241271,null,-780586.21716241271,682795.33661977411,-780.58621716241271,0.6827953366197741,-0.6827953366197741,null,null,null,780.58621716241271,0.6827953366197741,780.58621716241271,4651.1111111111113,4855.5555555555557,780.58621716241271,"CAMPO 4"]
[null,24,4753.3333333333339,-4.3433052075343036E-4,-8.4151538395977081E-4,null,null,2.4748679942289118E-3,4.3340715028009331E-6,null,null,0.999049650058767,0.49964759876284826,null,null,-780644.07589391945,null,-780644.07589391945,632729.85767643386,-780.64407589391942,0.63272985767643386,-0.63272985767643386,null,null,null,780.64407589391942,0.63272985767643386,780.64407589391942,4753.3333333333339,4957.7777777777774,780.64407589391942,"CAMPO 4"]
[null,25,4855.5555555555557,-4.3636114536237829E-4,-8.2908617618851835E-4,null,null,2.4750322306968386E-3,4.3341430014581035E-6,null,null,0.99911594870022657,0.49967254709385145,null,null,-780695.88076837407,null,-780695.88076837407,587974.61044431105,-780.69588076837408,0.5879746104443111,-0.5879746104443111,null,null,null,780.69588076837408,0.5879746104443111,780.69588076837408,4855.5555555555557,5060,780.69588076837408,"CAMPO 4"]
[null,26,4957.7777777777774,-4.3825249398004803E-4,-8.175094599243201E-4,null,null,2.4751798617240655E-3,4.3342075607012165E-6,null,null,0.99917554409134757,0.49969493672243848,null,null,-780742.44781239086,null,-780742.44781239086,547804.45514034724,-780.74244781239088,0.54780445514034726,-0.54780445514034726,null,null,null,780.74244781239088,0.54780445514034726,780.74244781239088,4957.7777777777774,5162.2222222222226,780.74244781239088,"CAMPO 4"]
[null,27,5060,-4.4001842044669572E-4,-8.0670043748560811E-4,null,null,2.4753130527004233E-3,4.334266048920673E-6,null,null,0.99922931035226792,0.49971510596929614,null,null,-780784.46005179046,null,-780784.46005179046,511613.913450644,-780.78446005179046,0.511613913450644,-0.511613913450644,null,null,null,780.78446005179046,0.511613913450644,780.78446005179046,5060,5264.4444444444453,780.78446005179046,"CAMPO 4"]
[null,28,5162.2222222222226,-4.4167100017334011E-4,-7.9658519674120258E-4,null,null,2.4754336272225148E-3,4.3343192030193467E-6,null,null,0.99927798362873455,0.49973333902801187,null,null,-780822.49270104454,null,-780822.49270104454,478894.23516386806,-780.82249270104455,0.47889423516386803,-0.47889423516386803,null,null,null,780.82249270104455,0.47889423516386803,780.82249270104455,5162.2222222222226,5366.666666666667,780.82249270104455,"CAMPO 4"]
[null,29,5264.4444444444453,-4.4322080664123409E-4,-7.8709901869046701E-4,null,null,2.4755431298475231E-3,4.3343676515604961E-6,null,null,0.99932218742443202,0.49974987603427867,null,null,-780857.03295761859,null,-780857.03295761859,449215.43281299062,-780.85703295761857,0.44921543281299064,-0.44921543281299064,null,null,null,780.85703295761857,0.44921543281299064,780.85703295761857,5264.4444444444453,5468.8888888888887,780.85703295761857,"CAMPO 4"]
[null,30,5366.666666666667,-4.4467713787085502E-4,-7.7818499127399595E-4,null,null,2.47564287580511E-3,4.3344119333052067E-6,null,null,0.99936245266858015,0.49976492101550429,null,null,-780888.49568252603,null,-780888.49568252603,422212.09150968632,-780.88849568252601,0.4222120915096863,-0.4222120915096863,null,null,null,780.88849568252601,0.4222120915096863,780.88849568252601,5366.666666666667,5571.1111111111113,780.88849568252601,"CAMPO 4"]
[null,31,5468.8888888888887,-4.4604820311264698E-4,-7.6979286666214834E-4,null,null,2.4757339906755298E-3,4.3344525121579355E-6,null,null,{"$f":"H93/($L$3*ABS($T$4))","v":0.99939923373311379},0.49977864821584428,null,null,-780917.23591593839,null,-780917.23591593839,397572.07393023506,-780.91723591593836,0.39757207393023508,-0.39757207393023508,null,null,null,780.91723591593836,0.39757207393023508,780.91723591593836,5468.8888888888887,5673.3333333333339,780.91723591593836,"CAMPO 4"]
[null,32,5571.1111111111113,-4.4734127767902195E-4,-7.6187811354708375E-4,null,null,2.475817442283475E-3,4.3344897892928327E-6,null,null,0.99943292130752537,0.49979120716531822,null,null,-780943.55893741595,null,-780943.55893741595,375027.46461312147,-780.9435589374159,0.37502746461312148,-0.37502746461312148,null,null,null,780.9435589374159,0.37502746461312148,780.9435589374159,5571.1111111111113,5775.5555555555557,780.9435589374159,"CAMPO 4"]
[null,33,5673.3333333333339,-4.4856283208501364E-4,-7.5440112668843148E-4,null,null,2.4758940665052902E-3,4.3345241130517125E-6,null,null,0.99946385281666805,0.49980272677014725,null,null,-780967.72840623988,null,-780967.72840623988,354347.2602450315,-780.96772840623987,0.35434726024503149,-0.35434726024503149,null,null,null,780.96772840623987,0.35434726024503149,780.96772840623987,5673.3333333333339,5877.7777777777774,780.96772840623987,"CAMPO 4"]
[null,34,5775.5555555555557,-4.4971864033721613E-4,-7.4732656408978571E-4,null,null,2.4759645882817603E-3,4.3345557870690313E-6,null,null,0.99949232090315532,0.4998133186344994,null,null,-780989.9729894466,null,-780989.9729894466,335331.43157978798,-780.98997298944664,0.33533143157978801,-0.33533143157978801,null,null,null,780.98997298944664,0.33533143157978801,780.98997298944664,5775.5555555555557,5980,780.98997298944664,"CAMPO 4"]
[null,35,5877.7777777777774,-4.5081387119603664E-4,-7.4062278839348832E-4,null,null,2.4760296388280484E-3,4.3345850769772927E-6,null,null,0.99951858037463281,0.49982307977437923,null,null,-781010.49179033283,null,-781010.49179033283,317806.07056541217,-781.01049179033282,0.31780607056541216,-0.31780607056541216,null,null,null,781.01049179033282,0.31780607056541216,781.01049179033282,5877.7777777777774,6082.2222222222226,781.01049179033282,"CAMPO 4"]
[null,36,5980,-4.5185316545486774E-4,-7.3426139386415998E-4,null,null,2.4760897698074655E-3,4.3346122159690835E-6,null,null,0.99954285392541797,0.49983209484754532,null,null,-781029.45881926897,null,-781029.45881926897,301619.40181563358,-781.02945881926894,0.30161940181563357,-0.30161940181563357,null,null,null,781.02945881926894,0.30161940181563357,781.02945881926894,5980,6184.4444444444453,781.02945881926894,"CAMPO 4"]
[null,37,6082.2222222222226,-4.5284070167348725E-4,-7.2821680404249953E-4,null,null,2.4761454650661574E-3,4.3346374094329986E-6,null,null,0.99956533687353311,0.49984043799564026,null,null,-781047.02669515356,null,-781047.02669515356,286638.48688100232,-781.04702669515359,0.2866384868810023,-0.2866384868810023,null,null,null,781.04702669515359,0.2866384868810023,781.04702669515359,6082.2222222222226,6286.666666666667,781.04702669515359,"CAMPO 4"]
[null,38,6184.4444444444453,-4.5378025232926516E-4,-7.2246592805054032E-4,null,null,2.4761971503968637E-3,4.3346608388353877E-6,null,null,0.99958620110212049,0.49984817437373785,null,null,-781063.32972518203,null,-781063.32972518203,272746.48712756106,-781.06332972518203,0.27274648712756105,-0.27274648712756105,null,null,null,781.06332972518203,0.27274648712756105,781.06332972518203,6184.4444444444453,6388.8888888888887,781.06332972518203,"CAMPO 4"]
[null,{"$f":"+B100+1","v":39},{"$f":"+($C$107-$C$61)/$B$107*B101+$C$61","v":6286.666666666667},-4.5467523197715903E-4,-7.1698786581013505E-4,null,null,2.4762452017011863E-3,4.3346826649848333E-6,null,null,0.99960559835437002,{"$f":"1-I101/H101/ABS($T$4)","v":0.49985536142648601},null,null,-781078.48647945968,null,-781078.48647945968,{"$f":"-P101*($D$4/2-M101*$D$4)","v":259840.37959980196},-781.07848647945968,0.25984037959980194,-0.25984037959980194,null,null,null,781.07848647945968,0.25984037959980194,781.07848647945968,6286.666666666667,6491.1111111111113,781.07848647945968,"CAMPO 4"]
[null,{"$f":"+B101+1","v":40},6388.8888888888887,-4.5552873871457927E-4,-7.1176365424152968E-4,null,null,2.4762899518436994E-3,4.3347030307889252E-6,null,null,0.9996236630003722,{"$f":"1-I102/H102/ABS($T$4)","v":0.49986204995771877},null,null,-781092.60195298388,null,-781092.60195298388,247829.04216948277,-781.09260195298384,0.24782904216948276,-0.24782904216948276,null,null,null,781.09260195298384,0.24782904216948276,781.09260195298384,6388.8888888888887,6593.3333333333339,781.09260195298384,"CAMPO 4"]
[null,41,6491.1111111111113,-4.5634359001240569E-4,-7.0677604794604264E-4,null,null,2.4763316964321229E-3,4.3347220635915283E-6,null,null,0.99964051437044676,0.49986828503087188,null,null,-781105.76938887523,null,-781105.76938887523,236631.64129188383,-781.10576938887527,0.23663164129188383,-0.23663164129188383,null,null,null,781.10576938887527,0.23663164129188383,781.10576938887527,6491.1111111111113,6695.5555555555557,781.10576938887527,"CAMPO 4"]
[null,42,6593.3333333333339,-4.5712235378543223E-4,-7.0200932902762759E-4,null,null,2.4763706987116648E-3,4.3347398771618984E-6,null,null,0.99965625873088082,0.49987410673011434,null,null,-781118.07182219357,null,-781118.07182219357,226176.26892552857,-781.11807182219354,0.22617626892552856,-0.22617626892552856,null,null,null,781.11807182219354,0.22617626892552856,781.11807182219354,6593.3333333333339,6797.7777777777783,781.11807182219354,"CAMPO 4"]
[null,43,6695.5555555555557,-4.5786737542416781E-4,-6.9744914163448772E-4,null,null,2.4764071937253386E-3,4.3347565733936148E-6,null,null,0.99967099096335732,0.49987955080628588,null,null,-781129.58339222101,null,-781129.58339222101,216398.78556338584,-781.12958339222098,0.21639878556338585,-0.21639878556338585,null,null,null,781.12958339222098,0.21639878556338585,781.12958339222098,6695.5555555555557,6900,781.12958339222098,"CAMPO 4"]
[null,44,6797.7777777777783,-4.5858080138745709E-4,-6.9308234755149738E-4,null,null,2.4764413918634352E-3,4.3347722437606938E-6,null,null,0.99968479599779858,0.49988464922714537,null,null,-781140.37046206626,null,-781140.37046206626,207241.83451375514,-781.14037046206624,0.20724183451375514,-0.20724183451375514,null,null,null,781.14037046206624,0.20724183451375514,781.14037046206624,6797.7777777777783,100000000000,781.14037046206624,"CAMPO 4"]
[null,45,{"$f":"C61*3","v":6900},-4.5926459985580373E-4,-6.8889689978370548E-4,null,null,2.4764734819025338E-3,4.3347869705697325E-6,null,null,0.99969775003914818,0.49988943064779101,null,null,-781150.49257725629,null,-781150.49257725629,198653.99906662127,-781.15049257725627,0.19865399906662126,-0.19865399906662126,null,null,null,781.15049257725627,0.19865399906662126,781.15049257725627,6900,100000000000,781.15049257725627,"CAMPO 4"]
[null,46,100000000000,-4.9151234409145763E-4,-4.9151235539624102E-4,null,null,2.4772222222222222E-3,{"$f":"+L3*ABS($T$4)^2/2","v":4.3351388888888881E-6},null,null,1.0000000000000002,0.50000000000000011,null,null,-781386.66666666651,null,-781386.66666666651,-1.7766675834233559E-7,-781.38666666666654,-1.776667583423356E-13,1.776667583423356E-13,null,null,null,781.38666666666654,-1.776667583423356E-13,781.38666666666654,100000000000,null,781.38666666666654,"CAMPO 4"]
[]
[null,null,"Calcolo Mrd",null,null,"Ned",{"$f":"Z8","v":220}]
[]
["check",null,"Y[mm]","Y[mm]checked","εm_inf [-]","εm_sup [-]","εf_inf [-]","εf_sup [-]","A(σ-ε)","Sy(σ-ε)","A(σ-ε)","Sy(σ-ε)","β1","β2","k1","k2","C  [N]","T  [N]","Ned  [N]","MRd  [Nmm]","Ned  [kN]","MRd  [kNm]",null,null,null,null,"Y"]
[null,"CAMPO 1",{"$f":"VLOOKUP($Z$10,$Z$13:$AC$108,4,FALSE)","v":661.86658434007506},{"$f":"IF(A113=0,0,C113)","v":0},null,null,{"$f":"$T$7","v":7.6800000000000002E-3},{"$f":"+$T$7*(ABS(C113)/(ABS(C113)+($D$4)))","v":1.7161932257878307E-3},null,null,{"$f":"(H113+G113)/2*$L$7","v":7.0921564433696867E-11},{"$f":"1/6*(2*H113+$T$7)*$L$7","v":2.7958408715797911E-11},null,null,{"$f":"+K113/($T$7*$L$7)","v":0.61173132980389522},{"$f":"+L113/K113","v":0.39421590512058796},0,{"$f":"$L$8*($D$4)*$L$6*$T$7*O113","v":3.5399218358833074E-5},{"$f":"R113+Q113","v":3.5399218358833074E-5},{"$f":"+R113*(($D$4)/2-P113*($D$4))","v":8.6127508291139916E-3},{"$f":"+S113/1000","v":3.5399218358833075E-8},{"$f":"+T113/1000000","v":8.6127508291139922E-9},1,{"$f":"B113","v":"CAMPO 1"},{"$f":"ABS(S113)/($G$110*1000)","v":1.6090553799469579E-10},{"$f":"IF(A113=0,10^8,ABS(1*10^5-ABS(Y113)*10^5))","v":100000000},{"$f":"C113","v":661.86658434007506}]
[{"$f":"IF($AB$10=B114,IF(ABS((ROUND(ABS(U114/100),1))-(ROUND(ABS($G$110/100),1)))=0,1,0),0)","v":0},"CAMPO 2A",{"$f":"VLOOKUP($Z$10,$Z$13:$AC$108,4,FALSE)","v":661.86658434007506},{"$f":"IF(A114=0,0,C114)","v":0},null,{"$f":"-$T$7*C114/($D$4-C114)","v":-3.1030045044798909E-3},7.6800000000000002E-3,null,{"$f":"$L$3/ABS($T$5)*ABS(F114)^2/2","v":6.9326186074721964E-3},{"$f":"+$L$3/(ABS($T$5))*ABS(F114)^3/3","v":1.4341297844551559E-5},null,null,{"$f":"I114/($L$3*ABS($T$4))","v":2.7985453001681893},{"$f":"1-J114/I114/ABS(F114)","v":0.33333333333333326},null,null,{"$f":"-$L$3*$D$3*C114*M114","v":-629275.69347566669},{"$f":"$L$8*($D$4-C114)*$L$6*G114*0.5","v":2.0607456267655352E-5},{"$f":"R114+Q114","v":-629275.6934550592},{"$f":"-Q114*($D$4/2-N114*C114)+R114*($D$4/6+C114/3)","v":584834862.89313889},{"$f":"+S114/1000","v":-629.27569345505924},{"$f":"+T114/1000000","v":584.83486289313885},1,"CAMPO 2A",2.8603440611593598,100000000,661.86658434007506]
[0,"CAMPO 2A",{"$f":"VLOOKUP(C$144,$AC$12:$AD$108,2,FALSE)","v":720.03577817531311},0,null,-3.5000000000000005E-3,7.6800000000000002E-3,null,8.8200000000000032E-3,2.0580000000000013E-5,null,null,3.5604395604395624,{"$f":"1-J115/I115/ABS(F115)","v":0.33333333333333326},null,null,-870955.27728085895,1.9875697116279069E-5,{"$f":"R115+Q115","v":-870955.27726098325},792558915.27443767,{"$f":"+S115/1000","v":-870.95527726098328},{"$f":"+T115/1000000","v":792.55891527443771},{"$f":"+W114+1","v":2},"CAMPO 2A",3.9588876239135602,100000000,720.03577817531311]
[0,"CAMPO 2A",{"$f":"+(C115-C114)/2+C114","v":690.95118125769409},0,null,-3.2979142772105933E-3,7.6800000000000002E-3,null,7.8308917774772193E-3,1.7217073197488779E-5,null,null,3.1611583761962319,0.33333333333333326,null,null,-742047.6238558694,2.0241576691967209E-5,-742047.6238356278,682448540.02911174,-742.04762383562786,682.44854002911177,{"$f":"+W115+1","v":3},"CAMPO 2A",3.3729437447073991,100000000,690.95118125769409]
[0,"CAMPO 2A",{"$f":"IF(ABS(U116)>$G$110,C116-(C116-$C$144)/2,C116+(C116-$C$144)/2)","v":676.40888279888463},0,null,-3.1995864998637757E-3,7.6800000000000002E-3,null,7.3708947144795808E-3,1.5722543480244084E-5,null,null,2.9754677026380909,0.33333333333333337,null,null,-683758.44466962328,2.0424516479811281E-5,-683758.44464919879,632155449.49474025,-683.75844464919874,632.1554494947402,4,"CAMPO 2A",3.1079929302236309,100000000,676.40888279888463]
[0,"CAMPO 2A",{"$f":"IF(ABS(U117)>$G$110,C117-(C117-$C$144)/2,C117+(C117-$C$144)/2)","v":669.13773356947991},0,null,-3.1510801982446521E-3,7.6800000000000002E-3,null,7.1491006193540813E-3,1.5018259597936815E-5,null,null,2.885934315953655,0.33333333333333337,null,null,-656054.80943928054,2.0515986373733315E-5,-656054.80941876455,608132688.10576057,-656.05480941876453,608.13268810576062,5,"CAMPO 2A",2.9820673155398389,100000000,669.13773356947991]
[0,"CAMPO 2A",{"$f":"IF(ABS(U118)>$G$110,C118-(C118-$C$144)/2,C118+(C118-$C$144)/2)","v":665.50215895477754},0,null,-3.1269888845520239E-3,7.6800000000000002E-3,null,7.0402028285605775E-3,1.4676423993267096E-5,null,null,2.8419746784949633,0.33333333333333337,null,null,-642551.33923016163,2.0561721320694332E-5,-642551.33920959989,596394272.29481041,-642.55133920959986,596.39427229481043,6,"CAMPO 2A",2.9206879054981814,100000000,665.50215895477754]
[0,"CAMPO 2A",{"$f":"IF(ABS(U119)>$G$110,C119-(C119-$C$144)/2,C119+(C119-$C$144)/2)","v":663.68437164742636},0,null,-3.1149833723607104E-3,7.6800000000000002E-3,null,6.9862474152602681E-3,1.450802968915582E-5,null,null,2.8201940676089898,0.33333333333333326,null,null,-635885.24241880688,2.0584588794174842E-5,-635885.24239822233,590592329.6092068,-635.88524239822232,590.59232960920679,7,"CAMPO 2A",2.890387465446465,100000000,663.68437164742636]
[0,"CAMPO 2A",{"$f":"IF(ABS(U120)>$G$110,C120-(C120-$C$144)/2,C120+(C120-$C$144)/2)","v":662.77547799375066},0,null,-3.1089906134282638E-3,7.6800000000000002E-3,null,6.9593922967572377E-3,1.4424456883855481E-5,null,null,2.8093532482985042,0.33333333333333326,null,null,-632573.42482687591,2.0596022530915099E-5,-632573.42480627995,587708053.89476049,-632.57342480627995,587.7080538947605,8,"CAMPO 2A",2.8753337491194544,100000000,662.77547799375066]
[0,"CAMPO 2A",{"$f":"IF(ABS(U121)>$G$110,C121-(C121-$C$144)/3,C121+(C121-$C$144)/3)","v":662.4725134425255},0,null,-3.1069945054385032E-3,7.6800000000000002E-3,null,6.9504586969140365E-3,1.4396691321059449E-5,null,null,2.8057469509857071,0.33333333333333326,null,null,-631472.61840316828,2.0599833776495183E-5,-631472.61838256847,586749093.61486256,-631.4726183825685,586.74909361486255,9,"CAMPO 2A",2.8703300835571293,100000000,662.4725134425255]
[0,"CAMPO 2A",662.27053707504206,0,null,-3.1056641770688953E-3,7.6800000000000002E-3,null,6.9445079861248944E-3,1.4378206453251295E-5,null,null,2.8033447802253448,0.33333333333333326,null,null,-630739.61604930542,2.0602374606881905E-5,-630739.61602870305,586110470.37732053,-630.73961602870304,586.11047037732055,10,"CAMPO 2A",2.8669982546759232,100000000,662.27053707504206]
[0,"CAMPO 2A",662.13588616338643,0,null,-3.1047774737691619E-3,7.6800000000000002E-3,null,6.9405430763695829E-3,1.4365894532824533E-5,null,null,2.8017442335647571,0.33333333333333337,null,null,-630251.33353057783,2.0604068493806385E-5,-630251.33350997372,585685025.16163516,-630.25133350997373,585.68502516163517,11,"CAMPO 2A",2.8647787886816989,100000000,662.13588616338643]
[0,"CAMPO 2A",662.04611888894931,0,null,-3.1041864192282525E-3,7.6800000000000002E-3,null,6.9379007942312072E-3,1.4357691615603614E-5,null,null,2.8006776025154014,0.33333333333333337,null,null,-629925.98318500514,2.0605197751756041E-5,-629925.98316439998,585401529.89022231,-629.92598316440001,585.40152989022226,12,"CAMPO 2A",2.8632999234745453,100000000,662.04611888894931]
[0,"CAMPO 2A",661.9862740393246,0,null,-3.1037924188579533E-3,7.6800000000000002E-3,null,6.9361397131392768E-3,1.4352225238520844E-5,null,null,2.7999666929021529,0.33333333333333326,null,null,-629709.15907436691,2.0605950590389142E-5,-629709.15905376093,585212592.96660912,-629.70915905376091,585.21259296660912,13,"CAMPO 2A",2.8623143593352771,100000000,661.9862740393246]
[0,"CAMPO 2A",661.94637747290813,0,null,-3.1035297679382614E-3,7.6800000000000002E-3,null,6.9349658547448231E-3,1.4348581979890643E-5,null,null,2.7994928321463743,0.33333333333333348,null,null,-629564.64348982554,2.0606452482811211E-5,-629564.6434692191,585086661.64470756,-629.56464346921905,585.08666164470753,14,"CAMPO 2A",2.8616574703146322,100000000,661.94637747290813]
[0,"CAMPO 2A",661.91977976196381,0,null,-3.10335467443296E-3,7.6800000000000002E-3,null,6.9341833694339305E-3,1.4346153581938721E-5,null,null,2.7991769600764917,0.33333333333333326,null,null,-629468.314796541,2.0606787077759259E-5,-629468.31477593421,585002719.26271439,-629.46831477593423,585.00271926271444,15,"CAMPO 2A",2.8612196126178828,100000000,661.91977976196381]
[0,"CAMPO 2A",661.90204795466752,0,null,-3.103237948588296E-3,7.6800000000000002E-3,null,6.9336617512021186E-3,1.4344534846003727E-5,null,null,2.7989663942955407,0.33333333333333348,null,null,-629404.10234682902,2.0607010141057957E-5,-629404.102326222,584946762.93315411,-629.40410232622196,584.9467629331541,16,"CAMPO 2A",2.8609277378464637,100000000,661.90204795466752]
[0,"CAMPO 2A",661.89022674980333,0,null,-3.103160132762415E-3,7.6800000000000002E-3,null,6.9333140228875568E-3,1.4343455775831511E-5,null,null,2.7988260240407277,0.33333333333333326,null,null,-629361.29701531003,2.0607158849923755E-5,-629361.29699470289,584909461.05038118,-629.36129699470291,584.9094610503812,17,"CAMPO 2A",2.8607331681577404,100000000,661.89022674980333]
[0,"CAMPO 2A",661.88234594656058,0,null,-3.1031082561691001E-3,7.6800000000000002E-3,null,6.9330822116434807E-3,1.434273643443334E-5,null,null,2.7987324469518429,0.33333333333333326,null,null,-629332.76144680521,2.0607257989167618E-5,-629332.76142619795,584884594.1671257,-629.33276142619798,584.88459416712567,18,"CAMPO 2A",2.8606034610281723,100000000,661.88234594656058]
[0,"CAMPO 2A",661.87709207773207,0,null,-3.1030736720508581E-3,7.6800000000000002E-3,null,6.9329276742061434E-3,1.4342256890707915E-5,null,null,2.7986700635952144,0.33333333333333337,null,null,-629313.73832074914,2.0607324081996866E-5,-629313.73830014176,584868016.70653939,-629.31373830014172,584.86801670653938,19,"CAMPO 2A",2.8605169922733715,100000000,661.87709207773207]
[0,"CAMPO 2A",661.87358949851307,0,null,-3.1030506160952746E-3,7.6800000000000002E-3,null,6.9328246507554701E-3,1.434193720253818E-5,null,null,2.7986284752993607,0.33333333333333337,null,null,-629301.05649727513,2.0607368143883031E-5,-629301.05647666776,584856965.27129304,-629.30105647666778,584.85696527129301,20,"CAMPO 2A",2.8604593476212172,100000000,661.87358949851307]
[0,"CAMPO 2A",661.8712544457004,0,null,-3.1030352455129937E-3,7.6800000000000002E-3,null,6.9327559691250385E-3,1.4341724080490393E-5,null,null,2.7986007500392627,0.33333333333333315,null,null,-629292.60206409695,2.0607397518473804E-5,-629292.60204348958,584849597.73896992,-629.29260204348952,584.84959773896992,21,"CAMPO 2A",2.8604209183794982,100000000,661.8712544457004]
[0,"CAMPO 2A",{"$f":"IF(ABS(U134)>$G$110,C134-(C134-$C$144)/4,C134+(C134-$C$144)/4)","v":661.87008691929407},0,null,-3.1030275602382858E-3,7.6800000000000002E-3,null,6.9327216285108269E-3,1.4341617520486098E-5,null,null,2.7985868874903543,0.33333333333333326,null,null,-629288.3748822487,2.060741220576919E-5,-629288.37486164132,584845914.00016022,-629.28837486164127,584.84591400016018,22,"CAMPO 2A",2.8604017039165512,100000000,661.87008691929407]
[0,"CAMPO 2A",661.86921127448932,0,null,-3.1030217962894442E-3,7.6800000000000002E-3,null,6.932695873138107E-3,1.4341537600928952E-5,null,null,2.7985764906141726,0.33333333333333326,null,null,-629285.20451106189,2.0607423221240728E-5,-629285.20449045452,584843151.20801973,-629.28520449045448,584.84315120801978,23,"CAMPO 2A",2.8603872931384298,100000000,661.86921127448932]
[0,"CAMPO 2A",661.86855454088573,0,null,-3.1030174733318564E-3,7.6800000000000002E-3,null,6.93267655665803E-3,1.4341477661511997E-5,null,null,2.7985686929770028,0.33333333333333337,null,null,-629282.82674122078,2.0607431482844382E-5,-629282.8267206134,584841079.12064505,-629.28282672061346,584.84107912064508,24,"CAMPO 2A",2.8603764850936972,100000000,661.86855454088573]
[0,"CAMPO 2A",661.86806199068303,0,null,-3.1030142311159405E-3,7.6800000000000002E-3,null,6.9326620693257977E-3,1.4341432707090423E-5,null,null,2.7985628447603585,0.33333333333333337,null,null,-629281.04341864923,2.0607437679047127E-5,-629281.04339804174,584839525.05890048,-629.28104339804179,584.83952505890045,25,"CAMPO 2A",2.8603683790820078,100000000,661.86806199068303]
[0,"CAMPO 2A",661.86769257803098,0,null,-3.1030117994552825E-3,7.6800000000000002E-3,null,6.9326512038422727E-3,1.4341398991353625E-5,null,null,2.7985584586041923,0.33333333333333348,null,null,-629279.70592942543,2.0607442326199185E-5,-629279.70590881794,584838359.51472163,-629.27970590881796,584.83835951472167,26,"CAMPO 2A",2.8603622995855362,100000000,661.86769257803098]
[0,"CAMPO 2A",661.86741551854197,0,null,-3.1030099757105092E-3,7.6800000000000002E-3,null,6.9326430547384348E-3,1.4341373704595694E-5,null,null,2.7985551689906223,0.33333333333333326,null,null,-629278.7028140293,2.0607445811563224E-5,-629278.70279342181,584837485.3577857,-629.27870279342176,584.83748535778568,27,"CAMPO 2A",2.860357739970099,100000000,661.86741551854197]
[0,"CAMPO 2A",661.86720772392528,0,null,-3.1030086079023344E-3,7.6800000000000002E-3,null,6.9326369429155094E-3,1.4341354739552366E-5,null,null,2.7985527017824441,0.33333333333333337,null,null,-629277.95047833829,2.0607448425586256E-5,-629277.9504577308,584836829.74075758,-629.27795045773075,584.83682974075759,28,"CAMPO 2A",2.8603543202624127,100000000,661.86720772392528]
[0,"CAMPO 2A",661.86705187796269,0,null,-3.1030075820464302E-3,7.6800000000000002E-3,null,6.9326323590510972E-3,1.434134051578399E-5,null,null,2.7985508513774335,0.33333333333333337,null,null,-629277.38622705115,2.0607450386103532E-5,-629277.38620644365,584836338.02836537,-629.27738620644368,584.83633802836539,29,"CAMPO 2A",2.8603517554838347,100000000,661.86705187796269]
[0,"CAMPO 2A",661.86693499349076,0,null,-3.1030068126546308E-3,7.6800000000000002E-3,null,6.9326289211543582E-3,1.4341329847965663E-5,null,null,2.7985494635743096,0.33333333333333348,null,null,-629276.96303885698,2.0607451856491484E-5,-629276.96301824949,584835969.24428463,-629.27696301824949,584.83596924428468,30,"CAMPO 2A",2.860349831901134,100000000,661.86693499349076]
[0,"CAMPO 2B",{"$f":"VLOOKUP($Z$10,$Z$13:$AC$108,4,FALSE)","v":661.86658434007506},0,null,-3.1030045044798909E-3,7.6800000000000002E-3,null,{"$f":"$L$3*(ABS(F144)-ABS($T$5)/2)","v":2.0222968747276942E-3},{"$f":"$I$39+$L$3*(ABS(F144)^2-ABS($T$5)^2)/2","v":3.3789696234838E-6},null,null,0.81635666618296709,{"$f":"1-J144/I144/ABS(F144)","v":0.46153563081414939},null,null,-183564.44228538891,2.0607456267655352E-5,{"$f":"R144+Q144","v":-183564.44226478145},155024758.51918155,{"$f":"+S144/1000","v":-183.56444226478146},{"$f":"+T144/1000000","v":155.02475851918155},1,"CAMPO 2B",0.83438382847627934,100000000,661.86658434007506]
[0,"CAMPO 2B",{"$f":"VLOOKUP(C$144,$AC$12:$AD$108,2,FALSE)","v":720.03577817531311},0,null,-3.5000000000000005E-3,{"$f":"$T$7","v":7.6800000000000002E-3},null,2.3032814643347051E-3,4.3066408789160634E-6,null,null,0.92978395061728414,0.46577574577805092,null,null,-227443.89415255049,1.9875697116279069E-5,-227443.89413267479,185281436.44134444,-227.44389413267479,185.28143644134445,{"$f":"+W144+1","v":2},{"$f":"B145","v":"CAMPO 2B"},{"$f":"ABS(S145)/($G$110*1000)","v":1.033835882421249},{"$f":"IF(A145=0,10^8,ABS(1*10^5-ABS(Y145)*10^5))","v":100000000},{"$f":"C145","v":720.03577817531311}]
[{"$f":"IF($AB$10=B146,IF(ABS((ROUND(ABS(U146/100),1))-(ROUND(ABS($G$110/100),1)))=0,1,0),0)","v":0},"CAMPO 2B",{"$f":"+(C145-C144)/2+C144","v":690.95118125769409},0,null,{"$f":"-$T$7*C146/($D$4-C146)","v":-3.2979142772105933E-3},7.6800000000000002E-3,null,2.1602496805382026E-3,3.8204819763334912E-6,null,null,{"$f":"I146/($L$3*ABS($T$4))","v":0.87204517267745352},0.46374069281080765,null,null,{"$f":"-$L$3*$D$3*C146*M146","v":-204703.14083375002},{"$f":"$L$8*($D$4-C146)*$L$6*G146*0.5","v":2.0241576691967209E-5},-204703.14081350845,{"$f":"-Q146*($D$4/2-N146*C146)+R146*($D$4/6+C146/3)","v":169817185.43583438},-204.70314081350844,169.81718543583438,{"$f":"+W145+1","v":3},"CAMPO 2B",0.93046882187958391,100000000,690.95118125769409]
[1,"CAMPO 2B",{"$f":"IF(ABS(U146)>$G$110,C146-(C146-$C$144)/2,C146+(C146-$C$144)/2)","v":705.49347971650354},705.49347971650354,null,-3.3980356024253923E-3,7.6800000000000002E-3,null,2.2311133296068989E-3,4.0577316975595443E-6,null,null,0.90065126559596742,0.46477822763245447,null,null,-215867.78146919934,2.0058636904123141E-5,-215867.78144914069,177465332.92748219,-215.86778144914069,177.46533292748219,4,"CAMPO 2B",0.9812171884051849,1878.2811594815139,705.49347971650354]
[0,"CAMPO 2B",727.30692740471773,0,null,-3.5516893281984105E-3,7.6800000000000002E-3,null,2.3398660221818019E-3,4.4356323469896781E-6,null,null,0.94455233010254414,0.46626020976840077,null,null,-233389.81949235365,1.9784227222357038E-5,-233389.81947256942,189252471.70660579,-233.38981947256943,189.2524717066058,5,"CAMPO 2B",1.0608628157844064,100000000,727.30692740471773]
[0,"CAMPO 2B",694.58675587239645,0,null,-3.3227745595177157E-3,7.6800000000000002E-3,null,2.177845235904466E-3,3.8787293248282185E-6,null,null,0.87914811047948849,0.46400395802265293,null,null,-207456.33698729647,2.0195841745006192E-5,-207456.33696710062,171713476.43166375,-207.45633696710061,171.71347643166376,6,"CAMPO 2B",0.9429833498504574,100000000,694.58675587239645]
[1,"CAMPO 2B",710.94684163855709,710.94684163855709,null,-3.4360535486517574E-3,7.6800000000000002E-3,null,2.258021587102671E-3,4.1496784128726662E-6,null,null,0.91151353594635753,0.46515686152111346,null,null,-220159.99758203322,1.9990034483681617E-5,-220159.99756204319,180376689.39882725,-220.1599975620432,180.37668939882727,7,"CAMPO 2B",1.0007272616456508,72.726164565086947,710.94684163855709]
[0,"CAMPO 2B",686.40671298931602,0,null,-3.2669964595130612E-3,7.6800000000000002E-3,null,2.1383667362345048E-3,3.7486521883282553E-6,null,null,0.86321151047815858,0.46340787683338558,null,null,-201296.81589729158,2.0298745375668483E-5,-201296.81587699283,167461583.45081249,-201.29681587699284,167.4615834508125,8,"CAMPO 2B",0.91498552671360378,100000000,686.40671298931602]
[0,"CAMPO 2B",698.67677731393655,0,null,-3.3508773080617436E-3,7.6800000000000002E-3,null,2.1977357368184055E-3,3.9451004641139206E-6,null,null,0.8871774672063536,0.46429700978071786,null,null,-210583.80644406215,2.0144389929675048E-5,-210583.80642391776,173859351.29777193,-210.58380642391776,173.85935129777192,9,"CAMPO 2B",0.95719912010871711,100000000,698.67677731393655]
[0,"CAMPO 2B",717.08187380086724,0,null,-3.4791368546738411E-3,7.6800000000000002E-3,null,2.2885149936983013E-3,4.2551122692000705E-6,null,null,0.92382305195266723,0.4655762517655615,null,null,-225058.64501520791,1.9912856760684901E-5,-225058.64499529504,183680197.29464087,-225.05864499529503,183.68019729464086,{"$f":"+W152+1","v":10},"CAMPO 2B",1.0229938408877046,100000000,717.08187380086724]
[0,"CAMPO 2B",689.47422907047121,0,null,-3.2878468478061492E-3,7.6800000000000002E-3,null,2.1531241777263902E-3,3.7970185466263757E-6,null,null,0.86916876427618373,0.46363298594275171,null,null,-203591.81246137992,2.0260156514170127E-5,-203591.81244111975,169049815.70123097,-203.59181244111974,169.04981570123098,{"$f":"+W153+1","v":11},"CAMPO 2B",0.92541732927781706,100000000,689.47422907047121]
[0,"CAMPO 2B",703.27805143566934,0,null,-3.3826649905340936E-3,7.6800000000000002E-3,null,2.220234352079391E-3,4.0208481528737609E-6,null,null,0.89625966219845354,0.46462280771483688,null,null,-214140.62932949892,2.008650663742751E-5,-214140.62930941241,176289340.94651586,-214.14062930941242,176.28934094651586,{"$f":"+W154+1","v":12},"CAMPO 2B",0.97336649686096555,100000000,703.27805143566934]
[0,"CAMPO 2B",{"$f":"IF(ABS(U155)>$G$110,C155-(C155-$C$144)/3,C155+(C155-$C$144)/3)","v":717.08187380086747},0,null,-3.4791368546738424E-3,7.6800000000000002E-3,null,2.2885149936983022E-3,4.2551122692000731E-6,null,null,0.92382305195266756,0.46557625176556161,null,null,-225058.64501520805,1.9912856760684898E-5,-225058.64499529518,183680197.29464093,-225.05864499529517,183.68019729464092,{"$f":"+W155+1","v":13},"CAMPO 2B",1.0229938408877053,100000000,717.08187380086747]
[0,"CAMPO 2B",698.67677731393667,0,null,-3.3508773080617449E-3,7.6800000000000002E-3,null,2.1977357368184063E-3,3.9451004641139239E-6,null,null,0.88717746720635393,0.46429700978071775,null,null,-210583.80644406227,2.0144389929675045E-5,-210583.80642391788,173859351.29777202,-210.58380642391788,173.85935129777201,{"$f":"+W156+1","v":14},"CAMPO 2B",0.95719912010871766,100000000,698.67677731393667]
[1,"CAMPO 2B",710.9468416385572,710.9468416385572,null,-3.4360535486517578E-3,7.6800000000000002E-3,null,2.258021587102671E-3,4.149678412872667E-6,null,null,0.91151353594635753,{"$f":"1-J158/I158/ABS(F158)","v":0.46515686152111346},null,null,-220159.99758203328,1.9990034483681617E-5,{"$f":"R158+Q158","v":-220159.99756204325},180376689.39882728,{"$f":"+S158/1000","v":-220.15999756204326},{"$f":"+T158/1000000","v":180.3766893988273},{"$f":"+W157+1","v":15},"CAMPO 2B",1.0007272616456511,72.726164565101499,710.9468416385572]
[0,"CAMPO 2B",694.58675587239645,0,null,-3.3227745595177157E-3,7.6800000000000002E-3,null,2.177845235904466E-3,3.8787293248282185E-6,null,null,0.87914811047948849,0.46400395802265293,null,null,-207456.33698729647,2.0195841745006192E-5,-207456.33696710062,171713476.43166375,-207.45633696710061,171.71347643166376,16,"CAMPO 2B",0.9429833498504574,100000000,694.58675587239645]
[1,"CAMPO 2B",705.49347971650354,705.49347971650354,null,-3.3980356024253923E-3,7.6800000000000002E-3,null,2.2311133296068989E-3,4.0577316975595443E-6,null,null,0.90065126559596742,0.46477822763245447,null,null,-215867.78146919934,2.0058636904123141E-5,-215867.78144914069,177465332.92748219,-215.86778144914069,177.46533292748219,17,"CAMPO 2B",0.9812171884051849,1878.2811594815139,705.49347971650354]
[0,"CAMPO 2B",720.035778175313,0,null,-3.4999999999999992E-3,7.6800000000000002E-3,null,2.3032814643347043E-3,4.30664087891606E-6,null,null,0.92978395061728381,0.46577574577805103,null,null,-227443.89415255038,1.9875697116279072E-5,-227443.89413267467,185281436.44134435,-227.44389413267467,185.28143644134434,18,"CAMPO 2B",1.0338358824212486,100000000,720.035778175313]
[0,"CAMPO 2B",700.64604689690032,0,null,-3.3644595242522403E-3,7.6800000000000002E-3,null,2.2073489276110128E-3,3.9773783712167488E-6,null,null,0.89105810040363842,0.4644369453775693,null,null,-212101.06974895106,2.0119616833404499E-5,-212101.06972883144,174897288.65002018,-212.10106972883145,174.89728865002019,19,"CAMPO 2B",0.96409577149468839,100000000,700.64604689690032]
[1,"CAMPO 2B",713.57253441584203,713.57253441584203,null,-3.4544517056099514E-3,7.6800000000000002E-3,null,2.271043393749748E-3,4.1945418264334989E-6,null,null,0.91677015222012714,0.46533719639915094,null,null,-222247.43180521543,1.9957003688654212E-5,-222247.43178525844,181786877.34602109,-222.24743178525844,181.78687734602107,20,"CAMPO 2B",1.0102155990239019,1021.5599023901887,713.57253441584203]
[0,"CAMPO 2B",696.33721772391971,0,null,-3.334784526538345E-3,7.6800000000000002E-3,null,2.186345623673511E-3,3.9070252417416227E-6,null,null,0.8825795296282396,0.46412978097622071,null,null,-208790.92506125904,2.0173821214987927E-5,-208790.92504108523,172630249.30532226,-208.79092504108522,172.63024930532225,21,"CAMPO 2B",0.94904965927766016,100000000,696.33721772391971]
[1,"CAMPO 2B",707.82742885186792,707.82742885186792,null,-3.414274779060103E-3,7.6800000000000002E-3,null,2.2426070579583553E-3,4.0968811200448443E-6,null,null,0.90529103034874192,0.46494095813602476,null,null,-217697.66232133226,2.002927619743212E-5,-217697.66230130297,178708454.46966746,-217.69766230130298,178.70845446966746,22,"CAMPO 2B",0.98953482864228626,1046.5171357713698,707.82742885186792]
[0,"CAMPO 2B",723.14771035579884,0,null,-3.5220638305859843E-3,7.6800000000000002E-3,null,2.3188977533161181E-3,4.3614701679282426E-6,null,null,0.93608790221327953,0.46598422793142813,null,null,-229975.62526076665,1.9836549507357712E-5,-229975.62524093009,186975834.42761919,-229.9756252409301,186.97583442761919,23,"CAMPO 2B",1.0453437510951369,100000000,723.14771035579884]
[1,"CAMPO 2B",{"$f":"IF(ABS(U166)>$G$110,C166-(C166-$C$144)/4,C166+(C166-$C$144)/4)","v":707.82742885186792},707.82742885186792,null,-3.414274779060103E-3,7.6800000000000002E-3,null,2.2426070579583553E-3,4.0968811200448443E-6,null,null,0.90529103034874192,0.46494095813602476,null,null,-217697.66232133226,2.002927619743212E-5,-217697.66230130297,178708454.46966746,-217.69766230130298,178.70845446966746,24,"CAMPO 2B",0.98953482864228626,1046.5171357713698,707.82742885186792]
[0,"CAMPO 2B",719.31763997981614,0,null,-3.4949206841116687E-3,7.6800000000000002E-3,null,2.2996864374226302E-3,4.2940674148624581E-6,null,null,0.92833271750633217,0.46572738980169348,null,null,-226862.40286085999,1.9884731179876311E-5,-226862.40284097526,184891513.75182861,-226.86240284097528,184.8915137518286,25,"CAMPO 2B",1.0311927401862513,100000000,719.31763997981614]
[1,"CAMPO 2B",704.95487606988081,704.95487606988081,null,-3.3942948490865901E-3,7.6800000000000002E-3,null,2.2284657075215468E-3,4.0487399355023274E-6,null,null,0.89958247892773824,0.46474052846551439,null,null,-215447.00800070824,2.0065412451821071E-5,-215447.00798064284,177179073.10503593,-215.44700798064284,177.17907310503594,26,"CAMPO 2B",0.97930458173019475,2069.5418269805232,704.95487606988081]
[1,"CAMPO 2B",715.72694900233228,715.72694900233228,null,-3.4695931770577114E-3,7.6800000000000002E-3,null,2.2817601907633295E-3,4.2316436181937367E-6,null,null,0.92109628691948731,{"$f":"1-J170/I170/ABS(F170)","v":0.46548421989957867},null,null,-223970.36704320239,1.9929901497862503E-5,{"$f":"R170+Q170","v":-223970.3670232725},182948044.100216,{"$f":"+S170/1000","v":-223.9703670232725},{"$f":"+T170/1000000","v":182.94804410021601},{"$f":"+W169+1","v":27},"CAMPO 2B",1.0180471228330568,1804.7122833056783,715.72694900233228]
[0,"CAMPO 2B",702.26185783676794,0,null,-3.3756289130608776E-3,7.6800000000000002E-3,null,2.2152543728011257E-3,4.0040200710755966E-6,null,null,0.89424935434896324,0.46455120537178651,null,null,-213351.58648105268,2.0099290190310717E-5,-213351.5864609534,175751229.87803566,-213.3515864609534,175.75122987803567,{"$f":"+W170+1","v":28},"CAMPO 2B",0.96977993845887911,100000000,702.26185783676794]
[1,"CAMPO 2B",712.36067621094116,712.36067621094116,null,-3.4459526866864889E-3,7.6800000000000002E-3,null,2.2650279770228083E-3,4.1737874224314651E-6,null,null,0.91434186109913784,0.46525412260592502,null,null,-221282.31241353156,1.9972248670974553E-5,-221282.31239355932,181135340.99298826,-221.28231239355932,181.13534099298826,{"$f":"+W171+1","v":29},"CAMPO 2B",1.0058286926979969,582.86926979968848,712.36067621094116]
[0,"CAMPO 2B",699.73715324322461,0,null,-3.3581866552731127E-3,7.6800000000000002E-3,null,2.2029091303446746E-3,3.9624547781515416E-6,null,null,0.88926585212388765,0.4643724530302672,null,null,-211399.86702457923,2.0131050570144756E-5,-211399.86700444817,174417857.92899996,-211.39986700444817,174.41785792899995,{"$f":"+W172+1","v":30},"CAMPO 2B",0.96090848638385529,100000000,699.73715324322461]
[0,"CAMPO 3",{"$f":"VLOOKUP($Z$10,$Z$13:$AC$108,4,FALSE)","v":661.86658434007506},0,null,-3.5000000000000005E-3,{"$f":"ABS($T$4)*($D$4-C174)/C174","v":8.6625720205022669E-3},null,{"$f":"$H$50","v":2.3032814643347051E-3},{"$f":"$I$50","v":4.3066408789160634E-6},{"$f":"+$L$7*(G174-G174^2/(2*$T$7))","v":5.7019060646264252E-11},null,0.92978395061728414,0.46577574577805092,{"$f":"+K174/($T$7*$L$7)","v":0.49181579780176882},0.33300000000000002,-209069.49059287098,{"$f":"$L$8*($D$4-C174)*$L$6*G174*O174","v":2.2863488503535177E-5},-209069.4905700075,175977678.53556609,-209.0694905700075,175.9776785355661,1,"CAMPO 3",0.95031586622730679,100000000,661.86658434007506]
[0,"CAMPO 3",{"$f":"VLOOKUP(C$144,$AC$12:$AD$108,2,FALSE)","v":720.03577817531311},0,null,-3.5000000000000005E-3,7.6799999999999985E-3,null,2.3032814643347051E-3,4.3066408789160634E-6,5.7967902720000002E-11,null,0.92978395061728414,0.46577574577805092,0.5,0.33300000000000002,-227443.89415255049,1.9875697116279065E-5,-227443.89413267479,185281436.44134444,-227.44389413267479,185.28143644134445,{"$f":"+W174+1","v":2},"CAMPO 3",1.033835882421249,100000000,720.03577817531311]
[0,"CAMPO 3",{"$f":"+(C175-C174)/2+C174","v":690.95118125769409},0,null,-3.5000000000000005E-3,8.1506060317417823E-3,null,2.3032814643347051E-3,4.3066408789160634E-6,5.7750241967526581E-11,null,0.92978395061728414,{"$f":"1-J176/I176/ABS(F176)","v":0.46577574577805092},0.49812257523335995,0.33300000000000002,-218256.69237271074,2.1401254922793396E-5,{"$f":"R176+Q176","v":-218256.69235130947},180754015.59062642,{"$f":"+S176/1000","v":-218.25669235130945},{"$f":"+T176/1000000","v":180.75401559062641},{"$f":"+W175+1","v":3},"CAMPO 3",0.99207587432413391,100000000,690.95118125769409]
[0,"CAMPO 3",{"$f":"IF(ABS(U176)>$G$110,C176-(C176-$C$144)/2,C176+(C176-$C$144)/2)","v":705.49347971650354},0,null,-3.5000000000000005E-3,7.91045272769186E-3,null,2.3032814643347051E-3,4.3066408789160634E-6,5.7915707725806238E-11,null,0.92978395061728414,0.46577574577805092,0.49954979400888561,0.33300000000000002,-222850.29326263058,2.0641930733395327E-5,-222850.29324198866,183048840.54152554,-222.85029324198865,183.04884054152555,4,{"$f":"B177","v":"CAMPO 3"},{"$f":"ABS(S177)/($G$110*1000)","v":1.0129558783726758},{"$f":"IF(A177=0,10^8,ABS(1*10^5-ABS(Y177)*10^5))","v":100000000},{"$f":"C177","v":705.49347971650354}]
[{"$f":"IF($AB$10=B178,IF(ABS((ROUND(ABS(U178/100),1))-(ROUND(ABS($G$110/100),1)))=0,1,0),0)","v":0},"CAMPO 3",{"$f":"IF(ABS(U177)>$G$110,C177-(C177-$C$144)/2,C177+(C177-$C$144)/2)","v":683.68003202828936},{"$f":"IF(A178=0,0,C178)","v":0},null,-3.5000000000000005E-3,8.2745138410988527E-3,null,2.3032814643347051E-3,4.3066408789160634E-6,5.7620535296106725E-11,null,{"$f":"I178/($L$3*ABS($T$4))","v":0.92978395061728414},0.46577574577805092,0.49700379513839621,0.33300000000000002,{"$f":"-$L$3*$D$3*C178*M178","v":-215959.89192775081},2.1775765102667972E-5,-215959.89190597503,{"$f":"-Q178*($D$4/2-N178*C178)+R178*($D$4/6+C178/3)","v":179583267.22102022},-215.95989190597504,179.58326722102021,5,"CAMPO 3",0.98163587229988647,100000000,683.68003202828936]
[0,"CAMPO 3",{"$f":"IF(ABS(U178)>$G$110,C178-(C178-$C$144)/2,C178+(C178-$C$144)/2)","v":694.58675587239645},0,null,-3.5000000000000005E-3,8.0896249560492312E-3,null,2.3032814643347051E-3,4.3066408789160634E-6,5.7802996148181104E-11,null,0.92978395061728414,0.46577574577805092,0.49857760446660077,0.33300000000000002,-219405.09259519071,2.1212501636618044E-5,-219405.09257397821,181333555.80189022,-219.40509257397821,181.33355580189021,6,"CAMPO 3",0.99729587533626463,100000000,694.58675587239645]
[0,"CAMPO 3",{"$f":"IF(ABS(U179)>$G$110,C179-(C179-$C$144)/2,C179+(C179-$C$144)/2)","v":710.94684163855709},0,null,-3.5000000000000005E-3,7.8229281410783624E-3,null,2.3032814643347051E-3,4.3066408789160634E-6,5.7947825635888293E-11,null,0.92978395061728414,0.46577574577805092,0.49982682585388083,0.33300000000000002,-224572.89359635051,2.0355005357894064E-5,-224572.89357599549,183893356.47088084,-224.57289357599549,183.89335647088083,7,"CAMPO 3",1.0207858798908886,100000000,710.94684163855709]
[0,"CAMPO 3",{"$f":"IF(ABS(U180)>$G$110,C180-(C180-$C$144)/3,C180+(C180-$C$144)/3)","v":694.58675587239645},0,null,-3.5000000000000005E-3,8.0896249560492312E-3,null,2.3032814643347051E-3,4.3066408789160634E-6,5.7802996148181104E-11,null,0.92978395061728414,0.46577574577805092,0.49857760446660077,0.33300000000000002,-219405.09259519071,2.1212501636618044E-5,-219405.09257397821,181333555.80189022,-219.40509257397821,181.33355580189021,8,"CAMPO 3",0.99729587533626463,100000000,694.58675587239645]
[0,"CAMPO 3",705.49347971650354,0,null,-3.5000000000000005E-3,7.91045272769186E-3,null,2.3032814643347051E-3,4.3066408789160634E-6,5.7915707725806238E-11,null,0.92978395061728414,0.46577574577805092,0.49954979400888561,0.33300000000000002,-222850.29326263058,2.0641930733395327E-5,-222850.29324198866,183048840.54152554,-222.85029324198865,183.04884054152555,9,"CAMPO 3",1.0129558783726758,100000000,705.49347971650354]
[0,"CAMPO 3",690.95118125769409,0,null,-3.5000000000000005E-3,8.1506060317417823E-3,null,2.3032814643347051E-3,4.3066408789160634E-6,5.7750241967526581E-11,null,0.92978395061728414,{"$f":"1-J183/I183/ABS(F183)","v":0.46577574577805092},0.49812257523335995,0.33300000000000002,-218256.69237271074,2.1401254922793396E-5,{"$f":"R183+Q183","v":-218256.69235130947},180754015.59062642,{"$f":"+S183/1000","v":-218.25669235130945},{"$f":"+T183/1000000","v":180.75401559062641},10,"CAMPO 3",0.99207587432413391,100000000,690.95118125769409]
[0,"CAMPO 3",700.64604689690043,0,null,-3.5000000000000005E-3,7.9893961589489314E-3,null,2.3032814643347051E-3,4.3066408789160634E-6,5.7873823223738209E-11,null,0.92978395061728414,0.46577574577805092,0.49918852078609588,0.33300000000000002,-221319.09296599065,2.0896186104832663E-5,-221319.09294509448,182290813.23023498,-221.3190929450945,182.29081323023499,11,"CAMPO 3",1.0059958770231567,100000000,700.64604689690043]
[0,"CAMPO 3",687.7195593779586,0,null,-3.5000000000000005E-3,8.2053526982440537E-3,null,2.3032814643347051E-3,4.3066408789160634E-6,5.7696654384317599E-11,null,0.92978395061728414,0.46577574577805092,0.49766035751722293,0.33300000000000002,-217235.89217495074,2.1568243559309115E-5,-217235.89215338251,180235603.63163739,-217.23589215338251,180.23560363163739,12,"CAMPO 3",0.98743587342446593,100000000,687.7195593779586]
[0,"CAMPO 3",696.33721772391982,0,null,-3.5000000000000005E-3,8.0604908011560894E-3,null,2.3032814643347051E-3,4.3066408789160634E-6,5.7825619570131555E-11,null,0.92978395061728414,0.46577574577805092,0.49877274195552918,0.33300000000000002,-219958.026035644,2.1121324121938334E-5,-219958.02601452268,181611206.54547521,-219.95802601452269,181.61120654547523,13,"CAMPO 3",0.99980920915692129,100000000,696.33721772391982]
[0,"CAMPO 3",707.82742885186804,0,null,-3.5000000000000005E-3,7.8728285622634148E-3,null,2.3032814643347051E-3,4.3066408789160634E-6,5.7931359410671519E-11,null,0.92978395061728414,0.46577574577805092,0.49968479703755198,0.33300000000000002,-223587.53784990168,2.0519225374106094E-5,-223587.53782938246,183411350.63496953,-223.58753782938246,183.41135063496952,14,"CAMPO 3",1.0163069901335566,100000000,707.82742885186804]
[0,"CAMPO 3",692.50714734793701,0,null,-3.5000000000000005E-3,8.1244287598022883E-3,null,2.3032814643347051E-3,4.3066408789160634E-6,5.7773783088528285E-11,null,0.92978395061728414,0.46577574577805092,0.49832562830149846,0.33300000000000002,-218748.18876422476,2.1320579342056912E-5,-218748.18874290417,181002525.34003597,-218.74818874290418,181.00252534003599,15,"CAMPO 3",0.99430994883138257,100000000,692.50714734793701]
[0,"CAMPO 3",702.72066835055762,0,null,-3.5000000000000005E-3,7.9554763543459566E-3,null,2.3032814643347051E-3,4.3066408789160634E-6,5.7893320758411289E-11,null,0.92978395061728414,0.46577574577805092,0.49935669604997646,0.33300000000000002,-221974.42148800934,2.0787479418684757E-5,-221974.42146722187,182616082.80386519,-221.97442146722187,182.6160828038652,16,"CAMPO 3",1.0089746430328266,100000000,702.72066835055762]
[0,"CAMPO 3",689.10264034706347,0,null,-3.5000000000000005E-3,8.181859172598227E-3,null,2.3032814643347051E-3,4.3066408789160634E-6,5.7720372128099894E-11,null,0.92978395061728414,0.46577574577805092,0.49786493403862009,0.33300000000000002,-217672.77785629657,2.1496873542477183E-5,-217672.77783479969,180457851.5775384,-217.67277783479969,180.45785157753841,17,"CAMPO 3",0.98942171743090768,100000000,689.10264034706347]
[0,"CAMPO 3",698.18132568272631,0,null,-3.5000000000000005E-3,8.0299560499247045E-3,null,2.3032814643347051E-3,4.3066408789160634E-6,5.7847539953995414E-11,null,0.92978395061728414,0.46577574577805092,0.49896181541545526,0.33300000000000002,-220540.54027743844,2.1025083293662216E-5,-220540.54025641337,181902735.75024909,-220.54054025641338,181.90273575024909,18,"CAMPO 3",1.0024570011655154,100000000,698.18132568272631]
[0,"CAMPO 3",686.07641190184256,0,null,-3.5000000000000005E-3,8.2333869236007468E-3,null,2.3032814643347051E-3,4.3066408789160634E-6,5.7666932910687752E-11,null,0.92978395061728414,0.46577574577805092,0.49740399604617391,0.33300000000000002,-216716.85704924929,2.1652829562573649E-5,-216716.85702759644,179970833.87093735,-216.71685702759643,179.97083387093735,19,"CAMPO 3",0.98507662285271114,100000000,686.07641190184256]
[0,"CAMPO 3",694.14635442243173,0,null,-3.5000000000000005E-3,8.0969779985346838E-3,null,2.3032814643347051E-3,4.3066408789160634E-6,5.7797022643939708E-11,null,0.92978395061728414,0.46577574577805092,0.49852608022679645,0.33300000000000002,-219265.97920137539,2.123541229726069E-5,-219265.97918013998,181263559.25628367,-219.26597918013999,181.26355925628368,20,"CAMPO 3",0.99666354172790905,100000000,694.14635442243173]
[0,"CAMPO 3",704.90627778321732,0,null,-3.5000000000000005E-3,7.9199578776849092E-3,null,2.3032814643347051E-3,4.3066408789160634E-6,5.7911313309205637E-11,null,0.92978395061728414,0.46577574577805092,0.49951189013109804,0.33300000000000002,-222664.80873754356,2.0672776106341043E-5,-222664.80871687079,182957383.68655089,-222.66480871687079,182.95738368655088,21,"CAMPO 3",1.0121127668948673,100000000,704.90627778321732]
[0,"CAMPO 3",690.55971330216994,0,null,-3.5000000000000005E-3,8.1572105857521133E-3,null,2.3032814643347051E-3,4.3066408789160634E-6,5.7744089731868365E-11,null,0.92978395061728414,0.46577574577805092,0.49806950935233324,0.33300000000000002,-218133.0360226527,2.1421525316376469E-5,-218133.03600123117,180691380.46730927,-218.13303600123118,180.69138046730927,22,"CAMPO 3",0.99151380000559619,100000000,690.55971330216994]
[0,"CAMPO 3",700.12408962286827,0,null,-3.5000000000000005E-3,7.9979617460902482E-3,null,2.3032814643347051E-3,4.3066408789160634E-6,5.7868541962381249E-11,null,0.92978395061728414,0.46577574577805092,0.49914296746167708,0.33300000000000002,-221154.21783257995,2.092350665677426E-5,-221154.21781165645,182208778.7428498,-221.15421781165645,182.2087787428498,23,"CAMPO 3",1.0052464445984384,100000000,700.12408962286827]
[0,"CAMPO 3",687.3715878619372,0,null,-3.5000000000000005E-3,8.2112783567901727E-3,null,2.3032814643347051E-3,4.3066408789160634E-6,5.7690500842715511E-11,null,0.92978395061728414,0.46577574577805092,0.49760728037182567,0.33300000000000002,-217125.97541934362,2.158617535400306E-5,-217125.97539775746,180179599.29749531,-217.12597539775746,180.17959929749532,24,"CAMPO 3",0.9869362518079885,100000000,687.3715878619372]
[0,"CAMPO 3",695.87325570255791,0,null,-3.5000000000000005E-3,8.0681985678163065E-3,null,2.3032814643347051E-3,4.3066408789160634E-6,5.7819796599747903E-11,null,0.92978395061728414,0.46577574577805092,0.49872251613994484,0.33300000000000002,-219811.47036150118,2.1145508180012416E-5,-219811.47034035568,181537702.70073944,-219.81147034035567,181.53770270073943,25,"CAMPO 3",0.99914304700161671,100000000,695.87325570255791]
[0,"CAMPO 3",{"$f":"IF(ABS(U198)>$G$110,C198-(C198-$C$144)/4,C198+(C198-$C$144)/4)","v":704.37492354317862},0,null,-3.5000000000000005E-3,7.9285726690929391E-3,null,2.3032814643347051E-3,4.3066408789160634E-6,5.7907177108175322E-11,null,0.92978395061728414,0.46577574577805092,0.49947621348215754,0.33300000000000002,-222496.96530365874,2.0700677897289669E-5,-222496.96528295806,182874537.6786193,-222.49696528295806,182.8745376786193,26,"CAMPO 3",1.0113498421952638,100000000,704.37492354317862]
[0,"CAMPO 3",693.74783874240279,0,null,-3.5000000000000005E-3,8.1036397527273103E-3,null,2.3032814643347051E-3,4.3066408789160634E-6,5.7791518974918714E-11,null,0.92978395061728414,0.46577574577805092,0.498478608533301,0.33300000000000002,-219140.09662596183,2.1256133562345331E-5,-219140.0966047057,181200170.76480633,-219.14009660470569,181.20017076480633,27,"CAMPO 3",0.99609134820320777,100000000,693.74783874240279]
[0,"CAMPO 3",701.71815234298469,0,null,-3.5000000000000005E-3,7.9718423246165852E-3,null,2.3032814643347051E-3,4.3066408789160634E-6,5.7884195734972317E-11,null,0.92978395061728414,0.46577574577805092,0.49927798849794508,0.33300000000000002,-221657.74813423451,2.0840031937092182E-5,-221657.74811339448,182459061.44216269,-221.65774811339449,182.45906144216269,28,"CAMPO 3",1.0075352186972477,100000000,701.71815234298469]
[0,"CAMPO 3",691.75526034225732,0,null,-3.5000000000000005E-3,8.1370636574807243E-3,null,2.3032814643347051E-3,4.3066408789160634E-6,5.7762588736626576E-11,null,0.92978395061728414,0.46577574577805092,0.49822907183338039,0.33300000000000002,-218510.68374889364,2.1359585046172966E-5,-218510.68372753405,180882527.32172036,-218.51068372753406,180.88252732172037,29,"CAMPO 3",0.99323038057970026,100000000,691.75526034225732]
[0,"CAMPO 3",699.22742934280291,0,null,-3.5000000000000005E-3,8.0127062557687669E-3,null,2.3032814643347051E-3,4.3066408789160634E-6,5.7859113194757523E-11,null,0.92978395061728414,0.46577574577805092,0.49906163997541914,0.33300000000000002,-220870.98203789929,2.0970410811696412E-5,-220870.98201692887,182067666.13743979,-220.87098201692888,182.0676661374398,30,"CAMPO 3",1.0039590091678585,100000000,699.22742934280291]
[0,"CAMPO 3",689.88721809212097,0,null,-3.5000000000000005E-3,8.1685739188823176E-3,null,2.3032814643347051E-3,4.3066408789160634E-6,5.7733303962744423E-11,null,0.92978395061728414,{"$f":"1-J204/I204/ABS(F204)","v":0.46577574577805092},0.49797647709984655,0.33300000000000002,-217920.60917664223,2.1456321236493026E-5,{"$f":"R204+Q204","v":-217920.6091551859},180583675.5314894,{"$f":"+S204/1000","v":-217.9206091551859},{"$f":"+T204/1000000","v":180.5836755314894},{"$f":"+W203+1","v":31},"CAMPO 3",0.99054822343266313,100000000,689.88721809212097]
[0,"CAMPO 3",696.89237653013242,0,null,-3.5000000000000005E-3,8.0512814763183619E-3,null,2.3032814643347051E-3,4.3066408789160634E-6,5.7832423804218956E-11,null,0.92978395061728414,0.46577574577805092,0.49883143162488175,0.33300000000000002,-220133.38882258505,2.1092370593252111E-5,-220133.38880149269,181699075.12935942,-220.13338880149269,181.69907512935941,32,"CAMPO 3",1.0006063127340576,100000000,696.89237653013242]
[0,"CAMPO 3",688.13592848261806,0,null,-3.5000000000000005E-3,{"$f":"ABS($T$4)*($D$4-C206)/C206","v":8.1982701626272352E-3},null,2.3032814643347051E-3,4.3066408789160634E-6,{"$f":"+$L$7*(G206-G206^2/(2*$T$7))","v":5.7703918746667613E-11},null,0.92978395061728414,0.46577574577805092,{"$f":"+K206/($T$7*$L$7)","v":0.49772301600587915},0.33300000000000002,-217367.41426515652,{"$f":"$L$8*($D$4-C206)*$L$6*G206*O206","v":2.1546774074579676E-5},-217367.41424360973,180302569.40382761,-217.36741424360974,180.30256940382762,33,"CAMPO 3",0.98803370110731692,100000000,688.13592848261806]
[0,"CAMPO 3",694.70326451825383,0,null,-3.5000000000000005E-3,8.0876812606923924E-3,null,2.3032814643347051E-3,4.3066408789160634E-6,5.7804557418657754E-11,null,0.92978395061728414,0.46577574577805092,0.49859107114732742,0.33300000000000002,-219441.8951832279,2.120643860879843E-5,-219441.89516202145,181352063.9119086,-219.44189516202144,181.3520639119086,34,"CAMPO 3",0.99746315982737022,100000000,694.70326451825383]
[0,"CAMPO 3",702.91243456279858,0,null,-3.5000000000000005E-3,7.952351109718217E-3,null,2.3032814643347051E-3,4.3066408789160634E-6,5.789500340521905E-11,null,0.92978395061728414,0.46577574577805092,0.499371209657756,0.33300000000000002,-222034.99633081714,2.0777422371992556E-5,-222034.99631003971,182646084.92945766,-222.0349963100397,182.64608492945766,35,"CAMPO 3",1.0092499832274533,100000000,702.91243456279858]
[0,"CAMPO 3",692.65097200711773,0,null,-3.5000000000000005E-3,8.1220150195895173E-3,null,2.3032814643347051E-3,4.3066408789160634E-6,5.7775885931631018E-11,null,0.92978395061728414,0.46577574577805092,0.49834376629687233,0.33300000000000002,-218793.61989633064,2.1313113778514534E-5,-218793.61987501752,181025460.19961303,-218.79361987501753,181.02546019961304,36,{"$f":"B209","v":"CAMPO 3"},{"$f":"ABS(S209)/($G$110*1000)","v":0.99451645397735233},{"$f":"IF(A209=0,10^8,ABS(1*10^5-ABS(Y209)*10^5))","v":100000000},{"$f":"C209","v":692.65097200711773}]
[{"$f":"IF($AB$10=B210,IF(ABS((ROUND(ABS(U210/100),1))-(ROUND(ABS($G$110/100),1)))=0,1,0),0)","v":0},"CAMPO 3",700.3470689238784,0,null,-3.5000000000000005E-3,7.9943009790406708E-3,null,2.3032814643347051E-3,4.3066408789160634E-6,5.7870816718387391E-11,null,{"$f":"I210/($L$3*ABS($T$4))","v":0.92978395061728414},0.46577574577805092,0.49916258828543825,0.33300000000000002,{"$f":"-$L$3*$D$3*C210*M210","v":-221224.65222219552},2.0911836863442893E-5,-221224.65220128369,{"$f":"-Q210*($D$4/2-N210*C210)+R210*($D$4/6+C210/3)","v":182243833.55128554},-221.2246522012837,182.24383355128555,37,"CAMPO 3",1.0055666009149258,100000000,700.3470689238784]
[0,"CAMPO 3",690.72694777792753,0,null,-3.5000000000000005E-3,8.1543882150492252E-3,null,2.3032814643347051E-3,4.3066408789160634E-6,5.7746729301293953E-11,null,0.92978395061728414,0.46577574577805092,0.49809227686074503,0.33300000000000002,-218185.86181486439,2.1412867194026753E-5,-218185.86179345151,180718143.60767385,-218.18586179345149,180.71814360767385,38,"CAMPO 3",0.99175391724296136,100000000,690.72694777792753]
[0,"CAMPO 3",697.94203863739062,0,null,-3.5000000000000005E-3,8.0339090559958422E-3,null,2.3032814643347051E-3,4.3066408789160634E-6,5.7844805427946677E-11,null,0.92978395061728414,0.46577574577805092,0.49893822886220401,0.33300000000000002,-220464.95462036273,2.1037581422118305E-5,-220464.95459932514,181864964.1160273,-220.46495459932513,181.86496411602729,39,"CAMPO 3",1.0021134299969325,100000000,697.94203863739062]
[0,"CAMPO 3",688.92317506306176,0,null,-3.5000000000000005E-3,8.1849023104254397E-3,null,2.3032814643347051E-3,4.3066408789160634E-6,5.7717361110027911E-11,null,0.92978395061728414,0.46577574577805092,0.49783896261365301,0.33300000000000002,-217616.08861348979,2.1506142883569309E-5,-217616.08859198366,180429044.99560603,-217.61608859198367,180.42904499560603,40,"CAMPO 3",0.98916403905447114,100000000,688.92317506306176]
[0,"CAMPO 3",695.68732274380841,0,null,-3.5000000000000005E-3,8.0712903438438354E-3,null,2.3032814643347051E-3,4.3066408789160634E-6,5.7817428046705359E-11,null,0.92978395061728414,0.46577574577805092,0.49870208627331686,0.33300000000000002,-219752.73811864451,2.1155196501341223E-5,-219752.73809748932,181508228.22809023,-219.75273809748933,181.50822822809022,41,"CAMPO 3",0.99887608226131508,100000000,695.68732274380841]
[0,"CAMPO 3",704.14250734474172,0,null,-3.5000000000000005E-3,7.9323448961430097E-3,null,2.3032814643347051E-3,4.3066408789160634E-6,5.7905320034072251E-11,null,0.92978395061728414,0.46577574577805092,0.49946019535819641,0.33300000000000002,-222423.55000008788,2.0712879171575741E-5,-222423.54997937501,182838274.42852637,-222.423549979375,182.83827442852638,42,"CAMPO 3",1.0110161362698864,100000000,704.14250734474172]
[0,"CAMPO 3",693.57352659357502,0,null,-3.5000000000000005E-3,8.1065560338452677E-3,null,2.3032814643347051E-3,4.3066408789160634E-6,5.7789082210850369E-11,null,0.92978395061728414,0.46577574577805092,0.49845759031499393,0.33300000000000002,-219085.03514828364,2.1265193959518071E-5,-219085.03512701843,181172429.72656295,-219.08503512701844,181.17242972656294,43,"CAMPO 3",0.99584106875917466,100000000,693.57352659357502]
[0,"CAMPO 3",701.50026215695004,0,null,-3.5000000000000005E-3,7.9754055476018264E-3,null,2.3032814643347051E-3,4.3066408789160634E-6,5.788213923077199E-11,null,0.92978395061728414,0.46577574577805092,0.49926025019705927,0.33300000000000002,-221588.92128713682,2.0851448443465756E-5,-221588.92126628538,182424894.76999006,-221.58892126628538,182.42489476999006,44,"CAMPO 3",1.0072223693922062,100000000,701.50026215695004]
[0,"CAMPO 3",691.59184270273136,0,null,-3.5000000000000005E-3,8.139813402860149E-3,null,2.3032814643347051E-3,4.3066408789160634E-6,5.7760110922435916E-11,null,0.92978395061728414,0.46577574577805092,0.49820769953876221,0.33300000000000002,-218459.06361357035,2.1368057535701666E-5,-218459.06359220229,180856424.54356119,-218.45906359220228,180.85642454356119,45,"CAMPO 3",0.99299574360091947,100000000,691.59184270273136]
[0,"CAMPO 3",699.02315729339546,0,null,-3.5000000000000005E-3,8.016070556474051E-3,null,2.3032814643347051E-3,4.3066408789160634E-6,5.7856901927876787E-11,null,0.92978395061728414,0.46577574577805092,0.49904256677476,0.33300000000000002,-220806.45686874524,2.098109090890122E-5,-220806.45684776414,182035485.57789373,-220.80645684776414,182.03548557789372,46,"CAMPO 3",1.0036657129443824,100000000,699.02315729339546]
[0,"CAMPO 3",689.73401405506536,0,null,-3.5000000000000005E-3,8.1711657478984682E-3,null,2.3032814643347051E-3,4.3066408789160634E-6,5.7730808321312168E-11,null,0.92978395061728414,{"$f":"1-J220/I220/ABS(F220)","v":0.46577574577805092},0.49795495103701559,0.33300000000000002,-217872.21529977667,2.1464243535361673E-5,{"$f":"R220+Q220","v":-217872.21527831242},180559120.19324911,{"$f":"+S220/1000","v":-217.87221527831241},{"$f":"+T220/1000000","v":180.5591201932491},{"$f":"+W219+1","v":47},"CAMPO 3",0.99032825126505641,100000000,689.73401405506536]
[0,"CAMPO 3",696.70087148381299,0,null,-3.5000000000000005E-3,8.0544566247711842E-3,null,2.3032814643347051E-3,4.3066408789160634E-6,5.7830096701702942E-11,null,0.92978395061728414,{"$f":"1-J221/I221/ABS(F221)","v":0.46577574577805092},0.49881135928823667,0.33300000000000002,-220072.89647650308,2.1102360192022559E-5,{"$f":"R221+Q221","v":-220072.89645540071},181668774.63022846,{"$f":"+S221/1000","v":-220.07289645540072},{"$f":"+T221/1000000","v":181.66877463022846},{"$f":"+W220+1","v":48},"CAMPO 3",1.0003313475245488,100000000,696.70087148381299]
[0,"CAMPO 3",687.99229969787848,0,null,-3.5000000000000005E-3,8.2007123532269726E-3,null,2.3032814643347051E-3,4.3066408789160634E-6,5.770142499649945E-11,null,0.92978395061728414,{"$f":"1-J222/I222/ABS(F222)","v":0.46577574577805092},0.49770150625607668,0.33300000000000002,-217322.04500559505,2.1554181677381575E-5,{"$f":"R222+Q222","v":-217322.04498404087},180279474.96041432,{"$f":"+S222/1000","v":-217.32204498404087},{"$f":"+T222/1000000","v":180.27947496041432},{"$f":"+W221+1","v":49},"CAMPO 3",0.98782747720018582,100000000,687.99229969787848]
[0,"CAMPO 3",694.52372853732936,0,null,-3.5000000000000005E-3,8.0906767029448271E-3,null,2.3032814643347051E-3,4.3066408789160634E-6,5.7802148237753056E-11,null,0.92978395061728414,{"$f":"1-J223/I223/ABS(F223)","v":0.46577574577805092},0.49857029084657778,0.33300000000000002,-219385.1836087761,2.1215781189796403E-5,{"$f":"R223+Q223","v":-219385.18358756031},181323541.85989049,{"$f":"+S223/1000","v":-219.38518358756031},{"$f":"+T223/1000000","v":181.3235418598905},{"$f":"+W222+1","v":50},"CAMPO 3",0.99720537994345593,100000000,694.52372853732936]
[0,"CAMPO 4",{"$f":"VLOOKUP($Z$10,$Z$13:$AC$108,4,FALSE)","v":661.86658434007506},0,{"$f":"-(ABS($T$5)-ABS($T$5)*$L$9/(C224-($D$4-$L$9)))","v":-6.1222611250328891E-4},{"$f":"-(ABS($T$4)-($D$4-$L$9)*ABS(E224)/$L$9)","v":2.4736202927837453E-4},null,null,{"$f":"$H$61-$L$3/ABS($T$5)*E224^2/2+$L$3*ABS(E224)","v":2.4667305165015701E-3},{"$f":"+$I$61-$L$3/ABS($T$5)*ABS(E224)^3/3+$L$3*(ABS(E224)^2)/2","v":4.3291377571213242E-6},null,null,0.99576472969339025,{"$f":"1-J224/I224/ABS($T$4)","v":0.49856845173793563},null,null,{"$f":"-$L$3*$D$3*$D$4*M224","v":-778077.28291935229},null,{"$f":"R224+Q224","v":-778077.28291935229},{"$f":"-Q224*($D$4/2-N224*$D$4)","v":2561866.9188643945},{"$f":"+S224/1000","v":-778.07728291935234},{"$f":"+T224/1000000","v":2.5618669188643945},1,"CAMPO 4",3.5367149223606922,100000000,661.86658434007506]
[0,"CAMPO 4",{"$f":"VLOOKUP($Z$10,$Z$13:$AC$108,4,FALSE)","v":661.86658434007506},0,-6.1222611250328891E-4,{"$f":"-(ABS($T$4)-($D$4-$L$9)*ABS(E225)/$L$9)","v":2.4736202927837453E-4},null,null,2.4667305165015701E-3,4.3291377571213242E-6,null,null,0.99576472969339025,{"$f":"1-J225/I225/ABS($T$4)","v":0.49856845173793563},null,null,-778077.28291935229,null,{"$f":"R225+Q225","v":-778077.28291935229},{"$f":"-Q225*($D$4/2-N225*$D$4)","v":2561866.9188643945},{"$f":"+S225/1000","v":-778.07728291935234},{"$f":"+T225/1000000","v":2.5618669188643945},{"$f":"+W224+1","v":2},"CAMPO 4",3.5367149223606922,100000000,661.86658434007506]
[0,"CAMPO 4",{"$f":"VLOOKUP(C$144,$AC$12:$AD$108,2,FALSE)","v":720.03577817531311},0,-6.1781241949253113E-4,2.8155513909164896E-4,null,null,2.4657369919976061E-3,4.3285266994904352E-6,null,null,0.99536366575368729,0.49843721444994848,null,null,-777763.89690438763,null,-777763.89690438763,2795599.8126980527,-777.76389690438759,2.7955998126980526,{"$f":"+W225+1","v":3},"CAMPO 4",3.5352904404744891,100000000,720.03577817531311]
[0,"CAMPO 4",{"$f":"+(C226-C225)/2+C225","v":690.95118125769409},0,-6.1495609782543541E-4,2.6407193943700762E-4,null,null,2.4662506030625514E-3,4.3288432840623618E-6,null,null,0.99557099921789494,0.49850499160989303,null,null,-777925.90450887324,null,-777925.90450887324,2674913.2344813896,-777.92590450887326,2.6749132344813895,4,"CAMPO 4",3.5360268386766966,100000000,690.95118125769409]
[0,"CAMPO 4",{"$f":"IF(ABS(U227)>$G$110,C227-(C227-$C$144)/2,C227+(C227-$C$144)/2)","v":676.40888279888463},0,-6.1357584284540815E-4,2.5562356554827007E-4,null,null,2.4664945841370691E-3,4.3289931536493876E-6,null,null,0.99566948899904129,0.49853723794423188,null,null,-778002.86311066395,null,-778002.86311066395,2617476.0551055628,-778.00286311066395,2.6174760551055627,5,"CAMPO 4",3.5363766505030179,100000000,676.40888279888463]
[0,"CAMPO 4",{"$f":"IF(ABS(U228)>$G$110,C228-(C228-$C$144)/2,C228+(C228-$C$144)/2)","v":669.13773356947991},0,-6.1289722573323489E-4,2.5146983223529699E-4,null,null,2.4666135340660621E-3,4.3290660981290999E-6,null,null,0.99571750646308865,0.49855297112638031,null,null,-778040.38331683772,null,-778040.38331683772,2589447.8688537395,-778.04038331683773,2.5894478688537395,6,"CAMPO 4",3.5365471968947171,100000000,669.13773356947991]
[0,"CAMPO 4",{"$f":"IF(ABS(U229)>$G$110,C229-(C229-$C$144)/2,C229+(C229-$C$144)/2)","v":665.50215895477754},0,-6.1256073893345246E-4,2.4941023720805771E-4,null,null,2.4666722684953952E-3,4.3291020864207847E-6,null,null,0.99574121625739231,0.49856074266387795,null,null,-778058.90983397595,null,-778058.90983397595,2575602.0860015284,-778.05890983397592,2.5756020860015285,7,"CAMPO 4",3.5366314083362544,100000000,665.50215895477754]
[0,"CAMPO 4",{"$f":"IF(ABS(U230)>$G$110,C230-(C230-$C$144)/2,C230+(C230-$C$144)/2)","v":663.68437164742636},0,-6.1239319413777988E-4,2.4838471576641308E-4,null,null,2.4667014529648622E-3,4.3291199612366776E-6,null,null,0.99575299738433565,0.49856460496688537,null,null,-778068.11544948781,null,-778068.11544948781,2568720.7491843635,-778.06811544948778,2.5687207491843633,8,"CAMPO 4",3.5366732520431263,100000000,663.68437164742636]
[0,"CAMPO 4",{"$f":"IF(ABS(U231)>$G$110,C231-(C231-$C$144)/2,C231+(C231-$C$144)/2)","v":662.77547799375066},0,-6.1230959554550376E-4,2.4787301888841515E-4,null,null,2.4667159998080007E-3,4.3291288690164343E-6,null,null,0.99575886962422111,0.49856653028869191,null,null,-778072.70393943775,null,-778072.70393943775,2565290.4048733469,-778.0727039394377,2.5652904048733469,9,"CAMPO 4",3.5366941088156261,100000000,662.77547799375066]
[0,"CAMPO 4",{"$f":"IF(ABS(U232)>$G$110,C232-(C232-$C$144)/3,C232+(C232-$C$144)/3)","v":662.4725134425255},0,-6.1228175503770586E-4,2.4770261050552052E-4,null,null,2.4667208420516922E-3,4.3291318339013078E-6,null,null,0.99576082433125068,0.49856717120154459,null,null,-778074.23132144788,null,-778074.23132144788,2564148.4817388551,-778.07423132144788,2.5641484817388553,10,"CAMPO 4",3.5367010514611268,100000000,662.4725134425255]
[0,"CAMPO 4",662.27053707504206,0,-6.1226320182750766E-4,2.4758904854859341E-4,null,null,2.4667240683545941E-3,4.3291338092777827E-6,null,null,0.99576212671860731,0.49856759823792274,null,null,-778075.2489895632,null,-778075.2489895632,2563387.6226670831,-778.07524898956319,2.5633876226670829,11,"CAMPO 4",3.5367056772252874,100000000,662.27053707504206]
[0,"CAMPO 4",662.13588616338643,0,-6.1225083618731617E-4,2.4751335995972824E-4,null,null,2.466726218397261E-3,4.3291351256564971E-6,null,null,0.99576299464343365,0.49856788282274989,null,null,-778075.92717445025,null,-778075.92717445025,2562880.571176073,-778.07592717445027,2.5628805711760729,12,"CAMPO 4",3.5367087598838647,100000000,662.13588616338643]
[0,"CAMPO 4",662.04611888894931,0,-6.1224259383411311E-4,2.4746290951210099E-4,null,null,2.4667276513921157E-3,4.3291360030028901E-6,null,null,0.9957635731118657,0.49856807249883572,null,null,-778076.37918197014,null,-778076.37918197014,2562542.6203211304,-778.0763791819702,2.5625426203211306,13,"CAMPO 4",3.5367108144635004,100000000,662.04611888894931]
[0,"CAMPO 4",661.9862740393246,0,-6.1223709955714233E-4,2.4742927970690647E-4,null,null,2.4667286065589889E-3,4.3291365877941091E-6,null,null,0.99576395869167544,0.49856819892861803,null,null,-778076.68046889233,null,-778076.68046889233,2562317.3568392117,-778.07668046889228,2.5623173568392117,14,"CAMPO 4",3.5367121839495104,100000000,661.9862740393246]
[0,"CAMPO 4",661.94637747290813,0,-6.1223343698363949E-4,2.4740686153722387E-4,null,null,2.4667292432644602E-3,4.329136977607655E-6,null,null,0.99576421571563778,0.49856828320583368,null,null,-778076.88130398956,null,-778076.88130398956,2562167.1976655899,-778.07688130398958,2.5621671976655898,15,"CAMPO 4",3.5367130968363161,100000000,661.94637747290813]
[0,"CAMPO 4",661.91977976196381,0,-6.1223099539143059E-4,2.4739191684645077E-4,null,null,2.466729667702582E-3,4.3291372374623462E-6,null,null,0.99576438705195069,0.49856833938650913,null,null,-778077.01518390002,null,-778077.01518390002,2562067.0988731189,-778.07701518390002,2.5620670988731189,16,"CAMPO 4",3.5367137053813638,100000000,661.91977976196381]
[0,"CAMPO 4",661.90204795466752,0,-6.1222936771815871E-4,2.4738195405510583E-4,null,null,2.4667299506470224E-3,4.3291374106894727E-6,null,null,0.99576450127038374,0.49856837683845467,null,null,-778077.10443266062,null,-778077.10443266062,2562000.3695999719,-778.07710443266058,2.5620003695999718,17,"CAMPO 4",3.5367141110575484,100000000,661.90204795466752]
[0,"CAMPO 4",661.89022674980333,0,-6.1222828262702869E-4,2.4737531234346379E-4,null,null,2.4667301392702909E-3,4.3291375261700755E-6,null,null,0.99576457741343893,0.49856840180560158,null,null,-778077.16392982868,null,-778077.16392982868,2561955.8848646292,-778.07716392982866,2.5619558848646293,18,{"$f":"B241","v":"CAMPO 4"},{"$f":"ABS(S241)/($G$110*1000)","v":3.5367143814992215},{"$f":"IF(A241=0,10^8,ABS(1*10^5-ABS(Y241)*10^5))","v":100000000},{"$f":"C241","v":661.89022674980333}]
[{"$f":"IF($AB$10=B242,IF(ABS((ROUND(ABS(U242/100),1))-(ROUND(ABS($G$110/100),1)))=0,1,0),0)","v":0},"CAMPO 4",661.88234594656058,{"$f":"IF(A242=0,0,C242)","v":0},-6.1222755924377923E-4,2.4737088460203508E-4,null,null,2.4667302650163113E-3,4.3291376031552992E-6,null,null,{"$f":"I242/($L$3*ABS($T$4))","v":0.99576462817433531},0.49856841845000344,null,null,-778077.20359371637,null,-778077.20359371637,2561926.2290165927,-778.07720359371638,2.5619262290165925,19,"CAMPO 4",3.5367145617896201,100000000,661.88234594656058]
[0,"CAMPO 4",661.87709207773207,0,-6.1222707699309605E-4,2.47367932803898E-4,null,null,2.4667303488457356E-3,4.3291376544779631E-6,null,null,0.99576466201442582,0.49856842954610991,null,null,-778077.2300359119,null,-778077.2300359119,2561906.4587373207,-778.07723003591195,2.5619064587373206,20,"CAMPO 4",3.5367146819814179,100000000,661.87709207773207]
[0,"CAMPO 4",661.87358949851307,0,-6.1222675549478121E-4,2.4736596495157507E-4,null,null,2.4667304047314605E-3,4.329137688692707E-6,null,null,0.99576468457426093,0.49856843694344266,null,null,-778077.24766386626,null,-778077.24766386626,2561893.2786778375,-778.07724766386627,2.5618932786778377,21,"CAMPO 4",3.5367147621084829,100000000,661.87358949851307]
[0,"CAMPO 4",661.8712544457004,0,-6.1222654116352263E-4,2.4736465305584933E-4,null,null,2.4667304419883616E-3,4.329137711502376E-6,null,null,0.99576469961405056,0.49856844187496563,null,null,-778077.25941575738,null,-778077.25941575738,2561884.4920285386,-778.07725941575734,2.5618844920285384,22,"CAMPO 4",3.5367148155261701,100000000,661.8712544457004]
[0,"CAMPO 4",661.86969774382533,0,-6.1222639827643983E-4,2.4736377846128763E-4,null,null,2.4667304668261861E-3,4.3291377267087493E-6,null,null,0.99576470964053276,0.49856844516263366,null,null,-778077.2672503168,null,-778077.2672503168,2561878.6342870221,-778.07726725031682,2.5618786342870221,23,"CAMPO 4",3.5367148511378037,100000000,661.86969774382533]
[0,"CAMPO 4",661.86865994257528,0,-6.1222630301857248E-4,2.4736319539939633E-4,null,null,2.4667304833846868E-3,4.3291377368462989E-6,null,null,0.99576471632483443,0.4985684473544062,null,null,-778077.27247334097,null,-778077.27247334097,2561874.7291369811,-778.07727247334094,2.561874729136981,24,"CAMPO 4",3.5367148748788226,100000000,661.86865994257528]
[0,"CAMPO 4",661.86796807507517,0,-6.1222623951341117E-4,2.4736280669198068E-4,null,null,2.4667304944236651E-3,4.3291377436046519E-6,null,null,0.99576472078102662,0.49856844881558482,null,null,-778077.27595535014,null,-778077.27595535014,2561872.1257089344,-778.07727595535016,2.5618721257089345,25,"CAMPO 4",3.5367148907061372,100000000,661.86796807507517]
[0,"CAMPO 4",661.86750683007517,0,-6.1222619717667408E-4,2.4736254755392982E-4,null,null,2.4667305017829744E-3,4.3291377481102141E-6,null,null,0.99576472375181757,0.49856844978970283,null,null,-778077.27827668667,null,-778077.27827668667,2561870.3900922784,-778.07727827668668,2.5618703900922783,26,"CAMPO 4",3.5367149012576666,100000000,661.86750683007517]
[0,"CAMPO 4",{"$f":"IF(ABS(U249)>$G$110,C249-(C249-$C$144)/4,C249+(C249-$C$144)/4)","v":661.86727620757517},0,-6.1222617600831665E-4,2.4736241798497312E-4,null,null,2.4667305054626261E-3,4.329137750362994E-6,null,null,0.99576472523721182,0.49856845027676133,null,null,-778077.27943735383,null,-778077.27943735383,2561869.5222847387,-778.07727943735381,2.5618695222847387,27,"CAMPO 4",3.5367149065334265,100000000,661.86727620757517]
[0,"CAMPO 4",{"$f":"IF(ABS(U250)>$G$110,C250-(C250-$C$144)/4,C250+(C250-$C$144)/4)","v":661.86710324070009},0,-6.1222616013205345E-4,2.4736232080828499E-4,null,null,2.4667305082223638E-3,4.3291377520525765E-6,null,null,0.99576472635125712,0.49856845064205524,null,null,-778077.28030785406,null,-778077.28030785406,2561868.871429082,-778.07728030785404,2.5618688714290818,28,"CAMPO 4",3.5367149104902458,100000000,661.86710324070009]
[0,"CAMPO 4",{"$f":"IF(ABS(U251)>$G$110,C251-(C251-$C$144)/4,C251+(C251-$C$144)/4)","v":661.8669735155438},0,-6.1222614822485882E-4,2.4736224792578591E-4,null,null,2.4667305102921665E-3,4.3291377533197641E-6,null,null,0.99576472718679088,0.49856845091602553,null,null,-778077.280960729,null,-778077.280960729,2561868.3832876473,-778.07728096072901,2.5618683832876474,29,"CAMPO 4",3.536714913457859,100000000,661.8669735155438]
[0,"CAMPO 4",{"$f":"IF(ABS(U252)>$G$110,C252-(C252-$C$144)/4,C252+(C252-$C$144)/4)","v":661.86687622167665},0,-6.1222613929446431E-4,2.4736219326392059E-4,null,null,2.4667305118445176E-3,4.3291377542701545E-6,null,null,0.99576472781344083,0.49856845112150305,null,null,-778077.28145038488,null,-778077.28145038488,2561868.0171817462,-778.07728145038493,2.5618680171817463,30,"CAMPO 4",3.5367149156835676,100000000,661.86687622167665]
[null,null,null,null,null,null,null,null,null,null,null,null,null,null,null,null,null,null,null,null,null,null,null,null,{"$f":"MINA(Z113:Z253)","v":72.726164565086947}]
[]
[null,null,null,null,null,null,null,null,null,null,null,null,null,null,null,null,null,null,null,null,null,null,"y(verifica)",{"$f":"VLOOKUP(Y254,Z113:AA253,2,FALSE)","v":710.94684163855709}]
[]
[]
[null,null,1,{"$f":"+C259+1","v":2},3,4,5,6,7,8,9,10,11,12,13,14,15,16,17,18,19,21]
[null,null,"Y[mm]","εm_inf [-]","εm_sup [-]","εf_inf [-]","εf_sup [-]","A(σ-ε)","Sy(σ-ε)","A(σ-ε)","Sy(σ-ε)","β1","β2","k1","k2","C  [N]","T  [N]","Ned  [N]","MRd  [Nmm]","Ned  [kN]","MRd  [kNm]"]
[null,{"$f":"V261","v":"CAMPO 2B"},{"$f":"X256","v":710.94684163855709},{"$f":"VLOOKUP($X$256,MNPR!$D$114:$V$253,D259,FALSE)","v":0},{"$f":"VLOOKUP($X$256,MNPR!$D$114:$V$253,E259,FALSE)","v":-3.4360535486517574E-3},{"$f":"VLOOKUP($X$256,MNPR!$D$114:$V$253,F259,FALSE)","v":7.6800000000000002E-3},{"$f":"VLOOKUP($X$256,MNPR!$D$114:$V$253,G259,FALSE)","v":0},{"$f":"VLOOKUP($X$256,MNPR!$D$114:$V$253,H259,FALSE)","v":2.258021587102671E-3},{"$f":"VLOOKUP($X$256,MNPR!$D$114:$V$253,I259,FALSE)","v":4.1496784128726662E-6},{"$f":"VLOOKUP($X$256,MNPR!$D$114:$V$253,J259,FALSE)","v":0},{"$f":"VLOOKUP($X$256,MNPR!$D$114:$V$253,K259,FALSE)","v":0},{"$f":"VLOOKUP($X$256,MNPR!$D$114:$V$253,L259,FALSE)","v":0.91151353594635753},{"$f":"VLOOKUP($X$256,MNPR!$D$114:$V$253,M259,FALSE)","v":0.46515686152111346},{"$f":"VLOOKUP($X$256,MNPR!$D$114:$V$253,N259,FALSE)","v":0},{"$f":"VLOOKUP($X$256,MNPR!$D$114:$V$253,O259,FALSE)","v":0},{"$f":"VLOOKUP($X$256,MNPR!$D$114:$V$253,P259,FALSE)","v":-220159.99758203322},{"$f":"VLOOKUP($X$256,MNPR!$D$114:$V$253,Q259,FALSE)","v":1.9990034483681617E-5},{"$f":"VLOOKUP($X$256,MNPR!$D$114:$V$253,R259,FALSE)","v":-220159.99756204319},{"$f":"VLOOKUP($X$256,MNPR!$D$114:$V$253,S259,FALSE)","v":180376689.39882725},{"$f":"VLOOKUP($X$256,MNPR!$D$114:$V$253,T259,FALSE)","v":-220.1599975620432},{"$f":"VLOOKUP($X$256,MNPR!$D$114:$V$253,U259,FALSE)","v":180.37668939882727},{"$f":"VLOOKUP($X$256,MNPR!$D$114:$X$253,V259,FALSE)","v":"CAMPO 2B"}]
[]
[]
[]
[null,null,"β1",{"$f":"MNPR!L261","v":0.91151353594635753}]
[null,null,"β2",{"$f":"MNPR!M261","v":0.46515686152111346}]
[null,null,"k1",{"$f":"MNPR!N261","v":0}]
[null,null,"k2",{"$f":"MNPR!O261","v":0}]
[null,null,"C  [kN]",{"$f":"MNPR!P261/1000","v":-220.15999758203321}]
[null,null,"T  [kN]",{"$f":"MNPR!Q261/1000","v":1.9990034483681618E-8}]

{"sheet":"MNFP","index":10,"n_rows":270,"n_cols":32,"rows_kept":270,"cut":false,"hidden":true,"merged":[[2,25,6,26],[10,25,10,26],[2,6,2,8],[10,7,10,8],[10,9,10,10],[12,0,27,0],[28,0,38,0],[39,0,49,0],[50,0,60,0],[61,0,107,0]]}
[]
[null,"LUNGHEZZA PARETE=B",null,{"$f":"INPUT!F38*1000","v":2300},"mm"]
[null,"SPESSORE parete=H",null,{"$f":"INPUT!F39*1000","v":420},"mm",null,"FUORI PIANO",null,null,null,null,null,null,null,null,null,null,null,null,null,null,null,null,null,null,"FRCM non operativo sulla muratura non rinforzata"]
[null,null,"facce",{"$f":"10^-9","v":1.0000000000000001E-9},"-",null,null,null,null,null,"fmd",{"$f":"MATERIALI!K27","v":0.47185185185185174},"N/mm2",null,null,null,null,null,null,null,null,"εmu",{"$f":"MATERIALI!J38","v":-3.5000000000000001E-3},"[‰]"]
[null,null,"nf",1,"-",null,"facce","entrambi",1,1,"Ed",{"$f":"MATERIALI!J30","v":816.00000000000011},"N/mm2",null,null,null,null,null,null,null,null,"εm1",{"$f":"MATERIALI!J37","v":-5.7824981844589664E-4},"[‰]"]
[null,null,"tVf",6.3E-2,"mm",null,"lato esterno","lato interno",0,0,"Ef",52000,"N/mm2"]
[null,null,"a",1,"-",null,null,"lato esterno",0,1,"ffd",{"$f":"+D4*D5*D6*D8*D7*L6*W7/D9","v":1.5095808E-8},"N/mm2",null,null,null,null,null,null,null,null,"εfd",7.6800000000000002E-3,"[‰]"]
[null,null,"η",0.9,"-",null,null,null,null,null,"Seq",{"$f":"+D4*D5*D6","v":6.3000000000000002E-11},null,null,null,null,null,null,null,null,null,null,null,null,null,{"$f":"IF(ABS('FOGLIO DEPOSITO'!F304)<AC9,AC9,ABS('FOGLIO DEPOSITO'!F304))","v":220}]
[null,null,"γmFRCM",1.5,"-",null,null,null,null,null,"RO",{"$f":"$W$5/$W$4*$D$3","v":69.38997821350759},null,null,null,null,null,null,null,null,null,null,null,null,null,"Ned  [kN]","MRd  [kNm]",null,{"$f":"MINA(AE13:AE108)","v":2.3124194386485359E-3}]
[null,null,null,null,null,null,null,null,null,null,null,null,null,null,null,null,null,null,null,null,null,null,null,null,null,{"$f":"VLOOKUP(AA10,AA13:AB108,2,)","v":217.08197148236871},{"$f":"VLOOKUP(Z8,Z13:AA108,2,TRUE)","v":23.817324912267377},{"$f":"VLOOKUP(Z8,Z13:AF108,7,TRUE)","v":"CAMPO 3"}]
[null,null,null,null,null,null,null,"muratura",null,"FRCM",null,null,null,null,null,null,"esterno","interno",null,null,null,null,null,null,null,"COPPIA DI VERIFICA",null,null,"y",{"$f":"AC13","v":-100000000000}]
[null,null,"Y[mm]","εm_inf [-]","εm_sup [-]","εf_inf [-]","εf_sup [-]","A(σ-ε)","Sy(σ-ε)","A(σ-ε)","Sy(σ-ε)","β1","β2","k1","k2","C  [N]","TINF [N]","TSUP [N]","Ned  [N]","MRd  [Nmm]","Ned  [kN]","MRd  [kNm]","-MRd  [kNm]",null,null,"Ned  [kN]","MRd  [kNm]",null,-100000000000,-5000]
["CAMPO 1",{"$f":"+B14+1","v":14},-100000000000,null,null,{"$f":"$W$7","v":7.6800000000000002E-3},{"$f":"+$W$7*(ABS(C13)/(ABS(C13)+($D$3)))","v":7.6799999677440002E-3},null,null,null,null,null,null,null,null,0,{"$f":"VLOOKUP($G$6,$H$5:$J$7,3,FALSE)*$L$8*($D$2)*$L$6*$W$7","v":5.7867264000000002E-5},{"$f":"VLOOKUP($G$6,$H$5:$I$7,2,FALSE)*$L$8*($D$2)*$L$6*G13","v":0},{"$f":"Q13+P13+R13","v":5.7867264000000002E-5},{"$f":"+Q13*$D$3/2-R13*$D$3/2","v":1.215212544E-2},{"$f":"+S13/1000","v":5.7867264000000003E-8},0,{"$f":"-V13","v":0},null,null,{"$f":"IF(U13>0,0,ABS(U13))","v":0},{"$f":"IF(U13>0,0,V13)","v":0},{"$f":"Z13","v":0},{"$f":"C13","v":-100000000000},-4615.3846153846152,{"$f":"IF(Z13=0,10^7,Z13)","v":10000000},"CAMPO 1"]
[null,13,-5000,null,null,7.6800000000000002E-3,7.0848708487084872E-3,null,null,null,null,null,null,null,null,0,5.7867264000000002E-5,0,{"$f":"Q14+P14+R14","v":5.7867264000000002E-5},1.215212544E-2,{"$f":"+S14/1000","v":5.7867264000000003E-8},{"$f":"+T14/1000000","v":1.215212544E-8},{"$f":"-V14","v":-1.215212544E-8},null,null,{"$f":"IF(U14>0,0,ABS(U14))","v":0},{"$f":"IF(U14>0,0,V14)","v":0},{"$f":"Z14","v":0},-5000,-4230.7692307692314,{"$f":"IF(Z14=0,10^7,Z14)","v":10000000},"CAMPO 1"]
[null,12,{"$f":"+$C$14/$B$14*B15","v":-4615.3846153846152},null,null,7.6800000000000002E-3,7.0394133822181482E-3,null,null,null,null,null,null,null,null,0,5.7867264000000002E-5,0,5.7867264000000002E-5,1.215212544E-2,{"$f":"+S15/1000","v":5.7867264000000003E-8},{"$f":"+T15/1000000","v":1.215212544E-8},-1.215212544E-8,null,null,0,0,0,-4615.3846153846152,-4230.7692307692314,10000000,"CAMPO 1"]
[null,{"$f":"+B18+1","v":11},-4230.7692307692314,null,null,7.6800000000000002E-3,6.9864373139265634E-3,null,null,null,null,null,null,null,null,0,5.7867264000000002E-5,0,5.7867264000000002E-5,1.215212544E-2,5.7867264000000003E-8,1.215212544E-8,-1.215212544E-8,null,null,0,0,0,-4230.7692307692314,-3846.1538461538466,10000000,"CAMPO 1"]
[null,11,-4230.7692307692314,null,null,7.6800000000000002E-3,6.9864373139265634E-3,null,null,null,null,null,null,null,null,0,5.7867264000000002E-5,0,5.7867264000000002E-5,1.215212544E-2,5.7867264000000003E-8,1.215212544E-8,-1.215212544E-8,null,null,0,0,0,-4230.7692307692314,-3461.5384615384619,10000000,"CAMPO 1"]
[null,10,-3846.1538461538466,null,null,7.6800000000000002E-3,6.9239091236927511E-3,null,null,null,null,null,null,null,null,0,5.7867264000000002E-5,0,5.7867264000000002E-5,1.215212544E-2,5.7867264000000003E-8,1.215212544E-8,-1.215212544E-8,null,null,0,0,0,-3846.1538461538466,-3076.9230769230771,10000000,"CAMPO 1"]
[null,9,-3461.5384615384619,null,null,7.6800000000000002E-3,6.8489892984542212E-3,null,null,null,null,null,null,null,null,0,5.7867264000000002E-5,0,5.7867264000000002E-5,1.215212544E-2,5.7867264000000003E-8,1.215212544E-8,-1.215212544E-8,null,null,0,0,0,-3461.5384615384619,-2692.3076923076924,10000000,"CAMPO 1"]
[null,8,-3076.9230769230771,null,null,7.6800000000000002E-3,6.7575890893092827E-3,null,null,null,null,null,null,null,null,0,5.7867264000000002E-5,0,5.7867264000000002E-5,1.215212544E-2,5.7867264000000003E-8,1.215212544E-8,-1.215212544E-8,null,null,0,0,0,-3076.9230769230771,-2307.6923076923076,10000000,"CAMPO 1"]
[null,7,-2692.3076923076924,null,null,7.6800000000000002E-3,6.6435986159169551E-3,null,null,null,null,null,null,null,null,0,5.7867264000000002E-5,0,5.7867264000000002E-5,1.215212544E-2,5.7867264000000003E-8,1.215212544E-8,-1.215212544E-8,null,null,0,0,0,-2692.3076923076924,-1923.0769230769233,10000000,"CAMPO 1"]
[null,6,-2307.6923076923076,null,null,7.6800000000000002E-3,6.4974619289340108E-3,null,null,null,null,null,null,null,null,0,5.7867264000000002E-5,0,5.7867264000000002E-5,1.215212544E-2,5.7867264000000003E-8,1.215212544E-8,-1.215212544E-8,null,null,0,0,0,-2307.6923076923076,-1538.4615384615386,10000000,"CAMPO 1"]
[null,5,-1923.0769230769233,null,null,7.6800000000000002E-3,6.3033486539724234E-3,null,null,null,null,null,null,null,null,0,5.7867264000000002E-5,0,5.7867264000000002E-5,1.215212544E-2,5.7867264000000003E-8,1.215212544E-8,-1.215212544E-8,null,null,0,0,0,-1923.0769230769233,-1153.8461538461538,10000000,"CAMPO 1"]
[null,4,-1538.4615384615386,null,null,7.6800000000000002E-3,6.0329929300864098E-3,null,null,null,null,null,null,null,null,0,5.7867264000000002E-5,0,5.7867264000000002E-5,1.215212544E-2,5.7867264000000003E-8,1.215212544E-8,-1.215212544E-8,null,null,0,0,0,-1538.4615384615386,-769.23076923076928,10000000,"CAMPO 1"]
[null,3,-1153.8461538461538,null,null,7.6800000000000002E-3,5.6304985337243402E-3,null,null,null,null,null,null,null,null,0,5.7867264000000002E-5,0,5.7867264000000002E-5,1.215212544E-2,5.7867264000000003E-8,1.215212544E-8,-1.215212544E-8,null,null,0,0,0,-1153.8461538461538,-384.61538461538464,10000000,"CAMPO 1"]
[null,2,-769.23076923076928,null,null,7.6800000000000002E-3,4.9676584734799486E-3,null,null,null,null,null,null,null,null,0,5.7867264000000002E-5,0,5.7867264000000002E-5,1.215212544E-2,5.7867264000000003E-8,1.215212544E-8,-1.215212544E-8,null,null,0,0,0,-769.23076923076928,0,10000000,"CAMPO 1"]
[null,{"$f":"+B28+1","v":1},-384.61538461538464,null,null,7.6800000000000002E-3,3.6711281070745702E-3,null,null,null,null,null,null,null,null,0,5.7867264000000002E-5,0,5.7867264000000002E-5,1.215212544E-2,5.7867264000000003E-8,1.215212544E-8,-1.215212544E-8,null,null,0,0,0,-384.61538461538464,0,10000000,"CAMPO 1"]
[null,0,{"$f":"+$C$14/$B$14*B28","v":0},null,null,7.6800000000000002E-3,0,null,null,null,null,null,null,null,null,0,5.7867264000000002E-5,0,5.7867264000000002E-5,1.215212544E-2,5.7867264000000003E-8,1.215212544E-8,-1.215212544E-8,null,null,0,0,0,0,2.940876445815499,10000000,"CAMPO 1"]
["CAMPO 2A",0,{"$f":"+$C$39/$B$39*B29","v":0},null,{"$f":"-$W$7*C29/($D$3-C29)","v":0},7.6800000000000002E-3,null,{"$f":"$L$4/ABS($W$5)*ABS(E29)^2/2","v":0},{"$f":"+$L$4/(ABS($W$5))*ABS(E29)^3/3","v":0},null,null,{"$f":"H29/($L$4*ABS($W$4))","v":0},0,null,null,{"$f":"-$L$4*$D$2*C29*L29","v":0},{"$f":"$L$8*$D$2*$L$6*$W$7","v":5.7867264000000002E-5},null,{"$f":"Q29+P29","v":5.7867264000000002E-5},{"$f":"-P29*($D$3/2-M29*C29)+Q29*($D$3/2)","v":1.215212544E-2},{"$f":"+S29/1000","v":5.7867264000000003E-8},1.215212544E-8,-1.215212544E-8,null,null,0,0,0,0,5.881752891630998,10000000,"CAMPO 2A"]
[null,{"$f":"+B29+1","v":1},2.940876445815499,null,-5.4155226029790132E-5,7.6800000000000002E-3,null,1.1965777105857649E-6,4.3200624252653932E-11,null,null,7.245480642703669E-4,{"$f":"1-I30/H30/ABS(E30)","v":0.33333333333333337},null,null,-2.3124773059125361,5.7867264000000002E-5,null,-2.3124194386485359,483.36548302025892,{"$f":"+S30/1000","v":-2.3124194386485359E-3},{"$f":"+T30/1000000","v":4.8336548302025891E-4},-4.8336548302025891E-4,null,null,2.3124194386485359E-3,4.8336548302025891E-4,2.3124194386485359E-3,2.940876445815499,8.8226293374464966,2.3124194386485359E-3,"CAMPO 2A"]
[null,{"$f":"+B30+1","v":2},5.881752891630998,null,-1.0907962284478909E-4,7.6800000000000002E-3,null,4.8545325609442666E-6,3.5302038722369914E-10,null,null,2.9395016628278813E-3,{"$f":"1-I31/H31/ABS(E31)","v":0.33333333333333337},null,null,-18.763505752587651,5.7867264000000002E-5,null,-18.76344788532365,3903.5609254297074,{"$f":"+S31/1000","v":-1.876344788532365E-2},{"$f":"+T31/1000000","v":3.9035609254297072E-3},-3.9035609254297072E-3,null,null,1.876344788532365E-2,3.9035609254297072E-3,1.876344788532365E-2,5.881752891630998,11.763505783261996,1.876344788532365E-2,"CAMPO 2A"]
[null,3,8.8226293374464966,null,-1.6478969453597873E-4,7.6800000000000002E-3,null,1.1079502517506563E-5,1.2171918903136759E-9,null,null,6.7088263730136185E-3,0.33333333333333337,null,null,-64.235940313460333,5.7867264000000002E-5,null,-64.235882446196328,13300.649654109446,-6.4235882446196324E-2,1.3300649654109445E-2,-1.3300649654109445E-2,null,null,6.4235882446196324E-2,1.3300649654109445E-2,6.4235882446196324E-2,8.8226293374464966,14.704382229077495,6.4235882446196324E-2,"CAMPO 2A"]
[null,4,11.763505783261996,null,-2.2130242076664387E-4,7.6800000000000002E-3,null,1.9981702666368095E-5,2.9479994474043746E-9,null,null,1.2099259295625447E-2,0.33333333333333337,null,null,-154.46463206087381,5.7867264000000002E-5,null,-154.46457419360982,31831.903020723101,-0.15446457419360982,3.1831903020723099E-2,-3.1831903020723099E-2,null,null,0.15446457419360982,3.1831903020723099E-2,0.15446457419360982,11.763505783261996,17.645258674892993,0.15446457419360982,"CAMPO 2A"]
[null,5,14.704382229077495,null,-2.7863527402643729E-4,7.6800000000000002E-3,null,3.1676147300169423E-5,5.8840613220563331E-9,null,null,1.9180443532284694E-2,0.33333333333333326,null,null,-306.08280232182295,5.7867264000000002E-5,null,-306.08274445455896,62777.147800012506,-0.30608274445455896,6.2777147800012506E-2,-6.2777147800012506E-2,null,null,0.30608274445455896,6.2777147800012506E-2,0.30608274445455896,14.704382229077495,20.586135120708494,0.30608274445455896,"CAMPO 2A"]
[null,6,17.645258674892993,null,-3.3680623764212119E-4,7.6800000000000002E-3,null,4.6282884219573539E-5,1.0392242734146976E-8,null,null,2.8025070058947874E-2,0.33333333333333337,null,null,-536.67113366609863,5.7867264000000002E-5,null,-536.67107579883464,109544.38322971067,-0.53667107579883466,0.10954438322971068,-0.10954438322971068,null,null,0.53667107579883466,0.10954438322971068,0.53667107579883466,17.645258674892993,{"$f":"AC37","v":23.527011566523992},0.53667107579883466,"CAMPO 2A"]
[null,7,20.586135120708494,null,-3.9583382458398568E-4,7.6800000000000002E-3,null,6.3927242007392505E-5,1.6869709799261472E-8,null,null,3.8709027454577216E-2,0.33333333333333337,null,null,-864.8097532212438,5.7867264000000002E-5,null,-864.80969535397981,175675.69685074696,-0.86480969535397978,0.17567569685074697,-0.17567569685074697,null,null,0.86480969535397978,0.17567569685074697,0.86480969535397978,20.586135120708494,26.46788801233949,0.86480969535397978,"CAMPO 2A"]
[null,8,23.527011566523992,null,-4.5573709710925668E-4,7.6800000000000002E-3,null,8.4740091086081405E-5,2.5746135413563159E-8,null,null,5.1311559975873479E-2,0.33333333333333326,null,null,-1310.1332963429222,5.7867264000000002E-5,null,-1310.1332384756581,264853.49731188972,-1.3101332384756581,0.26485349731188973,-0.26485349731188973,null,null,1.3101332384756581,0.26485349731188973,1.3101332384756581,23.527011566523992,29.408764458154991,1.3101332384756581,"CAMPO 2A"]
[null,9,26.46788801233949,null,-5.1653568728627936E-4,7.6800000000000002E-3,null,1.0885811942604607E-4,3.7486069022949724E-8,null,null,6.5915434503324613E-2,0.33333333333333337,null,null,-1893.3892521901917,5.7867264000000002E-5,null,-1893.3891943229276,380907.08354848658,-1.8933891943229275,0.38090708354848657,-0.38090708354848657,null,null,1.8933891943229275,0.38090708354848657,1.8933891943229275,26.46788801233949,29.408764458154991,1.8933891943229275,"CAMPO 2A"]
[null,10,{"$f":"ABS($W$5)*ABS($D$3)/(ABS($W$7)+ABS($W$5))","v":29.408764458154991},null,-5.7824981844589664E-4,7.6800000000000002E-3,null,1.3642412383334669E-4,5.2591483225515491E-8,null,null,8.2607116920842369E-2,0.33333333333333337,null,null,-2636.4998073478973,5.7867264000000002E-5,null,-2636.4997494806335,527819.57108576212,-2.6364997494806333,0.52781957108576216,-0.52781957108576216,null,null,2.6364997494806333,0.52781957108576216,2.6364997494806333,29.408764458154991,39.616367439888684,2.6364997494806333,"CAMPO 2A"]
["CAMPO 2B",0,{"$f":"+($C$50-$C$39)/$B$50*B40+$C$39","v":29.408764458154991},null,-5.7824981844589664E-4,7.6800000000000002E-3,null,{"$f":"$L$4*(ABS(E40)-ABS($W$5)/2)","v":1.3642412383334669E-4},{"$f":"$I$39+$L$4*(ABS(E40)^2-ABS($W$5)^2)/2","v":5.2591483225515491E-8},null,null,8.2607116920842369E-2,{"$f":"1-I40/H40/ABS(E40)","v":0.33333333333333337},null,null,-2636.4998073478973,5.7867264000000002E-5,null,-2636.4997494806335,527819.57108576212,-2.6364997494806333,0.52781957108576216,-0.52781957108576216,null,null,2.6364997494806333,0.52781957108576216,2.6364997494806333,29.408764458154991,49.823970421622377,2.6364997494806333,"CAMPO 2B"]
[null,{"$f":"+B40+1","v":1},39.616367439888684,null,-7.998601303915579E-4,7.6800000000000002E-3,null,2.409913599143735E-4,1.2464405740836444E-7,null,null,0.14592434890531703,0.35336969311979083,null,null,-6273.8757736212719,5.7867264000000002E-5,null,-6273.8757157540076,1229684.5347892172,-6.2738757157540075,1.2296845347892171,-1.2296845347892171,null,null,6.2738757157540075,1.2296845347892171,6.2738757157540075,39.616367439888684,60.031573403356077,6.2738757157540075,"CAMPO 2B"]
[null,{"$f":"+B41+1","v":2},49.823970421622377,null,-1.033692249803121E-3,7.6800000000000002E-3,null,3.5132547848116288E-4,2.2579575026577373E-7,null,null,0.21273352588004932,0.37825134105445424,null,null,-11502.911305965119,5.7867264000000002E-5,null,-11502.911248097855,2198827.7082509287,-11.502911248097854,2.1988277082509287,-2.1988277082509287,null,null,11.502911248097854,2.1988277082509287,11.502911248097854,49.823970421622377,70.239176385089763,11.502911248097854,"CAMPO 2B"]
[null,3,60.031573403356077,null,-1.2807858958541036E-3,7.6800000000000002E-3,null,4.6791707295114506E-4,3.6072009894982537E-7,null,null,0.28333171046604438,0.39809920998950432,null,null,-18459.010187590124,5.7867264000000002E-5,null,-18459.010129722861,3435249.0914708986,-18.459010129722863,3.4352490914708986,-3.4352490914708986,null,null,18.459010129722863,3.4352490914708986,18.459010129722863,60.031573403356077,80.446779366823463,18.459010129722863,"CAMPO 2B"]
[null,4,70.239176385089763,null,-1.5423021625526996E-3,7.6800000000000002E-3,null,5.9131400768226022E-4,5.3490030539153293E-7,null,null,0.35805064380850032,0.41347677867552501,null,null,-27293.382981287938,5.7867264000000002E-5,null,-27293.382923420675,4938948.6844491204,-27.293382923420676,4.9389486844491204,-4.9389486844491204,null,null,27.293382923420676,4.9389486844491204,27.293382923420676,70.239176385089763,90.654382348557164,27.293382923420676,"CAMPO 2B"]
[null,5,80.446779366823463,null,-1.8195417625110819E-3,7.6800000000000002E-3,null,7.2213002632928952E-4,7.5479182418630579E-7,null,null,0.43726195808232388,0.42555327765140483,null,null,-38175.42293577794,5.7867264000000002E-5,null,-38175.422877910678,6709926.4871856049,-38.175422877910677,6.709926487185605,-6.709926487185605,null,null,38.175422877910677,6.709926487185605,38.175422877910677,{"$f":"C45","v":80.446779366823463},100.86198533029085,38.175422877910677,"CAMPO 2B"]
[null,6,90.654382348557164,null,-2.11396666335411E-3,7.6800000000000002E-3,null,8.6105496102337024E-4,1.0280230247772749E-6,null,null,0.52138335832318905,0.43522711990462981,null,null,-51295.523719254161,5.7867264000000002E-5,null,-51295.523661386898,8748182.4996803459,-51.295523661386895,8.748182499680345,-8.748182499680345,null,null,51.295523661386895,8.748182499680345,51.295523661386895,90.654382348557164,111.06958831202455,51.295523661386895,"CAMPO 2B"]
[null,7,100.86198533029085,null,-2.4272258763604962E-3,7.6800000000000002E-3,null,1.0088669007900872E-3,1.3636442638519547E-6,null,null,0.61088599061072801,0.44312589583321371,null,null,-66868.437902778081,5.7867264000000002E-5,null,-66868.437844910819,11053716.721933337,-66.868437844910815,11.053716721933338,-11.053716721933338,null,null,66.868437844910815,11.053716721933338,66.868437844910815,100.86198533029085,121.27719129375825,66.868437844910815,"CAMPO 2B"]
[null,8,111.06958831202455,null,-2.7611863577157517E-3,7.6800000000000002E-3,null,1.1664467723629002E-3,1.7724389306082285E-6,null,null,0.70630327099794377,0.44968590577135026,null,null,-85137.301264784415,5.7867264000000002E-5,null,-85137.301206917153,13626529.153944593,-85.137301206917158,13.626529153944594,-13.626529153944594,null,null,85.137301206917158,13.626529153944594,85.137301206917158,111.06958831202455,131.48479427549194,85.137301206917158,"CAMPO 2B"]
[null,9,{"$f":"+($C$50-$C$39)/$B$50*B49+$C$39","v":121.27719129375825},null,-3.1179702452918249E-3,7.6800000000000002E-3,null,1.3347959104265733E-3,2.2673144039370672E-6,null,null,0.80824152459110754,0.4552152860605585,null,null,-106378.48217826811,5.7867264000000002E-5,null,-106378.48212040085,16466619.795714101,-106.37848212040085,16.466619795714102,-16.466619795714102,null,null,106.37848212040085,16.466619795714102,106.37848212040085,121.27719129375825,131.48479427549194,106.37848212040085,"CAMPO 2B"]
[null,10,{"$f":"ABS($W$4)*ABS($D$3)/(ABS($W$7)+ABS($W$4))","v":131.48479427549194},null,-3.4999999999999992E-3,7.6800000000000002E-3,null,1.5150573576481342E-3,2.8637968509798331E-6,null,null,0.91739288307915745,0.4599361749718297,null,null,-130907.46041932894,5.7867264000000002E-5,null,-130907.46036146168,19573988.647241861,-130.90746036146169,19.573988647241862,-19.573988647241862,null,null,130.90746036146169,19.573988647241862,130.90746036146169,131.48479427549194,160.33631484794273,130.90746036146169,"CAMPO 2B"]
["CAMPO 3",0,{"$f":"+($C$61-$C$50)/$B$61*B51+$C$50","v":131.48479427549194},null,-3.5000000000000005E-3,{"$f":"ABS($W$4)*($D$3-C51)/C51","v":7.6800000000000019E-3},null,{"$f":"$H$50","v":1.5150573576481342E-3},{"$f":"$I$50","v":2.8637968509798331E-6},null,null,0.91739288307915745,0.45993617497182993,null,null,-130907.46041932894,{"$f":"$L$8*$D$2*$L$6*F51","v":5.7867264000000016E-5},null,-130907.46036146168,19573988.647241857,-130.90746036146169,19.573988647241858,-19.573988647241858,null,null,130.90746036146169,19.573988647241858,130.90746036146169,131.48479427549194,189.18783542039355,130.90746036146169,"CAMPO 3"]
[null,{"$f":"+B51+1","v":1},160.33631484794273,null,-3.5000000000000005E-3,5.6682286785379584E-3,null,{"$f":"$H$50","v":1.5150573576481342E-3},{"$f":"$I$50","v":2.8637968509798331E-6},null,null,0.91739288307915745,0.45993617497182993,null,null,-159632.29744848455,4.270896944704781E-5,null,-159632.29740577558,21750783.085791271,-159.63229740577557,21.750783085791273,-21.750783085791273,null,null,159.63229740577557,21.750783085791273,159.63229740577557,160.33631484794273,218.03935599284435,159.63229740577557,"CAMPO 3"]
[null,{"$f":"+B52+1","v":2},189.18783542039355,null,-3.5000000000000005E-3,4.2700555996822874E-3,null,1.5150573576481342E-3,2.8637968509798331E-6,null,null,0.91739288307915745,0.45993617497182993,null,null,-188357.13447764015,3.2174014932486102E-5,null,-188357.13444546613,23165228.507594913,-188.35713444546613,23.165228507594914,-23.165228507594914,null,null,188.35713444546613,23.165228507594914,188.35713444546613,189.18783542039355,246.89087656529517,188.35713444546613,"CAMPO 3"]
[null,3,218.03935599284435,null,-3.5000000000000005E-3,3.2419021364576157E-3,null,1.5150573576481342E-3,2.8637968509798331E-6,null,null,0.91739288307915745,0.45993617497182993,null,null,-217081.97150679579,2.4427084217780843E-5,null,-217081.97148236871,23817324.912267376,-217.08197148236871,23.817324912267377,-23.817324912267377,null,null,217.08197148236871,23.817324912267377,217.08197148236871,218.03935599284435,275.74239713774597,217.08197148236871,"CAMPO 3"]
[null,4,246.89087656529517,null,-3.5000000000000005E-3,2.4540474741326841E-3,null,1.5150573576481342E-3,2.8637968509798331E-6,null,null,0.91739288307915745,0.45993617497182993,null,null,-245806.80853595142,1.8490756908094948E-5,null,-245806.80851746065,23707072.299603399,-245.80680851746067,23.7070722996034,-23.7070722996034,null,null,245.80680851746067,23.7070722996034,245.80680851746067,246.89087656529517,304.59391771019676,245.80680851746067,"CAMPO 3"]
[null,5,275.74239713774597,null,-3.5000000000000005E-3,1.8310626702997277E-3,null,1.5150573576481342E-3,2.8637968509798331E-6,null,null,0.91739288307915745,0.45993617497182993,null,null,-274531.645565107,1.3796691008174388E-5,null,-274531.64555131033,22834470.669483621,-274.53164555131031,22.834470669483622,-22.834470669483622,null,null,274.53164555131031,22.834470669483622,274.53164555131031,275.74239713774597,333.44543828264761,274.53164555131031,"CAMPO 3"]
[null,6,304.59391771019676,null,-3.5000000000000005E-3,1.3260976813024175E-3,null,1.5150573576481342E-3,2.8637968509798331E-6,null,null,0.91739288307915745,{"$f":"1-I57/H57/ABS(E57)","v":0.45993617497182993},null,null,-303256.48259426258,9.9918808090774554E-6,null,-303256.48258427071,21199520.021833926,-303.25648258427071,21.199520021833926,-21.199520021833926,null,null,303.25648258427071,21.199520021833926,303.25648258427071,304.59391771019676,362.29695885509841,303.25648258427071,"CAMPO 3"]
[null,7,333.44543828264761,null,-3.5000000000000005E-3,9.085173501577283E-4,null,1.5150573576481342E-3,2.8637968509798331E-6,null,null,0.91739288307915745,0.45993617497182993,null,null,-331981.31962341827,6.8454965299684513E-6,null,-331981.31961657276,18802220.356605832,-331.98131961657276,18.802220356605833,-18.802220356605833,null,null,331.98131961657276,18.802220356605833,331.98131961657276,333.44543828264761,391.1484794275492,331.98131961657276,"CAMPO 3"]
[null,8,362.29695885509841,null,-3.5000000000000005E-3,5.5744504355039381E-4,null,1.5150573576481342E-3,2.8637968509798331E-6,null,null,0.91739288307915745,0.45993617497182993,null,null,-360706.15665257385,4.2002369141435076E-6,null,-360706.15664837358,15642571.673766296,-360.70615664837356,15.642571673766296,-15.642571673766296,null,null,360.70615664837356,15.642571673766296,360.70615664837356,362.29695885509841,420,360.70615664837356,"CAMPO 3"]
[null,9,{"$f":"+($C$61-$C$50)/$B$61*B60+$C$50","v":391.1484794275492},null,-3.5000000000000005E-3,2.5816365731847862E-4,null,1.5150573576481342E-3,2.8637968509798331E-6,null,null,0.91739288307915745,0.45993617497182993,null,null,-389430.99368172948,1.9452115251632726E-6,null,-389430.9936797843,11720573.973292058,-389.43099367978431,11.720573973292058,-11.720573973292058,null,null,389.43099367978431,11.720573973292058,389.43099367978431,391.1484794275492,420,389.43099367978431,"CAMPO 3"]
[null,10,{"$f":"D3","v":420},null,-3.5000000000000005E-3,0,null,1.5150573576481342E-3,2.8637968509798331E-6,null,null,{"$f":"H61/($L$4*ABS($W$4))","v":0.91739288307915745},0.45993617497182993,null,null,-418155.83071088506,0,null,-418155.83071088506,7036227.2551661981,-418.15583071088508,7.0362272551661977,-7.0362272551661977,null,null,418.15583071088508,7.0362272551661977,418.15583071088508,420,438.66666666666669,418.15583071088508,"CAMPO 3"]
["CAMPO 4",0,{"$f":"+($C$107-$C$61)/$B$107*B62+$C$61","v":420},{"$f":"-(ABS($W$5)-ABS($W$5)*$L$9/(C62-($D$3-$L$9)))","v":2.1684043449710089E-19},{"$f":"-(ABS($W$4)-($D$3-$L$9)*ABS(D62)/$L$9)","v":-3.4999999999999988E-3},null,null,{"$f":"$H$61-$L$4/ABS($W$5)*D62^2/2+$L$4*ABS(D62)","v":1.5150573576481342E-3},{"$f":"+$I$61-$L$4/ABS($W$5)*ABS(D62)^3/3+$L$4*(ABS(D62)^2)/2","v":2.8637968509798331E-6},null,null,0.91739288307915745,{"$f":"1-I62/H62/ABS($W$4)","v":0.45993617497182993},null,null,{"$f":"-$L$4*$D$2*$D$3*L62","v":-418155.83071088506},null,null,-418155.83071088506,{"$f":"-P62*($D$3/2-M62*$D$3)","v":7036227.2551661981},-418.15583071088508,7.0362272551661977,-7.0362272551661977,null,null,418.15583071088508,7.0362272551661977,418.15583071088508,420,457.33333333333331,418.15583071088508,"CAMPO 4"]
[null,{"$f":"+B62+1","v":1},{"$f":"+($C$107-$C$61)/$B$107*B63+$C$61","v":438.66666666666669},-1.2258014855867291E-4,-2.8806334911288152E-3,null,null,1.5667664634749872E-3,2.8668408583370344E-6,null,null,0.94870362219835525,0.47720518201571016,null,null,-432427.54391909647,null,null,-432427.54391909647,4139985.0051123039,-432.42754391909648,4.1399850051123037,-4.1399850051123037,null,null,432.42754391909648,4.1399850051123037,432.42754391909648,438.66666666666669,476,432.42754391909648,"CAMPO 4"]
[null,{"$f":"+B63+1","v":2},{"$f":"+($C$107-$C$61)/$B$107*B64+$C$61","v":457.33333333333331},-2.0228001651265425E-4,-2.4779302022800167E-3,null,null,1.5938093383594666E-3,2.8711990091206664E-6,null,null,0.96507854083215083,0.4852944111377413,null,null,-439891.37738721276,null,null,-439891.37738721276,2716921.9307617899,-439.89137738721274,2.71692193076179,-2.71692193076179,null,null,439.89137738721274,2.71692193076179,439.89137738721274,457.33333333333331,494.66666666666669,439.89137738721274,"CAMPO 4"]
[null,3,476,-2.5825022297899932E-4,-2.1951268953214953E-3,null,null,1.6097023871130981E-3,2.8748467010571433E-6,null,null,0.97470205095433182,0.48972879812664294,null,null,-444277.8588432151,null,null,{"$f":"Q65+P65","v":-444277.8588432151},1916572.381937424,-444.27785884321509,1.9165723819374239,-1.9165723819374239,null,null,444.27785884321509,1.9165723819374239,444.27785884321509,476,513.33333333333337,444.27785884321509,"CAMPO 4"]
[null,4,494.66666666666669,-2.9971534100265833E-4,-1.9856141341426112E-3,null,null,1.619828247790653E-3,2.8776667938946198E-6,null,null,0.98083343104614573,0.49242117881155756,null,null,-447072.59639022022,null,null,-447072.59639022022,1423078.971843557,-447.07259639022021,1.423078971843557,-1.423078971843557,null,null,447.07259639022021,1.423078971843557,447.07259639022021,494.66666666666669,532,447.07259639022021,"CAMPO 4"]
[null,5,513.33333333333337,-3.3166718733729038E-4,-1.8241695303550965E-3,null,null,1.6266738599439881E-3,2.8798256756693021E-6,null,null,0.98497856511522064,0.49417805488443334,null,null,-448961.98534454074,null,null,-448961.98534454074,1097809.4558137355,-448.96198534454072,1.0978094558137355,-1.0978094558137355,null,null,448.96198534454072,1.0978094558137355,448.96198534454072,513.33333333333337,550.66666666666674,448.96198534454072,"CAMPO 4"]
[null,6,532,-3.5704276666106147E-4,-1.6959531416400422E-3,null,null,1.6315169970996706E-3,2.8814923229437795E-6,null,null,0.9879111666672149,0.4953877144371639,null,null,-450298.69119950908,null,null,-450298.69119950908,872300.58400106744,-450.29869119950905,0.87230058400106747,-0.87230058400106747,null,null,450.29869119950905,0.87230058400106747,450.29869119950905,532,569.33333333333337,450.29869119950905,"CAMPO 4"]
[null,7,550.66666666666674,-3.7768291236807774E-4,-1.5916637021226125E-3,null,null,1.6350688312855204E-3,2.8827965369101215E-6,null,null,0.99006186240657224,0.4962559755020719,null,null,-451278.99743480363,null,null,-451278.99743480363,709631.84115446196,-451.27899743480361,0.70963184115446198,-0.70963184115446198,null,null,451.27899743480361,0.70963184115446198,451.27899743480361,550.66666666666674,588,451.27899743480361,"CAMPO 4"]
[null,8,569.33333333333337,-3.9480004338462006E-4,-1.5051751654038634E-3,null,null,1.6377507229337074E-3,2.8838320536665564E-6,null,null,0.99168579320946637,0.49690022798014444,null,null,-452019.19952970324,null,null,-452019.19952970324,588485.7161986623,-452.01919952970326,0.5884857161986623,-0.5884857161986623,null,null,452.01919952970326,0.5884857161986623,452.01919952970326,569.33333333333337,606.66666666666674,452.01919952970326,"CAMPO 4"]
[null,9,588,-4.092252344854168E-4,-1.4322883206989586E-3,null,null,1.6398252030084114E-3,2.8846658167614091E-6,null,null,0.99294192601989495,0.49739140985981356,null,null,-452591.75603032153,null,null,-452591.75603032153,495863.08477035502,-452.59175603032151,0.49586308477035501,-0.49586308477035501,null,null,452.59175603032151,0.49586308477035501,452.59175603032151,588,625.33333333333337,452.59175603032151,"CAMPO 4"]
[null,10,606.66666666666674,-4.2154721725895034E-4,-1.3700284560915878E-3,null,null,1.6414627537522288E-3,2.8853459055659304E-6,null,null,0.99393349072236348,0.49777444382277736,null,null,-453043.7200356152,null,null,-453043.7200356152,423475.1848644194,-453.04372003561519,0.42347518486441937,-0.42347518486441937,null,null,453.04372003561519,0.42347518486441937,453.04372003561519,606.66666666666674,644,453.04372003561519,"CAMPO 4"]
[null,11,625.33333333333337,-4.3219471275427742E-4,-1.3162293524789353E-3,null,null,1.6427779871708561E-3,2.8859072584419103E-6,null,null,0.99472988682693708,0.49807890206551286,null,null,-453406.72445915634,null,null,-453406.72445915634,365836.26317324094,-453.40672445915635,0.36583626317324092,-0.36583626317324092,null,null,453.40672445915635,0.36583626317324092,453.40672445915635,625.33333333333337,662.66666666666674,453.40672445915635,"CAMPO 4"]
[null,12,644,-4.4148733409571318E-4,-1.2692760855251752E-3,null,null,1.6438502588142221E-3,2.8863756161177974E-6,null,null,0.99537916546274963,0.49832489727068996,null,null,-453702.67143272533,null,null,-453702.67143272533,319199.404949127,-453.70267143272531,0.31919940494912702,-0.31919940494912702,null,null,453.70267143272531,0.31919940494912702,453.70267143272531,644,681.33333333333337,453.70267143272531,"CAMPO 4"]
[null,13,662.66666666666674,-4.4966821968092608E-4,-1.2279401383594513E-3,null,null,1.6447359246447709E-3,2.8867702118981959E-6,null,null,0.99591545111928281,0.49852649488889333,null,null,-453947.11520195677,null,null,-453947.11520195677,280935.22565733426,-453.94711520195676,0.28093522565733425,-0.28093522565733425,null,null,453.94711520195676,0.28093522565733425,453.94711520195676,662.66666666666674,{"$f":"AC77","v":700},453.94711520195676,"CAMPO 4"]
[null,14,681.33333333333337,-4.5692561509217403E-4,-1.1912703536331674E-3,null,null,1.6454759000551595E-3,2.8871056144779744E-6,null,null,0.99636351875957196,0.49869377096642586,null,null,-454151.348415224,null,null,-454151.348415224,249154.78431345595,-454.15134841522399,0.24915478431345595,-0.24915478431345595,null,null,454.15134841522399,0.24915478431345595,454.15134841522399,681.33333333333337,718.66666666666674,454.15134841522399,"CAMPO 4"]
[null,15,700,-4.6340753673795995E-4,-1.1585188418448997E-3,null,null,1.6461004716169837E-3,2.8873930029158776E-6,null,null,0.99674170741553192,0.49883409692838532,null,null,-454323.73016628751,null,null,-454323.73016628751,222472.92165348816,-454.32373016628753,0.22247292165348814,-0.22247292165348814,null,null,454.32373016628753,0.22247292165348814,454.32373016628753,{"$f":"C77","v":700},737.33333333333337,454.32373016628753,"CAMPO 4"]
[null,16,718.66666666666674,-4.6923197333406983E-4,-1.1290894358351052E-3,null,null,1.6466324461359278E-3,2.8876410597072158E-6,null,null,0.9970638269941704,0.49895296627394159,null,null,-454470.55513351609,null,null,-454470.55513351609,199855.31946461706,-454.47055513351609,0.19985531946461707,{"$f":"-V78","v":-0.19985531946461707},null,null,{"$f":"IF(U78>0,0,ABS(U78))","v":454.47055513351609},{"$f":"IF(U78>0,0,V78)","v":0.19985531946461707},{"$f":"Z78","v":454.47055513351609},718.66666666666674,756,{"$f":"IF(Z78=0,10^7,Z78)","v":454.47055513351609},"CAMPO 4"]
[null,17,737.33333333333337,-4.7449413290567941E-4,-1.1025010735161368E-3,null,null,1.6470892626304573E-3,2.8878566046246991E-6,null,null,0.9973404371164466,0.49905454078553535,null,null,-454596.6364860062,null,null,-454596.6364860062,180517.08310873399,-454.59663648600622,0.18051708310873399,-0.18051708310873399,null,null,454.59663648600622,0.18051708310873399,454.59663648600622,737.33333333333337,774.66666666666674,454.59663648600622,"CAMPO 4"]
[null,18,756,-4.7927168760815572E-4,-1.0783612971183502E-3,null,null,1.6474844399647548E-3,2.8880450505266943E-6,null,null,0.99757972368352521,0.49914201997588181,null,null,-454705.70543027233,null,null,-454705.70543027233,163853.93308693272,-454.7057054302723,0.16385393308693272,-0.16385393308693272,null,null,454.7057054302723,0.16385393308693272,454.7057054302723,756,793.33333333333337,454.7057054302723,"CAMPO 4"]
[null,19,774.66666666666674,-4.8362863330855837E-4,-1.0563467517002716E-3,null,null,1.6478285886613487E-3,2.8882107353477606E-6,null,null,0.99778811154645486,0.49921789625425184,null,null,-454800.69047053222,null,null,-454800.69047053222,149394.55590606516,-454.80069047053223,0.14939455590606515,-0.14939455590606515,null,null,454.80069047053223,0.14939455590606515,454.80069047053223,774.66666666666674,812,454.80069047053223,"CAMPO 4"]
[null,20,793.33333333333337,-4.8761817277146233E-4,-1.0361886171393569E-3,null,null,1.6481301306408372E-3,2.8883571668720535E-6,null,null,0.9979707003207583,0.49928413449992004,null,null,-454883.91605687106,null,null,-454883.91605687106,136766.99485948242,-454.88391605687104,0.13676699485948243,-0.13676699485948243,null,null,454.88391605687104,0.13676699485948243,454.88391605687104,793.33333333333337,830.66666666666674,454.88391605687104,"CAMPO 4"]
[null,21,812,-4.9128489896652766E-4,-1.0176615764306641E-3,null,null,1.6483958194156991E-3,2.8884872052986613E-6,null,null,0.99813157937259211,0.49934230059543883,null,null,-454957.24615873297,null,null,-454957.24615873297,125674.54615774243,-454.95724615873297,0.12567454615774243,-0.12567454615774243,null,null,454.95724615873297,0.12567454615774243,454.95724615873297,812,849.33333333333337,454.95724615873297,"CAMPO 4"]
[null,22,830.66666666666674,-4.9466646899774781E-4,-1.000575357745444E-3,null,null,1.6486311215490525E-3,2.888603200899349E-6,null,null,0.99827405879848452,0.49939365485137066,null,null,-455022.18954753847,null,null,-455022.18954753847,115878.20880335965,-455.02218954753846,0.11587820880335965,-0.11587820880335965,null,null,455.02218954753846,0.11587820880335965,455.02218954753846,830.66666666666674,868,455.02218954753846,"CAMPO 4"]
[null,23,849.33333333333337,-4.9779490211268064E-4,-9.8476817591856359E-4,null,null,1.6488405001081096E-3,2.8887070988832077E-6,null,null,0.99840084106120131,0.49943922087000725,null,null,-455079.97802983824,null,null,-455079.97802983824,107183.72874581226,-455.07997802983823,0.10718372874581227,-0.10718372874581227,null,null,455.07997802983823,0.10718372874581227,455.07997802983823,849.33333333333337,886.66666666666674,455.07997802983823,"CAMPO 4"]
[null,24,868,-5.0069759673013799E-4,-9.7010159366464187E-4,null,null,1.6490276278675166E-3,2.8888005200521751E-6,null,null,0.99851415008797839,0.49947983695996945,null,null,-455131.62529143458,null,null,-455131.62529143458,99431.912926767705,-455.1316252914346,9.9431912926767702E-2,-9.9431912926767702E-2,null,null,455.1316252914346,9.9431912926767702E-2,455.1316252914346,868,905.33333333333337,455.1316252914346,"CAMPO 4"]
[null,25,886.66666666666674,-5.033981349770822E-4,-9.5645645645645516E-4,null,null,1.6491955494780898E-3,2.88888482339915E-6,null,null,0.99861582946643712,0.49951619497788713,null,null,-455177.9716559528,null,null,-455177.9716559528,92491.303229762954,-455.17797165595277,9.2491303229762956E-2,-9.2491303229762956E-2,null,null,455.17797165595277,9.2491303229762956E-2,455.17797165595277,886.66666666666674,924,455.17797165595277,"CAMPO 4"]
[null,26,905.33333333333337,-5.0591692478754648E-4,-9.437296481613843E-4,null,null,1.6493468060994449E-3,2.8889611551054234E-6,null,null,0.99870741791175199,0.49954886999217518,null,null,-455219.71848344681,null,null,-455219.71848344681,86252.575567803884,-455.2197184834468,8.6252575567803885E-2,-8.6252575567803885E-2,null,null,455.2197184834468,8.6252575567803885E-2,455.2197184834468,905.33333333333337,942.66666666666674,455.2197184834468,"CAMPO 4"]
[null,27,924,-5.0827171658066896E-4,-9.3183148039789306E-4,null,null,1.6494835321072916E-3,2.8890304871995872E-6,null,null,0.99879020782455441,0.49957834316630578,null,null,-455257.45486161247,null,null,-455257.45486161247,80624.215111702273,-455.25745486161247,8.0624215111702272E-2,-8.0624215111702272E-2,null,null,455.25745486161247,8.0624215111702272E-2,455.25745486161247,924,961.33333333333337,455.25745486161247,"CAMPO 4"]
[null,28,942.66666666666674,-5.1047802219818066E-4,-9.2068357575028972E-4,null,null,1.6496075308038911E-3,2.8890936482891646E-6,null,null,0.99886529113489719,0.4996050195767745,null,null,-455291.67850187392,null,null,-455291.67850187392,75529.145943607698,-455.29167850187389,7.5529145943607698E-2,-7.5529145943607698E-2,null,null,455.29167850187389,7.5529145943607698E-2,455.29167850187389,942.66666666666674,980,455.29167850187389,"CAMPO 4"]
[null,29,961.33333333333337,-5.125494570133234E-4,-9.1021713917883215E-4,null,null,1.6497203341845938E-3,2.8891513481638703E-6,null,null,0.99893359549190486,0.49962924220782468,null,null,-455322.81223494787,null,null,-455322.81223494787,70902.081848344082,-455.32281223494789,7.0902081848344081E-2,-7.0902081848344081E-2,null,null,455.32281223494789,7.0902081848344081E-2,455.32281223494789,961.33333333333337,998.66666666666674,455.32281223494789,"CAMPO 4"]
[null,30,980,-5.1449802116145687E-4,-9.0037153703254914E-4,null,null,1.6498232504854266E-3,2.8892041976243887E-6,null,null,0.99899591305464286,0.49965130303256089,null,null,-455351.21713397774,null,null,-455351.21713397774,66687.427184410437,-455.35121713397774,6.6687427184410439E-2,-6.6687427184410439E-2,null,null,455.35121713397774,6.6687427184410439E-2,455.35121713397774,980,1017.3333333333334,455.35121713397774,"CAMPO 4"]
[null,31,998.66666666666674,-5.1633433216715546E-4,-8.91093121643316E-4,null,null,1.6499174022854986E-3,2.8892527245641443E-6,null,null,{"$f":"H93/($L$4*ABS($W$4))","v":0.99905292356376929},0.49967145185365147,null,null,-455377.20303079765,null,null,-455377.20303079765,62837.601096967621,-455.37720303079766,6.2837601096967621E-2,-6.2837601096967621E-2,null,null,455.37720303079766,6.2837601096967621E-2,455.37720303079766,998.66666666666674,1036,455.37720303079766,"CAMPO 4"]
[null,32,1017.3333333333334,-5.1806781849327238E-4,-8.8233425337135409E-4,null,null,1.6500037572492155E-3,2.8892973870900209E-6,null,null,0.99910521295646615,0.49968990340675179,null,null,-455401.03700078349,null,null,-455401.03700078349,59311.690256968723,-455.4010370007835,5.9311690256968724E-2,-5.9311690256968724E-2,null,null,455.4010370007835,5.9311690256968724E-2,455.4010370007835,1017.3333333333334,1054.6666666666667,455.4010370007835,"CAMPO 4"]
[null,33,1036,-5.1970688146203237E-4,-8.7405248245887206E-4,null,null,1.6500831530894366E-3,2.8893385842877221E-6,null,null,0.9991532884820542,0.499706843106138,null,null,-455422.95025268453,null,null,-455422.95025268453,56074.358545613206,-455.42295025268453,5.6074358545613205E-2,-5.6074358545613205E-2,null,null,455.42295025268453,5.6074358545613205E-2,455.42295025268453,1036,1073.3333333333335,455.42295025268453,"CAMPO 4"]
[null,34,1054.6666666666667,-5.2125903141802274E-4,-8.6620986103289012E-4,null,null,1.6501563179606099E-3,2.8893766651018995E-6,null,null,0.99919759105038075,0.49972243172127162,null,null,-455443.14375712839,null,null,-455443.14375712839,53094.959177948163,-455.44314375712838,5.309495917794816E-2,-5.309495917794816E-2,null,null,455.44314375712838,5.309495917794816E-2,455.44314375712838,1054.6666666666667,1092,455.44314375712838,"CAMPO 4"]
[null,35,1073.3333333333335,-5.2273100279008676E-4,-8.5877236172657084E-4,null,null,1.6502238872136167E-3,2.8894119356984045E-6,null,null,0.99923850537716208,0.49973680920573371,null,null,-455461.79287095822,null,null,-455461.79287095822,50346.807429941204,-455.46179287095822,5.0346807429941201E-2,-5.0346807429941201E-2,null,null,455.46179287095822,5.0346807429941201E-2,455.46179287095822,1073.3333333333335,1110.6666666666667,455.46179287095822,"CAMPO 4"]
[null,36,1092,-5.2412885177109453E-4,-8.517093841280284E-4,null,null,1.6502864172356843E-3,2.8894446655975753E-6,null,null,0.99927636836428535,0.49975009784967328,null,null,-455479.05115704885,null,null,-455479.05115704885,47806.581611430418,-455.47905115704884,4.7806581611430421E-2,-4.7806581611430421E-2,null,null,455.47905115704884,4.7806581611430421E-2,455.47905115704884,1092,1129.3333333333335,455.47905115704884,"CAMPO 4"]
[null,37,1110.6666666666667,-5.2545803960387196E-4,-8.4499333395757735E-4,null,null,1.6503443969408524E-3,2.8894750928071439E-6,null,null,0.99931147605747972,0.49976240488899581,null,null,-455495.05355567526,null,null,-455495.05355567526,45453.827080800591,-455.49505355567527,4.5453827080800591E-2,-4.5453827080800591E-2,null,null,455.49505355567527,4.5453827080800591E-2,455.49505355567527,1110.6666666666667,1148,455.49505355567527,"CAMPO 4"]
[null,38,1129.3333333333335,-5.2672350388851879E-4,-8.3859926276987811E-4,null,null,1.6503982573559995E-3,2.8895034281367122E-6,null,null,0.99934408945081843,0.49977382467571263,null,null,-455509.91903025587,null,null,-455509.91903025587,43270.543534163058,-455.50991903025584,4.3270543534163056E-2,-4.3270543534163056E-2,null,null,455.50991903025584,4.3270543534163056E-2,455.50991903025584,1129.3333333333335,1166.6666666666667,455.50991903025584,"CAMPO 4"]
[null,{"$f":"+B100+1","v":39},1148,-5.2792971987402596E-4,-8.3250455826288684E-4,null,null,1.6504483796548055E-3,2.8895298588393818E-6,null,null,0.99937443935141868,0.49978444049182169,null,null,-455523.75278472633,null,null,{"$f":"Q101+P101","v":-455523.75278472633},41240.83996779994,-455.5237527847263,4.1240839967799939E-2,-4.1240839967799939E-2,null,null,455.5237527847263,4.1240839967799939E-2,455.5237527847263,1148,1185.3333333333335,455.5237527847263,"CAMPO 4"]
[null,{"$f":"+B101+1","v":40},1166.6666666666667,-5.2908075333790131E-4,-8.266886770904704E-4,null,null,1.6504951019203345E-3,2.8895545516976814E-6,null,null,0.99940273047430006,0.49979432607209562,null,null,-455536.64813001233,null,null,-455536.64813001233,39350.644924625078,-455.53664813001234,3.9350644924625075E-2,-3.9350644924625075E-2,null,null,455.53664813001234,3.9350644924625075E-2,455.53664813001234,1166.6666666666667,1204,455.53664813001234,"CAMPO 4"]
[null,41,1185.3333333333335,-5.3018030637060835E-4,-8.2113291352521036E-4,null,null,1.6505387248610891E-3,2.8895776556485094E-6,null,null,0.99942914490355272,0.49980354688796724,null,null,-455548.68806166062,null,null,-455548.68806166062,37587.462129901636,-455.54868806166064,3.7587462129901633E-2,-3.7587462129901633E-2,null,null,455.54868806166064,3.7587462129901633E-2,455.54868806166064,1185.3333333333335,1222.6666666666667,455.54868806166064,"CAMPO 4"]
[null,42,1204,-5.3123175715119651E-4,-8.1582019848219431E-4,null,null,1.6505795166616127E-3,2.8895993040240484E-6,null,null,0.99945384502945844,0.49981216123440764,null,null,-455559.94659860514,null,null,-455559.94659860514,35940.163569415075,-455.55994659860511,3.5940163569415075E-2,-3.5940163569415075E-2,null,null,455.55994659860511,3.5940163569415075E-2,455.55994659860511,1204,1241.3333333333335,455.55994659860511,"CAMPO 4"]
[null,43,1222.6666666666667,-5.3223819461446667E-4,-8.1073492435459419E-4,null,null,1.6506177171142181E-3,2.8896196164714711E-6,null,null,0.99947697605032282,0.49982022115360281,null,null,-455570.4899235242,null,null,-455570.4899235242,34398.813595046799,-455.57048992352418,3.4398813595046797E-2,-3.4398813595046797E-2,null,null,455.57048992352418,3.4398813595046797E-2,455.57048992352418,1222.6666666666667,1260,455.57048992352418,"CAMPO 4"]
[null,44,1241.3333333333335,-5.3320244875906949E-4,-8.0586279187450224E-4,null,null,1.6506535411510747E-3,2.8896387006029443E-6,null,null,0.99949866811121379,0.49982777322284644,null,null,-455580.37735769659,null,null,-455580.37735769659,32954.518853220514,-455.58037735769659,3.2954518853220517E-2,-3.2954518853220517E-2,null,null,455.58037735769659,3.2954518853220517E-2,455.58037735769659,1241.3333333333335,100000000000,455.58037735769659,"CAMPO 4"]
[null,45,{"$f":"C61*3","v":1260},-5.3412711722287422E-4,-8.0119067583431063E-4,null,null,1.6506871818740886E-3,2.8896566534183303E-6,null,null,0.99951903813860499,0.49983485922899229,null,null,-455589.66219724843,null,null,-455589.66219724843,31599.299792923826,-455.5896621972484,3.1599299792923828E-2,-3.1599299792923828E-2,null,null,455.5896621972484,3.1599299792923828E-2,455.5896621972484,1260,100000000000,455.5896621972484,"CAMPO 4"]
[null,46,100000000000,-5.7824981804464924E-4,-5.7824982047329767E-4,null,null,1.651481481481481E-3,{"$f":"+L4*ABS($W$4)^2/2","v":2.8900925925925922E-6},null,null,0.99999999999999989,0.49999999999999989,null,null,-455808.88888888876,null,null,-455808.88888888876,2.5909735591590604E-8,-455.80888888888876,2.5909735591590604E-14,-2.5909735591590604E-14,null,null,455.80888888888876,2.5909735591590604E-14,455.80888888888876,100000000000,null,455.80888888888876,"CAMPO 4"]
[]
[null,null,"Calcolo Mrd",null,null,"Ned",{"$f":"Z8","v":220}]
[]
["check",null,"Y[mm]","Y[mm]checked","εm_inf [-]","εm_sup [-]","εf_inf [-]","εf_sup [-]","A(σ-ε)","Sy(σ-ε)","A(σ-ε)","Sy(σ-ε)","β1","β2","k1","k2","C  [N]","T  [N]",null,"Ned  [N]","MRd  [Nmm]","Ned  [kN]","MRd  [kNm]",null,null,null,null,"Y"]
[null,"CAMPO 1",{"$f":"VLOOKUP($Z$10,$Z$13:$AC$108,4,FALSE)","v":218.03935599284435},{"$f":"IF(A113=0,0,C113)","v":0},null,null,{"$f":"$W$7","v":7.6800000000000002E-3},{"$f":"+$W$7*(ABS(C113)/(ABS(C113)+($D$3)))","v":2.6245124823363166E-3},null,null,null,null,null,null,null,null,0,{"$f":"VLOOKUP($G$6,$H$5:$J$7,3,FALSE)*$L$8*($D$2)*$L$6*$W$7","v":5.7867264000000002E-5},{"$f":"VLOOKUP($G$6,$H$5:$I$7,2,FALSE)*$L$8*($D$2)*$L$6*H113","v":0},{"$f":"R113+Q113+S113","v":5.7867264000000002E-5},{"$f":"+R113*$D$3/2-S113*$D$3/2","v":1.215212544E-2},{"$f":"+T113/1000","v":5.7867264000000003E-8},{"$f":"+U113/1000000","v":1.215212544E-8},1,{"$f":"B113","v":"CAMPO 1"},{"$f":"ABS(T113)/($G$110*1000)","v":2.6303301818181817E-10},{"$f":"IF(A113=0,10^8,ABS(1*10^5-ABS(Z113)*10^5))","v":100000000},{"$f":"C113","v":218.03935599284435}]
[{"$f":"IF($AB$10=B114,IF(ABS((ROUND(ABS(V114/100),1))-(ROUND(ABS($G$110/100),1)))=0,1,0),0)","v":0},"CAMPO 2A",{"$f":"VLOOKUP($Z$10,$Z$13:$AC$108,4,FALSE)","v":218.03935599284435},{"$f":"IF(A114=0,0,C114)","v":0},null,{"$f":"-$W$7*C114/($D$3-C114)","v":-8.2914285714285711E-3},7.6800000000000002E-3,null,{"$f":"$L$4/ABS($W$5)*ABS(F114)^2/2","v":2.8049097404081635E-2},{"$f":"+$L$4/(ABS($W$5))*ABS(F114)^3/3","v":1.5504472507932361E-4},null,null,{"$f":"I114/($L$4*ABS($W$4))","v":16.984203406822253},{"$f":"1-J114/I114/ABS(F114)","v":0.33333333333333337},null,null,{"$f":"-$L$4*$D$2*C114*M114","v":-4018958.9738808577},{"$f":"$L$8*$D$2*$L$6*$W$7*0.5","v":2.8933632000000001E-5},null,{"$f":"R114+Q114","v":-4018958.9738519238},{"$f":"-Q114*($D$3/2-N114*C114)+R114*($D$3/2)","v":551884309.04550803},{"$f":"+T114/1000","v":-4018.9589738519239},{"$f":"+U114/1000000","v":551.88430904550808},1,"CAMPO 2A",18.267995335690564,100000000,218.03935599284435]
[0,"CAMPO 2A",{"$f":"VLOOKUP(C$144,$AC$12:$AD$108,2,FALSE)","v":275.74239713774597},0,null,-1.4679999999999999E-2,7.6800000000000002E-3,null,8.7924979199999989E-2,8.6049246310399995E-4,null,null,53.240063655528147,0.33333333333333326,null,null,-15932194.978759211,2.8933632000000001E-5,null,-15932194.978730276,1881367067.1758358,-15932.194978730276,1881.3670671758359,{"$f":"+X114+1","v":2},"CAMPO 2A",72.419068085137624,100000000,275.74239713774597]
[0,"CAMPO 2A",{"$f":"+(C115-C114)/2+C114","v":246.89087656529517},0,null,-1.0953333333333334E-2,7.6800000000000002E-3,null,4.8950008533333346E-2,3.5744384009007421E-4,null,null,29.640058990805127,0.33333333333333326,null,null,-7941775.4810710587,2.8933632000000001E-5,null,-7941775.4810421253,1014188881.0288645,-7941.7754810421256,1014.1888810288646,{"$f":"+X115+1","v":3},"CAMPO 2A",36.09897945928239,100000000,246.89087656529517]
[0,"CAMPO 2A",{"$f":"IF(ABS(V116)>$G$110,C116-(C116-$C$144)/2,C116+(C116-$C$144)/2)","v":232.46511627906978},0,null,-9.5200000000000007E-3,7.6800000000000002E-3,null,3.697720320000001E-2,2.3468198297600011E-4,null,null,22.390322637362647,0.33333333333333326,null,null,-5648740.753026979,2.8933632000000001E-5,null,-5648740.7529980456,748523832.81416273,-5648.7407529980455,748.52383281416269,4,"CAMPO 2A",25.676094331809299,100000000,232.46511627906978]
[0,"CAMPO 2A",{"$f":"IF(ABS(V117)>$G$110,C117-(C117-$C$144)/2,C117+(C117-$C$144)/2)","v":225.25223613595705},0,null,-8.8829629629629623E-3,7.6800000000000002E-3,null,3.2194068648559671E-2,1.9065247962149508E-4,null,null,19.494053678203887,0.33333333333333326,null,null,-4765459.3408074072,2.8933632000000001E-5,null,-4765459.3407784738,642936337.33168089,-4765.4593407784741,642.93633733168087,5,"CAMPO 2A",21.661178821720334,100000000,225.25223613595705]
[0,"CAMPO 2A",{"$f":"IF(ABS(V118)>$G$110,C118-(C118-$C$144)/2,C118+(C118-$C$144)/2)","v":221.64579606440071},0,null,-8.5818181818181818E-3,7.6800000000000002E-3,null,3.0048222148760337E-2,1.7191225277836216E-4,null,null,18.19470728900043,0.33333333333333337,null,null,-4376612.2492881333,2.8933632000000001E-5,null,-4376612.2492591999,595736003.67035878,-4376.6122492592003,595.73600367035874,6,"CAMPO 2A",19.893692042087274,100000000,221.64579606440071]
[0,"CAMPO 2A",{"$f":"IF(ABS(V119)>$G$110,C119-(C119-$C$144)/2,C119+(C119-$C$144)/2)","v":219.84257602862255},0,null,-8.435315315315316E-3,7.6800000000000002E-3,null,2.9031054143267603E-2,1.6325739708963557E-4,null,null,17.578794838937551,0.33333333333333337,null,null,-4194057.7067626971,2.8933632000000001E-5,null,-4194057.7067337632,573407968.33710635,-4194.0577067337636,573.40796833710635,7,"CAMPO 2A",19.063898666971649,100000000,219.84257602862255]
[0,"CAMPO 2A",{"$f":"IF(ABS(V120)>$G$110,C120-(C120-$C$144)/2,C120+(C120-$C$144)/2)","v":218.94096601073346},0,null,-8.3630493273542609E-3,7.6800000000000002E-3,null,2.853576237311831E-2,1.5909732554669873E-4,null,null,17.278887285808352,0.33333333333333337,null,null,-4105596.8495981437,2.8933632000000001E-5,null,-4105596.8495692099,562547558.32113898,-4105.5968495692096,562.54755832113892,8,"CAMPO 2A",18.661803861678226,100000000,218.94096601073346]
[0,"CAMPO 2A",{"$f":"IF(ABS(V121)>$G$110,C121-(C121-$C$144)/3,C121+(C121-$C$144)/3)","v":218.64042933810376},0,null,-8.3391044776119413E-3,7.6800000000000002E-3,null,2.8372590703319232E-2,1.5773466545033357E-4,null,null,17.180084076914543,0.33333333333333337,null,null,-4076516.9855595487,2.8933632000000001E-5,null,-4076516.9855306149,558971425.66464388,-4076.5169855306149,558.9714256646439,9,"CAMPO 2A",18.529622661502795,100000000,218.64042933810376]
[0,"CAMPO 2A",218.44007155635063,0,null,-8.3231809145129232E-3,7.6800000000000002E-3,null,2.8264338938570575E-2,1.5683280427655671E-4,null,null,17.114535800435203,0.33333333333333337,null,null,-4057242.2018682575,2.8933632000000001E-5,null,-4057242.2018393236,556599436.76589417,-4057.2422018393236,556.59943676589421,10,"CAMPO 2A",18.442010008360562,100000000,218.44007155635063]
[0,"CAMPO 2A",218.30649970184854,0,null,-8.3125827814569536E-3,7.6800000000000002E-3,null,2.8192405259418452E-2,1.5623446835153217E-4,null,null,17.070978739724115,0.33333333333333337,null,null,-4044441.7753791837,2.8933632000000001E-5,null,-4044441.7753502498,555023463.75871813,-4044.4417753502498,555.02346375871809,11,"CAMPO 2A",18.383826251592044,100000000,218.30649970184854]
[0,"CAMPO 2A",218.21745179884715,0,null,-8.3055251544571929E-3,7.6800000000000002E-3,null,2.8144553221259042E-2,1.5583686316008414E-4,null,null,17.04200352038561,0.33333333333333326,null,null,-4035930.0507738353,2.8933632000000001E-5,null,-4035930.0507449014,553975186.89582884,-4035.9300507449016,553.97518689582887,12,"CAMPO 2A",18.345136594295006,100000000,218.21745179884715]
[0,"CAMPO 2A",218.15808653017956,0,null,-8.300823529411765E-3,7.6800000000000002E-3,null,2.8112697876705887E-2,1.5557236267346961E-4,null,null,17.022714569882464,0.33333333333333337,null,null,-4030265.2756461017,2.8933632000000001E-5,null,-4030265.2756171678,553277387.64376402,-4030.2652756171678,553.27738764376397,13,"CAMPO 2A",18.319387616441674,100000000,218.15808653017956]
[0,"CAMPO 2A",218.11850968440115,0,null,-8.2976906488923738E-3,7.6800000000000002E-3,null,2.8091481402724109E-2,1.553962816992786E-4,null,null,17.009867635648153,0.33333333333333326,null,null,-4026493.0669415095,2.8933632000000001E-5,null,-4026493.0669125756,552812655.0585078,-4026.4930669125756,552.81265505850774,14,"CAMPO 2A",18.302241213238979,100000000,218.11850968440115]
[0,"CAMPO 2A",218.09212512054887,0,null,-8.2956027442012397E-3,7.6800000000000002E-3,null,2.8077346154956457E-2,1.5527900654196326E-4,null,null,17.001308503786152,0.33333333333333337,null,null,-4023980.1738752485,2.8933632000000001E-5,null,-4023980.1738463147,552503040.66540861,-4023.9801738463148,552.50304066540866,15,"CAMPO 2A",18.290818972028703,100000000,218.09212512054887]
[0,"CAMPO 2A",218.07453541131403,0,null,-8.2942111108691378E-3,7.6800000000000002E-3,null,2.8067926684279348E-2,1.5520087290920673E-4,null,null,16.995604854800238,0.33333333333333348,null,null,-4022305.7613588572,2.8933632000000001E-5,null,-4022305.7613299233,552296723.16124105,-4022.3057613299234,552.29672316124106,16,"CAMPO 2A",18.283208006045104,100000000,218.07453541131403]
[0,"CAMPO 2A",218.0628089384908,0,null,-8.2932834900010886E-3,7.6800000000000002E-3,null,2.8061648826574057E-2,1.5514880594375669E-4,null,null,16.991803505662698,0.33333333333333337,null,null,-4021189.8637448461,2.8933632000000001E-5,null,-4021189.8637159122,552159219.07143104,-4021.189863715912,552.15921907143104,17,"CAMPO 2A",18.278135744163237,100000000,218.0628089384908]
[0,"CAMPO 2A",218.054991289942,0,null,-8.2926651359387961E-3,7.6800000000000002E-3,null,2.8057464383180446E-2,1.5511410446216334E-4,null,null,16.989269754336672,0.33333333333333326,null,null,-4020446.099683492,2.8933632000000001E-5,null,-4020446.0996545581,552067567.8568877,-4020.4460996545581,552.06756785688765,18,"CAMPO 2A",18.27475499842981,100000000,218.054991289942]
[0,"CAMPO 2A",218.04977952424278,0,null,-8.292252926493892E-3,7.6800000000000002E-3,null,2.8054675107554182E-2,1.5509097450830099E-4,null,null,16.98758080071682,0.33333333333333348,null,null,-4019950.3314859536,2.8933632000000001E-5,null,-4019950.3314570198,552006475.1251533,-4019.9503314570197,552.00647512515332,19,"CAMPO 2A",18.272501506622817,100000000,218.04977952424278]
[0,"CAMPO 2A",218.04630501377665,0,null,-8.2919781320170468E-3,7.6800000000000002E-3,null,2.8052815747474362E-2,1.5507555647970722E-4,null,null,16.986454926705715,0.33333333333333348,null,null,-4019619.8524653898,2.8933632000000001E-5,null,-4019619.8524364559,551965750.22710776,-4019.6198524364559,551.96575022710772,20,"CAMPO 2A",18.270999329256618,100000000,218.04630501377665]
[0,"CAMPO 2A",218.04398867346589,0,null,-8.291794940952087E-3,7.6800000000000002E-3,null,2.8051576243861846E-2,1.5506527865639027E-4,null,null,16.985704386281004,0.33333333333333326,null,null,-4019399.5478330855,2.8933632000000001E-5,null,-4019399.5478041517,551938601.89040697,-4019.3995478041516,551.93860189040697,21,"CAMPO 2A",18.269997944564327,100000000,218.04398867346589]
[0,"CAMPO 2A",{"$f":"IF(ABS(V134)>$G$110,C134-(C134-$C$144)/4,C134+(C134-$C$144)/4)","v":218.04283050331051},0,null,-8.2917033469954351E-3,7.6800000000000002E-3,null,2.8050956512986724E-2,1.5506014000343693E-4,null,null,16.985329128742805,0.33333333333333348,null,null,-4019289.3999311049,2.8933632000000001E-5,null,-4019289.399902171,551925028.20063114,-4019.2893999021708,551.92502820063112,22,"CAMPO 2A",18.269497272282596,100000000,218.04283050331051]
[0,"CAMPO 2A",218.04196187569397,0,null,-8.2916346522173556E-3,7.6800000000000002E-3,null,2.8050491723987468E-2,1.5505628612690043E-4,null,null,16.985047691133925,0.33333333333333337,null,null,-4019206.790935752,2.8933632000000001E-5,null,-4019206.7909068181,551914848.14266944,-4019.2067909068182,551.91484814266948,23,"CAMPO 2A",18.269121776849172,100000000,218.04196187569397]
[0,"CAMPO 2A",218.04131040498157,0,null,-8.2915831315215852E-3,7.6800000000000002E-3,null,2.8050143137388791E-2,1.5505339578315922E-4,null,null,16.984836616046142,0.33333333333333337,null,null,-4019144.8352754777,2.8933632000000001E-5,null,-4019144.8352465439,551907213.21696675,-4019.1448352465441,551.90721321696674,24,"CAMPO 2A",18.268840160211564,100000000,218.04131040498157]
[0,"CAMPO 2A",218.04082180194726,0,null,-8.291544491217882E-3,7.6800000000000002E-3,null,2.8049881700337013E-2,1.5505122806116174E-4,null,null,16.984678311484625,0.33333333333333348,null,null,-4019098.3691412667,2.8933632000000001E-5,null,-4019098.3691123328,551901487.08893275,-4019.0983691123329,551.90148708893275,25,"CAMPO 2A",18.268628950510603,100000000,218.04082180194726]
[0,"CAMPO 2A",218.04045534967153,0,null,-8.2915155111128042E-3,7.6800000000000002E-3,null,2.8049685624177888E-2,1.5504960228980588E-4,null,null,16.984559584050306,0.33333333333333326,null,null,-4019063.5198842944,2.8933632000000001E-5,null,-4019063.5198553605,551897192.53016961,-4019.0635198553605,551.8971925301696,26,"CAMPO 2A",18.268470544797093,100000000,218.04045534967153]
[0,"CAMPO 2A",218.04018051046472,0,null,-8.2914937761030105E-3,7.6800000000000002E-3,null,2.8049538567975225E-2,1.5504838297261862E-4,null,null,16.98447053902963,0.33333333333333326,null,null,-4019037.3831348824,2.8933632000000001E-5,null,-4019037.3831059486,551893971.63205636,-4019.0373831059487,551.89397163205638,27,"CAMPO 2A",18.268351741390674,100000000,218.04018051046472]
[0,"CAMPO 2A",218.03997438105964,0,null,-8.2914774748844879E-3,7.6800000000000002E-3,null,2.8049428276338877E-2,1.5504746849110123E-4,null,null,16.984403755576359,0.33333333333333326,null,null,-4019017.7806815682,2.8933632000000001E-5,null,-4019017.7806526343,551891555.97026145,-4019.0177806526344,551.89155597026149,28,"CAMPO 2A",18.268262639330157,100000000,218.03997438105964]
[0,"CAMPO 2A",218.03981978400583,0,null,-8.2914652489924339E-3,7.6800000000000002E-3,null,2.8049345557901662E-2,1.5504678263354794E-4,null,null,16.984353668162033,0.33333333333333337,null,null,-4019003.0789027489,2.8933632000000001E-5,null,-4019003.078873815,551889744.23054671,-4019.003078873815,551.88974423054674,29,"CAMPO 2A",18.268195813062796,100000000,218.03981978400583]
[0,"CAMPO 2A",218.03970383621547,0,null,-8.2914560795856757E-3,7.6800000000000002E-3,null,2.8049283519236898E-2,1.550462682423994E-4,null,null,16.984316102700074,0.33333333333333326,null,null,-4018992.0526030404,2.8933632000000001E-5,null,-4018992.0525741065,551888385.42949116,-4018.9920525741063,551.88838542949111,30,"CAMPO 2A",18.268145693518665,100000000,218.03970383621547]
[0,"CAMPO 2B",{"$f":"VLOOKUP($Z$10,$Z$13:$AC$108,4,FALSE)","v":218.03935599284435},0,null,-8.2914285714285711E-3,7.6800000000000002E-3,null,{"$f":"$L$4*(ABS(F144)-ABS($W$5)/2)","v":3.775901802092578E-3},{"$f":"$I$39+$L$4*(ABS(F144)^2-ABS($W$5)^2)/2","v":1.6193089739868716E-5},null,null,2.286372474915892,0.48277481022131785,null,null,-541022.5581734624,2.8933632000000001E-5,null,-541022.55814452877,56664588.048760079,-541.02255814452872,56.664588048760081,1,"CAMPO 2B",2.4591934461114944,100000000,218.03935599284435]
[0,"CAMPO 2B",{"$f":"VLOOKUP(C$144,$AC$12:$AD$108,2,FALSE)","v":275.74239713774597},0,null,-1.4679999999999999E-2,{"$f":"$W$7","v":7.6800000000000002E-3},null,6.7903610613518359E-3,5.0816307517646482E-5,null,null,4.1116785973648708,0.4902183700890258,null,null,-1230428.0011206621,2.8933632000000001E-5,null,-1230428.0010917285,92068019.781010106,-1230.4280010917284,92.068019781010108,{"$f":"+X144+1","v":2},{"$f":"B145","v":"CAMPO 2B"},{"$f":"ABS(T145)/($G$110*1000)","v":5.5928545504169476},{"$f":"IF(A145=0,10^8,ABS(1*10^5-ABS(Z145)*10^5))","v":100000000},{"$f":"C145","v":275.74239713774597}]
[{"$f":"IF($AB$10=B146,IF(ABS((ROUND(ABS(V146/100),1))-(ROUND(ABS($G$110/100),1)))=0,1,0),0)","v":0},"CAMPO 2B",{"$f":"+(C145-C144)/2+C144","v":246.89087656529517},0,null,{"$f":"-$W$7*C146/($D$3-C146)","v":-1.0953333333333334E-2},7.6800000000000002E-3,null,5.0319264934506032E-3,2.8279037805712342E-5,null,null,{"$f":"I146/($L$4*ABS($W$4))","v":3.0469166926029674},0.48692124075721566,null,null,{"$f":"-$L$4*$D$2*C146*M146","v":-816392.71668409964},{"$f":"$L$8*$D$2*$L$6*$W$7*0.5","v":2.8933632000000001E-5},null,-816392.716655166,{"$f":"-Q146*($D$3/2-N146*C146)+R146*($D$3/2)","v":73298667.36883305},-816.39271665516605,73.298667368833051,{"$f":"+X145+1","v":3},"CAMPO 2B",3.7108759847962092,100000000,246.89087656529517]
[0,"CAMPO 2B",{"$f":"IF(ABS(V146)>$G$110,C146-(C146-$C$144)/2,C146+(C146-$C$144)/2)","v":232.46511627906978},0,null,-9.5200000000000007E-3,7.6800000000000002E-3,null,4.3556055057962818E-3,2.1355765295424279E-5,null,null,2.6373928830791575,0.48497340861169758,null,null,-665374.45224359585,2.8933632000000001E-5,null,-665374.45221466222,64714718.572283559,-665.37445221466226,64.714718572283559,4,"CAMPO 2B",3.0244293282484644,100000000,232.46511627906978]
[0,"CAMPO 2B",225.25223613595705,0,null,-8.8829629629629623E-3,7.6800000000000002E-3,null,4.055018400172139E-3,1.8589918609451602E-5,null,null,2.4553823010685751,0.48390837943270926,null,null,-600235.57516737678,2.8933632000000001E-5,null,-600235.57513844315,60622926.02639354,-600.2355751384431,60.622926026393543,5,"CAMPO 2B",2.7283435233565596,100000000,225.25223613595705]
[0,"CAMPO 2B",221.64579606440071,0,null,-8.5818181818181818E-3,7.6800000000000002E-3,null,3.9129226775134534E-3,1.7349083260529875E-5,null,null,2.3693409350272092,0.48335056814248556,null,null,-569928.73775160173,2.8933632000000001E-5,null,-569928.7377226681,58627075.216544747,-569.92873772266807,58.627075216544746,6,"CAMPO 2B",2.5905851714666732,100000000,221.64579606440071]
[0,"CAMPO 2B",219.84257602862255,0,null,-8.435315315315316E-3,7.6800000000000002E-3,null,3.8437950286524716E-3,1.6760906046024728E-5,null,null,2.3274829731692477,0.48306498605332027,null,null,-555305.29768498184,2.8933632000000001E-5,null,-555305.29765604821,57641661.177394412,-555.3052976560482,57.641661177394411,7,"CAMPO 2B",2.5241149893456738,100000000,219.84257602862255]
[0,"CAMPO 2B",218.94096601073346,0,null,-8.3630493273542609E-3,7.6800000000000002E-3,null,3.8096961884071441E-3,1.6474503669858152E-5,null,null,2.3068355480375176,0.48292047923447079,null,null,-548121.91328677698,2.8933632000000001E-5,null,-548121.91325784335,57152081.99926272,-548.1219132578434,57.15208199926272,8,"CAMPO 2B",2.4914632420811063,100000000,218.94096601073346]
[0,"CAMPO 2B",218.49016100178892,0,null,-8.3271588366890387E-3,7.6800000000000002E-3,null,3.7927611939228877E-3,1.6333179378258569E-5,null,null,2.2965811221331687,0.48284779087409646,null,null,-544561.80256387498,2.8933632000000001E-5,null,-544561.80253494135,56908074.370557785,-544.56180253494131,56.908074370557785,9,"CAMPO 2B",2.4752809206133697,100000000,218.49016100178892]
[0,"CAMPO 2B",218.26475849731662,0,null,-8.3092737430167582E-3,7.6800000000000002E-3,null,3.784322079353078E-3,1.6262980997972045E-5,null,null,2.2914710953696598,0.48281133719400826,null,null,-542789.58081998408,2.8933632000000001E-5,null,-542789.58079105045,56786266.046295516,-542.78958079105041,56.786266046295516,10,"CAMPO 2B",2.4672253672320474,100000000,218.26475849731662]
[0,"CAMPO 2B",218.15205724508047,0,null,-8.3003461753210477E-3,7.6800000000000002E-3,null,3.7801095900033242E-3,1.6227997074467318E-5,null,null,2.2889203617423139,0.48279308288300504,null,null,-541905.42069814028,2.8933632000000001E-5,null,-541905.42066920665,56725410.756686948,-541.90542066920671,56.725410756686948,11,"CAMPO 2B",2.4632064575873032,100000000,218.15205724508047]
[0,"CAMPO 2B",218.09570661896242,0,null,-8.2958861289422273E-3,7.6800000000000002E-3,null,3.7780051088601328E-3,1.6210533845501143E-5,null,null,2.2876460627769366,0.4827839488477208,null,null,-541463.82737196342,2.8933632000000001E-5,null,-541463.82734302978,56694995.330013312,-541.46382734302983,56.694995330013313,12,"CAMPO 2B",2.4611992151955899,100000000,218.09570661896242]
[0,"CAMPO 2B",{"$f":"IF(ABS(V155)>$G$110,C155-(C155-$C$144)/3,C155+(C155-$C$144)/3)","v":218.07692307692307},0,null,-8.2943999999999986E-3,7.6800000000000002E-3,null,3.7773038761666515E-3,1.6204717019987234E-5,null,null,2.2872214545077285,0.4827809031492144,null,null,-541316.70163834409,2.8933632000000001E-5,null,-541316.70160941046,56684858.664548866,-541.31670160941042,56.684858664548869,13,"CAMPO 2B",2.4605304618609565,100000000,218.07692307692307]
[0,"CAMPO 2B",218.06440071556349,0,null,-8.2934094009673807E-3,7.6800000000000002E-3,null,3.7768364601786682E-3,1.6200840316327417E-5,null,null,2.2869384262126946,0.482778872400078,null,null,-541218.63781884813,2.8933632000000001E-5,null,-541218.6377899145,56678101.390376277,-541.21863778991451,56.678101390376277,14,"CAMPO 2B",2.4600847172268843,100000000,218.06440071556349]
[0,"CAMPO 2B",218.05605247465712,0,null,-8.2927490698635805E-3,7.6800000000000002E-3,null,3.7765248817245049E-3,1.6198256371518991E-5,null,null,2.2867497601830378,0.48277751844131367,null,null,-541153.27082762402,2.8933632000000001E-5,null,-541153.27079869038,56673596.764396228,-541.15327079869041,56.67359676439623,15,"CAMPO 2B",2.4597875945395016,100000000,218.05605247465712]
[0,"CAMPO 2B",218.05048698071954,0,null,-8.2923088794576421E-3,7.6800000000000002E-3,null,3.7763171770662952E-3,1.6196533974622615E-5,null,null,2.2866239914956266,0.48277661574612774,null,null,-541109.69678337488,2.8933632000000001E-5,null,-541109.69675444125,56670593.779728763,-541.1096967544413,56.670593779728762,16,"CAMPO 2B",2.4595895307020057,100000000,218.05048698071954]
[0,"CAMPO 2B",218.04677665142782,0,null,-8.2920154326658092E-3,7.6800000000000002E-3,null,3.7761787136541491E-3,1.6195385813556419E-5,null,null,2.286540149555103,0.48277601392444192,null,null,-541080.64917590038,2.8933632000000001E-5,null,-541080.64914696675,56668591.834092371,-541.08064914696672,56.668591834092368,17,"CAMPO 2B",2.4594574961225764,100000000,218.04677665142782]
[0,"CAMPO 2B",218.04430309856667,0,null,-8.2918198074614802E-3,7.6800000000000002E-3,null,3.7760864075392173E-3,1.6194620418855577E-5,null,null,2.2864842566395804,0.48277561269891967,null,null,-541061.28488436446,2.8933632000000001E-5,null,-541061.28485543083,56667257.223286718,-541.06128485543081,56.667257223286718,18,"CAMPO 2B",2.4593694766155947,100000000,218.04430309856667]
[0,"CAMPO 2B",218.0426540633259,0,null,-8.2916893933208131E-3,7.6800000000000002E-3,null,3.7760248713854358E-3,1.619411017616937E-5,null,null,2.2864469954565325,0.48277534521032017,null,null,-541048.37570337753,2.8933632000000001E-5,null,-541048.3756744439,56666367.491468996,-541.04837567444395,56.666367491468996,19,"CAMPO 2B",2.4593107985201996,100000000,218.0426540633259]
[0,"CAMPO 2B",218.04155470649872,0,null,-8.2916024517435457E-3,7.6800000000000002E-3,null,3.7759838478411993E-3,1.6193770023466071E-5,null,null,2.2864221550058845,0.48277516688240152,null,null,-541039.76973680616,2.8933632000000001E-5,null,-541039.76970787253,56665774.340799116,-541.03976970787255,56.665774340799118,20,"CAMPO 2B",2.4592716804903296,100000000,218.04155470649872]
[0,"CAMPO 2B",218.04082180194726,0,null,-8.291544491217882E-3,7.6800000000000002E-3,null,3.7759564990598308E-3,1.6193543259035998E-5,null,null,2.2864055948556952,0.48277504799615079,null,null,-541034.03249424032,2.8933632000000001E-5,null,-541034.03246530669,56665378.908741556,-541.03403246530672,56.665378908741559,21,"CAMPO 2B",2.4592456021150304,100000000,218.04082180194726]
[0,"CAMPO 2B",218.04033319891295,0,null,-8.2915058511011473E-3,7.6800000000000002E-3,null,3.7759382666491936E-3,1.6193392084544267E-5,null,null,2.2863945548223423,0.48277496873821857,null,null,-541030.20769629907,2.8933632000000001E-5,null,-541030.20766736544,56665115.288135335,-541.0302076673654,56.665115288135333,22,"CAMPO 2B",2.4592282166698429,100000000,218.04033319891295]
[0,"CAMPO 2B",218.04000746355675,0,null,-8.2914800911271947E-3,7.6800000000000002E-3,null,3.7759261117577803E-3,1.6193291302347552E-5,null,null,2.2863871948297843,0.48277491589940524,null,null,-541027.65784453205,2.8933632000000001E-5,null,-541027.65781559842,56664939.541404739,-541.02765781559845,56.664939541404742,23,"CAMPO 2B",2.4592166264345381,100000000,218.04000746355675]
[0,"CAMPO 2B",{"$f":"IF(ABS(V166)>$G$110,C166-(C166-$C$144)/4,C166+(C166-$C$144)/4)","v":218.03984459587866},0,null,-8.2914672111713793E-3,7.6800000000000002E-3,null,3.775920034326777E-3,1.6193240911488525E-5,null,null,2.2863835148424085,0.48277488947994085,null,null,-541026.38292270666,2.8933632000000001E-5,null,-541026.38289377303,56664851.668141529,-541.02638289377308,56.66485166814153,24,"CAMPO 2B",2.4592108313353318,100000000,218.03984459587866]
[0,"CAMPO 2B",218.03972244512008,0,null,-8.2914575512181479E-3,7.6800000000000002E-3,null,3.7759154762599563E-3,1.6193203118448943E-5,null,null,2.2863807548557711,0.48277486966531757,null,null,-541025.42673311278,2.8933632000000001E-5,null,-541025.42670417915,56664785.763238728,-541.02542670417915,56.664785763238726,25,"CAMPO 2B",2.4592064850189961,100000000,218.03972244512008]
[0,"CAMPO 2B",218.03963083205116,0,null,-8.2914503062608957E-3,7.6800000000000002E-3,null,3.7759120577134601E-3,1.619317477372817E-5,null,null,2.2863786848679846,0.4827748548043358,null,null,-541024.7095919163,2.8933632000000001E-5,null,-541024.70956298267,56664736.334586784,-541.02470956298271,56.664736334586784,26,"CAMPO 2B",2.4592032252862848,100000000,218.03963083205116]
[0,"CAMPO 2B",218.03956212224946,0,null,-8.2914448725472691E-3,7.6800000000000002E-3,null,3.7759094938056227E-3,1.6193153515220713E-5,null,null,2.286377132378377,0.48277484365859158,null,null,-541024.17173658055,2.8933632000000001E-5,null,-541024.17170764692,56664699.263111934,-541.02417170764693,56.664699263111935,27,"CAMPO 2B",2.4592007804893043,100000000,218.03956212224946]
[0,"CAMPO 2B",218.03951058989819,0,null,-8.2914407972644755E-3,7.6800000000000002E-3,null,3.7759075708758902E-3,1.6193137571358757E-5,null,null,2.2863759680118649,0.48277483529927889,null,null,-541023.76834539487,2.8933632000000001E-5,null,-541023.76831646124,56664671.459513769,-541.0237683164612,56.664671459513769,28,"CAMPO 2B",2.4591989468930056,100000000,218.03951058989819]
[0,"CAMPO 2B",218.03947194063471,0,null,-8.2914377408037435E-3,7.6800000000000002E-3,null,3.7759061286792334E-3,1.6193125613472764E-5,null,null,2.28637509473737,0.48277482902979185,null,null,-541023.46580218314,2.8933632000000001E-5,null,-541023.46577324951,56664650.6068196,-541.02346577324954,56.664650606819599,29,"CAMPO 2B",2.4591975716965888,100000000,218.03947194063471]
[0,"CAMPO 2B",218.03944295368711,0,null,-8.2914354484589625E-3,7.6800000000000002E-3,null,3.7759050470321034E-3,1.6193116645064168E-5,null,null,2.2863744397817181,0.48277482432767516,null,null,-541023.23889487423,2.8933632000000001E-5,null,-541023.2388659406,56664634.967301466,-541.02323886594058,56.664634967301467,30,"CAMPO 2B",2.4591965402997298,100000000,218.03944295368711]
[1,"CAMPO 3",{"$f":"VLOOKUP($Z$10,$Z$13:$AC$108,4,FALSE)","v":218.03935599284435},218.03935599284435,null,-3.5000000000000005E-3,{"$f":"ABS($W$4)*($D$3-C174)/C174","v":3.2419021364576157E-3},null,{"$f":"$H$50","v":1.5150573576481342E-3},{"$f":"$I$50","v":2.8637968509798331E-6},null,null,0.91739288307915745,0.45993617497182993,null,null,-217081.97150679579,{"$f":"$L$8*$D$2*$L$6*G174*0.5","v":1.2213542108890421E-5},null,-217081.97149458225,23817324.909702532,-217.08197149458226,23.817324909702531,1,"CAMPO 3",0.98673623406628297,1326.3765933717077,218.03935599284435]
[0,"CAMPO 3",{"$f":"VLOOKUP(C$144,$AC$12:$AD$108,2,FALSE)","v":275.74239713774597},0,null,-3.5000000000000005E-3,1.8310626702997277E-3,null,1.5150573576481342E-3,2.8637968509798331E-6,null,null,0.91739288307915745,0.45993617497182993,null,null,-274531.645565107,6.898345504087194E-6,null,-274531.64555820863,22834470.668034971,-274.53164555820865,22.834470668034971,{"$f":"+X174+1","v":2},"CAMPO 3",1.2478711161736755,100000000,275.74239713774597]
[0,"CAMPO 3",{"$f":"+(C175-C174)/2+C174","v":246.89087656529517},0,null,-3.5000000000000005E-3,2.4540474741326841E-3,null,1.5150573576481342E-3,2.8637968509798331E-6,null,null,0.91739288307915745,0.45993617497182993,null,null,-245806.80853595142,9.2453784540474741E-6,null,-245806.80852670604,23707072.297661867,-245.80680852670605,23.707072297661867,{"$f":"+X175+1","v":3},"CAMPO 3",1.1173036751213912,100000000,246.89087656529517]
[0,"CAMPO 3",{"$f":"IF(ABS(V176)>$G$110,C176-(C176-$C$144)/2,C176+(C176-$C$144)/2)","v":232.46511627906978},0,null,-3.5000000000000005E-3,2.8235294117647061E-3,null,1.5150573576481342E-3,2.8637968509798331E-6,null,null,0.91739288307915745,0.45993617497182993,null,null,-231444.39002137361,1.0637364705882354E-5,null,-231444.39001073624,23857492.230877448,{"$f":"+T177/1000","v":-231.44439001073624},{"$f":"+U177/1000000","v":23.857492230877448},4,{"$f":"B177","v":"CAMPO 3"},{"$f":"ABS(T177)/($G$110*1000)","v":1.0520199545942557},{"$f":"IF(A177=0,10^8,ABS(1*10^5-ABS(Z177)*10^5))","v":100000000},{"$f":"C177","v":232.46511627906978}]
[{"$f":"IF($AB$10=B178,IF(ABS((ROUND(ABS(V178/100),1))-(ROUND(ABS($G$110/100),1)))=0,1,0),0)","v":1},"CAMPO 3",{"$f":"IF(ABS(V177)>$G$110,C177-(C177-$C$144)/2,C177+(C177-$C$144)/2)","v":225.25223613595705},{"$f":"IF(A178=0,0,C178)","v":225.25223613595705},null,-3.5000000000000005E-3,3.026017344896598E-3,null,1.5150573576481342E-3,2.8637968509798331E-6,null,null,{"$f":"I178/($L$4*ABS($W$4))","v":0.91739288307915745},{"$f":"1-J178/I178/ABS(F178)","v":0.45993617497182993},null,null,{"$f":"-$L$4*$D$2*C178*M178","v":-224263.18076408468},1.1400217745163444E-5,null,{"$f":"R178+Q178","v":-224263.18075268448},{"$f":"-Q178*($D$3/2-N178*C178)+R178*($D$3/2)","v":23861231.97708834},-224.26318075268449,23.861231977088341,5,"CAMPO 3",1.0193780943303841,1937.8094330384047,225.25223613595705]
[1,"CAMPO 3",{"$f":"IF(ABS(V178)>$G$110,C178-(C178-$C$144)/2,C178+(C178-$C$144)/2)","v":221.64579606440071},221.64579606440071,null,-3.5000000000000005E-3,3.1322033898305082E-3,null,1.5150573576481342E-3,2.8637968509798331E-6,null,null,0.91739288307915745,0.45993617497182993,null,null,-220672.57613544023,1.1800263050847457E-5,null,-220672.57612363997,23845234.295094959,-220.67257612363997,23.845234295094958,6,"CAMPO 3",1.0030571641983634,305.71641983634618,221.64579606440071]
[1,"CAMPO 3",{"$f":"IF(ABS(V179)>$G$110,C179-(C179-$C$144)/2,C179+(C179-$C$144)/2)","v":219.84257602862255},219.84257602862255,null,-3.5000000000000005E-3,3.1866028708133968E-3,null,1.5150573576481342E-3,2.8637968509798331E-6,null,null,0.91739288307915745,0.45993617497182993,null,null,-218877.273821118,1.2005207655502392E-5,null,-218877.27380911278,23832768.565323614,-218.87727380911278,23.832768565323615,7,"CAMPO 3",0.99489669913233081,510.33008676691679,219.84257602862255]
[1,"CAMPO 3",{"$f":"IF(ABS(V180)>$G$110,C180-(C180-$C$144)/3,C180+(C180-$C$144)/3)","v":220.44364937388195},220.44364937388195,null,-3.5000000000000005E-3,3.1683708248125418E-3,null,1.5150573576481342E-3,2.8637968509798331E-6,null,null,0.91739288307915745,0.45993617497182993,null,null,-219475.70792589211,1.193652024539877E-5,null,-219475.70791395559,23837254.689230703,-219.47570791395557,23.837254689230704,8,"CAMPO 3",0.99761685415434354,238.31458456563996,220.44364937388195]
[1,"CAMPO 3",221.24508050089449,221.24508050089449,null,-3.5000000000000005E-3,3.1442155309033271E-3,null,1.5150573576481342E-3,2.8637968509798331E-6,null,null,0.91739288307915745,0.45993617497182993,null,null,-220273.62006559089,1.1845517591125195E-5,null,-220273.62005374537,23842721.484540191,-220.27362005374536,23.842721484540192,9,"CAMPO 3",1.0012437275170245,124.37275170245266,221.24508050089449]
[1,"CAMPO 3",220.17650566487777,220.17650566487777,null,-3.5000000000000005E-3,3.1764616667930537E-3,null,1.5150573576481342E-3,2.8637968509798331E-6,null,null,0.91739288307915745,0.45993617497182993,null,null,-219209.73721265918,1.196700168347615E-5,null,-219209.73720069218,23835301.705846068,-219.20973720069219,23.835301705846067,10,"CAMPO 3",0.99640789636678262,359.21036332173389,220.17650566487777]
[1,"CAMPO 3",220.88888888888891,220.88888888888891,null,-3.5000000000000005E-3,3.1549295774647877E-3,null,1.5150573576481342E-3,2.8637968509798331E-6,null,null,0.91739288307915745,0.45993617497182993,null,null,-219918.99244794698,1.1885881690140842E-5,null,-219918.99243606109,23840364.419003457,-219.9189924360611,23.840364419003457,11,"CAMPO 3",0.99963178380027773,36.821619972222834,220.88888888888891]
[1,"CAMPO 3",221.83873318757043,221.83873318757043,null,-3.5000000000000005E-3,3.1264352436464588E-3,null,1.5150573576481342E-3,2.8637968509798331E-6,null,null,0.91739288307915745,0.45993617497182993,null,null,-220864.66609499737,1.1778532136913669E-5,null,-220864.66608321885,23846391.718150362,-220.86466608321885,23.846391718150361,12,"CAMPO 3",1.0039303003782676,393.0300378267566,221.83873318757043]
[1,"CAMPO 3",220.57227412266172,220.57227412266172,null,-3.5000000000000005E-3,3.1644822240102723E-3,null,1.5150573576481342E-3,2.8637968509798331E-6,null,null,0.91739288307915745,0.45993617497182993,null,null,-219603.76789893015,1.1921870330736301E-5,null,-219603.76788700829,23838171.704033736,-219.6037678870083,23.838171704033737,13,"CAMPO 3",0.99819894494094674,180.10550590533239,220.57227412266172]
[1,"CAMPO 3",221.41658016593419,221.41658016593419,null,-3.5000000000000005E-3,3.1390692101664268E-3,null,1.5150573576481342E-3,2.8637968509798331E-6,null,null,0.91739288307915745,0.45993617497182993,null,null,-220444.36669630831,1.1826129342380996E-5,null,-220444.36668448217,23843814.927004009,-220.44436668448216,23.843814927004008,14,"CAMPO 3",1.002019848565828,201.98485658279969,221.41658016593419]
[1,"CAMPO 3",220.29083877490424,220.29083877490424,null,-3.5000000000000005E-3,3.1729965175813016E-3,null,1.5150573576481342E-3,2.8637968509798331E-6,null,null,0.91739288307915745,0.45993617497182993,null,null,-219323.56829980414,1.1953947080335796E-5,null,-219323.56828785021,23836145.550991043,-219.32356828785021,23.836145550991045,15,"CAMPO 3",0.9969253103993192,307.46896006808674,220.29083877490424]
[1,"CAMPO 3",221.04133303559087,221.04133303559087,null,-3.5000000000000005E-3,3.1503399152198771E-3,null,1.5150573576481342E-3,2.8637968509798331E-6,null,null,0.91739288307915745,0.45993617497182993,null,null,-220070.7672308069,1.1868590596599365E-5,null,-220070.7672189383,23841387.427194599,-220.0707672189383,23.841387427194601,16,"CAMPO 3",1.0003216691769923,32.166917699229089,221.04133303559087]
[1,"CAMPO 3",220.04067402134203,220.04067402134203,null,-3.5000000000000005E-3,3.1805830628269336E-3,null,1.5150573576481342E-3,2.8637968509798331E-6,null,null,0.91739288307915745,0.45993617497182993,null,null,-219074.50198946986,1.1982528630894191E-5,null,-219074.50197748732,23834283.628824014,-219.07450197748733,23.834283628824014,17,"CAMPO 3",0.99579319080676054,420.680919323946,220.04067402134203]
[1,"CAMPO 3",220.70778003084126,220.70778003084126,null,-3.5000000000000005E-3,3.1603904936861999E-3,null,1.5150573576481342E-3,2.8637968509798331E-6,null,null,0.91739288307915745,0.45993617497182993,null,null,-219738.67881702789,1.1906455145913391E-5,null,-219738.67880512142,23839121.387825895,-219.73867880512142,23.839121387825895,18,"CAMPO 3",0.99881217638691555,118.78236130844743,220.70778003084126]
[1,"CAMPO 3",221.59725471017356,221.59725471017356,null,-3.5000000000000005E-3,3.1336561882168126E-3,null,1.5150573576481342E-3,2.8637968509798331E-6,null,null,0.91739288307915745,0.45993617497182993,null,null,-220624.24792043859,1.180573632348802E-5,null,-220624.24790863285,23844937.729650222,-220.62424790863287,23.844937729650223,19,"CAMPO 3",1.0028374904937858,283.74904937857355,221.59725471017356]
[1,"CAMPO 3",220.41128847106381,220.41128847106381,null,-3.5000000000000005E-3,3.1693498785702419E-3,null,1.5150573576481342E-3,2.8637968509798331E-6,null,null,0.91739288307915745,0.45993617497182993,null,null,-219443.48911589099,1.1940208732525529E-5,null,-219443.48910395079,23837021.590452958,-219.44348910395078,23.837021590452959,20,"CAMPO 3",0.99747040501795814,252.959498204189,220.41128847106381]
[1,"CAMPO 3",221.20193263047031,221.20193263047031,null,-3.5000000000000005E-3,3.1455115582363102E-3,null,1.5150573576481342E-3,2.8637968509798331E-6,null,null,0.91739288307915745,0.45993617497182993,null,null,-220230.66165225607,1.1850400244499475E-5,null,-220230.66164040565,23842442.142597649,-220.23066164040566,23.842442142597648,21,"CAMPO 3",1.0010484620018438,104.84620018438727,221.20193263047031]
[1,"CAMPO 3",220.14774041792833,220.14774041792833,null,-3.5000000000000005E-3,3.1773340358131901E-3,null,1.5150573576481342E-3,2.8637968509798331E-6,null,null,0.91739288307915745,0.45993617497182993,null,null,-219181.09827043599,1.1970288246522612E-5,null,-219181.0982584657,23835087.516615231,-219.18109825846571,23.835087516615232,22,"CAMPO 3",0.99627771935666232,372.22806433377264,220.14774041792833]
[1,"CAMPO 3",220.85053522628965,220.85053522628965,null,-3.5000000000000005E-3,3.1560852953958062E-3,null,1.5150573576481342E-3,2.8637968509798331E-6,null,null,0.91739288307915745,0.45993617497182993,null,null,-219880.80719164936,1.189023574187416E-5,null,-219880.80717975914,23840103.687823802,-219.88080717975913,23.840103687823802,23,"CAMPO 3",0.99945821445345062,54.178554654936306,220.85053522628965]
[1,"CAMPO 3",221.78759497077141,221.78759497077141,null,-3.5000000000000005E-3,3.1279631202715645E-3,null,1.5150573576481342E-3,2.8637968509798331E-6,null,null,0.91739288307915745,0.45993617497182993,null,null,-220813.75241993391,1.1784288259311092E-5,null,-220813.75240814962,23846088.262286749,-220.81375240814961,23.846088262286749,24,"CAMPO 3",1.0036988745824982,369.8874582498247,221.78759497077141]
[1,"CAMPO 3",220.53818197812905,220.53818197812905,null,-3.5000000000000005E-3,3.1655124605397406E-3,null,1.5150573576481342E-3,2.8637968509798331E-6,null,null,0.91739288307915745,0.45993617497182993,null,null,-219569.82544888783,1.1925751643837419E-5,null,-219569.82543696207,23837930.123938657,-219.56982543696208,23.837930123938659,25,"CAMPO 3",0.99804466107710033,195.53389228996821,220.53818197812905]
[1,"CAMPO 3",{"$f":"IF(ABS(V198)>$G$110,C198-(C198-$C$144)/4,C198+(C198-$C$144)/4)","v":221.16288847445023},221.16288847445023,null,-3.5000000000000005E-3,3.1466847586403327E-3,null,1.5150573576481342E-3,2.8637968509798331E-6,null,null,0.91739288307915745,0.45993617497182993,null,null,-220191.78893441087,1.1854820159701589E-5,null,-220191.78892255604,23842187.898843534,-220.19178892255604,23.842187898843534,26,"CAMPO 3",1.0008717678298003,87.176782980022836,221.16288847445023]
[1,"CAMPO 3",220.38200535404877,220.38200535404877,null,-3.5000000000000005E-3,3.1702360641396791E-3,null,1.5150573576481342E-3,2.8637968509798331E-6,null,null,0.91739288307915745,0.45993617497182993,null,null,-219414.33457750711,1.1943547348039828E-5,null,-219414.33456556356,23836809.834671549,-219.41433456556356,23.836809834671548,27,"CAMPO 3",0.99733788438892534,266.21156110746961,220.38200535404877]
[1,"CAMPO 3",220.96766769434987,220.96766769434987,null,-3.5000000000000005E-3,3.1525569796634454E-3,null,1.5150573576481342E-3,2.8637968509798331E-6,null,null,0.91739288307915745,0.45993617497182993,null,null,-219997.42534518492,1.1876943165184065E-5,null,-219997.42533330797,23840895.737995114,-219.99742533330797,23.840895737995115,28,"CAMPO 3",0.99998829696958169,1.170303041828447,220.96766769434987]
[1,"CAMPO 3",221.69974561972626,221.69974561972626,null,-3.5000000000000005E-3,3.1305894753773833E-3,null,1.5150573576481342E-3,2.8637968509798331E-6,null,null,0.91739288307915745,0.45993617497182993,null,null,-220726.28880478221,1.1794182789536754E-5,null,-220726.28879298802,23845561.370195307,-220.72628879298802,23.845561370195306,29,"CAMPO 3",1.0033013126954,330.13126953999745,221.69974561972626]
[1,"CAMPO 3",220.78464821300577,220.78464821300577,null,-3.5000000000000005E-3,3.15807161819418E-3,null,1.5150573576481342E-3,2.8637968509798331E-6,null,null,0.91739288307915745,0.45993617497182993,null,null,-219815.20948028562,1.1897719014384754E-5,null,-219815.20946838788,23839652.637765512,-219.81520946838788,23.839652637765511,30,"CAMPO 3",0.99916004303812678,83.995696187324938,220.78464821300577]
[1,"CAMPO 3",221.47097126804613,221.47097126804613,null,-3.5000000000000005E-3,3.1374387197718127E-3,null,1.5150573576481342E-3,2.8637968509798331E-6,null,null,0.91739288307915745,0.45993617497182993,null,null,-220498.51897365807,1.1819986632868327E-5,null,-220498.51896183807,23844156.086006198,-220.49851896183807,23.844156086006198,31,"CAMPO 3",1.0022659952810822,226.59952810821414,221.47097126804613]
[1,"CAMPO 3",220.61306744924568,220.61306744924568,null,-3.5000000000000005E-3,3.1632499017230191E-3,null,1.5150573576481342E-3,2.8637968509798331E-6,null,null,0.91739288307915745,0.45993617497182993,null,null,-219644.3821069425,1.1917227679751303E-5,null,-219644.38209502527,23838459.370469399,-219.64438209502526,23.838459370469398,32,"CAMPO 3",0.99838355497738762,161.64450226123154,220.61306744924568]
[1,"CAMPO 3",221.25649531334602,221.25649531334602,null,-3.5000000000000005E-3,{"$f":"ABS($W$4)*($D$3-C206)/C206","v":3.1438727501227428E-3},null,1.5150573576481342E-3,2.8637968509798331E-6,null,null,0.91739288307915745,0.45993617497182993,null,null,-220284.98475697919,1.1844226198812421E-5,null,-220284.98474513495,23842795.099530693,-220.28498474513495,23.842795099530694,33,"CAMPO 3",1.0012953852051589,129.53852051589638,221.25649531334602]
[1,"CAMPO 3",220.4522104832206,220.4522104832206,null,-3.5000000000000005E-3,3.1681118632370751E-3,null,1.5150573576481342E-3,2.8637968509798331E-6,null,null,0.91739288307915745,0.45993617497182993,null,null,-219484.23144443333,1.1935544633559357E-5,null,-219484.23143249779,23837316.195320923,-219.48423143249778,23.837316195320923,34,"CAMPO 3",0.99765559742044452,234.44025795554626,220.4522104832206]
[1,"CAMPO 3",221.05542410581467,221.05542410581467,null,-3.5000000000000005E-3,3.1499159925446633E-3,null,1.5150573576481342E-3,2.8637968509798331E-6,null,null,0.91739288307915745,0.45993617497182993,null,null,-220084.79642884273,1.1866993510312766E-5,null,-220084.79641697573,23841480.913681209,-220.08479641697573,23.84148091368121,35,"CAMPO 3",1.0003854382589805,38.543825898057548,221.05542410581467]
[1,"CAMPO 3",220.30140707757209,220.30140707757209,null,-3.5000000000000005E-3,3.1726764004842991E-3,null,1.5150573576481342E-3,2.8637968509798331E-6,null,null,0.91739288307915745,0.45993617497182993,null,null,-219334.09019833099,1.1952741071184549E-5,null,-219334.09018637825,23836222.94679058,-219.33409018637826,23.836222946790581,36,{"$f":"B209","v":"CAMPO 3"},{"$f":"ABS(T209)/($G$110*1000)","v":0.99697313721081027},{"$f":"IF(A209=0,10^8,ABS(1*10^5-ABS(Z209)*10^5))","v":302.68627891897631},{"$f":"C209","v":220.30140707757209}]
[{"$f":"IF($AB$10=B210,IF(ABS((ROUND(ABS(V210/100),1))-(ROUND(ABS($G$110/100),1)))=0,1,0),0)","v":1},"CAMPO 3",220.86691984875404,220.86691984875404,null,-3.5000000000000005E-3,3.155591525460813E-3,null,1.5150573576481342E-3,2.8637968509798331E-6,null,null,{"$f":"I210/($L$4*ABS($W$4))","v":0.91739288307915745},0.45993617497182993,null,null,{"$f":"-$L$4*$D$2*C210*M210","v":-219897.11987121479},1.1888375513021067E-5,null,-219897.11985932643,{"$f":"-Q210*($D$3/2-N210*C210)+R210*($D$3/2)","v":23840215.23659005},-219.89711985932644,23.840215236590051,37,"CAMPO 3",0.99953236299693826,46.763700306168175,220.86691984875404]
[1,"CAMPO 3",221.57381081273147,221.57381081273147,null,-3.5000000000000005E-3,3.1343580706043213E-3,null,1.5150573576481342E-3,2.8637968509798331E-6,null,null,0.91739288307915745,0.45993617497182993,null,null,-220600.90696231954,1.1808380595194721E-5,null,-220600.90695051115,23844793.725386079,-220.60090695051116,23.844793725386079,38,"CAMPO 3",1.0027313952295962,273.13952295962372,221.57381081273147]
[1,"CAMPO 3",220.69019710775967,220.69019710775967,null,-3.5000000000000005E-3,3.1609211431453902E-3,null,1.5150573576481342E-3,2.8637968509798331E-6,null,null,0.91739288307915745,0.45993617497182993,null,null,-219721.17309843859,1.1908454314685944E-5,null,-219721.17308653015,23838999.108583178,-219.72117308653014,23.838999108583177,39,"CAMPO 3",0.99873260493877336,126.73950612267072,220.69019710775967]
[1,"CAMPO 3",221.35290738648851,221.35290738648851,null,-3.5000000000000005E-3,3.1409789568895875E-3,null,1.5150573576481342E-3,2.8637968509798331E-6,null,null,0.91739288307915745,0.45993617497182993,null,null,-220380.9734963493,1.1833324122185832E-5,null,-220380.97348451597,23843412.107880231,-220.38097348451598,23.84341210788023,40,"CAMPO 3",1.0017316976568909,173.16976568909013,221.35290738648851]
[1,"CAMPO 3",220.52451953807747,220.52451953807747,null,-3.5000000000000005E-3,3.1659254176322031E-3,null,1.5150573576481342E-3,2.8637968509798331E-6,null,null,0.91739288307915745,0.45993617497182993,null,null,-219556.22299896093,1.1927307418387563E-5,null,-219556.22298703363,23837833.011857472,-219.55622298703364,23.837833011857473,41,"CAMPO 3",0.99798283175924374,201.71682407562912,220.52451953807747]
[1,"CAMPO 3",221.14581042438576,221.14581042438576,null,-3.5000000000000005E-3,3.1471980508200621E-3,null,1.5150573576481342E-3,2.8637968509798331E-6,null,null,0.91739288307915745,0.45993617497182993,null,null,-220174.78587200222,1.1856753936659502E-5,null,-220174.78586014546,23842076.252844643,-220.17478586014548,23.842076252844642,42,"CAMPO 3",1.0007944811824794,79.448118247935781,221.14581042438576]
[1,"CAMPO 3",220.36919681650039,220.36919681650039,null,-3.5000000000000005E-3,3.170623758837116E-3,null,1.5150573576481342E-3,2.8637968509798331E-6,null,null,0.91739288307915745,0.45993617497182993,null,null,-219401.58228070059,1.1945007949042952E-5,null,-219401.58226875559,23836716.965076201,-219.40158226875559,23.836716965076199,43,"CAMPO 3",0.99727991940343452,272.00805965655309,220.36919681650039]
[1,"CAMPO 3",220.95165702241439,220.95165702241439,null,-3.5000000000000005E-3,3.1530390394441631E-3,null,1.5150573576481342E-3,2.8637968509798331E-6,null,null,0.91739288307915745,0.45993617497182993,null,null,-219981.4849741768,1.187875927720194E-5,null,-219981.48496229804,23840788.215153601,-219.98148496229803,23.840788215153601,44,"CAMPO 3",0.99991584073771833,8.4159262281609699,220.95165702241439]
[1,"CAMPO 3",221.6797322798069,221.6797322798069,null,-3.5000000000000005E-3,3.1311880877975254E-3,null,1.5150573576481342E-3,2.8637968509798331E-6,null,null,0.91739288307915745,0.45993617497182993,null,null,-220706.36334102205,1.1796438001968398E-5,null,-220706.3633292256,23845440.348131962,-220.70636332922561,23.845440348131962,45,"CAMPO 3",1.003210742405571,321.07424055709271,221.6797322798069]
[1,"CAMPO 3",220.76963820806625,220.76963820806625,null,-3.5000000000000005E-3,3.1585242967811806E-3,null,1.5150573576481342E-3,2.8637968509798331E-6,null,null,0.91739288307915745,0.45993617497182993,null,null,-219800.26538246547,1.189942443569342E-5,null,-219800.26537056605,23839549.326072488,-219.80026537056605,23.839549326072486,46,"CAMPO 3",0.99909211532075481,90.788467924518045,220.76963820806625]
[1,"CAMPO 3",221.45220876187173,221.45220876187173,null,-3.5000000000000005E-3,3.1380010758018484E-3,null,1.5150573576481342E-3,2.8637968509798331E-6,null,null,0.91739288307915745,0.45993617497182993,null,null,-220479.8388513829,1.1822105252975883E-5,null,-220479.83883956081,23844038.707463838,-220.47983883956081,23.844038707463838,47,"CAMPO 3",1.0021810856343674,218.10856343673368,221.45220876187173]
[1,"CAMPO 3",220.59899556961489,220.59899556961489,null,-3.5000000000000005E-3,3.1636749464986074E-3,null,1.5150573576481342E-3,2.8637968509798331E-6,null,null,0.91739288307915745,0.45993617497182993,null,null,-219630.37201523612,1.1918828993438853E-5,null,-219630.37200331729,23838360.310555831,-219.63037200331729,23.838360310555831,48,"CAMPO 3",0.99831987274235134,168.01272576487099,220.59899556961489]
[1,"CAMPO 3",221.23890546380753,221.23890546380753,null,-3.5000000000000005E-3,3.1444009787441178E-3,null,1.5150573576481342E-3,2.8637968509798331E-6,null,null,0.91739288307915745,0.45993617497182993,null,null,-220267.4721423462,1.184621624732059E-5,null,-220267.47213049998,23842681.611520104,-220.26747213049998,23.842681611520103,49,"CAMPO 3",1.0012157824113637,121.57824113636161,221.23890546380753]
[1,"CAMPO 3",220.43901809606672,220.43901809606672,null,-3.5000000000000005E-3,3.168510922868374E-3,null,1.5150573576481342E-3,2.8637968509798331E-6,null,null,0.91739288307915745,0.45993617497182993,null,null,-219471.09698345858,1.1937048050814312E-5,null,-219471.09697152153,23837221.388486695,-219.47109697152152,23.837221388486693,50,"CAMPO 3",0.99759589532509785,240.41046749021916,220.43901809606672]
[0,"CAMPO 4",{"$f":"VLOOKUP($Z$10,$Z$13:$AC$108,4,FALSE)","v":218.03935599284435},0,{"$f":"-(ABS($W$5)-ABS($W$5)*$L$9/(C224-($D$3-$L$9)))","v":-8.8091664193746275E-4},{"$f":"-(ABS($W$4)-($D$3-$L$9)*ABS(E224)/$L$9)","v":9.5104914244885331E-4},null,null,{"$f":"$H$61-$L$4/ABS($W$5)*E224^2/2+$L$4*ABS(E224)","v":1.6141057414161514E-3},{"$f":"+$I$61-$L$4/ABS($W$5)*ABS(E224)^3/3+$L$4*(ABS(E224)^2)/2","v":2.8609384800047199E-6},null,null,0.97736835654263499,{"$f":"1-J224/I224/ABS($W$4)","v":0.49358274782549294},null,null,{"$f":"-$L$4*$D$2*$D$3*M224","v":-445493.18463085778},null,null,-445493.18463085778,{"$f":"-Q224*($D$3/2-N224*$D$3)","v":1200713.685276194},-445.4931846308578,1.2007136852761939,1,"CAMPO 4",2.0249690210493534,100000000,218.03935599284435]
[0,"CAMPO 4",{"$f":"VLOOKUP($Z$10,$Z$13:$AC$108,4,FALSE)","v":218.03935599284435},0,-8.8091664193746275E-4,9.5104914244885331E-4,null,null,1.6141057414161514E-3,2.8609384800047199E-6,null,null,0.97736835654263499,0.49358274782549294,null,null,-445493.18463085778,null,null,-445493.18463085778,1200713.685276194,-445.4931846308578,1.2007136852761939,{"$f":"+X224+1","v":2},"CAMPO 4",2.0249690210493534,100000000,218.03935599284435]
[0,"CAMPO 4",{"$f":"VLOOKUP(C$144,$AC$12:$AD$108,2,FALSE)","v":275.74239713774597},0,-1.114192323529732E-3,2.1297322017469352E-3,null,null,1.5342898590292218E-3,2.7804545770449234E-6,null,null,0.92903848831103375,0.48222587227158598,null,null,-423464.00109206524,null,null,-423464.00109206524,3161215.3623941615,-423.46400109206525,3.1612153623941617,{"$f":"+X225+1","v":3},"CAMPO 4",1.9248363686002965,100000000,275.74239713774597]
[0,"CAMPO 4",{"$f":"+(C226-C225)/2+C225","v":246.89087656529517},0,-9.6510937285461461E-4,1.376453732291782E-3,null,null,1.5904200730278578E-3,2.8390357180629409E-6,null,null,0.96302628328665996,0.48997558817311959,null,null,-438955.94015568873,null,null,-438955.94015568873,1848115.5495499556,-438.95594015568872,1.8481155495499557,4,"CAMPO 4",1.9952542734349488,100000000,246.89087656529517]
[0,"CAMPO 4",{"$f":"IF(ABS(V227)>$G$110,C227-(C227-$C$144)/2,C227+(C227-$C$144)/2)","v":232.46511627906978},0,-9.1787294592306559E-4,1.1377800058838005E-3,null,null,1.6044211830447926E-3,2.852224806408848E-6,null,null,0.97150419246937447,0.49207765275627147,null,null,-442820.24652036279,null,null,-442820.24652036279,1473433.818984864,-442.82024652036279,1.4734338189848641,5,"CAMPO 4",2.0128193023652856,100000000,232.46511627906978]
[0,"CAMPO 4",{"$f":"IF(ABS(V228)>$G$110,C228-(C228-$C$144)/2,C228+(C228-$C$144)/2)","v":225.25223613595705},0,-8.9833159155397252E-4,1.0390424812804053E-3,null,null,1.6096809261592689E-3,2.8570016984902935E-6,null,null,0.97468905598341038,0.49288943771214921,null,null,-444271.93561995821,null,null,-444271.93561995821,1326789.7738072986,-444.27193561995819,1.3267897738072987,6,"CAMPO 4",2.0194178891816281,100000000,225.25223613595705]
[0,"CAMPO 4",{"$f":"IF(ABS(V229)>$G$110,C229-(C229-$C$144)/2,C229+(C229-$C$144)/2)","v":221.64579606440071},0,-8.893806152173308E-4,9.9381546018603327E-4,null,null,1.6119861134200326E-3,2.8590622529591117E-6,null,null,0.97608488590134312,0.49324940046550059,null,null,-444908.16730392905,null,null,-444908.16730392905,1261426.684180696,-444.90816730392902,1.261426684180696,7,"CAMPO 4",2.0223098513814959,100000000,221.64579606440071]
[0,"CAMPO 4",{"$f":"IF(ABS(V230)>$G$110,C230-(C230-$C$144)/2,C230+(C230-$C$144)/2)","v":219.84257602862255},0,-8.8509027152181583E-4,9.7213743786517736E-4,null,null,1.6130678475147961E-3,2.8600220111584215E-6,null,null,0.97673989421169549,0.4934192338504424,null,null,-445206.72591408371,null,null,-445206.72591408371,1230516.5676093181,-445.20672591408373,1.2305165676093182,8,"CAMPO 4",2.0236669359731079,100000000,219.84257602862255]
[0,"CAMPO 4",{"$f":"IF(ABS(V231)>$G$110,C231-(C231-$C$144)/2,C231+(C231-$C$144)/2)","v":218.94096601073346},0,-8.8298916716774475E-4,9.6152108861240941E-4,null,null,1.6135921246524393E-3,2.8604854936027844E-6,null,null,0.9770573528956239,0.49350176099995879,null,null,-445351.42640407325,null,null,-445351.42640407325,1215480.0032688312,-445.35142640407327,1.2154800032688311,9,"CAMPO 4",2.0243246654730602,100000000,218.94096601073346]
[0,"CAMPO 4",{"$f":"IF(ABS(V232)>$G$110,C232-(C232-$C$144)/3,C232+(C232-$C$144)/3)","v":218.64042933810376},0,-8.8229517889222575E-4,9.5801454125984302E-4,null,null,1.6137645003482342E-3,2.8606376396842265E-6,null,null,0.97716172929810108,0.49352892585416985,null,null,-445399.00209611258,null,null,-445399.00209611258,1210528.1861579395,-445.39900209611261,1.2105281861579396,10,"CAMPO 4",2.0245409186186936,100000000,218.64042933810376]
[0,"CAMPO 4",218.44007155635063,0,-8.8183427341510866E-4,9.5568570237656312E-4,null,null,1.6138787647915079E-3,2.8607384283257503E-6,null,null,0.97723091835323439,0.49354694138373434,null,null,-445430.53908245621,null,null,-445430.53908245621,1207243.5388330335,-445.43053908245622,1.2072435388330336,11,"CAMPO 4",2.0246842685566193,100000000,218.44007155635063]
[0,"CAMPO 4",218.30649970184854,0,-8.8152777863697044E-4,9.5413706172834322E-4,null,null,1.6139546528573161E-3,2.8608053373954327E-6,null,null,0.97727686986202156,0.49355891003846364,null,null,-445451.48418861924,null,null,-445451.48418861924,1205061.09492669,-445.45148418861925,1.20506109492669,12,"CAMPO 4",2.0247794735846329,100000000,218.30649970184854]
[0,"CAMPO 4",218.21745179884715,0,-8.8132379236807278E-4,9.531063706685731E-4,null,null,1.6140051173445373E-3,2.860849818096299E-6,null,null,0.97730742696350104,0.49356687068127603,null,null,-445465.41238709225,null,null,-445465.41238709225,1203609.3740600499,-445.46541238709227,1.20360937406005,13,"CAMPO 4",2.0248427835776921,100000000,218.21745179884715]
[0,"CAMPO 4",218.15808653017956,0,-8.8118795390068291E-4,9.5242001322565174E-4,null,null,1.6140387038050493E-3,2.8608794163620531E-6,null,null,0.97732776413402866,0.49357216959320505,null,null,-445474.68225019361,null,null,-445474.68225019361,1202642.9973705425,-445.47468225019361,1.2026429973705426,14,"CAMPO 4",2.0248849193190619,100000000,218.15808653017956]
[0,"CAMPO 4",218.11850968440115,0,-8.8109746255012706E-4,9.5196278330273278E-4,null,null,1.614061069701372E-3,2.8608991239085617E-6,null,null,0.97734130706295252,0.49357569857044326,null,null,-445480.85523757868,null,null,-445480.85523757868,1201999.3839600373,-445.48085523757868,1.2019993839600374,15,"CAMPO 4",2.0249129783526305,100000000,218.11850968440115]
[0,"CAMPO 4",218.09212512054887,0,-8.8103716501142172E-4,9.5165811507969293E-4,null,null,1.6140759691674828E-3,2.8609122513411595E-6,null,null,0.97735032894196106,0.49357804961014728,null,null,-445484.96749022527,null,null,-445484.96749022527,1201570.5914718979,-445.4849674902253,1.2015705914718979,16,"CAMPO 4",2.024931670410115,100000000,218.09212512054887]
[0,"CAMPO 4",218.07453541131403,0,-8.8099697998979655E-4,9.5145507032207361E-4,null,null,1.6140858972017425E-3,2.8609209981088426E-6,null,null,0.97735634053480724,0.49357961625415103,null,null,-445487.70762768091,null,null,-445487.70762768091,1201284.8555518724,-445.48770762768089,1.2012848555518725,17,"CAMPO 4",2.024944125580368,100000000,218.07453541131403]
[0,"CAMPO 4",218.0628089384908,0,-8.8097019590067179E-4,9.5131973708933179E-4,null,null,1.6140925136955255E-3,2.8609268271312766E-6,null,null,0.97736034693382368,0.49358066036551718,null,null,-445489.53377996507,null,null,-445489.53377996507,1201094.4207952244,{"$f":"+T241/1000","v":-445.48953377996509},{"$f":"+U241/1000000","v":1.2010944207952243},18,{"$f":"B241","v":"CAMPO 4"},{"$f":"ABS(T241)/($G$110*1000)","v":2.0249524262725687},{"$f":"IF(A241=0,10^8,ABS(1*10^5-ABS(Z241)*10^5))","v":100000000},{"$f":"C241","v":218.0628089384908}]
[{"$f":"IF($AB$10=B242,IF(ABS((ROUND(ABS(V242/100),1))-(ROUND(ABS($G$110/100),1)))=0,1,0),0)","v":0},"CAMPO 4",218.054991289942,{"$f":"IF(A242=0,0,C242)","v":0},-8.8095234247398077E-4,9.5122952823666626E-4,null,null,1.6140969237158679E-3,2.860930712188395E-6,null,null,{"$f":"I242/($L$4*ABS($W$4))","v":0.97736301727581165},0.49358135629848965,null,null,-445490.75094557955,null,null,{"$f":"R242+Q242","v":-445490.75094557955},1200967.4891079459,-445.49075094557958,1.200967489107946,19,"CAMPO 4",2.0249579588435433,100000000,218.054991289942]
[0,"CAMPO 4",218.04977952424278,0,-8.809404413594017E-4,9.5116939491267241E-4,null,null,1.6140998632959765E-3,2.8609333018008857E-6,null,null,0.97736479724134051,0.49358182019103169,null,null,-445491.56226968952,null,null,-445491.56226968952,1200882.8790105258,-445.4915622696895,1.2008828790105257,20,"CAMPO 4",2.0249616466804068,100000000,218.04977952424278]
[0,"CAMPO 4",218.04630501377665,0,-8.8093250780289832E-4,9.5112930865684552E-4,null,null,1.614101822823435E-3,2.8609350280200971E-6,null,null,0.97736598376839545,0.49358212942483137,null,null,-445492.10309926805,null,null,-445492.10309926805,1200826.4771793322,-445.49210309926804,1.2008264771793322,21,"CAMPO 4",2.0249641049966729,100000000,218.04630501377665]
[0,"CAMPO 4",218.04398867346589,0,-8.8092721899626913E-4,9.5110258565367931E-4,null,null,1.6141031290894772E-3,2.8609361787488628E-6,null,null,0.97736677473460176,0.49358233556830144,null,null,-445492.4636286957,null,null,-445492.4636286957,1200788.8781362537,-445.4924636286957,1.2007888781362537,22,"CAMPO 4",2.0249657437667987,100000000,218.04398867346589]
[0,"CAMPO 4",218.04244444659204,0,-8.8092369322786176E-4,9.5108477083704528E-4,null,null,1.6141039998954652E-3,2.8609369458640249E-6,null,null,0.97736730202237199,0.49358247299177238,null,null,-445492.70397114841,null,null,-445492.70397114841,1200763.8130753434,-445.49270397114839,1.2007638130753433,23,"CAMPO 4",2.0249668362324926,100000000,218.04244444659204]
[0,"CAMPO 4",218.04141496200947,0,-8.8092134276122338E-4,9.5107289452319539E-4,null,null,1.6141045804158847E-3,2.8609374572575351E-6,null,null,0.97736765353731547,0.49358256460497119,null,null,-445492.8641947842,null,null,-445492.8641947842,1200747.1034648709,-445.4928641947842,1.2007471034648709,24,"CAMPO 4",2.0249675645217464,100000000,218.04141496200947]
[0,"CAMPO 4",218.04072863895442,0,-8.8091977580374544E-4,9.5106497708310382E-4,null,null,1.614104967421984E-3,2.8609377981791645E-6,null,null,0.97736788787606133,0.49358262567934885,null,null,-445492.9710084676,null,null,-445492.9710084676,1200735.9639157334,-445.49297100846758,1.2007359639157333,25,"CAMPO 4",2.0249680500384892,100000000,218.04072863895442]
[0,"CAMPO 4",218.04027109025105,0,-8.809187311744404E-4,9.5105969883525201E-4,null,null,1.6141052254227111E-3,2.8609380254569723E-6,null,null,0.9773680440998701,0.49358266639511716,null,null,-445493.04221666825,null,null,-445493.04221666825,1200728.5376345809,-445.49304221666824,1.2007285376345809,26,"CAMPO 4",2.0249683737121282,100000000,218.04027109025105]
[0,"CAMPO 4",{"$f":"IF(ABS(V249)>$G$110,C249-(C249-$C$144)/4,C249+(C249-$C$144)/4)","v":218.04004231589937},0,-8.8091820886249193E-4,9.5105705972499009E-4,null,null,1.6141053544220729E-3,2.8609381390948926E-6,null,null,0.97736812221116787,0.4935826867528561,null,null,-445493.07782049209,null,null,-445493.07782049209,1200724.8245195115,-445.49307782049209,1.2007248245195115,27,"CAMPO 4",2.0249685355476914,100000000,218.04004231589937]
[0,"CAMPO 4",{"$f":"IF(ABS(V250)>$G$110,C250-(C250-$C$144)/4,C250+(C250-$C$144)/4)","v":218.03987073513562},0,-8.8091781712971366E-4,9.510550803982702E-4,null,null,1.614105451171156E-3,2.8609382243229027E-6,null,null,0.97736818079437582,0.493582702021097,null,null,-445493.10452323902,null,null,-445493.10452323902,1200722.0396943293,-445.49310452323903,1.2007220396943292,28,"CAMPO 4",2.0249686569238139,100000000,218.03987073513562]
[0,"CAMPO 4",{"$f":"IF(ABS(V251)>$G$110,C251-(C251-$C$144)/4,C251+(C251-$C$144)/4)","v":218.03974204956279},0,-8.8091752333079531E-4,9.5105359590659305E-4,null,null,1.6141055237327217E-3,2.8609382882436681E-6,null,null,0.97736822473163254,0.49358271347224192,null,null,-445493.12455023121,null,null,-445493.12455023121,1200719.9510817167,-445.49312455023119,1.2007199510817166,29,"CAMPO 4",2.0249687479555964,100000000,218.03974204956279]
[0,"CAMPO 4",{"$f":"IF(ABS(V252)>$G$110,C252-(C252-$C$144)/4,C252+(C252-$C$144)/4)","v":218.03964553538319},0,-8.8091730298198092E-4,9.5105248253972647E-4,null,null,1.6141055781537573E-3,2.8609383361841062E-6,null,null,0.97736825768449098,0.4935827220605804,null,null,-445493.13957043702,null,null,-445493.13957043702,1200718.3846258228,-445.49313957043699,1.2007183846258227,30,"CAMPO 4",2.0249688162292592,100000000,218.03964553538319]
[null,null,null,null,null,null,null,null,null,null,null,null,null,null,null,null,null,null,null,null,null,null,null,null,null,{"$f":"MINA(AA113:AA253)","v":1.170303041828447}]
[]
[null,null,null,null,null,null,null,null,null,null,null,null,null,null,null,null,null,null,null,null,null,null,null,null,"y(verifica)",{"$f":"VLOOKUP(Z254,AA113:AB253,2,FALSE)","v":220.96766769434987}]
[]
[]
[null,null,1,{"$f":"+C259+1","v":2},3,4,5,6,7,8,9,10,11,12,13,14,15,16,17,18,19,20,22]
[null,null,"Y[mm]","εm_inf [-]","εm_sup [-]","εf_inf [-]","εf_sup [-]","A(σ-ε)","Sy(σ-ε)","A(σ-ε)","Sy(σ-ε)","β1","β2","k1","k2","C  [N]","T  [N]","TSUP [N]","Ned  [N]","MRd  [Nmm]","Ned  [kN]","MRd  [kNm]"]
[null,{"$f":"W261","v":"CAMPO 3"},{"$f":"Z256","v":220.96766769434987},{"$f":"VLOOKUP($Z$256,MNFP!$D$114:$W$253,D259,FALSE)","v":0},{"$f":"VLOOKUP($Z$256,MNFP!$D$114:$W$253,E259,FALSE)","v":-3.5000000000000005E-3},{"$f":"VLOOKUP($Z$256,MNFP!$D$114:$W$253,F259,FALSE)","v":3.1525569796634454E-3},{"$f":"VLOOKUP($Z$256,MNFP!$D$114:$W$253,G259,FALSE)","v":0},{"$f":"VLOOKUP($Z$256,MNFP!$D$114:$W$253,H259,FALSE)","v":1.5150573576481342E-3},{"$f":"VLOOKUP($Z$256,MNFP!$D$114:$W$253,I259,FALSE)","v":2.8637968509798331E-6},{"$f":"VLOOKUP($Z$256,MNFP!$D$114:$W$253,J259,FALSE)","v":0},{"$f":"VLOOKUP($Z$256,MNFP!$D$114:$W$253,K259,FALSE)","v":0},{"$f":"VLOOKUP($Z$256,MNFP!$D$114:$W$253,L259,FALSE)","v":0.91739288307915745},{"$f":"VLOOKUP($Z$256,MNFP!$D$114:$W$253,M259,FALSE)","v":0.45993617497182993},{"$f":"VLOOKUP($Z$256,MNFP!$D$114:$W$253,N259,FALSE)","v":0},{"$f":"VLOOKUP($Z$256,MNFP!$D$114:$W$253,O259,FALSE)","v":0},{"$f":"VLOOKUP($Z$256,MNFP!$D$114:$W$253,P259,FALSE)","v":-219997.42534518492},{"$f":"VLOOKUP($Z$256,MNFP!$D$114:$W$253,Q259,FALSE)","v":1.1876943165184065E-5},{"$f":"VLOOKUP($Z$256,MNFP!$D$114:$W$253,R259,FALSE)","v":0},{"$f":"VLOOKUP($Z$256,MNFP!$D$114:$W$253,S259,FALSE)","v":-219997.42533330797},{"$f":"VLOOKUP($Z$256,MNFP!$D$114:$W$253,T259,FALSE)","v":23840895.737995114},{"$f":"VLOOKUP($Z$256,MNFP!$D$114:$W$253,U259,FALSE)","v":-219.99742533330797},{"$f":"VLOOKUP($Z$256,MNFP!$D$114:$W$253,V259,FALSE)","v":23.840895737995115},{"$f":"VLOOKUP($Z$256,MNFP!$D$114:$Y$253,W259,FALSE)","v":"CAMPO 3"}]
[]
[]
[]
[null,null,"β1",{"$f":"MNFP!L261","v":0.91739288307915745}]
[null,null,"β2",{"$f":"MNFP!M261","v":0.45993617497182993}]
[null,null,"k1",{"$f":"MNFP!N261","v":0}]
[null,null,"k2",{"$f":"MNFP!O261","v":0}]
[null,null,"C  [kN]",{"$f":"MNFP!P261","v":-219997.42534518492}]
[null,null,"T  [kN]",{"$f":"MNFP!Q261","v":1.1876943165184065E-5}]

{"sheet":"MNFPR","index":11,"n_rows":270,"n_cols":32,"rows_kept":270,"cut":false,"hidden":true,"merged":[[10,25,10,26],[10,9,10,10],[28,0,38,0],[39,0,49,0],[50,0,60,0],[61,0,107,0],[256,23,257,24],[110,23,110,24],[1,6,1,8],[2,1,2,2],[1,1,1,2],[10,7,10,8],[12,0,27,0],[10,23,10,24]]}
[]
[null,"LUNGHEZZA PARETE=B",null,{"$f":"INPUT!F38*1000","v":2300},"mm",null,"FUORI PIANO"]
[null,"SPESSORE parete=H",null,{"$f":"INPUT!F39*1000+IF('FOGLIO DEPOSITO'!M94=0,0,INPUT!F69*2*10)","v":480},"mm"]
[null,null,"facce",1.0000000000000001E-9,"-",null,"facce","entrambi",1,1,"fmd",{"$f":"MATERIALI!K77","v":0.70777777777777762},"N/mm2",null,null,null,null,null,null,null,null,"εmu",{"$f":"MATERIALI!J88","v":-3.5000000000000001E-3},"[‰]"]
[null,null,"nf",1,"-",null,{"$f":"G6","v":"entrambi"},"lato interno",0,0,"Ed",{"$f":"MATERIALI!J80","v":1440.0000000000002},"N/mm2",null,null,null,null,null,null,null,null,"εm1",{"$f":"MATERIALI!J87","v":-4.9151234567901215E-4},"[‰]"]
[null,null,"tVf",6.3E-2,"mm",null,"entrambi","lato esterno",0,1,"Ef",52000,"N/mm2"]
[null,null,"a",1,"-",null,null,null,null,null,"ffd",{"$f":"+D4*D5*D6*D8*D7*L6*W7/D9","v":1.5095808E-8},"N/mm2",null,null,null,null,null,null,null,null,"εfd",7.6800000000000002E-3,"[‰]"]
[null,null,"η",0.9,"-",null,null,null,null,null,"Seq",{"$f":"+D4*D5*D6","v":6.3000000000000002E-11},null,null,null,null,null,null,null,null,null,null,null,null,null,{"$f":"IF(ABS('FOGLIO DEPOSITO'!F304)<AC9,AC9,ABS('FOGLIO DEPOSITO'!F304))","v":220}]
[null,null,"γmFRCM",1.5,"-",null,null,null,null,null,"RO",{"$f":"$W$5/$W$4*$D$3","v":67.407407407407376},null,null,null,null,null,null,null,null,null,null,null,null,null,"Ned  [kN]","MRd  [kNm]",null,{"$f":"MINA(AE13:AE108)","v":2.9504191027248101E-3}]
[null,null,"γrd",2,"-",null,null,null,null,null,null,null,null,null,null,null,null,null,null,null,null,null,null,null,null,{"$f":"VLOOKUP(AA10,AA13:AB108,2,)","v":183.56444222752154},{"$f":"VLOOKUP(Z8,Z13:AA108,2,TRUE)","v":32.35299309355468},{"$f":"VLOOKUP(Z8,Z13:AF108,7,TRUE)","v":"CAMPO 2B"}]
[null,null,null,null,null,null,null,"muratura",null,"FRCM",null,null,null,null,null,null,"esterno","interno",null,null,null,null,null,"riduzione secondo CNR formula 4,3",null,"COPPIA DI VERIFICA",null,null,"y",{"$f":"AC13","v":-100000000000}]
[null,null,"Y[mm]","εm_inf [-]","εm_sup [-]","εf_inf [-]","εf_sup [-]","A(σ-ε)","Sy(σ-ε)","A(σ-ε)","Sy(σ-ε)","β1","β2","k1","k2","C  [N]","TINF [N]","TSUP [N]","Ned  [N]","MRd  [Nmm]","Ned  [kN]","MRd  [kNm]","-MRd  [kNm]","MRd  [kNm]","-MRd  [kNm]","Ned  [kN]","MRd  [kNm]",null,-100000000000,-5000]
["CAMPO 1",{"$f":"+B14+1","v":14},-100000000000,null,null,{"$f":"$W$7","v":7.6800000000000002E-3},{"$f":"+$W$7*(ABS(C13)/(ABS(C13)+($D$3)))","v":7.6799999631360005E-3},null,null,null,null,null,null,null,null,0,{"$f":"VLOOKUP($G$5,$H$4:$J$6,3,FALSE)*$L$8*($D$2)*$L$6*$W$7","v":5.7867264000000002E-5},{"$f":"VLOOKUP($G$5,$H$4:$I$6,2,FALSE)*$L$8*($D$2)*$L$6*G13","v":5.7867263722237136E-5},{"$f":"Q13+P13+R13","v":1.1573452772223714E-4},{"$f":"+Q13*$D$3/2-R13*$D$3/2","v":6.6663088243990032E-11},{"$f":"+S13/1000","v":1.1573452772223714E-7},0,{"$f":"-V13","v":0},{"$f":"IF(D4<1,V13,MNFP!V13+1/$D$10*(V13-MNFP!V13))","v":0},{"$f":"-X13","v":0},{"$f":"IF(U13>0,0,ABS(U13))","v":0},{"$f":"IF(U13>0,0,X13)","v":0},{"$f":"Z13","v":0},{"$f":"C13","v":-100000000000},-4615.3846153846152,{"$f":"IF(Z13=0,10^7,Z13)","v":10000000},"CAMPO 1"]
[null,13,-5000,null,null,7.6800000000000002E-3,7.0072992700729924E-3,null,null,null,null,null,null,null,null,0,5.7867264000000002E-5,{"$f":"VLOOKUP($G$5,$H$4:$I$6,2,FALSE)*$L$8*($D$2)*$L$6*G14","v":5.2798598540145986E-5},{"$f":"Q14+P14+R14","v":1.10665862540146E-4},{"$f":"+Q14*$D$3/2-R14*$D$3/2","v":1.2164797103649642E-3},{"$f":"+S14/1000","v":1.10665862540146E-7},{"$f":"+T14/1000000","v":1.2164797103649642E-9},{"$f":"-V14","v":-1.2164797103649642E-9},{"$f":"IF(D5<1,V14,MNFP!V14+1/$D$10*(V14-MNFP!V14))","v":6.6843025751824816E-9},{"$f":"-X14","v":-6.6843025751824816E-9},{"$f":"IF(U14>0,0,ABS(U14))","v":0},{"$f":"IF(U14>0,0,X14)","v":0},{"$f":"Z14","v":0},-5000,-4230.7692307692314,{"$f":"IF(Z14=0,10^7,Z14)","v":10000000},"CAMPO 1"]
[null,12,{"$f":"+$C$14/$B$14*B15","v":-4615.3846153846152},null,null,7.6800000000000002E-3,6.956521739130435E-3,null,null,null,null,null,null,null,null,0,5.7867264000000002E-5,5.2416000000000008E-5,1.10283264E-4,1.3083033599999988E-3,{"$f":"+S15/1000","v":1.10283264E-7},{"$f":"+T15/1000000","v":1.3083033599999988E-9},-1.3083033599999988E-9,{"$f":"IF(D6<1,V15,MNFP!V15+1/$D$10*(V15-MNFP!V15))","v":1.3083033599999988E-9},-1.3083033599999988E-9,0,0,0,-4615.3846153846152,-4230.7692307692314,10000000,"CAMPO 1"]
[null,{"$f":"+B18+1","v":11},-4230.7692307692314,null,null,7.6800000000000002E-3,6.8974526453298496E-3,null,null,null,null,null,null,null,null,0,5.7867264000000002E-5,5.1970926192031353E-5,1.0983819019203136E-4,1.4151210739124752E-3,1.0983819019203135E-7,1.4151210739124751E-9,-1.4151210739124751E-9,{"$f":"IF(D7<1,V16,MNFP!V16+1/$D$10*(V16-MNFP!V16))","v":6.7836232569562378E-9},-6.7836232569562378E-9,0,0,0,-4230.7692307692314,-3846.1538461538466,10000000,"CAMPO 1"]
[null,11,-4230.7692307692314,null,null,7.6800000000000002E-3,6.8974526453298496E-3,null,null,null,null,null,null,null,null,0,5.7867264000000002E-5,5.1970926192031353E-5,1.0983819019203136E-4,1.4151210739124752E-3,1.0983819019203135E-7,1.4151210739124751E-9,-1.4151210739124751E-9,{"$f":"IF(D8<1,V17,MNFP!V17+1/$D$10*(V17-MNFP!V17))","v":1.4151210739124751E-9},-1.4151210739124751E-9,0,0,0,-4230.7692307692314,-3461.5384615384619,10000000,"CAMPO 1"]
[null,10,-3846.1538461538466,null,null,7.6800000000000002E-3,6.8278805120910386E-3,null,null,null,null,null,null,null,null,0,5.7867264000000002E-5,5.1446714082503559E-5,1.0931397808250357E-4,1.5409319801991464E-3,1.0931397808250357E-7,1.5409319801991463E-9,-1.5409319801991463E-9,{"$f":"IF(D9<1,V18,MNFP!V18+1/$D$10*(V18-MNFP!V18))","v":6.8465287100995729E-9},-6.8465287100995729E-9,0,0,0,-3846.1538461538466,-3076.9230769230771,10000000,"CAMPO 1"]
[null,9,-3461.5384615384619,null,null,7.6800000000000002E-3,6.7447306791569087E-3,null,null,null,null,null,null,null,null,0,5.7867264000000002E-5,5.082019672131148E-5,1.0868746072131148E-4,1.6912961468852454E-3,1.0868746072131149E-7,1.6912961468852454E-9,-1.6912961468852454E-9,{"$f":"IF(D10<1,V19,MNFP!V19+1/$D$10*(V19-MNFP!V19))","v":6.9217107934426228E-9},-6.9217107934426228E-9,0,0,0,-3461.5384615384619,-2692.3076923076924,10000000,"CAMPO 1"]
[null,8,-3076.9230769230771,null,null,7.6800000000000002E-3,6.6435986159169551E-3,null,null,null,null,null,null,null,null,0,5.7867264000000002E-5,5.0058186851211079E-5,1.0792545085121108E-4,1.8741785157093422E-3,1.0792545085121108E-7,1.8741785157093421E-9,-1.8741785157093421E-9,{"$f":"IF(D11<1,V20,MNFP!V20+1/$D$10*(V20-MNFP!V20))","v":1.8741785157093421E-9},-1.8741785157093421E-9,0,0,0,-3076.9230769230771,-2307.6923076923076,10000000,"CAMPO 1"]
[null,7,-2692.3076923076924,null,null,7.6800000000000002E-3,6.5179437439379243E-3,null,null,null,null,null,null,null,null,0,5.7867264000000002E-5,4.9111402521823474E-5,1.0697866652182347E-4,2.1014067547623673E-3,1.0697866652182348E-7,2.1014067547623674E-9,-2.1014067547623674E-9,{"$f":"IF(D12<1,V21,MNFP!V21+1/$D$10*(V21-MNFP!V21))","v":7.126766097381184E-9},-7.126766097381184E-9,0,0,0,-2692.3076923076924,-1923.0769230769233,10000000,"CAMPO 1"]
[null,6,-2307.6923076923076,null,null,7.6800000000000002E-3,6.3576158940397351E-3,null,null,null,null,null,null,null,null,0,5.7867264000000002E-5,4.7903364238410597E-5,1.0577062823841061E-4,2.3913359427814567E-3,1.0577062823841061E-7,2.3913359427814567E-9,-2.3913359427814567E-9,{"$f":"IF(D13<1,V22,MNFP!V22+1/$D$10*(V22-MNFP!V22))","v":2.3913359427814567E-9},-2.3913359427814567E-9,0,0,0,-2307.6923076923076,-1538.4615384615386,10000000,"CAMPO 1"]
[null,5,-1923.0769230769233,null,null,7.6800000000000002E-3,6.145966709346991E-3,null,null,null,null,null,null,null,null,0,5.7867264000000002E-5,4.6308629961587708E-5,1.0417589396158771E-4,2.7740721692189503E-3,1.0417589396158771E-7,2.7740721692189505E-9,-2.7740721692189505E-9,{"$f":"IF(D14<1,V23,MNFP!V23+1/$D$10*(V23-MNFP!V23))","v":2.7740721692189505E-9},-2.7740721692189505E-9,0,0,0,-1923.0769230769233,-1153.8461538461538,10000000,"CAMPO 1"]
[null,4,-1538.4615384615386,null,null,7.6800000000000002E-3,5.8536585365853658E-3,null,null,null,null,null,null,null,null,0,5.7867264000000002E-5,4.4106146341463417E-5,1.0197341034146341E-4,3.3026682380487803E-3,1.0197341034146341E-7,3.3026682380487803E-9,-3.3026682380487803E-9,{"$f":"IF(D15<1,V24,MNFP!V24+1/$D$10*(V24-MNFP!V24))","v":3.3026682380487803E-9},-3.3026682380487803E-9,0,0,0,-1538.4615384615386,-769.23076923076928,10000000,"CAMPO 1"]
[null,3,-1153.8461538461538,null,null,7.6800000000000002E-3,5.4237288135593224E-3,null,null,null,null,null,null,null,null,0,5.7867264000000002E-5,4.0866711864406782E-5,9.8733975864406784E-5,4.0801325125423733E-3,9.8733975864406789E-8,4.0801325125423734E-9,-4.0801325125423734E-9,{"$f":"IF(D16<1,V25,MNFP!V25+1/$D$10*(V25-MNFP!V25))","v":4.0801325125423734E-9},-4.0801325125423734E-9,0,0,0,-1153.8461538461538,-384.61538461538464,10000000,"CAMPO 1"]
[null,2,-769.23076923076928,null,null,7.6800000000000002E-3,4.7290640394088675E-3,null,null,null,null,null,null,null,null,0,5.7867264000000002E-5,3.5632551724137934E-5,9.349981572413793E-5,5.3363309462068961E-3,9.349981572413793E-8,5.3363309462068957E-9,-5.3363309462068957E-9,{"$f":"IF(D17<1,V26,MNFP!V26+1/$D$10*(V26-MNFP!V26))","v":5.3363309462068957E-9},-5.3363309462068957E-9,0,0,0,-769.23076923076928,0,10000000,"CAMPO 1"]
[null,{"$f":"+B28+1","v":1},-384.61538461538464,null,null,7.6800000000000002E-3,3.4163701067615659E-3,null,null,null,null,null,null,null,null,0,5.7867264000000002E-5,2.5741665480427047E-5,8.360892948042705E-5,7.710143644697509E-3,8.3608929480427054E-8,7.7101436446975088E-9,-7.7101436446975088E-9,{"$f":"IF(D18<1,V27,MNFP!V27+1/$D$10*(V27-MNFP!V27))","v":7.7101436446975088E-9},-7.7101436446975088E-9,0,0,0,-384.61538461538464,0,10000000,"CAMPO 1"]
[null,0,{"$f":"+$C$14/$B$14*B28","v":0},null,null,7.6800000000000002E-3,0,null,null,null,null,null,null,null,null,0,5.7867264000000002E-5,0,5.7867264000000002E-5,{"$f":"+Q28*$D$3/2-R28*$D$3/2","v":1.3888143360000001E-2},5.7867264000000003E-8,1.388814336E-8,-1.388814336E-8,{"$f":"IF(D19<1,V28,MNFP!V28+1/$D$10*(V28-MNFP!V28))","v":1.388814336E-8},-1.388814336E-8,0,0,0,0,2.8871757876090145,10000000,"CAMPO 1"]
["CAMPO 2A",0,{"$f":"+$C$39/$B$39*B29","v":0},null,{"$f":"-$W$7*C29/($D$3-C29)","v":0},7.6800000000000002E-3,null,{"$f":"$L$4/ABS($W$5)*ABS(E29)^2/2","v":0},{"$f":"+$L$4/(ABS($W$5))*ABS(E29)^3/3","v":0},null,null,{"$f":"H29/($L$4*ABS($W$4))","v":0},0,null,null,{"$f":"-$L$4*$D$2*C29*L29","v":0},{"$f":"$L$8*$D$2*$L$6*$W$7","v":5.7867264000000002E-5},null,{"$f":"Q29+P29","v":5.7867264000000002E-5},{"$f":"-P29*($D$3/2-M29*C29)+Q29*($D$3/2)","v":1.3888143360000001E-2},{"$f":"+S29/1000","v":5.7867264000000003E-8},1.388814336E-8,-1.388814336E-8,{"$f":"IF(D20<1,V29,MNFP!V29+1/$D$10*(V29-MNFP!V29))","v":1.388814336E-8},-1.388814336E-8,0,0,0,0,5.774351575218029,10000000,"CAMPO 2A"]
[null,{"$f":"+B29+1","v":1},2.8871757876090145,null,-4.64743534937273E-5,7.6800000000000002E-3,null,1.5551031835151448E-6,4.8181610046602342E-11,null,null,6.2776087246630666E-4,{"$f":"1-I30/H30/ABS(E30)","v":0.33333333333333337},null,null,-2.9504769699888103,5.7867264000000002E-5,null,-2.9504191027248101,{"$f":"-P30*($D$3/2-M30*C30)+Q30*($D$3/2)","v":705.28884571745789},{"$f":"+S30/1000","v":-2.9504191027248101E-3},{"$f":"+T30/1000000","v":7.0528884571745786E-4},-7.0528884571745786E-4,{"$f":"IF(D21<1,V30,MNFP!V30+1/$D$10*(V30-MNFP!V30))","v":7.0528884571745786E-4},-7.0528884571745786E-4,2.9504191027248101E-3,7.0528884571745786E-4,2.9504191027248101E-3,2.8871757876090145,8.6615273628270444,2.9504191027248101E-3,"CAMPO 2A"]
[null,{"$f":"+B30+1","v":2},5.774351575218029,null,-9.3514596363525131E-5,7.6800000000000002E-3,null,6.2963854077837813E-6,3.9253595997205987E-10,null,null,2.5417119834067747E-3,{"$f":"1-I31/H31/ABS(E31)","v":0.33333333333333337},null,null,-23.892099684147716,5.7867264000000002E-5,null,-23.892041816883715,5688.1306845233375,{"$f":"+S31/1000","v":-2.3892041816883716E-2},{"$f":"+T31/1000000","v":5.6881306845233378E-3},-5.6881306845233378E-3,{"$f":"IF(D22<1,V31,MNFP!V31+1/$D$10*(V31-MNFP!V31))","v":5.6881306845233378E-3},-5.6881306845233378E-3,2.3892041816883716E-2,5.6881306845233378E-3,2.3892041816883716E-2,5.774351575218029,11.548703150436058,2.3892041816883716E-2,"CAMPO 2A"]
[null,3,8.6615273628270444,null,-1.4113112764660288E-4,7.6800000000000002E-3,null,1.4340956537377238E-5,1.3493035784339807E-9,null,null,5.7891280034265604E-3,0.33333333333333326,null,null,-81.62672890071272,5.7867264000000002E-5,null,-81.626671033448716,19354.758109010549,-8.1626671033448714E-2,1.935475810901055E-2,-1.935475810901055E-2,{"$f":"IF(D23<1,V32,MNFP!V32+1/$D$10*(V32-MNFP!V32))","v":1.935475810901055E-2},-1.935475810901055E-2,8.1626671033448714E-2,1.935475810901055E-2,8.1626671033448714E-2,8.6615273628270444,14.435878938045072,8.1626671033448714E-2,"CAMPO 2A"]
[null,4,11.548703150436058,null,-1.8933460274704221E-4,7.6800000000000002E-3,null,2.5810266094113807E-5,3.2578509851496602E-9,null,null,1.0419035427092367E-2,0.33333333333333326,null,null,-195.87792374736449,5.7867264000000002E-5,null,-195.8778658801005,46256.670255816811,-0.1958778658801005,4.6256670255816812E-2,-4.6256670255816812E-2,{"$f":"IF(D24<1,V33,MNFP!V33+1/$D$10*(V33-MNFP!V33))","v":4.6256670255816812E-2},-4.6256670255816812E-2,0.1958778658801005,4.6256670255816812E-2,0.1958778658801005,11.548703150436058,17.323054725654089,0.1958778658801005,"CAMPO 2A"]
[null,5,14.435878938045072,null,-2.3813594138503738E-4,7.6800000000000002E-3,null,4.0830283137123339E-5,6.4821052745843225E-9,null,null,1.6482285186549008E-2,0.33333333333333337,null,null,-387.33381601694742,5.7867264000000002E-5,null,-387.33375814968343,91096.295040000186,-0.38733375814968346,9.1096295040000191E-2,-9.1096295040000191E-2,{"$f":"IF(D25<1,V34,MNFP!V34+1/$D$10*(V34-MNFP!V34))","v":9.1096295040000191E-2},-9.1096295040000191E-2,0.38733375814968346,9.1096295040000191E-2,0.38733375814968346,14.435878938045072,20.210230513263102,0.38733375814968346,"CAMPO 2A"]
[null,6,17.323054725654089,null,-2.8754633584376292E-4,7.6800000000000002E-3,null,5.953168458516536E-5,1.1412078512713948E-8,null,null,2.4031628673087613E-2,0.33333333333333337,null,null,-677.69212827204399,5.7867264000000002E-5,null,-677.69207040478,158732.89206503337,-0.67769207040477997,0.15873289206503338,-0.15873289206503338,{"$f":"IF(D26<1,V35,MNFP!V35+1/$D$10*(V35-MNFP!V35))","v":0.15873289206503338},-0.15873289206503338,0.67769207040477997,0.15873289206503338,0.67769207040477997,17.323054725654089,{"$f":"AC37","v":23.097406300872116},0.67769207040477997,"CAMPO 2A"]
[null,7,20.210230513263102,null,-3.3757725952694983E-4,7.6800000000000002E-3,null,8.2050052427802472E-5,1.8465487895080077E-8,null,null,3.3121797346948749E-2,0.33333333333333326,null,null,-1089.707453811367,5.7867264000000002E-5,null,-1089.7073959441029,254188.72319168851,-1.0897073959441028,0.2541887231916885,-0.2541887231916885,{"$f":"IF(D27<1,V36,MNFP!V36+1/$D$10*(V36-MNFP!V36))","v":0.2541887231916885},-0.2541887231916885,1.0897073959441028,0.2541887231916885,1.0897073959441028,20.210230513263102,25.98458208848113,1.0897073959441028,"CAMPO 2A"]
[null,8,23.097406300872116,null,-3.8824047584091548E-4,7.6800000000000002E-3,null,1.0852608029844996E-4,2.8089478037479743E-8,null,null,4.3809586126308579E-2,0.33333333333333326,null,null,-1647.2409237305867,5.7867264000000002E-5,null,-1647.2408658633226,382655.50461987441,-1.6472408658633226,0.38265550461987441,-0.38265550461987441,{"$f":"IF(D28<1,V37,MNFP!V37+1/$D$10*(V37-MNFP!V37))","v":0.38265550461987441},-0.38265550461987441,1.6472408658633226,0.38265550461987441,1.6472408658633226,23.097406300872116,28.871757876090143,1.6472408658633226,"CAMPO 2A"]
[null,9,25.98458208848113,null,-4.3954804741548842E-4,7.6800000000000002E-3,null,1.3910578991047331E-4,4.0762452226225133E-8,null,null,5.6153940757760035E-2,0.33333333333333337,null,null,-2375.3123939705479,5.7867264000000002E-5,null,-2375.312336103284,549501.15514543676,-2.375312336103284,0.54950115514543674,-0.54950115514543674,{"$f":"IF(D29<1,V38,MNFP!V38+1/$D$10*(V38-MNFP!V38))","v":0.54950115514543674},-0.54950115514543674,2.375312336103284,0.54950115514543674,2.375312336103284,25.98458208848113,28.871757876090143,2.375312336103284,"CAMPO 2A"]
[null,10,{"$f":"ABS($W$5)*ABS($D$3)/(ABS($W$7)+ABS($W$5))","v":28.871757876090143},null,-4.9151234567901226E-4,7.6800000000000002E-3,null,1.7394075788751713E-4,5.6996019945652463E-8,null,null,7.0216049382716056E-2,0.33333333333333337,null,null,-3300.1552934221786,5.7867264000000002E-5,null,-3300.1552355549147,760276.85611440544,-3.3001552355549149,0.76027685611440543,-0.76027685611440543,{"$f":"IF(D30<1,V39,MNFP!V39+1/$D$10*(V39-MNFP!V39))","v":0.76027685611440543},-0.76027685611440543,3.3001552355549149,0.76027685611440543,3.3001552355549149,28.871757876090143,41.011415719965925,3.3001552355549149,"CAMPO 2A"]
["CAMPO 2B",0,{"$f":"+($C$50-$C$39)/$B$50*B40+$C$39","v":28.871757876090143},null,-4.9151234567901226E-4,7.6800000000000002E-3,null,{"$f":"$L$4*(ABS(E40)-ABS($W$5)/2)","v":1.7394075788751713E-4},{"$f":"$I$39+$L$4*(ABS(E40)^2-ABS($W$5)^2)/2","v":5.6996019945652503E-8},null,null,7.0216049382716056E-2,{"$f":"1-I40/H40/ABS(E40)","v":0.33333333333333293},null,null,-3300.1552934221786,5.7867264000000002E-5,null,-3300.1552355549147,760276.85611440556,-3.3001552355549149,0.76027685611440554,-0.76027685611440554,{"$f":"IF(D31<1,V40,MNFP!V40+1/$D$10*(V40-MNFP!V40))","v":0.76027685611440554},-0.76027685611440554,3.3001552355549149,0.76027685611440554,3.3001552355549149,28.871757876090143,53.151073563841699,3.3001552355549149,"CAMPO 2B"]
[null,{"$f":"+B40+1","v":1},41.011415719965925,null,-7.1748488231397406E-4,7.6800000000000002E-3,null,3.3387909770581781E-4,1.5367852469071543E-7,null,null,0.13477963127841941,0.35847852834692395,null,null,-8998.1615129448437,5.7867264000000002E-5,null,-8998.1614550775794,2027270.3983275641,-8.9981614550775788,2.0272703983275639,-2.0272703983275639,{"$f":"IF(D32<1,V41,MNFP!V41+1/$D$10*(V41-MNFP!V41))","v":2.0272703983275639},-2.0272703983275639,8.9981614550775788,2.0272703983275639,8.9981614550775788,41.011415719965925,65.290731407717473,8.9981614550775788,"CAMPO 2B"]
[null,{"$f":"+B41+1","v":2},53.151073563841699,null,-9.5631081558162658E-4,7.6800000000000002E-3,null,5.0291478602970078E-4,2.9514412864438378E-7,null,null,0.20301561221203443,0.3863218277645547,null,null,-17565.73137537119,5.7867264000000002E-5,null,-17565.731317503927,3855091.0060274396,-17.565731317503928,3.8550910060274397,-3.8550910060274397,{"$f":"IF(D33<1,V42,MNFP!V42+1/$D$10*(V42-MNFP!V42))","v":3.8550910060274397},-3.8550910060274397,17.565731317503928,3.8550910060274397,17.565731317503928,53.151073563841699,77.430389251593255,17.565731317503928,"CAMPO 2B"]
[null,3,65.290731407717473,null,-1.2091189061516953E-3,7.6800000000000002E-3,null,6.8184673457762708E-4,4.8887640842105242E-7,null,null,0.27524649523205402,0.40701555232151554,null,null,-29254.864462752932,5.7867264000000002E-5,null,-29254.86440488567,6243738.6792140324,-29.254864404885669,6.2437386792140321,-6.2437386792140321,{"$f":"IF(D34<1,V43,MNFP!V43+1/$D$10*(V43-MNFP!V43))","v":6.2437386792140321},-6.2437386792140321,29.254864404885669,6.2437386792140321,29.254864404885669,65.290731407717473,89.570047095469036,29.254864404885669,"CAMPO 2B"]
[null,4,77.430389251593255,null,-1.4771740677263473E-3,7.6800000000000002E-3,null,8.7157022115879734E-4,7.4370284291237382E-7,null,null,0.35183368425338313,0.42234919427902495,null,null,-44347.9569754779,5.7867264000000002E-5,null,-44347.956917610638,9193213.417887345,-44.347956917610638,9.1932134178873444,-9.1932134178873444,{"$f":"IF(D35<1,V44,MNFP!V44+1/$D$10*(V44-MNFP!V44))","v":9.1932134178873444},-9.1932134178873444,44.347956917610638,9.1932134178873444,44.347956917610638,77.430389251593255,101.7097049393448,44.347956917610638,"CAMPO 2B"]
[null,5,89.570047095469036,null,-1.7618985341050636E-3,7.6800000000000002E-3,null,1.0730918712512888E-3,1.0700744706575964E-6,null,null,0.43318353179015923,0.43402636114642335,null,null,-63162.527350059623,5.7867264000000002E-5,null,-63162.527292192361,12703515.222047372,-63.162527292192358,12.703515222047372,-12.703515222047372,{"$f":"IF(D36<1,V45,MNFP!V45+1/$D$10*(V45-MNFP!V45))","v":12.703515222047372},-12.703515222047372,63.162527292192358,12.703515222047372,63.162527292192358,{"$f":"C45","v":89.570047095469036},113.84936278322058,63.162527292192358,"CAMPO 2B"]
[null,6,101.7097049393448,null,-2.0648971018643802E-3,7.6800000000000002E-3,null,1.2875475242098272E-3,1.4804134490829529E-6,null,null,0.51975455114996394,0.44317164938008113,null,null,-86056.851771531554,5.7867264000000002E-5,null,-86056.851713664291,16774644.091694118,-86.056851713664287,16.774644091694118,-16.774644091694118,{"$f":"IF(D37<1,V46,MNFP!V46+1/$D$10*(V46-MNFP!V46))","v":16.774644091694118},-16.774644091694118,86.056851713664287,16.774644091694118,86.056851713664287,101.7097049393448,125.98902062709637,86.056851713664287,"CAMPO 2B"]
[null,7,113.84936278322058,null,-2.3879873945363852E-3,7.6800000000000002E-3,null,1.5162236535787908E-3,1.989547644664949E-6,null,null,0.61206606334196545,0.45051094490618737,null,null,-113436.72075217754,5.7867264000000002E-5,null,-113436.72069431028,21406600.026827589,-113.43672069431028,21.40660002682759,-21.40660002682759,{"$f":"IF(D38<1,V47,MNFP!V47+1/$D$10*(V47-MNFP!V47))","v":21.40660002682759},-21.40660002682759,113.43672069431028,21.40660002682759,113.43672069431028,113.84936278322058,138.12867847097215,113.43672069431028,"CAMPO 2B"]
[null,8,125.98902062709637,null,-2.7332363536580213E-3,7.6800000000000002E-3,null,1.7605831946459931E-3,2.6152575870705707E-6,null,null,0.71070862309100435,0.45652354967835806,null,null,-145763.58587992529,5.7867264000000002E-5,null,-145763.58582205803,26599383.027447775,-145.76358582205802,26.599383027447775,-26.599383027447775,{"$f":"IF(D39<1,V48,MNFP!V48+1/$D$10*(V48-MNFP!V48))","v":26.599383027447775},-26.599383027447775,145.76358582205802,26.599383027447775,145.76358582205802,125.98902062709637,150.26833631484791,145.76358582205802,"CAMPO 2B"]
[null,9,{"$f":"+($C$50-$C$39)/$B$50*B49+$C$39","v":138.12867847097215},null,-3.1030045044798896E-3,7.6800000000000002E-3,null,2.0222968747276933E-3,3.378969623483797E-6,null,null,0.81635666618296676,0.4615356308141495,null,null,-183564.4422853888,5.7867264000000002E-5,null,-183564.44222752153,32352993.093554679,-183.56444222752154,32.35299309355468,-32.35299309355468,{"$f":"IF(D40<1,V49,MNFP!V49+1/$D$10*(V49-MNFP!V49))","v":32.35299309355468},-32.35299309355468,183.56444222752154,32.35299309355468,183.56444222752154,138.12867847097215,150.26833631484791,183.56444222752154,"CAMPO 2B"]
[null,10,{"$f":"ABS($W$4)*ABS($D$3)/(ABS($W$7)+ABS($W$4))","v":150.26833631484791},null,-3.4999999999999996E-3,7.6800000000000002E-3,null,2.3032814643347043E-3,4.3066408789160609E-6,null,null,0.92978395061728381,0.46577574577805092,null,null,-227443.89415255035,5.7867264000000002E-5,null,-227443.89409468308,38667430.225148298,-227.44389409468309,38.667430225148301,-38.667430225148301,{"$f":"IF(D41<1,V50,MNFP!V50+1/$D$10*(V50-MNFP!V50))","v":38.667430225148301},-38.667430225148301,227.44389409468309,38.667430225148301,227.44389409468309,150.26833631484791,183.24150268336314,227.44389409468309,"CAMPO 2B"]
["CAMPO 3",0,{"$f":"+($C$61-$C$50)/$B$61*B51+$C$50","v":150.26833631484791},null,-3.5000000000000005E-3,{"$f":"ABS($W$4)*($D$3-C51)/C51","v":7.6800000000000019E-3},null,{"$f":"$H$50","v":2.3032814643347043E-3},{"$f":"$I$50","v":4.3066408789160609E-6},null,null,0.92978395061728381,0.46577574577805114,null,null,-227443.89415255035,{"$f":"$L$8*$D$2*$L$6*F51","v":5.7867264000000016E-5},null,-227443.89409468308,{"$f":"-P51*($D$3/2-M51*C51)+Q51*($D$3/2)","v":38667430.22514829},-227.44389409468309,38.667430225148287,-38.667430225148287,{"$f":"IF(D42<1,V51,MNFP!V51+1/$D$10*(V51-MNFP!V51))","v":38.667430225148287},-38.667430225148287,227.44389409468309,38.667430225148287,227.44389409468309,150.26833631484791,216.21466905187833,227.44389409468309,"CAMPO 3"]
[null,{"$f":"+B51+1","v":1},183.24150268336314,null,-3.5000000000000005E-3,5.6682286785379567E-3,null,{"$f":"$H$50","v":2.3032814643347043E-3},{"$f":"$I$50","v":4.3066408789160609E-6},null,null,0.92978395061728381,0.46577574577805114,null,null,-277351.5829265957,{"$f":"$L$8*$D$2*$L$6*F52","v":4.2708969447047797E-5},null,-277351.5828838867,{"$f":"-P52*($D$3/2-M52*C52)+Q52*($D$3/2)","v":42892575.527229108},-277.35158288388669,42.892575527229106,-42.892575527229106,{"$f":"IF(D43<1,V52,MNFP!V52+1/$D$10*(V52-MNFP!V52))","v":42.892575527229106},-42.892575527229106,277.35158288388669,42.892575527229106,277.35158288388669,183.24150268336314,249.18783542039353,277.35158288388669,"CAMPO 3"]
[null,{"$f":"+B52+1","v":2},216.21466905187833,null,-3.5000000000000005E-3,4.2700555996822882E-3,null,2.3032814643347043E-3,4.3066408789160609E-6,null,null,0.92978395061728381,0.46577574577805114,null,null,-327259.27170064102,3.2174014932486109E-5,null,-327259.27166846703,45584746.165115729,-327.25927166846702,45.584746165115732,-45.584746165115732,{"$f":"IF(D44<1,V53,MNFP!V53+1/$D$10*(V53-MNFP!V53))","v":45.584746165115732},-45.584746165115732,327.25927166846702,45.584746165115732,327.25927166846702,216.21466905187833,282.16100178890872,327.25927166846702,"CAMPO 3"]
[null,3,249.18783542039353,null,-3.5000000000000005E-3,3.2419021364576161E-3,null,2.3032814643347043E-3,4.3066408789160609E-6,null,null,0.92978395061728381,0.46577574577805114,null,null,-377166.96047468635,2.4427084217780846E-5,null,-377166.96045025927,46743942.138367653,-377.1669604502593,46.74394213836765,-46.74394213836765,{"$f":"IF(D45<1,V54,MNFP!V54+1/$D$10*(V54-MNFP!V54))","v":46.74394213836765},-46.74394213836765,377.1669604502593,46.74394213836765,377.1669604502593,249.18783542039353,315.13416815742391,377.1669604502593,"CAMPO 3"]
[null,4,282.16100178890872,null,-3.5000000000000005E-3,2.4540474741326854E-3,null,2.3032814643347043E-3,4.3066408789160609E-6,null,null,0.92978395061728381,0.46577574577805114,null,null,-427074.64924873167,1.8490756908094958E-5,null,-427074.6492302409,46370163.446750328,-427.07464923024088,46.370163446750325,-46.370163446750325,{"$f":"IF(D46<1,V55,MNFP!V55+1/$D$10*(V55-MNFP!V55))","v":46.370163446750325},-46.370163446750325,427.07464923024088,46.370163446750325,427.07464923024088,282.16100178890872,348.10733452593917,427.07464923024088,"CAMPO 3"]
[null,5,315.13416815742391,null,-3.5000000000000005E-3,1.8310626702997285E-3,null,2.3032814643347043E-3,4.3066408789160609E-6,null,null,0.92978395061728381,0.46577574577805114,null,null,-476982.338022777,1.3796691008174395E-5,null,-476982.33800898032,44463410.090127341,-476.98233800898032,44.46341009012734,-44.46341009012734,{"$f":"IF(D47<1,V56,MNFP!V56+1/$D$10*(V56-MNFP!V56))","v":44.46341009012734},-44.46341009012734,476.98233800898032,44.46341009012734,476.98233800898032,315.13416815742391,381.08050089445442,476.98233800898032,"CAMPO 3"]
[null,6,348.10733452593917,null,-3.5000000000000005E-3,1.3260976813024175E-3,null,2.3032814643347043E-3,4.3066408789160609E-6,null,null,0.92978395061728381,{"$f":"1-I57/H57/ABS(E57)","v":0.46577574577805114},null,null,-526890.02679682244,9.9918808090774554E-6,null,-526890.02678683051,41023682.068413951,-526.8900267868305,41.023682068413947,-41.023682068413947,{"$f":"IF(D48<1,V57,MNFP!V57+1/$D$10*(V57-MNFP!V57))","v":41.023682068413947},-41.023682068413947,526.8900267868305,41.023682068413947,526.8900267868305,348.10733452593917,414.05366726296961,526.8900267868305,"CAMPO 3"]
[null,7,381.08050089445442,null,-3.5000000000000005E-3,9.085173501577283E-4,null,2.3032814643347043E-3,4.3066408789160609E-6,null,null,0.92978395061728381,0.46577574577805114,null,null,-576797.71557086788,6.8454965299684513E-6,null,-576797.71556402242,36050979.381554782,-576.79771556402238,36.050979381554782,-36.050979381554782,{"$f":"IF(D49<1,V58,MNFP!V58+1/$D$10*(V58-MNFP!V58))","v":36.050979381554782},-36.050979381554782,576.79771556402238,36.050979381554782,576.79771556402238,381.08050089445442,447.02683363148481,576.79771556402238,"CAMPO 3"]
[null,8,414.05366726296961,null,-3.5000000000000005E-3,5.5744504355039381E-4,null,2.3032814643347043E-3,4.3066408789160609E-6,null,null,0.92978395061728381,0.46577574577805114,null,null,-626705.40434491308,4.2002369141435076E-6,null,-626705.40434071282,29545302.029512059,-626.70540434071279,29.545302029512058,-29.545302029512058,{"$f":"IF(D50<1,V59,MNFP!V59+1/$D$10*(V59-MNFP!V59))","v":29.545302029512058},-29.545302029512058,626.70540434071279,29.545302029512058,626.70540434071279,414.05366726296961,480,626.70540434071279,"CAMPO 3"]
[null,9,{"$f":"+($C$61-$C$50)/$B$61*B60+$C$50","v":447.02683363148481},null,-3.5000000000000005E-3,2.5816365731847862E-4,null,2.3032814643347043E-3,4.3066408789160609E-6,null,null,0.92978395061728381,0.46577574577805114,null,null,-676613.09311895852,1.9452115251632726E-6,null,-676613.09311701334,21506650.012259215,-676.61309311701336,21.506650012259215,-21.506650012259215,{"$f":"IF(D51<1,V60,MNFP!V60+1/$D$10*(V60-MNFP!V60))","v":21.506650012259215},-21.506650012259215,676.61309311701336,21.506650012259215,676.61309311701336,447.02683363148481,480,676.61309311701336,"CAMPO 3"]
[null,10,{"$f":"D3","v":480},null,-3.5000000000000005E-3,0,null,2.3032814643347043E-3,4.3066408789160609E-6,null,null,{"$f":"H61/($L$4*ABS($W$4))","v":0.92978395061728381},0.46577574577805114,null,null,-726520.78189300385,0,null,-726520.78189300385,11935023.329776917,-726.5207818930038,11.935023329776916,-11.935023329776916,{"$f":"IF(D52<1,V61,MNFP!V61+1/$D$10*(V61-MNFP!V61))","v":11.935023329776916},-11.935023329776916,726.5207818930038,11.935023329776916,726.5207818930038,480,522.66666666666663,726.5207818930038,"CAMPO 3"]
["CAMPO 4",0,{"$f":"+($C$107-$C$61)/$B$107*B62+$C$61","v":480},{"$f":"-(ABS($W$5)-ABS($W$5)*$L$9/(C62-($D$3-$L$9)))","v":-1.0842021724855044E-19},{"$f":"-(ABS($W$4)-($D$3-$L$9)*ABS(D62)/$L$9)","v":-3.4999999999999992E-3},null,null,{"$f":"$H$61-$L$4/ABS($W$5)*D62^2/2+$L$4*ABS(D62)","v":2.3032814643347043E-3},{"$f":"+$I$61-$L$4/ABS($W$5)*ABS(D62)^3/3+$L$4*(ABS(D62)^2)/2","v":4.3066408789160609E-6},null,null,0.92978395061728381,{"$f":"1-I62/H62/ABS($W$4)","v":0.46577574577805103},null,null,{"$f":"-$L$4*$D$2*$D$3*L62","v":-726520.78189300385},null,null,-726520.78189300385,{"$f":"-P62*($D$3/2-M62*$D$3)","v":11935023.329776937},-726.5207818930038,11.935023329776937,-11.935023329776937,{"$f":"V62","v":11.935023329776937},-11.935023329776937,726.5207818930038,11.935023329776937,726.5207818930038,480,565.33333333333337,726.5207818930038,"CAMPO 4"]
[null,{"$f":"+B62+1","v":1},{"$f":"+($C$107-$C$61)/$B$107*B63+$C$61","v":522.66666666666663},-1.9051891730222813E-4,-2.3338567369522957E-3,null,null,2.411992350595494E-3,4.3161667768062975E-6,null,null,0.97366813883648573,0.48872536542063194,null,null,-760811.30144497869,null,null,-760811.30144497869,{"$f":"-P63*($D$3/2-M63*$D$3)","v":4117377.3156698779},-760.81130144497865,4.1173773156698781,-4.1173773156698781,{"$f":"V63","v":4.1173773156698781},-4.1173773156698781,760.81130144497865,4.1173773156698781,760.81130144497865,522.66666666666663,608,760.81130144497865,"CAMPO 4"]
[null,{"$f":"+B63+1","v":2},{"$f":"+($C$107-$C$61)/$B$107*B64+$C$61","v":565.33333333333337},-2.745985558788663E-4,-1.819215432697488E-3,null,null,2.4433450758342889E-3,4.3233868000099234E-6,null,null,0.98632454283510218,0.49444170467422621,null,null,-770700.84677744424,null,null,-770700.84677744424,{"$f":"-P64*($D$3/2-M64*$D$3)","v":2056215.7988222358},-770.70084677744421,2.0562157988222358,-2.0562157988222358,2.0562157988222358,-2.0562157988222358,770.70084677744421,2.0562157988222358,770.70084677744421,565.33333333333337,650.66666666666663,770.70084677744421,"CAMPO 4"]
[null,3,608,-3.2196108162749551E-4,-1.5293151377306037E-3,null,null,2.4565239278003651E-3,4.3273050363013372E-6,null,null,0.99164455484204039,0.49669821916949619,null,null,-774857.83322617237,null,null,{"$f":"Q65+P65","v":-774857.83322617237},1228037.1552537088,-774.85783322617237,1.2280371552537088,-1.2280371552537088,1.2280371552537088,-1.2280371552537088,774.85783322617237,1.2280371552537088,774.85783322617237,608,693.33333333333326,774.85783322617237,"CAMPO 4"]
[null,4,650.66666666666663,-3.5234736914886255E-4,-1.3433243448800381E-3,null,null,2.4632780609235229E-3,4.3295788540470143E-6,null,null,0.9943710494869572,0.49781449794428057,null,null,-776988.27978844836,null,null,-776988.27978844836,815092.55171882664,-776.98827978844838,0.81509255171882666,-0.81509255171882666,0.81509255171882666,-0.81509255171882666,776.98827978844838,0.81509255171882666,776.98827978844838,650.66666666666663,736,776.98827978844838,"CAMPO 4"]
[null,5,693.33333333333326,-3.7349750806215174E-4,-1.2138669012019933E-3,null,null,2.4671944208558526E-3,4.3309990536172375E-6,null,null,0.99595199765430265,0.49844718739099569,null,null,-778223.61160710326,null,null,-778223.61160710326,580049.00962962222,-778.22361160710329,0.58004900962962225,-0.58004900962962225,0.58004900962962225,-0.58004900962962225,778.22361160710329,0.58004900962962225,778.22361160710329,693.33333333333326,778.66666666666663,778.22361160710329,"CAMPO 4"]
[null,6,736,-3.8906703313482962E-4,-1.1185677202626351E-3,null,null,2.4696657919373831E-3,4.3319408906894584E-6,null,null,0.99694963567779549,0.49884012590670956,null,null,-779003.15265682025,null,null,-779003.15265682025,433701.87617194309,-779.00315265682025,0.43370187617194311,-0.43370187617194311,0.43370187617194311,-0.43370187617194311,779.00315265682025,0.43370187617194311,779.00315265682025,736,821.33333333333326,779.00315265682025,"CAMPO 4"]
[null,7,778.66666666666663,-4.0100723953415162E-4,-1.0454831602140376E-3,null,null,2.4713245767706508E-3,4.332595968024068E-6,null,null,0.99761925054657374,0.49910077618773596,null,null,-779526.38078708528,null,null,-779526.38078708528,336464.96826803504,-779.52638078708526,0.33646496826803501,-0.33646496826803501,0.33646496826803501,-0.33646496826803501,779.52638078708526,0.33646496826803501,779.52638078708526,778.66666666666663,864,779.52638078708526,"CAMPO 4"]
[null,8,821.33333333333326,-4.1045467359349184E-4,-9.8765655833434008E-4,null,null,2.4724915729553961E-3,4.3330693533158461E-6,null,null,0.99809034117957252,0.49928249350784226,null,null,-779894.48472650209,null,null,-779894.48472650209,268598.09087486222,-779.89448472650213,0.26859809087486219,-0.26859809087486219,0.26859809087486219,-0.26859809087486219,779.89448472650213,0.26859809087486219,779.89448472650213,821.33333333333326,906.66666666666663,779.89448472650213,"CAMPO 4"]
[null,9,864,-4.1811617984903172E-4,-9.4076140466032134E-4,null,null,2.4733435842680712E-3,4.3334222752196546E-6,null,null,0.99843427936365303,0.49941421081246518,null,null,-780163.2334377002,null,null,-780163.2334377002,219365.36959680289,-780.16323343770023,0.21936536959680289,-0.21936536959680289,0.21936536959680289,-0.21936536959680289,780.16323343770023,0.21936536959680289,780.16323343770023,864,949.33333333333326,780.16323343770023,"CAMPO 4"]
[null,10,906.66666666666663,-4.2445443944694303E-4,-9.01965683824754E-4,null,null,2.4739845530146964E-3,4.3336922753809155E-6,null,null,0.99869302431631624,0.49951272272207259,null,null,-780365.41329377843,null,null,-780365.41329377843,182522.08050167607,-780.36541329377837,0.18252208050167607,-0.18252208050167607,0.18252208050167607,-0.18252208050167607,780.36541329377837,0.18252208050167607,780.36541329377837,906.66666666666663,992,780.36541329377837,"CAMPO 4"]
[null,11,949.33333333333326,-4.2978501548747189E-4,-8.693378722360221E-4,null,null,2.4744788326515671E-3,4.3339033737884839E-6,null,null,0.99889255410917732,0.49958832120223295,null,null,-780521.3232135229,null,null,-780521.3232135229,154235.55838660159,-780.52132321352292,0.15423555838660161,-0.15423555838660161,0.15423555838660161,-0.15423555838660161,780.52132321352292,0.15423555838660161,780.52132321352292,949.33333333333326,1034.6666666666665,780.52132321352292,"CAMPO 4"]
[null,12,992,-4.3433052075343036E-4,-8.4151538395977124E-4,null,null,2.474867994228911E-3,4.3340715028009305E-6,null,null,0.99904965005876667,0.49964759876284837,null,null,-780644.07589391933,null,null,-780644.07589391933,132047.97029765887,-780.64407589391931,0.13204797029765888,-0.13204797029765888,0.13204797029765888,-0.13204797029765888,780.64407589391931,0.13204797029765888,780.64407589391931,992,1077.3333333333333,780.64407589391931,"CAMPO 4"]
[null,13,1034.6666666666665,-4.3825249398004803E-4,-8.175094599243201E-4,null,null,2.4751798617240646E-3,4.3342075607012139E-6,null,null,0.99917554409134712,0.49969493672243859,null,null,-780742.44781239063,null,null,-780742.44781239063,114324.40802925355,-780.74244781239065,0.11432440802925355,-0.11432440802925355,0.11432440802925355,-0.11432440802925355,780.74244781239065,0.11432440802925355,780.74244781239065,1034.6666666666665,{"$f":"AC77","v":1120},780.74244781239065,"CAMPO 4"]
[null,14,1077.3333333333333,-4.4167100017334011E-4,-7.9658519674120258E-4,null,null,2.4754336272225139E-3,4.3343192030193442E-6,null,null,0.99927798362873421,0.49973333902801198,null,null,-780822.49270104442,null,null,-780822.49270104442,99943.144729806329,-780.82249270104444,9.9943144729806324E-2,-9.9943144729806324E-2,9.9943144729806324E-2,-9.9943144729806324E-2,780.82249270104444,9.9943144729806324E-2,780.82249270104444,1077.3333333333333,1162.6666666666665,780.82249270104444,"CAMPO 4"]
[null,15,1120,-4.4467713787085502E-4,-7.7818499127399595E-4,null,null,2.4756428758051091E-3,4.3344119333052041E-6,null,null,0.99936245266857981,0.4997649210155044,null,null,-780888.49568252591,null,null,-780888.49568252591,88113.827793289543,-780.8884956825259,8.8113827793289537E-2,-8.8113827793289537E-2,8.8113827793289537E-2,-8.8113827793289537E-2,780.8884956825259,8.8113827793289537E-2,780.8884956825259,{"$f":"C77","v":1120},1205.3333333333333,780.8884956825259,"CAMPO 4"]
[null,16,1162.6666666666665,-4.4734127767902195E-4,-7.6187811354708418E-4,null,null,2.4758174422834741E-3,4.3344897892928302E-6,null,null,0.99943292130752504,0.49979120716531833,null,null,-780943.55893741583,null,null,-780943.55893741583,78266.601310517755,-780.94355893741579,7.8266601310517755E-2,{"$f":"-V78","v":-7.8266601310517755E-2},7.8266601310517755E-2,{"$f":"-X78","v":-7.8266601310517755E-2},{"$f":"IF(U78>0,0,ABS(U78))","v":780.94355893741579},{"$f":"IF(U78>0,0,X78)","v":7.8266601310517755E-2},{"$f":"Z78","v":780.94355893741579},1162.6666666666665,1248,{"$f":"IF(Z78=0,10^7,Z78)","v":780.94355893741579},"CAMPO 4"]
[null,17,1205.3333333333333,-4.4971864033721613E-4,-7.4732656408978571E-4,null,null,2.4759645882817594E-3,4.3345557870690287E-6,null,null,0.99949232090315487,0.49981331863449951,null,null,-780989.97298944637,null,null,-780989.97298944637,69982.211807936823,-780.98997298944641,6.9982211807936817E-2,-6.9982211807936817E-2,6.9982211807936817E-2,-6.9982211807936817E-2,780.98997298944641,6.9982211807936817E-2,780.98997298944641,1205.3333333333333,1290.6666666666665,780.98997298944641,"CAMPO 4"]
[null,18,1248,-4.5185316545486774E-4,-7.3426139386415998E-4,null,null,2.4760897698074646E-3,4.334612215969081E-6,null,null,0.99954285392541764,0.49983209484754543,null,null,-781029.45881926885,null,null,-781029.45881926885,62946.657770189646,-781.02945881926883,6.2946657770189651E-2,-6.2946657770189651E-2,6.2946657770189651E-2,-6.2946657770189651E-2,781.02945881926883,6.2946657770189651E-2,781.02945881926883,1248,1333.3333333333333,781.02945881926883,"CAMPO 4"]
[null,19,1290.6666666666665,-4.5378025232926516E-4,-7.2246592805054032E-4,null,null,2.4761971503968628E-3,4.3346608388353852E-6,null,null,0.99958620110212015,0.49984817437373796,null,null,-781063.3297251818,null,null,-781063.3297251818,56921.006009196346,-781.0633297251818,5.6921006009196348E-2,-5.6921006009196348E-2,5.6921006009196348E-2,-5.6921006009196348E-2,781.0633297251818,5.6921006009196348E-2,781.0633297251818,1290.6666666666665,1376,781.0633297251818,"CAMPO 4"]
[null,20,1333.3333333333333,-4.5552873871457927E-4,-7.1176365424153011E-4,null,null,2.4762899518436985E-3,4.3347030307889226E-6,null,null,0.99962366300037186,0.49986204995771888,null,null,-781092.60195298376,null,null,-781092.60195298376,51720.843583150257,-781.09260195298373,5.172084358315026E-2,-5.172084358315026E-2,5.172084358315026E-2,-5.172084358315026E-2,781.09260195298373,5.172084358315026E-2,781.09260195298373,1333.3333333333333,1418.6666666666665,781.09260195298373,"CAMPO 4"]
[null,21,1376,-4.5712235378543218E-4,-7.0200932902762803E-4,null,null,2.4763706987116639E-3,4.3347398771618958E-6,null,null,0.99965625873088038,0.49987410673011445,null,null,-781118.07182219333,null,null,-781118.07182219333,47202.003949632264,-781.11807182219331,4.7202003949632261E-2,-4.7202003949632261E-2,4.7202003949632261E-2,-4.7202003949632261E-2,781.11807182219331,4.7202003949632261E-2,781.11807182219331,1376,1461.3333333333333,781.11807182219331,"CAMPO 4"]
[null,22,1418.6666666666665,-4.5858080138745709E-4,-6.9308234755149738E-4,null,null,2.4764413918634343E-3,4.3347722437606913E-6,null,null,0.99968479599779825,0.49988464922714548,null,null,-781140.37046206614,null,null,-781140.37046206614,43250.469811520918,-781.14037046206613,4.325046981152092E-2,-4.325046981152092E-2,4.325046981152092E-2,-4.325046981152092E-2,781.14037046206613,4.325046981152092E-2,781.14037046206613,1418.6666666666665,1504,781.14037046206613,"CAMPO 4"]
[null,23,1461.3333333333333,-4.5992057886393227E-4,-6.8488173156911651E-4,null,null,2.4765036336162624E-3,4.3348008280400448E-6,null,null,0.99970992162127681,0.49989392081422435,null,null,-781160.0032892439,null,null,-781160.0032892439,39775.112212520864,-781.16000328924395,3.9775112212520863E-2,-3.9775112212520863E-2,3.9775112212520863E-2,-3.9775112212520863E-2,781.16000328924395,3.9775112212520863E-2,781.16000328924395,1461.3333333333333,1546.6666666666665,781.16000328924395,"CAMPO 4"]
[null,24,1504,-4.6115560381883156E-4,-6.7732229310890884E-4,null,null,2.4765587193432384E-3,4.3348261968895533E-6,null,null,0.99973215851487551,0.49990211785960903,null,null,-781177.37890141003,null,null,-781177.37890141003,36702.39065849586,-781.17737890141007,3.6702390658495863E-2,-3.6702390658495863E-2,3.6702390658495863E-2,-3.6702390658495863E-2,781.17737890141007,3.6702390658495863E-2,781.17737890141007,1504,1589.3333333333333,781.17737890141007,"CAMPO 4"]
[null,25,1546.6666666666665,-4.6229769939763391E-4,-6.7033166412656898E-4,null,null,2.4766077054209322E-3,4.3348488148884154E-6,null,null,0.99975193311452759,0.49990940021937902,null,null,-781192.83050991688,null,null,-781192.83050991688,33972.431552106078,-781.19283050991692,3.397243155210608E-2,-3.397243155210608E-2,3.397243155210608E-2,-3.397243155210608E-2,781.19283050991692,3.397243155210608E-2,781.19283050991692,1546.6666666666665,1632,781.19283050991692,"CAMPO 4"]
[null,26,1589.3333333333333,-4.633569739952717E-4,-6.6384797235861069E-4,null,null,2.4766514602548736E-3,4.3348690656790474E-6,null,null,0.99976959597640125,0.49991589909143541,null,null,-781206.63203468011,null,null,-781206.63203468011,31536.090014788882,-781.20663203468007,3.1536090014788881E-2,-3.1536090014788881E-2,3.1536090014788881E-2,-3.1536090014788881E-2,781.20663203468007,3.1536090014788881E-2,781.20663203468007,1589.3333333333333,1674.6666666666665,781.20663203468007,"CAMPO 4"]
[null,27,1632,-4.643421212489368E-4,-6.5781800510266017E-4,null,null,2.4766907030334033E-3,4.3348872683093836E-6,null,null,0.99978543742097481,0.49992172296684945,null,null,-781219.01032825059,null,null,-781219.01032825059,29352.723057270108,-781.21901032825053,2.9352723057270109E-2,-2.9352723057270109E-2,2.9352723057270109E-2,-2.9352723057270109E-2,781.21901032825053,2.9352723057270109E-2,781.21901032825053,1632,1717.3333333333333,781.21901032825053,"CAMPO 4"]
[null,28,1674.6666666666665,-4.6526065918013311E-4,-6.5219574545786509E-4,null,null,2.4767260334705157E-3,4.3349036898526733E-6,null,null,0.99979969953956693,0.49992696218767207,null,null,-781230.15455755696,null,null,-781230.15455755696,27388.483878475592,-781.23015455755694,2.7388483878475593E-2,-2.7388483878475593E-2,2.7388483878475593E-2,-2.7388483878475593E-2,781.23015455755694,2.7388483878475593E-2,781.23015455755694,1674.6666666666665,1760,781.23015455755694,"CAMPO 4"]
[null,29,1717.3333333333333,-4.6611912241525033E-4,-6.4694119576599353E-4,null,null,2.4767579548550605E-3,4.3349185552428378E-6,null,null,0.99981258549879115,0.49993169247202818,null,null,-781240.22347428196,null,null,-781240.22347428196,25615.002440490352,-781.24022347428195,2.5615002440490354E-2,-2.5615002440490354E-2,2.5615002440490354E-2,-2.5615002440490354E-2,781.24022347428195,2.5615002440490354E-2,781.24022347428195,1717.3333333333333,1802.6666666666665,781.24022347428195,"CAMPO 4"]
[null,30,1760,-4.6692321788528479E-4,-6.4201942459226648E-4,null,null,2.4767868920741488E-3,4.3349320550057587E-6,null,null,0.9998242668162074,0.49993597766551334,null,null,-781249.35109996004,null,null,-781249.35109996004,24008.355491339094,-781.24935109995999,2.4008355491339093E-2,-2.4008355491339093E-2,2.4008355491339093E-2,-2.4008355491339093E-2,781.24935109995999,2.4008355491339093E-2,781.24935109995999,1760,1845.3333333333333,781.24935109995999,"CAMPO 4"]
[null,31,1802.6666666666665,-4.6767795185145698E-4,-6.373997892169048E-4,null,null,2.4768132058252501E-3,4.3349443513854485E-6,null,null,{"$f":"H93/($L$4*ABS($W$4))","v":0.99983488909743234},0.49993987190705558,null,null,-781257.65120887884,null,null,-781257.65120887884,22548.255679400241,-781.25765120887888,2.2548255679400241E-2,-2.2548255679400241E-2,2.2548255679400241E-2,-2.2548255679400241E-2,781.25765120887888,2.2548255679400241E-2,781.25765120887888,1802.6666666666665,1888,781.25765120887888,"CAMPO 4"]
[null,32,1845.3333333333333,-4.6838773423407882E-4,-6.3305529705074727E-4,null,null,2.4768372039109966E-3,4.3349555832348385E-6,null,null,0.99984457659560322,0.49994342134744374,null,null,-781265.22089078289,null,null,-781265.22089078289,21217.408073801827,-781.26522089078287,2.1217408073801826E-2,-2.1217408073801826E-2,2.1217408073801826E-2,-2.1217408073801826E-2,781.26522089078287,2.1217408073801826E-2,781.26522089078287,1845.3333333333333,1930.6666666666665,781.26522089078287,"CAMPO 4"]
[null,33,1888,-4.690564648391738E-4,-6.2896207785252851E-4,null,null,2.4768591502815304E-3,4.3349658699478254E-6,null,null,0.99985343586157327,0.49994666552307998,null,null,-781272.14340308832,null,null,-781272.14340308832,20000.995728275804,-781.27214340308831,2.0000995728275805E-2,-2.0000995728275805E-2,2.0000995728275805E-2,-2.0000995728275805E-2,781.27214340308831,2.0000995728275805E-2,781.27214340308831,1888,1973.3333333333333,781.27214340308831,"CAMPO 4"]
[null,34,1930.6666666666665,-4.6968760504429466E-4,-6.250989449486568E-4,null,null,2.4768792723235053E-3,4.3349753146414462E-6,null,null,0.99986155868632209,0.49994963846180029,null,null,-781278.4904700428,null,null,-781278.4904700428,18886.265540348355,-781.27849047004281,1.8886265540348356E-2,-1.8886265540348356E-2,1.8886265540348356E-2,-1.8886265540348356E-2,781.27849047004281,1.8886265540348356E-2,781.27849047004281,1930.6666666666665,2016,781.27849047004281,"CAMPO 4"]
[null,35,1973.3333333333333,-4.7028423772609804E-4,-6.2144702842377225E-4,null,null,2.4768977667737938E-3,4.3349840067472192E-6,null,null,0.99986902448818782,0.49995236957886602,null,null,-781284.32414807659,null,null,-781284.32414807659,17862.192664576247,-781.28432414807662,1.7862192664576247E-2,-1.7862192664576247E-2,1.7862192664576247E-2,-1.7862192664576247E-2,781.28432414807662,1.7862192664576247E-2,781.28432414807662,1973.3333333333333,2058.6666666666665,781.28432414807662,"CAMPO 4"]
[null,36,2016,-4.7084911761988341E-4,-6.1798946687609702E-4,null,null,2.4769148045466682E-3,4.3349920241337659E-6,null,null,0.99987590226149436,0.49995488440742275,null,null,-781289.69834843476,null,null,-781289.69834843476,16919.206903432496,-781.28969834843474,1.6919206903432495E-2,-1.6919206903432495E-2,1.6919206903432495E-2,-1.6919206903432495E-2,781.28969834843474,1.6919206903432495E-2,781.28969834843474,2016,2101.333333333333,781.28969834843474,"CAMPO 4"]
[null,37,2058.6666666666665,-4.7138471384713829E-4,-6.14711147111471E-4,null,null,2.4769305346967465E-3,4.3349994348551173E-6,null,null,0.99988225217630511,0.49995720519747977,null,null,-781294.66008720233,null,null,-781294.66008720233,16048.968330497259,-781.29466008720237,1.6048968330497258E-2,-1.6048968330497258E-2,1.6048968330497258E-2,-1.6048968330497258E-2,781.29466008720237,1.6048968330497258E-2,781.29466008720237,2058.6666666666665,2144,781.29466008720237,"CAMPO 4"]
[null,38,2101.333333333333,-4.718932459962373E-4,-6.1159848329775477E-4,null,null,2.4769450876901203E-3,4.3350062985982862E-6,null,null,0.99988812689890494,0.49995935140977521,null,null,-781299.2505171122,null,null,-781299.2505171122,15244.182277067015,-781.29925051711223,1.5244182277067015E-2,-1.5244182277067015E-2,1.5244182277067015E-2,-1.5244182277067015E-2,781.29925051711223,1.5244182277067015E-2,781.29925051711223,2101.333333333333,2186.6666666666665,781.29925051711223,"CAMPO 4"]
[null,{"$f":"+B100+1","v":39},2144,-4.7237671486837212E-4,-6.0863922877270977E-4,null,null,2.4769585781183262E-3,4.3350126678877823E-6,null,null,0.99989357268737111,0.49996134012509508,null,null,-781303.50578360911,null,null,{"$f":"Q101+P101","v":-781303.50578360911},14498.445982258512,-781.30350578360913,1.4498445982258513E-2,-1.4498445982258513E-2,1.4498445982258513E-2,-1.4498445982258513E-2,781.30350578360913,1.4498445982258513E-2,781.30350578360913,2144,2229.333333333333,781.30350578360913,"CAMPO 4"]
[null,{"$f":"+B101+1","v":40},2186.6666666666665,-4.7283692878682422E-4,-6.0582231500811877E-4,null,null,2.4769711069610317E-3,4.3350185890926175E-6,null,null,0.99989863030496928,0.49996318638518811,null,null,-781307.4577385654,null,null,-781307.4577385654,13806.120863451881,-781.3074577385654,1.3806120863451881E-2,-1.3806120863451881E-2,1.3806120863451881E-2,-1.3806120863451881E-2,781.3074577385654,1.3806120863451881E-2,781.3074577385654,2186.6666666666665,2272,781.3074577385654,"CAMPO 4"]
[null,41,2229.333333333333,-4.732755261989542E-4,-6.0313771326574043E-4,null,null,2.4769827634812027E-3,4.3350241032719517E-6,null,null,0.99990333578519075,0.49996490347803868,null,null,-781311.13453807076,null,null,-781311.13453807076,13162.225628125188,-781.31113453807075,1.3162225628125189E-2,-1.3162225628125189E-2,1.3162225628125189E-2,-1.3162225628125189E-2,781.31113453807075,1.3162225628125189E-2,781.31113453807075,2229.333333333333,2314.6666666666665,781.31113453807075,"CAMPO 4"]
[null,42,2272,-4.7369399516638763E-4,-6.0057631530024101E-4,null,null,2.4769936268194278E-3,4.3350292468882568E-6,null,null,0.99990772107534664,0.4999665031776408,null,null,-781314.56114532799,null,null,-781314.56114532799,12562.346429439231,-781.31456114532796,1.2562346429439231E-2,-1.2562346429439231E-2,1.2562346429439231E-2,-1.2562346429439231E-2,781.31456114532796,1.2562346429439231E-2,781.31456114532796,2272,2357.333333333333,781.31456114532796,"CAMPO 4"]
[null,43,2314.6666666666665,-4.740936902320186E-4,-5.9812983011830242E-4,null,null,2.4770037673407627E-3,4.335034052411217E-6,null,null,0.99991181458025868,0.49996799594637675,null,null,-781317.75975548627,null,null,-781317.75975548627,12002.561030404657,-781.31775975548624,1.2002561030404656E-2,-1.2002561030404656E-2,1.2002561030404656E-2,-1.2002561030404656E-2,781.31775975548624,1.2002561030404656E-2,781.31775975548624,2314.6666666666665,2400,781.31775975548624,"CAMPO 4"]
[null,44,2357.333333333333,-4.744758470666902E-4,-5.9579069432806001E-4,null,null,2.4770132477770447E-3,4.3350385488310482E-6,null,null,0.99991564162338664,0.49996939110652627,null,null,-781320.75015595916,null,null,-781320.75015595916,11479.374532953048,-781.32075015595922,1.1479374532953049E-2,-1.1479374532953049E-2,1.1479374532953049E-2,-1.1479374532953049E-2,781.32075015595922,1.1479374532953049E-2,781.32075015595922,2357.333333333333,100000000000,781.32075015595922,"CAMPO 4"]
[null,45,{"$f":"C61*5","v":2400},-4.7484159522922083E-4,-5.9355199403652616E-4,null,null,2.4770221241994187E-3,4.3350427620964693E-6,null,null,0.99991922483941564,0.49997069698616803,null,null,-781323.55003318808,null,null,-781323.55003318808,10989.664701048168,-781.3235500331881,1.0989664701048169E-2,-1.0989664701048169E-2,1.0989664701048169E-2,-1.0989664701048169E-2,781.3235500331881,1.0989664701048169E-2,781.3235500331881,2400,100000000000,781.3235500331881,"CAMPO 4"]
[null,46,100000000000,-4.9151234534769645E-4,-4.9151234770695561E-4,null,null,2.4772222222222209E-3,{"$f":"+L4*ABS($W$4)^2/2","v":4.3351388888888881E-6},null,null,0.99999999999999967,0.49999999999999989,null,null,-781386.66666666628,null,null,-781386.66666666628,4.4416689585583883E-8,-781.38666666666631,4.4416689585583881E-14,-4.4416689585583881E-14,4.4416689585583881E-14,-4.4416689585583881E-14,781.38666666666631,4.4416689585583881E-14,781.38666666666631,100000000000,null,781.38666666666631,"CAMPO 4"]
[]
[null,null,"Calcolo Mrd",null,null,"Ned",{"$f":"Z8","v":220},null,null,null,null,null,null,null,null,null,null,{"$f":"VLOOKUP($G$5,$H$4:$I$6,2,FALSE)*$L$8*($D$2)*$L$6*H113*0.5","v":6.4655863588330716E-6}]
[null,null,null,null,null,null,null,null,null,null,null,null,null,null,null,null,null,null,null,null,null,null,null,"riduzione secondo CNR formula 4,3"]
["check",null,"Y[mm]","Y[mm]checked","εm_inf [-]","εm_sup [-]","εf_inf [-]","εf_sup [-]","A(σ-ε)","Sy(σ-ε)","A(σ-ε)","Sy(σ-ε)","β1","β2","k1","k2","C  [N]","T  [N]",null,"Ned  [N]","MRd  [Nmm]","Ned  [kN]","MRd  [kNm]","-MRd  [kNm]","MRd  [kNm]","-MRd  [kNm]",null,null,null,null,"Y"]
[null,"CAMPO 1",{"$f":"VLOOKUP($Z$10,$Z$13:$AC$108,4,FALSE)","v":138.12867847097215},{"$f":"IF(A113=0,0,C113)","v":0},null,null,{"$f":"$W$7","v":7.6800000000000002E-3},{"$f":"+$W$7*(ABS(C113)/(ABS(C113)+($D$3)))","v":1.7161932257878302E-3},null,null,null,null,null,null,null,null,0,{"$f":"VLOOKUP($G$5,$H$4:$J$6,3,FALSE)*$L$8*($D$2)*$L$6*$W$7","v":5.7867264000000002E-5},null,{"$f":"R113+Q113+R110","v":6.4332850358833079E-5},{"$f":"+R113*$D$3/2-R110*$D$3/2","v":1.2336402633880063E-2},{"$f":"+T113/1000","v":6.4332850358833077E-8},{"$f":"+U113/1000000","v":1.2336402633880064E-8},null,null,null,1,{"$f":"B113","v":"CAMPO 1"},{"$f":"ABS(T113)/($G$110*1000)","v":2.9242204708560488E-10},{"$f":"IF(A113=0,10^8,ABS(1*10^5-ABS(AC113)*10^5))","v":100000000},{"$f":"C113","v":138.12867847097215}]
[{"$f":"IF($AB$10=B114,IF(ABS((ROUND(ABS(V114/100),1))-(ROUND(ABS($G$110/100),1)))=0,1,0),0)","v":0},"CAMPO 2A",{"$f":"VLOOKUP($Z$10,$Z$13:$AC$108,4,FALSE)","v":138.12867847097215},{"$f":"IF(A114=0,0,C114)","v":0},null,{"$f":"-$W$7*C114/($D$3-C114)","v":-3.1030045044798896E-3},7.6800000000000002E-3,null,{"$f":"$L$4/ABS($W$5)*ABS(F114)^2/2","v":6.9326186074721904E-3},{"$f":"+$L$4/(ABS($W$5))*ABS(F114)^3/3","v":1.4341297844551538E-5},null,null,{"$f":"I114/($L$4*ABS($W$4))","v":2.7985453001681866},{"$f":"1-J114/I114/ABS(F114)","v":0.33333333333333326},null,null,{"$f":"-$L$4*$D$2*C114*M114","v":-629275.69347566587},{"$f":"$L$8*$D$2*$L$6*$W$7","v":5.7867264000000002E-5},null,{"$f":"R114+Q114","v":-629275.69341779861},{"$f":"-Q114*($D$3/2-N114*C114)+R114*($D$3/2)","v":122052493.13681521},-629.27569341779861,122.0524931368152,null,null,null,1,"CAMPO 2A",{"$f":"ABS(T114)/($G$110*1000)","v":2.8603440609899935},100000000,138.12867847097215]
[0,"CAMPO 2A",{"$f":"VLOOKUP(C$144,$AC$12:$AD$108,2,FALSE)","v":150.26833631484791},0,null,-3.4999999999999996E-3,7.6800000000000002E-3,null,8.8199999999999997E-3,2.0579999999999996E-5,null,null,3.5604395604395611,0.33333333333333337,null,null,-870955.27728085849,5.7867264000000002E-5,null,-870955.27722299122,165403599.7207503,-870.95527722299119,165.40359972075029,null,null,null,{"$f":"+AA114+1","v":2},"CAMPO 2A",3.958887623740869,100000000,150.26833631484791]
[0,"CAMPO 2A",{"$f":"+(C115-C114)/2+C114","v":144.19850739291002},0,null,-3.2979142772105916E-3,7.6800000000000002E-3,null,7.8308917774772106E-3,1.7217073197488748E-5,null,null,3.1611583761962283,0.33333333333333326,null,null,-742047.62385586835,5.7867264000000002E-5,null,-742047.62379800109,142424043.14780599,-742.04762379800104,142.42404314780597,null,null,null,{"$f":"+AA115+1","v":3},"CAMPO 2A",3.3729437445363688,100000000,144.19850739291002]
[0,"CAMPO 2A",{"$f":"IF(ABS(V116)>$G$110,C116-(C116-$C$144)/2,C116+(C116-$C$144)/2)","v":141.16359293194108},0,null,-3.199586499863774E-3,7.6800000000000002E-3,null,7.370894714479573E-3,1.5722543480244057E-5,null,null,2.9754677026380878,0.33333333333333337,null,null,-683758.44466962223,5.7867264000000002E-5,null,-683758.44461175497,131928093.81889091,-683.75844461175495,131.92809381889091,null,null,null,4,"CAMPO 2A",3.1079929300534315,100000000,141.16359293194108]
[0,"CAMPO 2A",{"$f":"IF(ABS(V117)>$G$110,C117-(C117-$C$144)/2,C117+(C117-$C$144)/2)","v":139.64613570145661},0,null,-3.1510801982446504E-3,7.6800000000000002E-3,null,7.1491006193540743E-3,1.5018259597936793E-5,null,null,2.8859343159536524,0.33333333333333337,null,null,-656054.80943927972,5.7867264000000002E-5,null,-656054.80938141246,126914647.9637983,-656.0548093814125,126.9146479637983,null,null,null,5,"CAMPO 2A",2.9820673153700565,100000000,139.64613570145661]
[0,"CAMPO 2A",{"$f":"IF(ABS(V118)>$G$110,C118-(C118-$C$144)/2,C118+(C118-$C$144)/2)","v":138.88740708621438},0,null,-3.1269888845520213E-3,7.6800000000000002E-3,null,7.0402028285605654E-3,1.4676423993267058E-5,null,null,2.8419746784949584,0.33333333333333337,null,null,-642551.33923016023,5.7867264000000002E-5,null,-642551.33917229297,124464891.62064277,-642.55133917229296,124.46489162064276,null,null,null,6,"CAMPO 2A",2.9206879053286046,100000000,138.88740708621438]
[0,"CAMPO 2A",{"$f":"IF(ABS(V119)>$G$110,C119-(C119-$C$144)/2,C119+(C119-$C$144)/2)","v":138.50804277859328},0,null,-3.1149833723607091E-3,7.6800000000000002E-3,null,6.9862474152602621E-3,1.4508029689155799E-5,null,null,2.8201940676089872,0.33333333333333326,null,null,-635885.24241880619,5.7867264000000002E-5,null,-635885.24236093892,123254051.40799491,-635.88524236093895,123.25405140799491,null,null,null,7,"CAMPO 2A",2.8903874652769952,100000000,138.50804277859328]
[0,"CAMPO 2A",{"$f":"IF(ABS(V120)>$G$110,C120-(C120-$C$144)/2,C120+(C120-$C$144)/2)","v":138.31836062478271},0,null,-3.1089906134282625E-3,7.6800000000000002E-3,null,6.9593922967572316E-3,1.442445688385546E-5,null,null,2.8093532482985015,0.33333333333333326,null,null,-632573.42482687533,5.7867264000000002E-5,null,-632573.42476900807,122652115.60671902,-632.57342476900806,122.65211560671902,null,null,null,8,"CAMPO 2A",2.8753337489500366,100000000,138.31836062478271]
[0,"CAMPO 2A",{"$f":"IF(ABS(V121)>$G$110,C121-(C121-$C$144)/3,C121+(C121-$C$144)/3)","v":138.25513324017919},0,null,-3.1069945054385019E-3,7.6800000000000002E-3,null,6.9504586969140305E-3,1.4396691321059429E-5,null,null,2.8057469509857045,0.33333333333333337,null,null,-631472.61840316746,5.7867264000000002E-5,null,-631472.6183453002,122451984.76569676,-631.47261834530025,122.45198476569676,null,null,null,9,"CAMPO 2A",2.8703300833877283,100000000,138.25513324017919]
[0,"CAMPO 2A",138.21298165044351,0,null,-3.1056641770688936E-3,7.6800000000000002E-3,null,6.9445079861248865E-3,1.4378206453251269E-5,null,null,2.8033447802253417,0.33333333333333337,null,null,-630739.6160493046,5.7867264000000002E-5,null,-630739.61599143734,122318706.87264447,-630.73961599143729,122.31870687264447,null,null,null,10,"CAMPO 2A",2.8669982545065333,100000000,138.21298165044351]
[0,"CAMPO 2A",138.18488059061971,0,null,-3.1047774737691602E-3,7.6800000000000002E-3,null,6.9405430763695743E-3,1.4365894532824506E-5,null,null,2.8017442335647536,0.33333333333333337,null,null,-630251.33353057667,5.7867264000000002E-5,null,-630251.3334727094,122229918.30589269,-630.25133347270935,122.2299183058927,null,null,null,11,"CAMPO 2A",2.8647787885123153,100000000,138.18488059061971]
[0,"CAMPO 2A",138.16614655073718,0,null,-3.1041864192282499E-3,7.6800000000000002E-3,null,6.9379007942311968E-3,1.435769161560358E-5,null,null,2.8006776025153974,0.33333333333333337,null,null,-629925.98318500386,5.7867264000000002E-5,null,-629925.9831271366,122170754.07533692,-629.92598312713665,122.17075407533692,null,null,null,12,"CAMPO 2A",2.8632999233051661,100000000,138.16614655073718]
[0,"CAMPO 2A",138.15365719081549,0,null,-3.1037924188579502E-3,7.6800000000000002E-3,null,6.9361397131392629E-3,1.4352225238520801E-5,null,null,2.7999666929021476,0.33333333333333337,null,null,-629709.15907436539,5.7867264000000002E-5,null,-629709.15901649813,122131323.76084365,-629.70915901649812,122.13132376084366,null,null,null,13,"CAMPO 2A",2.8623143591659006,100000000,138.15365719081549]
[0,"CAMPO 2A",138.1453309508677,0,null,-3.1035297679382593E-3,7.6800000000000002E-3,null,6.9349658547448127E-3,1.4348581979890615E-5,null,null,2.7994928321463703,0.33333333333333326,null,null,-629564.64348982438,5.7867264000000002E-5,null,-629564.64343195711,122105042.4414904,-629.56464343195717,122.1050424414904,null,null,null,14,"CAMPO 2A",2.8616574701452597,100000000,138.1453309508677]
[0,"CAMPO 2A",138.13978012423584,0,null,-3.103354674432957E-3,7.6800000000000002E-3,null,6.9341833694339175E-3,1.434615358193868E-5,null,null,2.7991769600764864,0.33333333333333337,null,null,-629468.31479653949,5.7867264000000002E-5,null,-629468.31473867223,122087524.03133522,-629.46831473867223,122.08752403133522,null,null,null,15,"CAMPO 2A",2.8612196124485103,100000000,138.13978012423584]
[0,"CAMPO 2A",138.13607957314795,0,null,-3.1032379485882943E-3,7.6800000000000002E-3,null,6.9336617512021099E-3,1.4344534846003703E-5,null,null,2.7989663942955372,0.33333333333333348,null,null,-629404.10234682797,5.7867264000000002E-5,null,-629404.10228896071,122075846.18864447,-629.40410228896076,122.07584618864446,null,null,null,16,"CAMPO 2A",2.8609277376770943,100000000,138.13607957314795]
[0,"CAMPO 2A",138.13361253908934,0,null,-3.1031601327624128E-3,7.6800000000000002E-3,null,6.9333140228875472E-3,1.4343455775831479E-5,null,null,2.7988260240407237,0.33333333333333337,null,null,-629361.29701530887,5.7867264000000002E-5,null,-629361.29695744161,122068061.44789182,-629.3612969574416,122.06806144789182,null,null,null,17,"CAMPO 2A",2.860733167988371,100000000,138.13361253908934]
[0,"CAMPO 2A",138.13196784971694,0,null,-3.1031082561690983E-3,7.6800000000000002E-3,null,6.9330822116434737E-3,1.4342736434433318E-5,null,null,2.7987324469518402,0.33333333333333326,null,null,-629332.76144680451,5.7867264000000002E-5,null,-629332.76138893724,122062871.83747338,-629.33276138893723,122.06287183747338,null,null,null,18,"CAMPO 2A",2.8606034608588056,100000000,138.13196784971694]
[0,"CAMPO 2A",138.13087139013535,0,null,-3.1030736720508573E-3,7.6800000000000002E-3,null,6.9329276742061382E-3,1.4342256890707902E-5,null,null,2.7986700635952122,0.33333333333333326,null,null,-629313.73832074855,5.7867264000000002E-5,null,-629313.73826288129,122059412.19352493,-629.31373826288132,122.05941219352492,null,null,null,19,"CAMPO 2A",2.8605169921040057,100000000,138.13087139013535]
[0,"CAMPO 2A",138.13014041708095,0,null,-3.1030506160952742E-3,7.6800000000000002E-3,null,6.9328246507554692E-3,1.4341937202538177E-5,null,null,2.7986284752993602,0.33333333333333326,null,null,-629301.0564972749,5.7867264000000002E-5,null,-629301.05643940764,122057105.80703881,-629.3010564394076,122.05710580703881,null,null,null,20,"CAMPO 2A",2.8604593474518527,100000000,138.13014041708095]
[0,"CAMPO 2A",138.12965310171134,0,null,-3.1030352455129928E-3,7.6800000000000002E-3,null,6.9327559691250342E-3,1.4341724080490376E-5,null,null,2.7986007500392609,0.33333333333333348,null,null,-629292.60206409625,5.7867264000000002E-5,null,-629292.60200622899,122055568.23507561,-629.292602006229,122.05556823507561,null,null,null,21,"CAMPO 2A",2.8604209182101319,100000000,138.12965310171134]
[0,"CAMPO 2A",{"$f":"IF(ABS(V134)>$G$110,C134-(C134-$C$144)/4,C134+(C134-$C$144)/4)","v":138.12940944402655},0,null,-3.103027560238285E-3,7.6800000000000002E-3,null,6.9327216285108226E-3,1.4341617520486086E-5,null,null,2.7985868874903526,0.33333333333333326,null,null,-629288.37488224811,5.7867264000000002E-5,null,-629288.37482438085,122054799.45480233,-629.28837482438087,122.05479945480234,null,null,null,22,"CAMPO 2A",2.8604017037471858,100000000,138.12940944402655]
[0,"CAMPO 2A",138.12922670076296,0,null,-3.1030217962894433E-3,7.6800000000000002E-3,null,6.9326958731381035E-3,1.4341537600928938E-5,null,null,2.7985764906141708,0.33333333333333337,null,null,-629285.20451106131,5.7867264000000002E-5,null,-629285.20445319405,122054222.87209474,-629.28520445319407,122.05422287209474,null,null,null,23,"CAMPO 2A",2.8603872929690639,100000000,138.12922670076296]
[0,"CAMPO 2A",138.12908964331524,0,null,-3.1030174733318555E-3,7.6800000000000002E-3,null,6.9326765566580266E-3,1.4341477661511985E-5,null,null,2.7985686929770015,0.33333333333333337,null,null,-629282.82674122031,5.7867264000000002E-5,null,-629282.82668335305,122053790.43646874,-629.28282668335305,122.05379043646873,null,null,null,24,"CAMPO 2A",2.8603764849243318,100000000,138.12908964331524]
[0,"CAMPO 2A",138.12898685022947,0,null,-3.1030142311159392E-3,7.6800000000000002E-3,null,6.9326620693257925E-3,1.4341432707090406E-5,null,null,2.7985628447603563,0.33333333333333337,null,null,-629281.04341864854,5.7867264000000002E-5,null,-629281.04336078127,122053466.11053941,-629.28104336078127,122.0534661105394,null,null,null,25,"CAMPO 2A",2.860368378912642,100000000,138.12898685022947]
[0,"CAMPO 2A",138.12890975541512,0,null,-3.1030117994552816E-3,7.6800000000000002E-3,null,6.9326512038422692E-3,1.4341398991353617E-5,null,null,2.7985584586041909,0.33333333333333326,null,null,-629279.70592942496,5.7867264000000002E-5,null,-629279.7058715577,122053222.86653692,-629.27970587155767,122.05322286653691,null,null,null,26,"CAMPO 2A",2.8603622994161713,100000000,138.12890975541512]
[0,"CAMPO 2A",138.12885193430438,0,null,-3.1030099757105084E-3,7.6800000000000002E-3,null,6.9326430547384313E-3,1.4341373704595681E-5,null,null,2.798555168990621,0.33333333333333337,null,null,-629278.70281402895,5.7867264000000002E-5,null,-629278.70275616169,122053040.43378505,-629.27870275616169,122.05304043378506,null,null,null,27,"CAMPO 2A",2.8603577398007349,100000000,138.12885193430438]
[0,"CAMPO 2A",138.12880856847133,0,null,-3.1030086079023326E-3,7.6800000000000002E-3,null,6.9326369429155007E-3,1.4341354739552341E-5,null,null,2.798552701782441,0.33333333333333326,null,null,-629277.95047833747,5.7867264000000002E-5,null,-629277.95042047021,122052903.60936174,-629.27795042047023,122.05290360936173,null,null,null,28,"CAMPO 2A",2.8603543200930464,100000000,138.12880856847133]
[0,"CAMPO 2A",138.12877604409653,0,null,-3.1030075820464294E-3,7.6800000000000002E-3,null,6.9326323590510937E-3,1.4341340515783976E-5,null,null,2.7985508513774322,0.33333333333333348,null,null,-629277.38622705068,5.7867264000000002E-5,null,-629277.38616918342,122052800.99112338,-629.27738616918339,122.05280099112338,null,null,null,29,"CAMPO 2A",2.8603517553144702,100000000,138.12877604409653]
[0,"CAMPO 2A",138.12875165081545,0,null,-3.10300681265463E-3,7.6800000000000002E-3,null,6.9326289211543539E-3,1.4341329847965651E-5,null,null,2.7985494635743078,0.33333333333333337,null,null,-629276.9630388564,5.7867264000000002E-5,null,-629276.96298098913,122052724.02748916,-629.27696298098908,122.05272402748916,null,null,null,30,"CAMPO 2A",2.8603498317317686,100000000,138.12875165081545]
[0,"CAMPO 2B",{"$f":"VLOOKUP($Z$10,$Z$13:$AC$108,4,FALSE)","v":138.12867847097215},0,null,-3.1030045044798896E-3,7.6800000000000002E-3,null,{"$f":"$L$4*(ABS(F144)-ABS($W$5)/2)","v":2.0222968747276933E-3},{"$f":"$I$39+$L$4*(ABS(F144)^2-ABS($W$5)^2)/2","v":3.378969623483797E-6},null,null,0.81635666618296676,0.4615356308141495,null,null,-183564.4422853888,5.7867264000000002E-5,null,-183564.44222752153,32352993.093554679,-183.56444222752154,32.35299309355468,null,null,null,1,"CAMPO 2B",0.83438382830691604,100000000,138.12867847097215]
[0,"CAMPO 2B",{"$f":"VLOOKUP(C$144,$AC$12:$AD$108,2,FALSE)","v":150.26833631484791},0,null,-3.4999999999999996E-3,{"$f":"$W$7","v":7.6800000000000002E-3},null,2.3032814643347043E-3,4.3066408789160609E-6,null,null,0.92978395061728381,0.46577574577805092,null,null,-227443.89415255035,5.7867264000000002E-5,null,-227443.89409468308,38667430.225148298,-227.44389409468309,38.667430225148301,null,null,null,{"$f":"+AA144+1","v":2},{"$f":"B145","v":"CAMPO 2B"},1.0338358822485594,{"$f":"IF(A145=0,10^8,ABS(1*10^5-ABS(AC145)*10^5))","v":100000000},{"$f":"C145","v":150.26833631484791}]
[{"$f":"IF($AB$10=B146,IF(ABS((ROUND(ABS(V146/100),1))-(ROUND(ABS($G$110/100),1)))=0,1,0),0)","v":0},"CAMPO 2B",{"$f":"+(C145-C144)/2+C144","v":144.19850739291002},0,null,{"$f":"-$W$7*C146/($D$3-C146)","v":-3.2979142772105916E-3},7.6800000000000002E-3,null,2.1602496805382012E-3,3.820481976333487E-6,null,null,{"$f":"I146/($L$4*ABS($W$4))","v":0.87204517267745296},0.46374069281080765,null,null,{"$f":"-$L$4*$D$2*C146*M146","v":-204703.14083374981},{"$f":"$L$8*$D$2*$L$6*$W$7","v":5.7867264000000002E-5},null,-204703.14077588255,{"$f":"-Q146*($D$3/2-N146*C146)+R146*($D$3/2)","v":35440108.276165634},-204.70314077588256,35.440108276165631,null,null,null,{"$f":"+AA145+1","v":3},"CAMPO 2B",0.93046882170855705,100000000,144.19850739291002]
[1,"CAMPO 2B",{"$f":"IF(ABS(V146)>$G$110,C146-(C146-$C$144)/2,C146+(C146-$C$144)/2)","v":147.23342185387895},147.23342185387895,null,-3.3980356024253915E-3,7.6800000000000002E-3,null,2.2311133296068985E-3,4.0577316975595417E-6,null,null,0.9006512655959672,0.46477822763245447,null,null,-215867.78146919922,5.7867264000000002E-5,null,-215867.78141133196,37036243.404860504,-215.86778141133198,37.036243404860507,null,null,null,4,"CAMPO 2B",0.98121718823332715,1878.2811766672821,147.23342185387895]
[0,"CAMPO 2B",151.78579354533235,0,null,-3.5516893281984092E-3,7.6800000000000002E-3,null,2.339866022181801E-3,4.4356323469896756E-6,null,null,0.94455233010254369,0.46626020976840066,null,null,-233389.81949235348,5.7867264000000002E-5,null,-233389.81943448621,39496168.019639514,-233.38981943448621,39.496168019639512,null,null,null,5,"CAMPO 2B",1.0608628156113009,100000000,151.78579354533235]
[0,"CAMPO 2B",144.95723600815225,0,null,-3.3227745595177135E-3,7.6800000000000002E-3,null,2.1778452359044642E-3,3.8787293248282135E-6,null,null,0.87914811047948782,0.46400395802265282,null,null,-207456.33698729624,5.7867264000000002E-5,null,-207456.33692942897,35835855.962252513,-207.45633692942897,35.835855962252509,null,null,null,6,"CAMPO 2B",0.94298334967922259,100000000,144.95723600815225]
[1,"CAMPO 2B",148.37151477674229,148.37151477674229,null,-3.4360535486517552E-3,7.6800000000000002E-3,null,2.2580215871026692E-3,4.1496784128726611E-6,null,null,0.91151353594635687,0.46515686152111335,null,null,-220159.99758203299,5.7867264000000002E-5,null,-220159.99752416572,37643830.842359863,-220.15999752416573,37.643830842359861,null,null,null,7,"CAMPO 2B",1.0007272614734806,72.726147348061204,148.37151477674229]
[0,"CAMPO 2B",143.25009662385722,0,null,-3.2669964595130594E-3,7.6800000000000002E-3,null,2.1383667362345035E-3,3.7486521883282511E-6,null,null,0.86321151047815814,0.46340787683338547,null,null,-201296.81589729144,5.7867264000000002E-5,null,-201296.81583942418,34948504.383638442,-201.29681583942417,34.948504383638443,null,null,null,8,"CAMPO 2B",0.91498552654283716,100000000,143.25009662385722]
[0,"CAMPO 2B",145.81080570029974,0,null,-3.3508773080617419E-3,7.6800000000000002E-3,null,2.1977357368184042E-3,3.9451004641139163E-6,null,null,0.88717746720635304,0.46429700978071775,null,null,-210583.80644406192,5.7867264000000002E-5,null,-210583.80638619466,36283690.71691943,-210.58380638619465,36.28369071691943,null,null,null,9,"CAMPO 2B",0.95719911993724849,100000000,145.81080570029974]
[0,"CAMPO 2B",149.65186931496353,0,null,-3.4791368546738385E-3,7.6800000000000002E-3,null,2.2885149936982992E-3,4.2551122692000637E-6,null,null,0.92382305195266634,0.4655762517655615,null,null,-225058.64501520758,5.7867264000000002E-5,null,-225058.64495734032,38333258.577139832,-225.05864495734033,38.33325857713983,null,null,null,10,"CAMPO 2B",1.0229938407151833,100000000,149.65186931496353]
[0,"CAMPO 2B",143.89027389296785,0,null,-3.287846847806147E-3,7.6800000000000002E-3,null,2.1531241777263889E-3,3.7970185466263711E-6,null,null,0.86916876427618317,0.46363298594275171,null,null,-203591.81246137968,5.7867264000000002E-5,null,-203591.81240351242,35279961.548943743,-203.59181240351242,35.279961548943746,null,null,null,11,"CAMPO 2B",0.92541732910687469,100000000,143.89027389296785]
[0,"CAMPO 2B",146.77107160396571,0,null,-3.3826649905340915E-3,7.6800000000000002E-3,null,2.2202343520793897E-3,4.020848152873755E-6,null,null,0.8962596621984531,0.46462280771483699,null,null,-214140.62932949874,5.7867264000000002E-5,null,-214140.62927163148,36790818.991440929,-214.14062927163147,36.790818991440929,null,null,null,12,"CAMPO 2B",0.97336649668923403,100000000,146.77107160396571]
[0,"CAMPO 2B",{"$f":"IF(ABS(V155)>$G$110,C155-(C155-$C$144)/3,C155+(C155-$C$144)/3)","v":149.65186931496356},0,null,-3.4791368546738398E-3,7.6800000000000002E-3,null,2.2885149936983E-3,4.2551122692000671E-6,null,null,0.92382305195266667,0.4655762517655615,null,null,-225058.64501520773,5.7867264000000002E-5,null,-225058.64495734047,38333258.577139847,-225.05864495734048,38.333258577139844,null,null,null,13,"CAMPO 2B",1.022993840715184,100000000,149.65186931496356]
[0,"CAMPO 2B",145.81080570029977,0,null,-3.3508773080617427E-3,7.6800000000000002E-3,null,2.197735736818405E-3,3.945100464113918E-6,null,null,0.88717746720635338,0.46429700978071797,null,null,-210583.80644406207,5.7867264000000002E-5,null,-210583.8063861948,36283690.716919452,-210.58380638619479,36.283690716919452,null,null,null,14,"CAMPO 2B",0.95719911993724915,100000000,145.81080570029977]
[1,"CAMPO 2B",148.37151477674232,148.37151477674232,null,-3.4360535486517561E-3,7.6800000000000002E-3,null,2.2580215871026697E-3,4.1496784128726628E-6,null,null,0.91151353594635709,0.46515686152111346,null,null,-220159.9975820331,5.7867264000000002E-5,null,-220159.99752416584,37643830.842359878,-220.15999752416585,37.643830842359876,null,null,null,15,"CAMPO 2B",1.000727261473481,72.72614734810486,148.37151477674232]
[0,"CAMPO 2B",144.95723600815225,0,null,-3.3227745595177135E-3,7.6800000000000002E-3,null,2.1778452359044642E-3,3.8787293248282135E-6,null,null,0.87914811047948782,0.46400395802265282,null,null,-207456.33698729624,5.7867264000000002E-5,null,-207456.33692942897,35835855.962252513,-207.45633692942897,35.835855962252509,null,null,null,16,"CAMPO 2B",0.94298334967922259,100000000,144.95723600815225]
[1,"CAMPO 2B",147.23342185387895,147.23342185387895,null,-3.3980356024253915E-3,7.6800000000000002E-3,null,2.2311133296068985E-3,4.0577316975595417E-6,null,null,0.9006512655959672,0.46477822763245447,null,null,-215867.78146919922,5.7867264000000002E-5,null,-215867.78141133196,37036243.404860504,-215.86778141133198,37.036243404860507,null,null,null,17,"CAMPO 2B",0.98121718823332715,1878.2811766672821,147.23342185387895]
[0,"CAMPO 2B",150.26833631484789,0,null,-3.4999999999999983E-3,7.6800000000000002E-3,null,2.3032814643347034E-3,4.3066408789160575E-6,null,null,0.92978395061728347,0.46577574577805103,null,null,-227443.8941525502,5.7867264000000002E-5,null,-227443.89409468294,38667430.225148275,-227.44389409468295,38.667430225148273,null,null,null,18,"CAMPO 2B",1.0338358822485587,100000000,150.26833631484789]
[0,"CAMPO 2B",146.22178370022263,0,null,-3.364459524252239E-3,7.6800000000000002E-3,null,2.2073489276110119E-3,3.9773783712167462E-6,null,null,0.89105810040363809,0.46443694537756919,null,null,-212101.06974895092,5.7867264000000002E-5,null,-212101.06969108366,36500303.729562998,-212.10106969108367,36.500303729563001,null,null,null,19,"CAMPO 2B",0.96409577132310753,100000000,146.22178370022263]
[1,"CAMPO 2B",148.91948544330612,148.91948544330612,null,-3.4544517056099501E-3,7.6800000000000002E-3,null,2.2710433937497472E-3,4.1945418264334964E-6,null,null,0.91677015222012681,0.46533719639915083,null,null,-222247.43180521528,5.7867264000000002E-5,null,-222247.43174734802,37938130.935687907,-222.24743174734803,37.938130935687909,null,null,null,20,"CAMPO 2B",1.010215598851582,1021.5598851582035,148.91948544330612]
[0,"CAMPO 2B",145.32254978586147,0,null,-3.3347845265383441E-3,7.6800000000000002E-3,null,2.1863456236735105E-3,3.9070252417416201E-6,null,null,0.88257952962823938,0.46412978097622071,null,null,-208790.92506125892,5.7867264000000002E-5,null,-208790.92500339166,36027182.475016408,-208.79092500339166,36.02718247501641,null,null,null,21,"CAMPO 2B",0.94904965910632577,100000000,145.32254978586147]
[1,"CAMPO 2B",147.72050689082457,147.72050689082457,null,-3.4142747790601026E-3,7.6800000000000002E-3,null,2.2426070579583553E-3,4.0968811200448434E-6,null,null,0.90529103034874192,0.46494095813602476,null,null,-217697.6623213322,5.7867264000000002E-5,null,-217697.66226346494,37295677.46583885,-217.69766226346493,37.29567746583885,null,null,null,22,"CAMPO 2B",0.98953482847029517,1046.5171529704821,147.72050689082457]
[0,"CAMPO 2B",150.91778303077538,0,null,-3.522063830585983E-3,7.6800000000000002E-3,null,2.3188977533161173E-3,4.3614701679282392E-6,null,null,0.9360879022132792,0.46598422793142824,null,null,-229975.62526076651,5.7867264000000002E-5,null,-229975.62520289925,39021043.717936866,-229.97562520289924,39.021043717936863,null,null,null,23,"CAMPO 2B",1.0453437509222694,100000000,150.91778303077538]
[1,"CAMPO 2B",{"$f":"IF(ABS(V166)>$G$110,C166-(C166-$C$144)/4,C166+(C166-$C$144)/4)","v":147.72050689082457},147.72050689082457,null,-3.4142747790601026E-3,7.6800000000000002E-3,null,2.2426070579583553E-3,4.0968811200448434E-6,null,null,0.90529103034874192,0.46494095813602476,null,null,-217697.6623213322,5.7867264000000002E-5,null,-217697.66226346494,37295677.46583885,-217.69766226346493,37.29567746583885,null,null,null,24,"CAMPO 2B",0.98953482847029517,1046.5171529704821,147.72050689082457]
[0,"CAMPO 2B",150.11846399578766,0,null,-3.4949206841116674E-3,7.6800000000000002E-3,null,2.2996864374226294E-3,4.2940674148624547E-6,null,null,0.92833271750633184,0.46572738980169348,null,null,-226862.40286085982,5.7867264000000002E-5,null,-226862.40280299255,38586055.055162199,-226.86240280299256,38.586055055162198,null,null,null,25,"CAMPO 2B",1.0311927400136025,100000000,150.11846399578766]
[1,"CAMPO 2B",147.12101761458379,147.12101761458379,null,-3.3942948490865892E-3,7.6800000000000002E-3,null,2.2284657075215463E-3,4.0487399355023257E-6,null,null,0.89958247892773813,0.46474052846551439,null,null,-215447.00800070821,5.7867264000000002E-5,null,-215447.00794284095,36976502.224523783,-215.44700794284094,36.976502224523784,null,null,null,26,"CAMPO 2B",0.97930458155836797,2069.5418441632064,147.12101761458379]
[1,"CAMPO 2B",149.3691024004867,149.3691024004867,null,-3.4695931770577101E-3,7.6800000000000002E-3,null,2.2817601907633286E-3,4.2316436181937333E-6,null,null,0.92109628691948697,0.46548421989957867,null,null,-223970.36704320225,5.7867264000000002E-5,null,-223970.36698533499,38180461.388737813,-223.97036698533498,38.180461388737811,null,null,null,27,"CAMPO 2B",1.0180471226606136,1804.7122660613531,149.3691024004867]
[0,"CAMPO 2B",146.55899641810805,0,null,-3.3756289130608768E-3,7.6800000000000002E-3,null,2.2152543728011253E-3,4.0040200710755949E-6,null,null,0.89424935434896302,0.46455120537178651,null,null,-213351.58648105257,5.7867264000000002E-5,null,-213351.5864231853,36678517.551062234,-213.3515864231853,36.678517551062235,null,null,null,28,"CAMPO 2B",0.96977993828720588,100000000,146.55899641810805]
[1,"CAMPO 2B",148.66657590489203,148.66657590489203,null,-3.445952686686488E-3,7.6800000000000002E-3,null,2.2650279770228079E-3,4.1737874224314634E-6,null,null,0.91434186109913773,0.46525412260592502,null,null,-221282.31241353147,5.7867264000000002E-5,null,-221282.31235566421,37802158.131576426,-221.2823123556642,37.802158131576427,null,null,null,29,"CAMPO 2B",1.0058286925257465,582.86925257464463,148.66657590489203]
[0,"CAMPO 2B",146.03210154641206,0,null,-3.3581866552731114E-3,7.6800000000000002E-3,null,2.2029091303446737E-3,3.9624547781515383E-6,null,null,0.88926585212388731,0.4643724530302672,null,null,-211399.86702457909,5.7867264000000002E-5,null,-211399.86696671182,36400248.622567274,-211.39986696671181,36.400248622567275,null,null,null,30,"CAMPO 2B",0.9609084862123265,100000000,146.03210154641206]
[0,"CAMPO 3",{"$f":"VLOOKUP($Z$10,$Z$13:$AC$108,4,FALSE)","v":138.12867847097215},0,null,-3.5000000000000005E-3,{"$f":"ABS($W$4)*($D$3-C174)/C174","v":8.6625720205022686E-3},null,{"$f":"$H$50","v":2.3032814643347043E-3},{"$f":"$I$50","v":4.3066408789160609E-6},null,null,0.92978395061728381,0.46577574577805114,null,null,-209069.49059287083,{"$f":"$L$8*$D$2*$L$6*G174","v":6.5270747660080497E-5},null,-209069.49052760008,36725776.402814358,-209.06949052760007,36.725776402814361,null,null,null,1,"CAMPO 3",0.95031586603454576,100000000,138.12867847097215]
[0,"CAMPO 3",{"$f":"VLOOKUP(C$144,$AC$12:$AD$108,2,FALSE)","v":150.26833631484791},0,null,-3.5000000000000005E-3,7.6800000000000019E-3,null,2.3032814643347043E-3,4.3066408789160609E-6,null,null,0.92978395061728381,0.46577574577805114,null,null,-227443.89415255035,{"$f":"$L$8*$D$2*$L$6*G175","v":5.7867264000000016E-5},null,-227443.89409468308,38667430.22514829,-227.44389409468309,38.667430225148287,null,null,null,{"$f":"+AA174+1","v":2},"CAMPO 3",1.0338358822485594,100000000,150.26833631484791]
[0,"CAMPO 3",{"$f":"+(C175-C174)/2+C174","v":144.19850739291002},0,null,-3.5000000000000005E-3,8.1506060317417858E-3,null,2.3032814643347043E-3,4.3066408789160609E-6,null,null,0.92978395061728381,0.46577574577805114,null,null,-218256.69237271056,6.1413186327968005E-5,null,-218256.69231129737,37722577.178737782,-218.25669231129737,37.722577178737779,null,null,null,{"$f":"+AA175+1","v":3},"CAMPO 3",0.99207587414226084,100000000,144.19850739291002]
[0,"CAMPO 3",{"$f":"IF(ABS(V176)>$G$110,C176-(C176-$C$144)/2,C176+(C176-$C$144)/2)","v":147.23342185387895},0,null,-3.5000000000000005E-3,7.9104527276918635E-3,null,2.3032814643347043E-3,4.3066408789160609E-6,null,null,0.92978395061728381,0.46577574577805114,null,null,-222850.29326263044,5.9603679212612658E-5,null,-222850.29320302675,38201497.16813273,{"$f":"+T177/1000","v":-222.85029320302675},{"$f":"+U177/1000000","v":38.201497168132732},null,null,null,4,{"$f":"B177","v":"CAMPO 3"},1.0129558781955761,{"$f":"IF(A177=0,10^8,ABS(1*10^5-ABS(AC177)*10^5))","v":100000000},{"$f":"C177","v":147.23342185387895}]
[{"$f":"IF($AB$10=B178,IF(ABS((ROUND(ABS(V178/100),1))-(ROUND(ABS($G$110/100),1)))=0,1,0),0)","v":0},"CAMPO 3",{"$f":"IF(ABS(V177)>$G$110,C177-(C177-$C$144)/2,C177+(C177-$C$144)/2)","v":142.68105016242555},{"$f":"IF(A178=0,0,C178)","v":0},null,-3.5000000000000005E-3,8.2745138410988579E-3,null,2.3032814643347043E-3,4.3066408789160609E-6,null,null,{"$f":"I178/($L$4*ABS($W$4))","v":0.92978395061728381},{"$f":"1-J178/I178/ABS(F178)","v":0.46577574577805114},null,null,{"$f":"-$L$4*$D$2*C178*M178","v":-215959.89192775064},6.2346806889911673E-5,null,{"$f":"R178+Q178","v":-215959.89186540383},{"$f":"-Q178*($D$3/2-N178*C178)+R178*($D$3/2)","v":37478247.084398389},-215.95989186540382,37.47824708439839,null,null,null,5,"CAMPO 3",{"$f":"ABS(T178)/($G$110*1000)","v":0.98163587211547199},100000000,142.68105016242555]
[0,"CAMPO 3",{"$f":"IF(ABS(V178)>$G$110,C178-(C178-$C$144)/2,C178+(C178-$C$144)/2)","v":144.95723600815225},0,null,-3.5000000000000005E-3,8.0896249560492364E-3,null,2.3032814643347043E-3,4.3066408789160609E-6,null,null,0.92978395061728381,0.46577574577805114,null,null,-219405.09259519054,6.0953706118839788E-5,null,-219405.09253423684,37843524.700997025,-219.40509253423684,37.843524700997023,null,null,null,6,"CAMPO 3",0.99729587515562201,100000000,144.95723600815225]
[0,"CAMPO 3",{"$f":"IF(ABS(V179)>$G$110,C179-(C179-$C$144)/2,C179+(C179-$C$144)/2)","v":148.37151477674229},0,null,-3.5000000000000005E-3,7.8229281410783658E-3,null,2.3032814643347043E-3,4.3066408789160609E-6,null,null,0.92978395061728381,0.46577574577805114,null,null,-224572.89359635036,5.8944198957397273E-5,null,-224572.89353740617,38377743.970651835,-224.57289353740617,38.377743970651835,null,null,null,7,"CAMPO 3",1.0207858797154825,100000000,148.37151477674229]
[0,"CAMPO 3",{"$f":"IF(ABS(V180)>$G$110,C180-(C180-$C$144)/3,C180+(C180-$C$144)/3)","v":144.95723600815225},0,null,-3.5000000000000005E-3,8.0896249560492364E-3,null,2.3032814643347043E-3,4.3066408789160609E-6,null,null,0.92978395061728381,0.46577574577805114,null,null,-219405.09259519054,6.0953706118839788E-5,null,-219405.09253423684,37843524.700997025,-219.40509253423684,37.843524700997023,null,null,null,8,"CAMPO 3",0.99729587515562201,100000000,144.95723600815225]
[0,"CAMPO 3",147.23342185387895,0,null,-3.5000000000000005E-3,7.9104527276918635E-3,null,2.3032814643347043E-3,4.3066408789160609E-6,null,null,0.92978395061728381,0.46577574577805114,null,null,-222850.29326263044,5.9603679212612658E-5,null,-222850.29320302675,38201497.16813273,-222.85029320302675,38.201497168132732,null,null,null,9,"CAMPO 3",1.0129558781955761,100000000,147.23342185387895]
[0,"CAMPO 3",144.19850739291002,0,null,-3.5000000000000005E-3,8.1506060317417858E-3,null,2.3032814643347043E-3,4.3066408789160609E-6,null,null,0.92978395061728381,0.46577574577805114,null,null,-218256.69237271056,6.1413186327968005E-5,null,-218256.69231129737,37722577.178737782,-218.25669231129737,37.722577178737779,null,null,null,10,"CAMPO 3",0.99207587414226084,100000000,144.19850739291002]
[0,"CAMPO 3",146.22178370022263,0,null,-3.5000000000000005E-3,7.9893961589489349E-3,null,2.3032814643347043E-3,4.3066408789160609E-6,null,null,0.92978395061728381,0.46577574577805114,null,null,-221319.09296599048,6.0198502178448438E-5,null,-221319.09290579197,38043300.164154284,-221.31909290579196,38.043300164154282,null,null,null,11,"CAMPO 3",1.005995876844509,100000000,146.22178370022263]
[0,"CAMPO 3",143.52408195713915,0,null,-3.5000000000000005E-3,8.2053526982440571E-3,null,2.3032814643347043E-3,4.3066408789160609E-6,null,null,0.92978395061728381,0.46577574577805114,null,null,-217235.8921749506,6.1825691510729319E-5,null,-217235.89211312489,37614386.856944285,-217.23589211312489,37.614386856944286,null,null,null,12,"CAMPO 3",0.98743587324147675,100000000,143.52408195713915]
[0,"CAMPO 3",145.32254978586147,0,null,-3.5000000000000005E-3,8.0604908011560946E-3,null,2.3032814643347043E-3,4.3066408789160609E-6,null,null,0.92978395061728381,0.46577574577805114,null,null,-219958.02603564385,6.0734186088550946E-5,null,-219958.02597490966,37901469.20396252,-219.95802597490965,37.90146920396252,null,null,null,13,"CAMPO 3",0.9998092089768621,100000000,145.32254978586147]
[0,"CAMPO 3",147.72050689082457,0,null,-3.5000000000000005E-3,7.87282856226342E-3,null,2.3032814643347043E-3,4.3066408789160609E-6,null,null,0.92978395061728381,0.46577574577805114,null,null,-223587.53784990151,5.9320188650942417E-5,null,-223587.53779058132,38277151.448448114,-223.58753779058131,38.277151448448116,null,null,null,14,"CAMPO 3",1.0163069899571879,100000000,147.72050689082457]
[0,"CAMPO 3",144.52323075087375,0,null,-3.5000000000000005E-3,8.1244287598022952E-3,null,2.3032814643347043E-3,4.3066408789160609E-6,null,null,0.92978395061728381,0.46577574577805114,null,null,-218748.18876422461,6.1215945819358342E-5,null,-218748.18870300867,37774440.082923084,-218.74818870300868,37.774440082923086,null,null,null,15,"CAMPO 3",0.99430994865003941,100000000,144.52323075087375]
[0,"CAMPO 3",146.65474817750763,0,null,-3.5000000000000005E-3,7.9554763543459618E-3,null,2.3032814643347043E-3,4.3066408789160609E-6,null,null,0.92978395061728381,0.46577574577805114,null,null,-221974.42148800922,5.9942923234725957E-5,null,-221974.4214280663,38111182.50990504,-221.97442142806631,38.111182509905042,null,null,null,16,"CAMPO 3",1.0089746428548467,100000000,146.65474817750763]
[0,"CAMPO 3",143.81272494199581,0,null,-3.5000000000000005E-3,8.1818591725982288E-3,null,2.3032814643347043E-3,4.3066408789160609E-6,null,null,0.92978395061728381,0.46577574577805114,null,null,-217672.77785629642,6.1648672493693141E-5,null,-217672.77779464776,37660769.036922976,-217.67277779464777,37.660769036922979,null,null,null,17,"CAMPO 3",0.98942171724839889,100000000,143.81272494199581]
[0,"CAMPO 3",145.70740709900369,0,null,-3.5000000000000005E-3,8.029956049924708E-3,null,2.3032814643347043E-3,4.3066408789160609E-6,null,null,0.92978395061728381,0.46577574577805114,null,null,-220540.5402774383,6.0504112844972694E-5,null,-220540.5402169342,37962310.081434987,-220.5405402169342,37.962310081434985,null,null,null,18,"CAMPO 3",1.0024570009860645,100000000,145.70740709900369]
[0,"CAMPO 3",143.18116422299317,0,null,-3.5000000000000005E-3,8.233386923600752E-3,null,2.3032814643347043E-3,4.3066408789160609E-6,null,null,0.92978395061728381,0.46577574577805114,null,null,-216716.85704924914,6.2036923791946951E-5,null,-216716.85698721223,37559130.55910141,-216.71685698721222,37.559130559101412,null,null,null,19,"CAMPO 3",0.98507662266914653,100000000,143.18116422299317]
[0,"CAMPO 3",144.86532614033351,0,null,-3.5000000000000005E-3,8.096977998534689E-3,null,2.3032814643347043E-3,4.3066408789160609E-6,null,null,0.92978395061728381,0.46577574577805114,null,null,-219265.97920137522,6.1009109823359179E-5,null,-219265.97914036611,37828916.726272747,-219.26597914036611,37.828916726272745,null,null,null,20,"CAMPO 3",0.99666354154711867,100000000,144.86532614033351]
[0,"CAMPO 3",147.11087536345397,0,null,-3.5000000000000005E-3,7.9199578776849161E-3,null,2.3032814643347043E-3,4.3066408789160609E-6,null,null,0.92978395061728381,0.46577574577805114,null,null,-222664.80873754335,5.9675298616780311E-5,null,-222664.80867786804,38182410.520152062,-222.66480867786805,38.182410520152061,null,null,null,21,"CAMPO 3",1.012112766717582,100000000,147.11087536345397]
[0,"CAMPO 3",144.11680973262671,0,null,-3.5000000000000005E-3,8.1572105857521185E-3,null,2.3032814643347043E-3,4.3066408789160609E-6,null,null,0.92978395061728381,0.46577574577805114,null,null,-218133.03602265252,6.1462950321525061E-5,null,-218133.03596118957,37709505.500838049,-218.13303596118956,37.709505500838048,null,null,null,22,"CAMPO 3",0.991513799823589,100000000,144.11680973262671]
[0,"CAMPO 3",146.11285348651157,0,null,-3.5000000000000005E-3,7.9979617460902552E-3,null,2.3032814643347043E-3,4.3066408789160609E-6,null,null,0.92978395061728381,0.46577574577805114,null,null,-221154.21783257977,6.0263042164440859E-5,null,-221154.21777231674,38026179.923321418,-221.15421777231674,38.026179923321422,null,null,null,23,"CAMPO 3",1.0052464444196216,100000000,146.11285348651157]
[0,"CAMPO 3",143.45146181466509,0,null,-3.5000000000000005E-3,8.2112783567901779E-3,null,2.3032814643347043E-3,4.3066408789160609E-6,null,null,0.92978395061728381,0.46577574577805114,null,null,-217125.97541934345,6.1870340162742635E-5,null,-217125.9753574731,37602698.995914876,-217.1259753574731,37.602698995914878,null,null,null,24,"CAMPO 3",0.98693625162487775,100000000,143.45146181466509]
[0,"CAMPO 3",145.22572292922942,0,null,-3.5000000000000005E-3,8.06819856781631E-3,null,2.3032814643347043E-3,4.3066408789160609E-6,null,null,0.92978395061728381,0.46577574577805114,null,null,-219811.47036150104,6.0792262568782333E-5,null,-219811.47030070878,37886129.271159604,-219.81147030070878,37.886129271159604,null,null,null,25,"CAMPO 3",0.99914304682140354,100000000,145.22572292922942]
[0,"CAMPO 3",{"$f":"IF(ABS(V198)>$G$110,C198-(C198-$C$144)/4,C198+(C198-$C$144)/4)","v":146.99998404379375},0,null,-3.5000000000000005E-3,7.9285726690929443E-3,null,2.3032814643347043E-3,4.3066408789160609E-6,null,null,0.92978395061728381,0.46577574577805114,null,null,-222496.96530365857,5.974020934708152E-5,null,-222496.96524391836,38165120.918509521,-222.49696524391837,38.165120918509523,null,null,null,26,"CAMPO 3",1.0113498420178106,100000000,146.99998404379375]
[0,"CAMPO 3",144.78215765058835,0,null,-3.5000000000000005E-3,8.1036397527273138E-3,null,2.3032814643347043E-3,4.3066408789160609E-6,null,null,0.92978395061728381,0.46577574577805114,null,null,-219140.09662596163,6.1059304808849763E-5,null,-219140.09656490231,37815687.823713541,-219.14009656490231,37.815687823713539,null,null,null,27,"CAMPO 3",0.99609134802228327,100000000,144.78215765058835]
[0,"CAMPO 3",146.44552744549239,0,null,-3.5000000000000005E-3,7.9718423246165904E-3,null,2.3032814643347043E-3,4.3066408789160609E-6,null,null,0.92978395061728381,0.46577574577805114,null,null,-221657.74813423434,6.0066237547521086E-5,null,-221657.74807416811,38078412.834443569,-221.6577480741681,38.078412834443569,null,null,null,28,"CAMPO 3",1.0075352185189459,100000000,146.44552744549239]
[0,"CAMPO 3",144.36631520186234,0,null,-3.5000000000000005E-3,8.1370636574807313E-3,null,2.3032814643347043E-3,4.3066408789160609E-6,null,null,0.92978395061728381,0.46577574577805114,null,null,-218510.68374889347,6.1311147246385816E-5,null,-218510.68368758232,37749397.018250071,-218.51068368758231,37.749397018250072,null,null,null,29,"CAMPO 3",0.99323038039810141,100000000,144.36631520186234]
[0,"CAMPO 3",145.9257243845849,0,null,-3.5000000000000005E-3,8.0127062557687721E-3,null,2.3032814643347043E-3,4.3066408789160609E-6,null,null,0.92978395061728381,0.46577574577805114,null,null,-220870.98203789914,6.0374139095966544E-5,null,-220870.98197752499,37996730.336127356,-220.87098197752499,37.996730336127357,null,null,null,30,"CAMPO 3",1.00395900898875,100000000,145.9257243845849]
[0,"CAMPO 3",143.97646290618172,0,null,-3.5000000000000005E-3,8.1685739188823211E-3,null,2.3032814643347043E-3,4.3066408789160609E-6,null,null,0.92978395061728381,0.46577574577805114,null,null,-217920.60917664209,6.1548570763994513E-5,null,-217920.60911509351,37687027.949031882,-217.9206091150935,37.687027949031879,null,null,null,31,"CAMPO 3",0.99054822325042502,100000000,143.97646290618172]
[0,"CAMPO 3",145.43840901498413,0,null,-3.5000000000000005E-3,8.0512814763183636E-3,null,2.3032814643347043E-3,4.3066408789160609E-6,null,null,0.92978395061728381,0.46577574577805114,null,null,-220133.38882258491,6.066479566776361E-5,null,-220133.3887619201,37919806.995368078,-220.13338876192009,37.919806995368077,null,null,null,32,"CAMPO 3",1.0006063125541822,100000000,145.43840901498413]
[0,"CAMPO 3",143.61097637898115,0,null,-3.5000000000000005E-3,{"$f":"ABS($W$4)*($D$3-C206)/C206","v":8.1982701626272369E-3},null,2.3032814643347043E-3,4.3066408789160609E-6,null,null,0.92978395061728381,0.46577574577805114,null,null,-217367.41426515643,6.1772326021363705E-5,null,-217367.41420338411,37628362.322434172,-217.3674142033841,37.628362322434171,null,null,null,33,"CAMPO 3",0.98803370092447318,100000000,143.61097637898115]
[0,"CAMPO 3",144.98155085598341,0,null,-3.5000000000000005E-3,8.0876812606923924E-3,null,2.3032814643347043E-3,4.3066408789160609E-6,null,null,0.92978395061728381,0.46577574577805114,null,null,-219441.89518322784,6.0939060763065038E-5,null,-219441.89512228878,37847387.263084918,-219.4418951222888,37.847387263084919,null,null,null,34,"CAMPO 3",0.99746315964676724,100000000,144.98155085598341]
[0,"CAMPO 3",146.69476895223625,0,null,-3.5000000000000005E-3,7.9523511097182153E-3,null,2.3032814643347043E-3,4.3066408789160609E-6,null,null,0.92978395061728381,0.46577574577805114,null,null,-222034.99633081714,5.9919375141504808E-5,null,-222034.99627089777,38117443.823067546,-222.03499627089778,38.117443823067546,null,null,null,35,"CAMPO 3",1.0092499830495354,100000000,146.69476895223625]
[0,"CAMPO 3",144.55324633192021,0,null,-3.5000000000000005E-3,8.122015019589519E-3,null,2.3032814643347043E-3,4.3066408789160609E-6,null,null,0.92978395061728381,0.46577574577805114,null,null,-218793.61989633052,6.1197758769603115E-5,null,-218793.61983513276,37779226.488396406,-218.79361983513277,37.779226488396404,null,null,null,36,{"$f":"B209","v":"CAMPO 3"},0.99451645379605802,{"$f":"IF(A209=0,10^8,ABS(1*10^5-ABS(AC209)*10^5))","v":100000000},{"$f":"C209","v":144.55324633192021}]
[{"$f":"IF($AB$10=B210,IF(ABS((ROUND(ABS(V210/100),1))-(ROUND(ABS($G$110/100),1)))=0,1,0),0)","v":0},"CAMPO 3",146.15938829715722,0,null,-3.5000000000000005E-3,7.9943009790406742E-3,null,2.3032814643347043E-3,4.3066408789160609E-6,null,null,{"$f":"I210/($L$4*ABS($W$4))","v":0.92978395061728381},0.46577574577805114,null,null,{"$f":"-$L$4*$D$2*C210*M210","v":-221224.65222219544},6.0235459016875672E-5,null,-221224.65216195997,{"$f":"-Q210*($D$3/2-N210*C210)+R210*($D$3/2)","v":38033495.709424309},-221.22465216195997,38.033495709424308,null,null,null,37,"CAMPO 3",1.0055666007361816,100000000,146.15938829715722]
[0,"CAMPO 3",144.15171084061095,0,null,-3.5000000000000005E-3,8.1543882150492287E-3,null,2.3032814643347043E-3,4.3066408789160609E-6,null,null,0.92978395061728381,0.46577574577805114,null,null,-218185.8618148643,6.1441684322752934E-5,null,-218185.86175342262,37715090.851866424,-218.18586175342261,37.715090851866421,null,null,null,38,"CAMPO 3",0.9917539170610119,100000000,144.15171084061095]
[0,"CAMPO 3",145.65746893302065,0,null,-3.5000000000000005E-3,8.0339090559958422E-3,null,2.3032814643347043E-3,4.3066408789160609E-6,null,null,0.92978395061728381,0.46577574577805114,null,null,-220464.95462036264,6.0533897955117474E-5,null,-220464.95455982874,37954427.305603288,-220.46495455982873,37.954427305603289,null,null,null,39,"CAMPO 3",1.0021134298174033,100000000,145.65746893302065]
[0,"CAMPO 3",143.77527131750853,0,null,-3.5000000000000005E-3,8.1849023104254397E-3,null,2.3032814643347043E-3,4.3066408789160609E-6,null,null,0.92978395061728381,0.46577574577805114,null,null,-217616.0886134897,6.1671601928593611E-5,null,-217616.0885518181,37654757.228524283,-217.61608855181811,37.654757228524282,null,null,null,40,"CAMPO 3",0.98916403887190052,100000000,143.77527131750853]
[0,"CAMPO 3",145.18691952914261,0,null,-3.5000000000000005E-3,8.0712903438438354E-3,null,2.3032814643347043E-3,4.3066408789160609E-6,null,null,0.92978395061728381,0.46577574577805114,null,null,-219752.7381186444,6.0815558482794536E-5,null,-219752.73805782883,37879978.076872215,-219.75273805782882,37.879978076872213,null,null,null,41,"CAMPO 3",0.99887608208104017,100000000,145.18691952914261]
[0,"CAMPO 3",146.95147979368522,0,null,-3.5000000000000005E-3,7.9323448961430097E-3,null,2.3032814643347043E-3,4.3066408789160609E-6,null,null,0.92978395061728381,0.46577574577805114,null,null,-222423.55000008779,5.9768632323458352E-5,null,-222423.54994031915,38157552.935887016,-222.42354994031916,38.157552935887018,null,null,null,42,"CAMPO 3",1.0110161360923597,100000000,146.95147979368522]
[0,"CAMPO 3",144.74577946300695,0,null,-3.5000000000000005E-3,8.1065560338452695E-3,null,2.3032814643347043E-3,4.3066408789160609E-6,null,null,0.92978395061728381,0.46577574577805114,null,null,-219085.03514828355,6.1081278403817341E-5,null,-219085.03508720227,37809898.389649741,-219.08503508720227,37.809898389649739,null,null,null,43,"CAMPO 3",0.9958410685781921,100000000,144.74577946300695]
[0,"CAMPO 3",146.40005471101566,0,null,-3.5000000000000005E-3,7.9754055476018281E-3,null,2.3032814643347043E-3,4.3066408789160609E-6,null,null,0.92978395061728381,0.46577574577805114,null,null,-221588.92128713673,6.0093085720070259E-5,null,-221588.92122704364,38071282.398517184,-221.58892122704364,38.071282398517184,null,null,null,44,"CAMPO 3",1.0072223692138347,100000000,146.40005471101566]
[0,"CAMPO 3",144.33221065100477,0,null,-3.5000000000000005E-3,8.1398134028601524E-3,null,2.3032814643347043E-3,4.3066408789160609E-6,null,null,0.92978395061728381,0.46577574577805114,null,null,-218459.06361357027,6.1331866027870686E-5,null,-218459.0635522384,37743949.481942751,-218.4590635522384,37.743949481942749,null,null,null,45,"CAMPO 3",0.99299574341926544,100000000,144.33221065100477]
[0,"CAMPO 3",145.88309369601293,0,null,-3.5000000000000005E-3,8.0160705564740527E-3,null,2.3032814643347043E-3,4.3066408789160609E-6,null,null,0.92978395061728381,0.46577574577805114,null,null,-220806.4568687451,6.0399488428920697E-5,null,-220806.4568083456,37990014.393270575,-220.80645680834559,37.990014393270577,null,null,null,46,"CAMPO 3",1.0036657127652073,100000000,145.88309369601293]
[0,"CAMPO 3",143.94448988975273,0,null,-3.5000000000000005E-3,8.1711657478984734E-3,null,2.3032814643347043E-3,4.3066408789160609E-6,null,null,0.92978395061728381,0.46577574577805114,null,null,-217872.21529977652,6.1568099677265415E-5,null,-217872.21523820842,37681903.356707364,-217.87221523820841,37.681903356707366,null,null,null,47,"CAMPO 3",0.99032825108276556,100000000,143.94448988975273]
[0,"CAMPO 3",145.39844274444789,0,null,-3.5000000000000005E-3,8.0544566247711877E-3,null,2.3032814643347043E-3,4.3066408789160609E-6,null,null,0.92978395061728381,0.46577574577805114,null,null,-220072.896476503,6.068871977632595E-5,null,-220072.89641581426,37913483.412945494,-220.07289641581426,37.913483412945496,null,null,null,48,"CAMPO 3",1.0003313473446103,100000000,145.39844274444789]
[0,"CAMPO 3",143.58100167607896,0,null,-3.5000000000000005E-3,8.2007123532269761E-3,null,2.3032814643347043E-3,4.3066408789160609E-6,null,null,0.92978395061728381,0.46577574577805114,null,null,-217322.04500559496,6.1790727439094628E-5,null,-217322.04494380424,37623542.612508126,-217.32204494380423,37.623542612508125,null,null,null,49,"CAMPO 3",0.98782747701729201,100000000,143.58100167607896]
[0,"CAMPO 3",144.94408247735566,0,null,-3.5000000000000005E-3,8.0906767029448271E-3,null,2.3032814643347043E-3,4.3066408789160609E-6,null,null,0.92978395061728381,0.46577574577805114,null,null,-219385.18360877596,6.0961630821348684E-5,null,-219385.18354781432,37841434.834842138,-219.38518354781431,37.84143483484214,null,null,null,50,"CAMPO 3",0.99720537976279233,100000000,144.94408247735566]
[0,"CAMPO 4",{"$f":"VLOOKUP($Z$10,$Z$13:$AC$108,4,FALSE)","v":138.12867847097215},0,{"$f":"-(ABS($W$5)-ABS($W$5)*$L$9/(C224-($D$3-$L$9)))","v":-6.1222611250328891E-4},{"$f":"-(ABS($W$4)-($D$3-$L$9)*ABS(E224)/$L$9)","v":2.4736202927837497E-4},null,null,{"$f":"$H$61-$L$4/ABS($W$5)*E224^2/2+$L$4*ABS(E224)","v":2.4667305165015693E-3},{"$f":"+$I$61-$L$4/ABS($W$5)*ABS(E224)^3/3+$L$4*(ABS(E224)^2)/2","v":4.3291377571213216E-6},null,null,0.99576472969338992,{"$f":"1-J224/I224/ABS($W$4)","v":0.49856845173793574},null,null,{"$f":"-$L$4*$D$2*$D$3*M224","v":-778077.28291935218},null,null,-778077.28291935218,{"$f":"-Q224*($D$3/2-N224*$D$3)","v":534650.48741514119},-778.07728291935223,0.53465048741514121,null,null,null,1,"CAMPO 4",3.5367149223606917,100000000,138.12867847097215]
[0,"CAMPO 4",{"$f":"VLOOKUP($Z$10,$Z$13:$AC$108,4,FALSE)","v":138.12867847097215},0,-6.1222611250328891E-4,2.4736202927837497E-4,null,null,2.4667305165015693E-3,4.3291377571213216E-6,null,null,0.99576472969338992,0.49856845173793574,null,null,-778077.28291935218,null,null,-778077.28291935218,534650.48741514119,-778.07728291935223,0.53465048741514121,null,null,null,{"$f":"+AA224+1","v":2},"CAMPO 4",3.5367149223606917,100000000,138.12867847097215]
[0,"CAMPO 4",{"$f":"VLOOKUP(C$144,$AC$12:$AD$108,2,FALSE)","v":150.26833631484791},0,-6.1781241949253113E-4,2.8155513909164853E-4,null,null,2.4657369919976052E-3,4.3285266994904326E-6,null,null,0.99536366575368695,0.4984372144499486,null,null,-777763.89690438739,null,null,-777763.89690438739,583429.52612824365,-777.76389690438737,0.58342952612824361,null,null,null,{"$f":"+AA225+1","v":3},"CAMPO 4",3.5352904404744883,100000000,150.26833631484791]
[0,"CAMPO 4",{"$f":"+(C226-C225)/2+C225","v":144.19850739291002},0,-6.1495609782543541E-4,2.6407193943700762E-4,null,null,2.4662506030625505E-3,4.3288432840623593E-6,null,null,0.99557099921789449,0.49850499160989326,null,null,-777925.90450887301,null,null,-777925.90450887301,558242.76197863161,-777.92590450887303,0.55824276197863165,null,null,null,4,"CAMPO 4",3.5360268386766953,100000000,144.19850739291002]
[0,"CAMPO 4",{"$f":"IF(ABS(V227)>$G$110,C227-(C227-$C$144)/2,C227+(C227-$C$144)/2)","v":141.16359293194108},0,-6.1357584284540804E-4,2.5562356554826833E-4,null,null,2.4664945841370678E-3,4.328993153649385E-6,null,null,0.99566948899904073,0.49853723794423188,null,null,-778002.8631106636,null,null,-778002.8631106636,546255.87236987904,-778.00286311066361,0.54625587236987905,null,null,null,5,"CAMPO 4",3.5363766505030165,100000000,141.16359293194108]
[0,"CAMPO 4",{"$f":"IF(ABS(V228)>$G$110,C228-(C228-$C$144)/2,C228+(C228-$C$144)/2)","v":139.64613570145661},0,-6.1289722573323489E-4,2.5146983223529656E-4,null,null,2.4666135340660612E-3,4.3290660981290974E-6,null,null,0.99571750646308832,0.49855297112638042,null,null,-778040.3833168376,null,null,-778040.3833168376,540406.51176072285,-778.04038331683762,0.54040651176072285,null,null,null,6,"CAMPO 4",3.5365471968947162,100000000,139.64613570145661]
[0,"CAMPO 4",{"$f":"IF(ABS(V229)>$G$110,C229-(C229-$C$144)/2,C229+(C229-$C$144)/2)","v":138.88740708621438},0,-6.1256073893345246E-4,2.4941023720805684E-4,null,null,2.4666722684953944E-3,4.3291020864207822E-6,null,null,0.99574121625739198,0.49856074266387806,null,null,-778058.90983397583,null,null,-778058.90983397583,537516.95707852638,-778.0589098339758,0.53751695707852643,null,null,null,7,"CAMPO 4",3.536631408336254,100000000,138.88740708621438]
[0,"CAMPO 4",{"$f":"IF(ABS(V230)>$G$110,C230-(C230-$C$144)/2,C230+(C230-$C$144)/2)","v":138.50804277859328},0,-6.1239319413777988E-4,2.4838471576641265E-4,null,null,2.4667014529648613E-3,4.3291199612366751E-6,null,null,0.99575299738433531,0.49856460496688548,null,null,-778068.1154494877,null,null,-778068.1154494877,536080.85200366436,-778.06811544948766,0.5360808520036644,null,null,null,8,"CAMPO 4",3.5366732520431259,100000000,138.50804277859328]
[0,"CAMPO 4",{"$f":"IF(ABS(V231)>$G$110,C231-(C231-$C$144)/2,C231+(C231-$C$144)/2)","v":138.31836062478271},0,-6.1230959554550376E-4,2.4787301888841515E-4,null,null,2.4667159998079998E-3,4.3291288690164318E-6,null,null,0.99575886962422078,0.49856653028869202,null,null,-778072.70393943763,null,null,-778072.70393943763,535364.95406049618,-778.07270393943759,0.53536495406049622,null,null,null,9,"CAMPO 4",3.5366941088156256,100000000,138.31836062478271]
[0,"CAMPO 4",{"$f":"IF(ABS(V232)>$G$110,C232-(C232-$C$144)/3,C232+(C232-$C$144)/3)","v":138.25513324017919},0,-6.1228175503770586E-4,2.4770261050551965E-4,null,null,2.4667208420516913E-3,4.3291318339013053E-6,null,null,0.99576082433125035,0.4985671712015447,null,null,-778074.23132144776,null,null,-778074.23132144776,535126.63966720889,-778.07423132144777,0.53512663966720886,null,null,null,10,"CAMPO 4",3.5367010514611263,100000000,138.25513324017919]
[0,"CAMPO 4",138.21298165044351,0,-6.1226320182750766E-4,2.4758904854859211E-4,null,null,2.4667240683545933E-3,4.3291338092777801E-6,null,null,0.99576212671860698,0.49856759823792285,null,null,-778075.24898956309,null,null,-778075.24898956309,534967.85168700607,-778.07524898956308,0.53496785168700611,null,null,null,11,"CAMPO 4",3.5367056772252869,100000000,138.21298165044351]
[0,"CAMPO 4",138.18488059061971,0,-6.1225083618731617E-4,2.4751335995972868E-4,null,null,2.4667262183972602E-3,4.3291351256564946E-6,null,null,0.99576299464343332,0.49856788282275,null,null,-778075.92717445001,null,null,-778075.92717445001,534862.03224539,-778.07592717445004,0.53486203224538997,null,null,null,12,"CAMPO 4",3.5367087598838638,100000000,138.18488059061971]
[0,"CAMPO 4",138.16614655073718,0,-6.12242593834113E-4,2.4746290951210012E-4,null,null,2.4667276513921149E-3,4.3291360030028867E-6,null,null,0.99576357311186536,0.49856807249883595,null,null,-778076.37918196991,null,null,-778076.37918196991,534791.50337127037,-778.07637918196986,0.53479150337127035,null,null,null,13,"CAMPO 4",3.5367108144634996,100000000,138.16614655073718]
[0,"CAMPO 4",138.15365719081549,0,-6.1223709955714233E-4,2.4742927970690561E-4,null,null,2.466728606558988E-3,4.3291365877941065E-6,null,null,0.99576395869167511,0.49856819892861814,null,null,-778076.68046889221,null,null,-778076.68046889221,534744.49186204665,-778.07668046889216,0.53474449186204664,null,null,null,14,"CAMPO 4",3.5367121839495099,100000000,138.15365719081549]
[0,"CAMPO 4",138.1453309508677,0,-6.1223343698363949E-4,2.4740686153722387E-4,null,null,2.4667292432644593E-3,4.3291369776076525E-6,null,null,0.99576421571563745,0.4985682832058338,null,null,-778076.88130398944,null,null,-778076.88130398944,534713.15429537988,-778.07688130398947,0.53471315429537991,null,null,null,15,"CAMPO 4",3.5367130968363156,100000000,138.1453309508677]
[0,"CAMPO 4",138.13978012423584,0,-6.1223099539143059E-4,2.4739191684645077E-4,null,null,2.4667296677025811E-3,4.3291372374623437E-6,null,null,0.99576438705195036,0.49856833938650924,null,null,-778077.01518389978,null,null,-778077.01518389978,534692.26411258464,-778.07701518389979,0.53469226411258464,null,null,null,16,"CAMPO 4",3.5367137053813629,100000000,138.13978012423584]
[0,"CAMPO 4",138.13607957314795,0,-6.1222936771815871E-4,2.4738195405510539E-4,null,null,2.4667299506470216E-3,4.3291374106894702E-6,null,null,0.99576450127038341,0.49856837683845479,null,null,-778077.1044326605,null,null,-778077.1044326605,534678.33800342807,-778.07710443266046,0.53467833800342812,null,null,null,17,"CAMPO 4",3.536714111057548,100000000,138.13607957314795]
[0,"CAMPO 4",138.13361253908934,0,-6.1222828262702859E-4,2.4737531234346292E-4,null,null,2.4667301392702905E-3,4.3291375261700729E-6,null,null,0.99576457741343882,0.4985684018056018,null,null,-778077.16392982879,null,null,-778077.16392982879,534669.05423251854,{"$f":"+T241/1000","v":-778.07716392982877},{"$f":"+U241/1000000","v":0.53466905423251854},null,null,null,18,{"$f":"B241","v":"CAMPO 4"},3.5367143814992219,{"$f":"IF(A241=0,10^8,ABS(1*10^5-ABS(AC241)*10^5))","v":100000000},{"$f":"C241","v":138.13361253908934}]
[{"$f":"IF($AB$10=B242,IF(ABS((ROUND(ABS(V242/100),1))-(ROUND(ABS($G$110/100),1)))=0,1,0),0)","v":0},"CAMPO 4",138.13196784971694,{"$f":"IF(A242=0,0,C242)","v":0},-6.1222755924377923E-4,2.4737088460203508E-4,null,null,2.4667302650163104E-3,4.3291376031552966E-6,null,null,{"$f":"I242/($L$4*ABS($W$4))","v":0.99576462817433498},0.49856841845000355,null,null,-778077.20359371626,null,null,{"$f":"R242+Q242","v":-778077.20359371626},534662.86518603854,-778.07720359371626,0.53466286518603856,null,null,null,19,"CAMPO 4",{"$f":"ABS(T242)/($G$110*1000)","v":3.5367145617896192},100000000,138.13196784971694]
[0,"CAMPO 4",138.13087139013535,0,-6.1222707699309595E-4,2.473679328038967E-4,null,null,2.4667303488457347E-3,4.3291376544779606E-6,null,null,0.99576466201442548,0.49856842954611003,null,null,-778077.23003591178,null,null,-778077.23003591178,534658.73921471112,-778.07723003591173,0.53465873921471108,null,null,null,20,"CAMPO 4",3.536714681981417,100000000,138.13087139013535]
[0,"CAMPO 4",138.13014041708095,0,-6.122267554947811E-4,2.473659649515742E-4,null,null,2.4667304047314596E-3,4.3291376886927045E-6,null,null,0.99576468457426059,0.49856843694344277,null,null,-778077.24766386603,null,null,-778077.24766386603,534655.98859359603,-778.07724766386605,0.53465598859359609,null,null,null,21,"CAMPO 4",3.536714762108482,100000000,138.13014041708095]
[0,"CAMPO 4",138.12965310171134,0,-6.1222654116352263E-4,2.473646530558489E-4,null,null,2.4667304419883607E-3,4.3291377115023734E-6,null,null,0.99576469961405023,0.49856844187496574,null,null,-778077.25941575714,null,null,-778077.25941575714,534654.15485808533,-778.07725941575711,0.53465415485808532,null,null,null,22,"CAMPO 4",3.5367148155261687,100000000,138.12965310171134]
[0,"CAMPO 4",138.12932822479829,0,-6.1222639827643983E-4,2.4736377846128763E-4,null,null,2.4667304668261852E-3,4.3291377267087468E-6,null,null,0.99576470964053243,0.49856844516263377,null,null,-778077.26725031668,null,null,-778077.26725031668,534652.93237290194,-778.07726725031671,0.5346529323729019,null,null,null,23,"CAMPO 4",3.5367148511378033,100000000,138.12932822479829]
[0,"CAMPO 4",138.12911164018956,0,-6.1222630301857248E-4,2.4736319539939589E-4,null,null,2.4667304833846859E-3,4.3291377368462963E-6,null,null,0.9957647163248341,0.49856844735440631,null,null,-778077.27247334085,null,null,-778077.27247334085,534652.11738506239,-778.07727247334083,0.53465211738506235,null,null,null,24,"CAMPO 4",3.5367148748788222,100000000,138.12911164018956]
[0,"CAMPO 4",138.12896725045042,0,-6.1222623951341117E-4,2.4736280669197981E-4,null,null,2.4667304944236642E-3,4.3291377436046494E-6,null,null,0.99576472078102629,0.49856844881558493,null,null,-778077.27595535002,null,null,-778077.27595535002,534651.57406096777,-778.07727595535005,0.53465157406096775,null,null,null,25,"CAMPO 4",3.5367148907061363,100000000,138.12896725045042]
[0,"CAMPO 4",138.12887099062434,0,-6.1222619717667408E-4,2.4736254755393025E-4,null,null,2.4667305017829736E-3,4.3291377481102116E-6,null,null,0.99576472375181724,0.49856844978970294,null,null,-778077.27827668644,null,null,-778077.27827668644,534651.21184529061,-778.07727827668646,0.53465121184529063,null,null,null,26,"CAMPO 4",3.5367149012576657,100000000,138.12887099062434]
[0,"CAMPO 4",{"$f":"IF(ABS(V249)>$G$110,C249-(C249-$C$144)/4,C249+(C249-$C$144)/4)","v":138.1288228607113},0,-6.1222617600831665E-4,2.4736241798497312E-4,null,null,2.4667305054626252E-3,4.3291377503629914E-6,null,null,0.99576472523721149,0.49856845027676133,null,null,-778077.27943735372,null,null,-778077.27943735372,534651.03073768283,-778.0772794373537,0.53465103073768283,null,null,null,27,"CAMPO 4",3.536714906533426,100000000,138.1288228607113]
[0,"CAMPO 4",{"$f":"IF(ABS(V250)>$G$110,C250-(C250-$C$144)/4,C250+(C250-$C$144)/4)","v":138.12878676327651},0,-6.1222616013205345E-4,2.4736232080828542E-4,null,null,2.4667305082223629E-3,4.329137752052574E-6,null,null,0.99576472635125679,0.49856845064205535,null,null,-778077.28030785383,null,null,-778077.28030785383,534650.89490690443,-778.07728030785381,0.53465089490690443,null,null,null,28,"CAMPO 4",3.5367149104902449,100000000,138.12878676327651]
[0,"CAMPO 4",{"$f":"IF(ABS(V251)>$G$110,C251-(C251-$C$144)/4,C251+(C251-$C$144)/4)","v":138.12875969020041},0,-6.1222614822485882E-4,2.4736224792578591E-4,null,null,2.4667305102921656E-3,4.3291377533197615E-6,null,null,0.99576472718679054,0.49856845091602553,null,null,-778077.28096072876,null,null,-778077.28096072876,534650.79303391441,-778.07728096072879,0.53465079303391438,null,null,null,29,"CAMPO 4",3.5367149134578582,100000000,138.12875969020041]
[0,"CAMPO 4",{"$f":"IF(ABS(V252)>$G$110,C252-(C252-$C$144)/4,C252+(C252-$C$144)/4)","v":138.12873938539335},0,-6.1222613929446431E-4,2.4736219326392103E-4,null,null,2.4667305118445167E-3,4.329137754270152E-6,null,null,0.99576472781344039,0.49856845112150316,null,null,-778077.28145038465,null,null,-778077.28145038465,534650.71662920469,-778.07728145038459,0.53465071662920471,null,null,null,30,"CAMPO 4",3.5367149156835667,100000000,138.12873938539335]
[null,null,null,null,null,null,null,null,null,null,null,null,null,null,null,null,null,null,null,null,null,null,null,null,null,null,null,null,{"$f":"MINA(AD113:AD253)","v":72.726147348061204}]
[]
[null,null,null,null,null,null,null,null,null,null,null,null,null,null,null,null,null,null,null,null,null,null,null,null,null,null,null,"y(verifica)",{"$f":"VLOOKUP(AC254,AD113:AE253,2,FALSE)","v":148.37151477674229}]
[null,null,null,null,null,null,null,null,null,null,null,null,null,null,null,null,null,null,null,null,null,null,null,"riduzione secondo CNR formula 4,3"]
[]
[null,null,{"$f":"+B259+1","v":1},2,3,4,5,6,7,8,9,10,11,12,13,14,15,{"$f":"+Q259+1","v":16},17,18,19,20,21,22,null,25]
[null,null,"Y[mm]","εm_inf [-]","εm_sup [-]","εf_inf [-]","εf_sup [-]","A(σ-ε)","Sy(σ-ε)","A(σ-ε)","Sy(σ-ε)","β1","β2","k1","k2","C  [N]","T  [N]","TSUP [N]","Ned  [N]","MRd  [Nmm]","Ned  [kN]","MRd  [kNm]",null,"MRd  [kNm]"]
[null,{"$f":"Z261","v":"CAMPO 2B"},{"$f":"AC256","v":148.37151477674229},{"$f":"VLOOKUP($AC$256,MNFPR!$D$114:$W$253,D259,FALSE)","v":0},{"$f":"VLOOKUP($AC$256,MNFPR!$D$114:$W$253,E259,FALSE)","v":-3.4360535486517552E-3},{"$f":"VLOOKUP($AC$256,MNFPR!$D$114:$W$253,F259,FALSE)","v":7.6800000000000002E-3},{"$f":"VLOOKUP($AC$256,MNFPR!$D$114:$W$253,G259,FALSE)","v":0},{"$f":"VLOOKUP($AC$256,MNFPR!$D$114:$W$253,H259,FALSE)","v":2.2580215871026692E-3},{"$f":"VLOOKUP($AC$256,MNFPR!$D$114:$W$253,I259,FALSE)","v":4.1496784128726611E-6},{"$f":"VLOOKUP($AC$256,MNFPR!$D$114:$W$253,J259,FALSE)","v":0},{"$f":"VLOOKUP($AC$256,MNFPR!$D$114:$W$253,K259,FALSE)","v":0},{"$f":"VLOOKUP($AC$256,MNFPR!$D$114:$W$253,L259,FALSE)","v":0.91151353594635687},{"$f":"VLOOKUP($AC$256,MNFPR!$D$114:$W$253,M259,FALSE)","v":0.46515686152111335},{"$f":"VLOOKUP($AC$256,MNFPR!$D$114:$W$253,N259,FALSE)","v":0},{"$f":"VLOOKUP($AC$256,MNFPR!$D$114:$W$253,O259,FALSE)","v":0},{"$f":"VLOOKUP($AC$256,MNFPR!$D$114:$W$253,P259,FALSE)","v":-220159.99758203299},{"$f":"VLOOKUP($AC$256,MNFPR!$D$114:$W$253,Q259,FALSE)","v":5.7867264000000002E-5},{"$f":"VLOOKUP($AC$256,MNFPR!$D$114:$W$253,R259,FALSE)","v":0},{"$f":"VLOOKUP($AC$256,MNFPR!$D$114:$W$253,S259,FALSE)","v":-220159.99752416572},{"$f":"VLOOKUP($AC$256,MNFPR!$D$114:$W$253,T259,FALSE)","v":37643830.842359863},{"$f":"VLOOKUP($AC$256,MNFPR!$D$114:$W$253,U259,FALSE)","v":-220.15999752416573},{"$f":"VLOOKUP($AC$256,MNFPR!$D$114:$W$253,V259,FALSE)","v":37.643830842359861},null,{"$f":"VLOOKUP(C261,MNFP!C13:W108,20,TRUE)+(1/D10)*(V261-VLOOKUP(C261,MNFP!C13:W108,20,TRUE))","v":28.608909744800862},null,{"$f":"VLOOKUP($AC$256,MNFPR!$D$114:$AB$253,Z259,FALSE)","v":"CAMPO 2B"}]
[]
[]
[]
[null,null,"β1",{"$f":"MNFPR!L261","v":0.91151353594635687}]
[null,null,"β2",{"$f":"MNFPR!M261","v":0.46515686152111335}]
[null,null,"k1",{"$f":"MNFPR!N261","v":0}]
[null,null,"k2",{"$f":"MNFPR!O261","v":0}]
[null,null,"C  [kN]",{"$f":"MNFPR!P261","v":-220159.99758203299}]
[null,null,"T  [kN]",{"$f":"MNFPR!Q261","v":5.7867264000000002E-5}]

{"sheet":"MNP_V","index":12,"n_rows":270,"n_cols":32,"rows_kept":270,"cut":false,"hidden":true,"merged":[[61,0,107,0],[4,5,8,6],[10,7,10,8],[10,9,10,10],[10,25,10,26],[12,0,27,0],[28,0,38,0],[39,0,49,0],[50,0,60,0]]}
[]
[]
[null,null,"t parete=S",{"$f":"INPUT!F39*1000","v":420},"mm"]
[null,null,"B parete=H",{"$f":"INPUT!F38*1000","v":2300},"mm",null,null,null,null,null,"fmd",{"$f":"MATERIALI!K27","v":0.47185185185185174},"N/mm2",null,null,null,null,null,"εmu",{"$f":"MATERIALI!J38","v":-3.5000000000000001E-3},"[‰]"]
[null,null,"facce",{"$f":"10^-9","v":1.0000000000000001E-9},"-","FRCM non operativo sulla muratura non rinforzata",null,null,null,null,"Ed",{"$f":"MATERIALI!J30","v":816.00000000000011},"N/mm2",null,null,null,null,null,"εm1",{"$f":"MATERIALI!J37","v":-5.7824981844589664E-4},"[‰]"]
[null,null,"nf",{"$f":"MNPR!D6","v":1},"-",null,null,null,null,null,"Ef",{"$f":"MNPR!L6","v":52000},"N/mm2"]
[null,null,"tVf",{"$f":"MNPR!D7","v":6.3E-2},"mm",null,null,null,null,null,"ffd",{"$f":"MNPR!L7","v":1.5095808E-8},"N/mm2",null,null,null,null,null,"εfd",{"$f":"MNPR!T7","v":7.6800000000000002E-3},"[‰]"]
[null,null,"a",{"$f":"MNPR!D8","v":1},"-",null,null,null,null,null,"Seq",{"$f":"+D5*D6*D7*D8","v":6.3000000000000002E-11},null,null,null,null,null,null,null,null,null,null,null,null,null,{"$f":"IF(ABS('FOGLIO DEPOSITO'!F305)<AC9,AC9,ABS('FOGLIO DEPOSITO'!F305))","v":220}]
[null,null,"η",{"$f":"MNPR!D9","v":0.9},"-",null,null,null,null,null,"RO",{"$f":"$T$5/$T$4*$D$4","v":379.99273783587489},null,null,null,null,null,null,null,null,null,null,null,null,null,"Ned  [kN]","MRd  [kNm]",null,{"$f":"MINA(AE13:AE108)","v":2.312448574876337E-3}]
[null,null,"γmFRCM",{"$f":"MNPR!D10","v":1.5},"-",null,null,null,null,null,null,null,null,null,null,null,null,null,null,null,null,null,null,null,null,{"$f":"VLOOKUP(AA10,AA13:AB108,2,)","v":217.08197150288402},{"$f":"VLOOKUP(Z8,Z13:AA108,2,TRUE)","v":130.42820782785813},{"$f":"VLOOKUP(Z8,Z13:AF108,7,TRUE)","v":"CAMPO 3"}]
[null,null,null,null,null,null,null,"muratura",null,"FRCM",null,null,null,null,null,null,null,null,null,null,null,null,null,null,null,"COPPIA DI VERIFICA",null,null,"y",{"$f":"AC13","v":-100000000000}]
[null,null,"Y[mm]","εm_inf [-]","εm_sup [-]","εf_inf [-]","εf_sup [-]","A(σ-ε)","Sy(σ-ε)","A(σ-ε)","Sy(σ-ε)","β1","β2","k1","k2","C  [N]","T  [N]","Ned  [N]","MRd  [Nmm]","Ned  [kN]","MRd  [kNm]","-MRd  [kNm]",null,null,null,"Ned  [kN]","MRd  [kNm]",null,-100000000000,-5000]
["CAMPO 1",{"$f":"+B14+1","v":14},-100000000000,null,null,{"$f":"$T$7","v":7.6800000000000002E-3},{"$f":"+$T$7*(ABS(C13)/(ABS(C13)+$D$4))","v":7.6799998233600042E-3},null,null,{"$f":"(G13+F13)/2*$L$7","v":1.1593580410673827E-10},{"$f":"1/6*(2*G13+$T$7)*$L$7","v":5.7967901831158852E-11},null,null,{"$f":"+J13/($T$7*$L$7)","v":0.99999998850000027},{"$f":"+K13/J13","v":0.4999999980833334},0,{"$f":"$L$8*$D$4*$L$6*$T$7*N13","v":5.786726333452648E-5},{"$f":"Q13+P13","v":5.786726333452648E-5},{"$f":"+Q13*($D$4/2-O13*$D$4)","v":2.5509817222928618E-10},{"$f":"+R13/1000","v":5.7867263334526483E-8},{"$f":"+S13/1000000","v":2.5509817222928619E-16},{"$f":"-U13","v":-2.5509817222928619E-16},null,null,null,{"$f":"IF(T13>0,0,ABS(T13))","v":0},{"$f":"IF(T13>0,0,U13)","v":0},{"$f":"Z13","v":0},{"$f":"C13","v":-100000000000},-4615.3846153846152,{"$f":"IF(Z13=0,10^7,Z13)","v":10000000},"CAMPO 1"]
[null,13,-5000,null,null,7.6800000000000002E-3,5.2602739726027399E-3,null,null,{"$f":"(G14+F14)/2*$L$7","v":9.7671945678904108E-11},4.5791996212602736E-11,null,null,0.84246575342465746,{"$f":"+K14/J14","v":0.46883468834688347},0,4.8751188164383558E-5,{"$f":"Q14+P14","v":4.8751188164383558E-5},{"$f":"+Q14*($D$4/2-O14*$D$4)","v":3.4944957369862969E-3},{"$f":"+R14/1000","v":4.8751188164383556E-8},{"$f":"+S14/1000000","v":3.4944957369862968E-9},{"$f":"-U14","v":-3.4944957369862968E-9},null,null,null,{"$f":"IF(T14>0,0,ABS(T14))","v":0},{"$f":"IF(T14>0,0,U14)","v":0},{"$f":"Z14","v":0},{"$f":"C14","v":-5000},-4230.7692307692314,{"$f":"IF(Z14=0,10^7,Z14)","v":10000000},"CAMPO 1"]
[null,12,{"$f":"+$C$14/$B$14*B15","v":-4615.3846153846152},null,null,7.6800000000000002E-3,5.1256952169076754E-3,null,null,9.6656158150478304E-11,4.5114804526985537E-11,null,null,0.83370411568409342,0.46675561485434736,0,4.8244176160177978E-5,4.8244176160177978E-5,3.6888503385984405E-3,{"$f":"+R15/1000","v":4.8244176160177975E-8},{"$f":"+S15/1000000","v":3.6888503385984405E-9},-3.6888503385984405E-9,null,null,null,0,0,{"$f":"Z15","v":0},-4615.3846153846152,-4230.7692307692314,10000000,"CAMPO 1"]
[null,{"$f":"+B18+1","v":11},-4230.7692307692314,null,null,7.6800000000000002E-3,4.975265017667845E-3,null,null,9.5520725447915195E-11,4.4357849391943469E-11,null,null,0.8239104829210836,0.46437931856087689,0,4.7677445427561837E-5,4.7677445427561837E-5,3.9060971194346261E-3,4.7677445427561834E-8,3.9060971194346257E-9,-3.9060971194346257E-9,null,null,null,0,0,0,-4230.7692307692314,-3846.1538461538466,10000000,"CAMPO 1"]
[null,11,-4230.7692307692314,null,null,7.6800000000000002E-3,4.975265017667845E-3,null,null,9.5520725447915195E-11,4.4357849391943469E-11,null,null,0.8239104829210836,0.46437931856087689,0,4.7677445427561837E-5,4.7677445427561837E-5,3.9060971194346261E-3,4.7677445427561834E-8,3.9060971194346257E-9,-3.9060971194346257E-9,null,null,null,0,0,0,-4230.7692307692314,-3461.5384615384619,10000000,"CAMPO 1"]
[null,10,-3846.1538461538466,null,null,7.6800000000000002E-3,4.8060075093867335E-3,null,null,9.424318602413017E-11,4.3506156442753435E-11,null,null,0.81289111389236546,0.46163715678727213,0,4.7039784690863585E-5,4.7039784690863585E-5,4.1505337351689714E-3,4.7039784690863584E-8,4.1505337351689714E-9,-4.1505337351689714E-9,null,null,null,0,0,0,-3846.1538461538466,-3076.9230769230771,10000000,"CAMPO 1"]
[null,9,-3461.5384615384619,null,null,7.6800000000000002E-3,4.6141522029372493E-3,null,null,9.2795080589158883E-11,4.2540752819439246E-11,null,null,0.80040053404539391,0.45843758687795377,0,4.6316989009345796E-5,4.6316989009345796E-5,4.4276054130841253E-3,4.6316989009345795E-8,4.4276054130841253E-9,-4.4276054130841253E-9,null,null,null,0,0,0,-3461.5384615384619,-2692.3076923076924,10000000,"CAMPO 1"]
[null,8,-3076.9230769230771,null,null,7.6800000000000002E-3,4.394849785407726E-3,null,null,9.113980699467812E-11,4.1437237089785404E-11,null,null,0.78612303290414887,0.45465574764937816,0,4.5490789081545073E-5,4.5490789081545073E-5,4.7443153854077325E-3,4.5490789081545075E-8,4.7443153854077322E-9,-4.7443153854077322E-9,null,null,null,0,0,0,-3076.9230769230771,-2307.6923076923076,10000000,"CAMPO 1"]
[null,7,-2692.3076923076924,null,null,7.6800000000000002E-3,4.1417565485362103E-3,null,null,8.9229483539722661E-11,4.0163688119815105E-11,null,null,0.76964560862865961,0.4501167834501168,0,4.4537285620955324E-5,4.4537285620955324E-5,5.1098250453004614E-3,4.4537285620955326E-8,5.1098250453004614E-9,-5.1098250453004614E-9,null,null,null,0,0,0,-2692.3076923076924,-1923.0769230769233,10000000,"CAMPO 1"]
[null,6,-2307.6923076923076,null,null,7.6800000000000002E-3,3.8464106844741234E-3,null,null,8.7000241310984975E-11,3.8677526633989985E-11,null,null,0.75041736227045075,0.44456803856136451,0,4.3424599612687813E-5,4.3424599612687813E-5,5.5363546818030041E-3,4.3424599612687811E-8,5.5363546818030039E-9,-5.5363546818030039E-9,null,null,null,0,0,0,-2307.6923076923076,-1538.4615384615386,10000000,"CAMPO 1"]
[null,5,-1923.0769230769233,null,null,7.6800000000000002E-3,3.4972677595628415E-3,null,null,8.4364944031475403E-11,3.6920661780983603E-11,null,null,0.72768670309653904,0.43763037129745513,0,4.2109238557377045E-5,4.2109238557377045E-5,6.0405764196721327E-3,4.2109238557377047E-8,6.0405764196721325E-9,-6.0405764196721325E-9,null,null,null,0,0,0,-1923.0769230769233,-1153.8461538461538,10000000,"CAMPO 1"]
[null,4,-1538.4615384615386,null,null,7.6800000000000002E-3,3.0781563126252506E-3,null,null,8.1201531064689375E-11,3.481171980312625E-11,null,null,0.70040080160320639,0.42870767763471623,0,4.0530278092184371E-5,4.0530278092184371E-5,6.645844597995997E-3,4.0530278092184371E-8,6.6458445979959967E-9,-6.6458445979959967E-9,null,null,null,0,0,0,-1538.4615384615386,-769.23076923076928,10000000,"CAMPO 1"]
[null,3,-1153.8461538461538,null,null,7.6800000000000002E-3,2.5657015590200448E-3,null,null,7.7333571780133635E-11,3.223308028008909E-11,null,null,0.66703786191536751,0.41680578742348362,0,3.8599656053452118E-5,3.8599656053452118E-5,7.3859163795100199E-3,3.8599656053452118E-8,7.3859163795100196E-9,-7.3859163795100196E-9,null,null,null,0,0,0,-1153.8461538461538,-384.61538461538464,10000000,"CAMPO 1"]
[null,2,-769.23076923076928,null,null,7.6800000000000002E-3,1.9248120300751879E-3,null,null,7.2496199141052626E-11,2.9008165187368421E-11,null,null,0.62531328320802004,0.40013360053440217,0,3.6185168842105261E-5,3.6185168842105261E-5,8.3114698105263111E-3,3.6185168842105264E-8,8.3114698105263117E-9,-8.3114698105263117E-9,null,null,null,0,0,0,-769.23076923076928,0,10000000,"CAMPO 1"]
[null,{"$f":"+B28+1","v":1},-384.61538461538464,null,null,7.6800000000000002E-3,1.1002865329512895E-3,null,null,6.6272759843209167E-11,2.4859205655472779E-11,null,null,0.57163323782234954,0.37510442773600672,0,3.3078851484240684E-5,3.3078851484240684E-5,9.502224797707735E-3,3.3078851484240686E-8,9.5022247977077355E-9,-9.5022247977077355E-9,null,null,null,0,0,0,{"$f":"C27","v":-384.61538461538464},0,10000000,"CAMPO 1"]
[null,0,{"$f":"+$C$14/$B$14*B28","v":0},null,null,7.6800000000000002E-3,0,null,null,5.7967902720000002E-11,1.9322634239999998E-11,null,null,0.5,0.33333333333333331,0,2.8933632000000001E-5,2.8933632000000001E-5,1.1091225600000001E-2,2.8933632000000001E-8,1.1091225600000001E-8,-1.1091225600000001E-8,null,null,null,0,0,0,0,16.104799584227731,10000000,"CAMPO 1"]
["CAMPO 2A",0,{"$f":"+$C$39/$B$39*B29","v":0},null,{"$f":"-$T$7*C29/($D$4-C29)","v":0},7.6800000000000002E-3,null,{"$f":"$L$4/ABS($T$5)*ABS(E29)^2/2","v":0},{"$f":"+$L$4/(ABS($T$5))*ABS(E29)^3/3","v":0},null,null,{"$f":"H29/($L$4*ABS($T$4))","v":0},0,null,null,{"$f":"-$L$4*$D$3*C29*L29","v":0},{"$f":"$L$8*($D$4-C29)*$L$6*F29*0.5","v":2.8933632000000001E-5},2.8933632000000001E-5,{"$f":"-P29*($D$4/2-M29*C29)+Q29*($D$4/6+C29/3)","v":1.1091225599999999E-2},{"$f":"+R29/1000","v":2.8933632000000001E-8},1.1091225599999999E-8,-1.1091225599999999E-8,null,null,null,0,0,0,{"$f":"C29","v":0},32.209599168455462,10000000,"CAMPO 2A"]
[null,{"$f":"+B29+1","v":1},16.104799584227731,null,-5.4155226029790132E-5,7.6800000000000002E-3,null,{"$f":"$L$4/ABS($T$5)*ABS(E30)^2/2","v":1.1965777105857649E-6},{"$f":"+$L$4/(ABS($T$5))*ABS(E30)^3/3","v":4.3200624252653932E-11},null,null,{"$f":"H30/($L$4*ABS($T$4))","v":7.245480642703669E-4},{"$f":"1-I30/H30/ABS(E30)","v":0.33333333333333337},null,null,{"$f":"-$L$4*$D$3*C30*L30","v":-2.3124773059125352},{"$f":"$L$8*($D$4-C30)*$L$6*F30*0.5","v":2.8731036197998351E-5},-2.312448574876337,{"$f":"-P30*($D$4/2-M30*C30)+Q30*($D$4/6+C30/3)","v":2646.9460750808853},{"$f":"+R30/1000","v":-2.312448574876337E-3},{"$f":"+S30/1000000","v":2.6469460750808854E-3},-2.6469460750808854E-3,null,null,null,2.312448574876337E-3,2.6469460750808854E-3,2.312448574876337E-3,16.104799584227731,48.314398752683189,2.312448574876337E-3,"CAMPO 2A"]
[null,{"$f":"+B30+1","v":2},32.209599168455462,null,-1.0907962284478909E-4,7.6800000000000002E-3,null,4.8545325609442666E-6,3.5302038722369914E-10,null,null,2.9395016628278813E-3,{"$f":"1-I31/H31/ABS(E31)","v":0.33333333333333337},null,null,-18.763505752587648,2.8528440395996701E-5,-18.763477224147252,21376.587857912538,{"$f":"+R31/1000","v":-1.8763477224147253E-2},{"$f":"+S31/1000000","v":2.1376587857912539E-2},-2.1376587857912539E-2,null,null,null,1.8763477224147253E-2,2.1376587857912539E-2,1.8763477224147253E-2,32.209599168455462,64.419198336910924,1.8763477224147253E-2,"CAMPO 2A"]
[null,3,48.314398752683189,null,-1.6478969453597871E-4,7.6800000000000002E-3,null,1.107950251750656E-5,1.2171918903136753E-9,null,null,6.7088263730136167E-3,0.33333333333333337,null,null,{"$f":"-$L$4*$D$3*C32*L32","v":-64.23594031346029},2.8325844593995047E-5,-64.235911987615694,72836.835730049119,-6.423591198761569E-2,7.2836835730049121E-2,-7.2836835730049121E-2,null,null,null,6.423591198761569E-2,7.2836835730049121E-2,6.423591198761569E-2,48.314398752683189,80.523997921138658,6.423591198761569E-2,"CAMPO 2A"]
[null,4,64.419198336910924,null,-2.2130242076664387E-4,7.6800000000000002E-3,null,1.9981702666368095E-5,2.9479994474043746E-9,null,null,1.2099259295625447E-2,0.33333333333333337,null,null,-154.46463206087375,2.8123248791993393E-5,-154.46460393762496,174317.50899822009,-0.15446460393762496,0.1743175089982201,-0.1743175089982201,null,null,null,0.15446460393762496,0.1743175089982201,0.15446460393762496,64.419198336910924,96.628797505366379,0.15446460393762496,"CAMPO 2A"]
[null,5,80.523997921138658,null,-2.7863527402643723E-4,7.6800000000000002E-3,null,3.1676147300169417E-5,5.8840613220563298E-9,null,null,1.918044353228469E-2,0.33333333333333337,null,null,-306.08280232182284,2.7920652989991747E-5,-306.08277440116984,343779.56380982121,-0.30608277440116982,0.34377956380982122,-0.34377956380982122,null,null,null,0.30608277440116982,0.34377956380982122,0.30608277440116982,80.523997921138658,112.73359708959411,0.30608277440116982,"CAMPO 2A"]
[null,6,96.628797505366379,null,-3.3680623764212119E-4,7.6800000000000002E-3,null,4.6282884219573539E-5,{"$f":"+$L$4/(ABS($T$5))*ABS(E35)^3/3","v":1.0392242734146976E-8},null,null,2.8025070058947874E-2,0.33333333333333337,null,null,{"$f":"-$L$4*$D$3*C35*L35","v":-536.67113366609851},2.7718057187990093E-5,-536.67110594804137,599885.85313339042,-0.53667110594804135,0.59988585313339038,-0.59988585313339038,null,null,null,0.53667110594804135,0.59988585313339038,0.53667110594804135,96.628797505366379,128.83839667382185,0.53667110594804135,"CAMPO 2A"]
[null,7,112.73359708959411,null,-3.9583382458398568E-4,7.6800000000000002E-3,null,6.3927242007392505E-5,1.6869709799261472E-8,null,null,3.8709027454577216E-2,0.33333333333333337,null,null,-864.80975322124345,2.7515461385988443E-5,-864.80972570578206,962033.52302639757,-0.86480972570578207,0.96203352302639755,-0.96203352302639755,null,null,null,0.86480972570578207,0.96203352302639755,0.86480972570578207,112.73359708959411,144.94319625804957,0.86480972570578207,"CAMPO 2A"]
[null,8,128.83839667382185,null,-4.5573709710925668E-4,7.6800000000000002E-3,null,8.4740091086081405E-5,2.5746135413563159E-8,null,null,5.1311559975873479E-2,0.33333333333333326,null,null,-1310.133296342922,2.7312865583986789E-5,-1310.1332690300565,1450388.1446606703,-1.3101332690300564,1.4503881446606703,-1.4503881446606703,null,null,null,1.3101332690300564,1.4503881446606703,1.3101332690300564,128.83839667382185,161.04799584227732,1.3101332690300564,"CAMPO 2A"]
[null,9,144.94319625804957,null,-5.1653568728627936E-4,7.6800000000000002E-3,null,1.0885811942604607E-4,{"$f":"+$L$4/(ABS($T$5))*ABS(E38)^3/3","v":3.7486069022949724E-8},null,null,6.5915434503324613E-2,0.33333333333333337,null,null,-1893.389252190191,2.7110269781985136E-5,-1893.3892250799213,2085919.6883964445,-1.8933892250799214,2.0859196883964444,-2.0859196883964444,null,null,null,1.8933892250799214,2.0859196883964444,1.8933892250799214,144.94319625804957,161.04799584227732,1.8933892250799214,"CAMPO 2A"]
[null,10,{"$f":"ABS($T$5)*ABS($D$4)/(ABS($T$7)+ABS($T$5))","v":161.04799584227732},null,-5.7824981844589664E-4,7.6800000000000002E-3,null,1.3642412383334669E-4,5.2591483225515491E-8,null,null,8.2607116920842369E-2,0.33333333333333337,null,null,-2636.4998073478969,2.6907673979983489E-5,-2636.4997804402228,2890440.4535385231,-2.6364997804402228,2.8904404535385231,-2.8904404535385231,null,null,null,2.6364997804402228,2.8904404535385231,2.6364997804402228,161.04799584227732,216.94677407558089,2.6364997804402228,"CAMPO 2A"]
["CAMPO 2B",0,{"$f":"+($C$50-$C$39)/$B$50*B40+$C$39","v":161.04799584227732},null,-5.7824981844589664E-4,7.6800000000000002E-3,null,{"$f":"$L$4*(ABS(E40)-ABS($T$5)/2)","v":1.3642412383334669E-4},{"$f":"$I$39+$L$4*(ABS(E40)^2-ABS($T$5)^2)/2","v":5.2591483225515491E-8},null,null,8.2607116920842369E-2,{"$f":"1-I40/H40/ABS(E40)","v":0.33333333333333337},null,null,-2636.4998073478969,2.6907673979983489E-5,-2636.4997804402228,2890440.4535385231,-2.6364997804402228,2.8904404535385231,-2.8904404535385231,null,null,null,2.6364997804402228,2.8904404535385231,2.6364997804402228,{"$f":"C40","v":161.04799584227732},272.84555230888446,2.6364997804402228,"CAMPO 2B"]
[null,{"$f":"+B40+1","v":1},216.94677407558089,null,-7.998601303915579E-4,7.6800000000000002E-3,null,{"$f":"$L$4*(ABS(E41)-ABS($T$5)/2)","v":2.409913599143735E-4},1.2464405740836444E-7,null,null,0.14592434890531703,0.35336969311979083,null,null,-6273.8757736212701,2.6204476293613045E-5,-6273.8757474167942,6733986.6835241141,-6.2738757474167945,6.7339866835241144,-6.7339866835241144,null,null,null,6.2738757474167945,6.7339866835241144,6.2738757474167945,216.94677407558089,328.74433054218804,6.2738757474167945,"CAMPO 2B"]
[null,{"$f":"+B41+1","v":2},272.84555230888446,null,-1.0336922498031212E-3,7.6800000000000002E-3,null,3.5132547848116299E-4,2.2579575026577383E-7,null,null,0.2127335258800494,0.37825134105445424,null,null,-11502.911305965123,2.5501278607242605E-5,-11502.911280463844,12041199.300254909,-11.502911280463845,12.04119930025491,-12.04119930025491,null,null,null,11.502911280463845,12.04119930025491,11.502911280463845,272.84555230888446,384.64310877549161,11.502911280463845,"CAMPO 2B"]
[null,3,328.74433054218804,null,-1.2807858958541034E-3,7.6800000000000002E-3,null,4.6791707295114484E-4,3.6072009894982527E-7,null,null,0.28333171046604422,0.3980992099895041,null,null,-18459.010187590109,2.4798080920872161E-5,-18459.010162792027,18812078.303730894,-18.459010162792026,18.812078303730893,-18.812078303730893,null,null,null,18.459010162792026,18.812078303730893,18.459010162792026,328.74433054218804,440.54188700879519,18.459010162792026,"CAMPO 2B"]
[null,4,384.64310877549161,null,-1.5423021625527E-3,7.6800000000000002E-3,null,5.9131400768226044E-4,5.3490030539153325E-7,null,null,0.35805064380850044,0.41347677867552501,null,null,-27293.382981287948,2.4094883234501721E-5,-27293.382957193066,27046623.693952091,-27.293382957193067,27.046623693952093,-27.046623693952093,null,null,null,27.293382957193067,27.046623693952093,27.293382957193067,384.64310877549161,496.44066524209876,27.293382957193067,"CAMPO 2B"]
[null,5,440.54188700879519,null,-1.8195417625110817E-3,7.6800000000000002E-3,null,7.2213002632928952E-4,7.5479182418630558E-7,null,null,0.43726195808232388,0.42555327765140505,null,null,-38175.42293577794,2.3391685548131277E-5,-38175.422912386253,36744835.470918491,-38.175422912386253,36.744835470918488,-36.744835470918488,null,null,null,38.175422912386253,36.744835470918488,38.175422912386253,440.54188700879519,552.33944347540228,38.175422912386253,"CAMPO 2B"]
[null,6,496.44066524209876,null,-2.1139666633541096E-3,7.6800000000000002E-3,null,8.6105496102337003E-4,1.0280230247772745E-6,null,null,0.52138335832318894,0.4352271199046297,null,null,-51295.523719254146,2.268848786176084E-5,-51295.523696565659,47906713.634630084,-51.29552369656566,47.906713634630087,-47.906713634630087,null,null,null,51.29552369656566,47.906713634630087,51.29552369656566,496.44066524209876,608.23822170870585,51.29552369656566,"CAMPO 2B"]
[null,7,552.33944347540228,null,-2.4272258763604966E-3,7.6800000000000002E-3,null,1.0088669007900875E-3,1.3636442638519552E-6,null,null,0.61088599061072812,0.44312589583321371,null,null,-66868.437902778096,2.1985290175390396E-5,-66868.437880792801,60532258.185086876,-66.868437880792797,60.532258185086874,-60.532258185086874,null,null,null,66.868437880792797,60.532258185086874,66.868437880792797,552.33944347540228,664.13699994200942,66.868437880792797,"CAMPO 2B"]
[null,8,608.23822170870585,null,-2.7611863577157512E-3,7.6800000000000002E-3,null,1.1664467723629002E-3,1.7724389306082278E-6,null,null,0.70630327099794377,0.44968590577135048,null,null,-85137.301264784401,2.1282092489019956E-5,-85137.301243502312,74621469.122288868,-85.137301243502307,74.621469122288872,-74.621469122288872,null,null,null,85.137301243502307,74.621469122288872,85.137301243502307,608.23822170870585,720.03577817531311,85.137301243502307,"CAMPO 2B"]
[null,9,{"$f":"+($C$50-$C$39)/$B$50*B49+$C$39","v":664.13699994200942},null,-3.117970245291824E-3,7.6800000000000002E-3,null,1.3347959104265731E-3,2.2673144039370659E-6,null,null,0.80824152459110743,0.45521528606055861,null,null,-106378.48217826807,{"$f":"$L$8*($D$4-C49)*$L$6*F49*0.5","v":2.0578894802649516E-5},-106378.48215768917,90174346.446236029,-106.37848215768916,90.174346446236029,-90.174346446236029,null,null,null,106.37848215768916,90.174346446236029,106.37848215768916,664.13699994200942,720.03577817531311,106.37848215768916,"CAMPO 2B"]
[null,10,{"$f":"ABS($T$4)*ABS($D$4)/(ABS($T$7)+ABS($T$4))","v":720.03577817531311},null,-3.5000000000000005E-3,7.6800000000000002E-3,null,{"$f":"$L$4*(ABS(E50)-ABS($T$5)/2)","v":1.5150573576481346E-3},2.8637968509798352E-6,null,null,0.91739288307915767,0.4599361749718297,null,null,-130907.46041932897,{"$f":"$L$8*($D$4-C50)*$L$6*F50*0.5","v":1.9875697116279069E-5},-130907.46039945327,107190890.15692846,-130.90746039945327,107.19089015692846,-107.19089015692846,null,null,null,130.90746039945327,107.19089015692846,130.90746039945327,720.03577817531311,878.03220035778179,130.90746039945327,"CAMPO 2B"]
["CAMPO 3",0,{"$f":"+($C$61-$C$50)/$B$61*B51+$C$50","v":720.03577817531311},null,-3.5000000000000005E-3,{"$f":"ABS($T$4)*($D$4-C51)/C51","v":7.6799999999999985E-3},null,{"$f":"$H$50","v":1.5150573576481346E-3},{"$f":"$I$50","v":2.8637968509798352E-6},{"$f":"+$L$7*(F51-F51^2/(2*$T$7))","v":5.7967902720000002E-11},null,0.91739288307915767,0.4599361749718297,{"$f":"+J51/($T$7*$L$7)","v":0.5},0.33300000000000002,-130907.46041932897,{"$f":"$L$8*($D$4-C51)*$L$6*F51*N51","v":1.9875697116279065E-5},-130907.46039945327,107190890.15692846,-130.90746039945327,107.19089015692846,-107.19089015692846,null,null,null,130.90746039945327,107.19089015692846,130.90746039945327,{"$f":"C51","v":720.03577817531311},1036.0286225402506,130.90746039945327,"CAMPO 3"]
[null,{"$f":"+B51+1","v":1},878.03220035778179,null,-3.5000000000000005E-3,5.6682286785379567E-3,null,{"$f":"$H$50","v":1.5150573576481346E-3},{"$f":"$I$50","v":2.8637968509798352E-6},5.3990291120360413E-11,null,0.91739288307915767,0.4599361749718297,0.46569125832572827,0.33300000000000002,-159632.29744848458,{"$f":"$L$8*($D$4-C52)*$L$6*F52*N52","v":1.2296431754692256E-5},-159632.29743618815,119111431.14329229,-159.63229743618814,119.11143114329229,-119.11143114329229,null,null,null,159.63229743618814,119.11143114329229,159.63229743618814,878.03220035778179,1194.025044722719,159.63229743618814,"CAMPO 3"]
[null,{"$f":"+B52+1","v":2},1036.0286225402506,null,-3.5000000000000005E-3,4.2700555996822874E-3,null,1.5150573576481346E-3,2.8637968509798352E-6,4.654017870472992E-11,null,0.91739288307915767,0.4599361749718297,0.40143058935158521,0.33300000000000002,-188357.13447764021,7.0978223542659967E-6,-188357.1344705424,126857203.70023933,-188.35713447054241,126.85720370023932,-126.85720370023932,null,null,null,188.35713447054241,126.85720370023932,188.35713447054241,1036.0286225402506,1352.0214669051879,188.35713447054241,"CAMPO 3"]
[null,3,1194.025044722719,null,-3.5000000000000005E-3,3.2419021364576161E-3,null,1.5150573576481346E-3,2.8637968509798352E-6,3.8609973531138249E-11,null,0.91739288307915767,0.4599361749718297,0.33302889805789965,0.33300000000000002,-217081.97150679579,3.9117492376069592E-6,-217081.97150288403,130428207.82785812,-217.08197150288402,130.42820782785813,-130.42820782785813,null,null,null,217.08197150288402,130.42820782785813,217.08197150288402,1194.025044722719,1510.0178890876564,217.08197150288402,"CAMPO 3"]
[null,4,1352.0214669051879,null,-3.5000000000000005E-3,2.4540474741326836E-3,null,1.5150573576481346E-3,2.8637968509798352E-6,3.1127064889986063E-11,null,0.91739288307915767,0.4599361749718297,0.2684853464540356,0.33300000000000002,-245806.80853595142,2.0461899321705335E-6,-245806.80853390522,129824443.52588943,-245.80680853390521,129.82444352588942,-129.82444352588942,null,null,null,245.80680853390521,129.82444352588942,245.80680853390521,1352.0214669051879,1668.0143112701253,245.80680853390521,"CAMPO 3"]
[null,5,1510.0178890876564,null,-3.5000000000000005E-3,1.8310626702997281E-3,null,1.5150573576481346E-3,2.8637968509798352E-6,2.4346248000890949E-11,null,0.91739288307915767,0.4599361749718297,0.20999766127894637,0.33300000000000002,-274531.645565107,9.9512770350651006E-7,-274531.64556411188,125045910.79409327,-274.5316455641119,125.04591079409326,-125.04591079409326,null,null,null,274.5316455641119,125.04591079409326,274.5316455641119,1510.0178890876564,1826.0107334525937,274.5316455641119,"CAMPO 3"]
[null,6,1668.0143112701253,null,-3.5000000000000005E-3,1.3260976813024173E-3,null,1.5150573576481346E-3,2.8637968509798352E-6,1.829022772886895E-11,null,0.91739288307915767,{"$f":"1-I57/H57/ABS(E57)","v":0.4599361749718297},0.15776168250570916,0.33300000000000002,-303256.48259426269,{"$f":"$L$8*($D$4-C57)*$L$6*F57*N57","v":4.3313989001019049E-7},-303256.48259382957,116092609.6322926,-303.25648259382956,116.09260963229259,-116.09260963229259,null,null,null,303.25648259382956,116.09260963229259,303.25648259382956,1668.0143112701253,1984.0071556350626,303.25648259382956,"CAMPO 3"]
[null,7,1826.0107334525937,null,-3.5000000000000005E-3,9.0851735015772916E-4,null,1.5150573576481346E-3,2.8637968509798352E-6,1.2903596652051473E-11,null,0.91739288307915767,0.4599361749718297,0.1112994954671656,0.33300000000000002,-331981.31962341821,1.5701416048817468E-7,-331981.31962326122,102964540.04036315,-331.98131962326124,102.96454004036315,-102.96454004036315,null,null,null,331.98131962326124,102.96454004036315,331.98131962326124,1826.0107334525937,2142.0035778175311,331.98131962326124,"CAMPO 3"]
[null,8,1984.0071556350626,null,-3.5000000000000005E-3,5.5744504355039403E-4,null,1.5150573576481346E-3,2.8637968509798352E-6,8.1096831850066434E-12,null,0.91739288307915767,0.4599361749718297,6.9949772240152586E-2,0.33300000000000002,-360706.1566525739,4.0365422666054955E-8,-360706.15665253357,85661702.018218011,-360.70615665253359,85.661702018218008,-85.661702018218008,null,null,null,360.70615665253359,85.661702018218008,360.70615665253359,1984.0071556350626,2300,360.70615665253359,"CAMPO 3"]
[null,9,{"$f":"+($C$61-$C$50)/$B$61*B60+$C$50","v":2142.0035778175311},null,-3.5000000000000005E-3,2.5816365731847905E-4,null,1.5150573576481346E-3,2.8637968509798352E-6,3.8316868832496144E-12,null,0.91739288307915767,0.4599361749718297,3.3050073432513642E-2,0.33300000000000002,-389430.99368172942,4.4163011376373148E-9,-389430.993681725,64184095.565795995,-389.430993681725,64.184095565796,-64.184095565796,null,null,null,389.430993681725,64.184095565796,389.430993681725,2142.0035778175311,2300,389.430993681725,"CAMPO 3"]
[null,10,{"$f":"D4","v":2300},null,-3.5000000000000005E-3,0,null,1.5150573576481346E-3,2.8637968509798352E-6,0,null,0.91739288307915767,0.4599361749718297,0,0.33300000000000002,-418155.83071088511,0,-418155.83071088511,38531720.68305327,-418.15583071088514,38.531720683053273,-38.531720683053273,null,null,null,418.15583071088514,38.531720683053273,418.15583071088514,2300,2402.2222222222222,418.15583071088514,"CAMPO 3"]
["CAMPO 4",0,{"$f":"+($C$107-$C$61)/$B$107*B62+$C$61","v":2300},{"$f":"-(ABS($T$5)-ABS($T$5)*$L$9/(C62-($D$4-$L$9)))","v":2.1684043449710089E-19},{"$f":"-(ABS($T$4)-($D$4-$L$9)*ABS(D62)/$L$9)","v":-3.4999999999999988E-3},null,null,{"$f":"$H$61-$L$4/ABS($T$5)*D62^2/2+$L$4*ABS(D62)","v":1.5150573576481346E-3},{"$f":"+$I$61-$L$4/ABS($T$5)*ABS(D62)^3/3+$L$4*(ABS(D62)^2)/2","v":2.8637968509798352E-6},null,null,0.91739288307915767,{"$f":"1-I62/H62/ABS($T$4)","v":0.45993617497182959},null,null,{"$f":"-$L$4*$D$3*$D$4*L62","v":-418155.83071088511},null,-418155.83071088511,{"$f":"-P62*($D$4/2-M62*$D$4)","v":38531720.683053359},-418.15583071088514,38.531720683053358,-38.531720683053358,null,null,null,418.15583071088514,38.531720683053358,418.15583071088514,{"$f":"C62","v":2300},2504.4444444444443,418.15583071088514,"CAMPO 4"]
[null,{"$f":"+B62+1","v":1},{"$f":"+($C$107-$C$61)/$B$107*B63+$C$61","v":2402.2222222222222},{"$f":"-(ABS($T$5)-ABS($T$5)*$L$9/(C63-($D$4-$L$9)))","v":-1.225801485586728E-4},{"$f":"-(ABS($T$4)-($D$4-$L$9)*ABS(D63)/$L$9)","v":-2.8806334911288156E-3},null,null,{"$f":"$H$61-$L$4/ABS($T$5)*D63^2/2+$L$4*ABS(D63)","v":1.5667664634749876E-3},{"$f":"+$I$61-$L$4/ABS($T$5)*ABS(D63)^3/3+$L$4*(ABS(D63)^2)/2","v":2.8668408583370365E-6},null,null,0.94870362219835547,{"$f":"1-I63/H63/ABS($T$4)","v":0.47720518201570983},null,null,{"$f":"-$L$4*$D$3*$D$4*L63","v":-432427.54391909653},null,-432427.54391909653,{"$f":"-P63*($D$4/2-M63*$D$4)","v":22671346.456567768},-432.42754391909654,22.671346456567768,-22.671346456567768,null,null,null,432.42754391909654,22.671346456567768,432.42754391909654,2402.2222222222222,2606.6666666666665,432.42754391909654,"CAMPO 4"]
[null,{"$f":"+B63+1","v":2},{"$f":"+($C$107-$C$61)/$B$107*B64+$C$61","v":2504.4444444444443},-2.0228001651265425E-4,-2.4779302022800167E-3,null,null,{"$f":"$H$61-$L$4/ABS($T$5)*D64^2/2+$L$4*ABS(D64)","v":1.593809338359467E-3},{"$f":"+$I$61-$L$4/ABS($T$5)*ABS(D64)^3/3+$L$4*(ABS(D64)^2)/2","v":2.8711990091206686E-6},null,null,0.96507854083215106,0.48529441113774108,null,null,-439891.37738721282,null,-439891.37738721282,14878382.001791038,-439.8913773872128,14.878382001791037,-14.878382001791037,null,null,null,439.8913773872128,14.878382001791037,439.8913773872128,2504.4444444444443,2708.8888888888887,439.8913773872128,"CAMPO 4"]
[null,3,2606.6666666666665,-2.5825022297899927E-4,-2.1951268953214953E-3,null,null,1.6097023871130983E-3,2.8748467010571454E-6,null,null,0.97470205095433193,0.48972879812664272,null,null,-444277.8588432151,null,-444277.8588432151,10495515.424895676,-444.27785884321509,10.495515424895675,-10.495515424895675,null,null,null,444.27785884321509,10.495515424895675,444.27785884321509,2606.6666666666665,2811.1111111111113,444.27785884321509,"CAMPO 4"]
[null,4,2708.8888888888887,-2.9971534100265823E-4,-1.9856141341426116E-3,null,null,1.6198282477906537E-3,2.8776667938946219E-6,null,null,0.98083343104614618,0.49242117881155745,null,null,-447072.59639022039,null,-447072.59639022039,7793051.5124767311,-447.07259639022038,7.7930515124767314,-7.7930515124767314,null,null,null,447.07259639022038,7.7930515124767314,447.07259639022038,2708.8888888888887,2913.3333333333335,447.07259639022038,"CAMPO 4"]
[null,5,2811.1111111111113,-3.3166718733729038E-4,-1.8241695303550965E-3,null,null,1.6266738599439886E-3,2.8798256756693043E-6,null,null,0.98497856511522086,0.49417805488443312,null,null,-448961.98534454079,null,-448961.98534454079,6011813.6865992593,-448.96198534454078,6.0118136865992593,-6.0118136865992593,null,null,null,448.96198534454078,6.0118136865992593,448.96198534454078,2811.1111111111113,3015.5555555555557,448.96198534454078,"CAMPO 4"]
[null,6,2913.3333333333335,-3.5704276666106153E-4,-1.6959531416400418E-3,null,null,1.631516997099671E-3,2.8814923229437816E-6,null,null,0.98791116666721512,0.49538771443716367,null,null,-450298.69119950914,null,-450298.69119950914,4776884.1504822951,-450.29869119950911,4.776884150482295,-4.776884150482295,null,null,null,450.29869119950911,4.776884150482295,450.29869119950911,2913.3333333333335,3117.7777777777778,450.29869119950911,"CAMPO 4"]
[null,7,3015.5555555555557,-3.7768291236807769E-4,-1.5916637021226128E-3,null,null,1.6350688312855208E-3,2.8827965369101237E-6,null,null,0.99006186240657257,0.49625597550207168,null,null,-451278.99743480369,null,-451278.99743480369,3886079.1301318477,-451.27899743480367,3.8860791301318476,-3.8860791301318476,null,null,null,451.27899743480367,3.8860791301318476,451.27899743480367,3015.5555555555557,3220,451.27899743480367,"CAMPO 4"]
[null,8,3117.7777777777778,-3.9480004338462006E-4,-1.5051751654038634E-3,null,null,1.6377507229337078E-3,2.8838320536665585E-6,null,null,0.99168579320946659,0.49690022798014422,null,null,-452019.1995297033,null,-452019.1995297033,3222659.8744214578,-452.01919952970331,3.2226598744214576,-3.2226598744214576,null,null,null,452.01919952970331,3.2226598744214576,452.01919952970331,3117.7777777777778,3322.2222222222222,452.01919952970331,"CAMPO 4"]
[null,9,3220,-4.092252344854168E-4,-1.4322883206989586E-3,null,null,1.6398252030084119E-3,2.8846658167614112E-6,null,null,0.99294192601989517,0.49739140985981334,null,null,-452591.75603032159,null,-452591.75603032159,2715440.7023140718,-452.59175603032156,2.7154407023140719,-2.7154407023140719,null,null,null,452.59175603032156,2.7154407023140719,452.59175603032156,3220,3424.4444444444443,452.59175603032156,"CAMPO 4"]
[null,10,3322.2222222222222,-4.2154721725895029E-4,-1.3700284560915882E-3,null,null,1.6414627537522293E-3,2.8853459055659325E-6,null,null,0.9939334907223637,0.49777444382277702,null,null,-453043.7200356152,null,-453043.7200356152,2319030.7742578438,-453.04372003561519,2.3190307742578438,-2.3190307742578438,null,null,null,453.04372003561519,2.3190307742578438,453.04372003561519,3322.2222222222222,3526.666666666667,453.04372003561519,"CAMPO 4"]
[null,11,3424.4444444444443,-4.3219471275427737E-4,-1.3162293524789357E-3,null,null,1.6427779871708566E-3,2.8859072584419124E-6,null,null,0.9947298868269373,0.49807890206551264,null,null,-453406.72445915634,null,-453406.72445915634,2003389.0602346957,-453.40672445915635,2.0033890602346958,-2.0033890602346958,null,null,null,453.40672445915635,2.0033890602346958,453.40672445915635,3424.4444444444443,3628.8888888888887,453.40672445915635,"CAMPO 4"]
[null,12,3526.666666666667,-4.4148733409571324E-4,-1.2692760855251748E-3,null,null,1.6438502588142225E-3,2.8863756161177995E-6,null,null,0.99537916546274985,0.49832489727068963,null,null,-453702.67143272539,null,-453702.67143272539,1747996.7413884585,-453.70267143272537,1.7479967413884585,-1.7479967413884585,null,null,null,453.70267143272537,1.7479967413884585,453.70267143272537,3526.666666666667,3731.1111111111113,453.70267143272537,"CAMPO 4"]
[null,13,3628.8888888888887,-4.4966821968092598E-4,-1.2279401383594513E-3,null,null,1.6447359246447714E-3,2.8867702118981981E-6,null,null,0.99591545111928315,0.49852649488889311,null,null,-453947.11520195688,null,-453947.11520195688,1538454.8071712744,-453.94711520195688,1.5384548071712745,-1.5384548071712745,null,null,null,453.94711520195688,1.5384548071712745,453.94711520195688,3628.8888888888887,{"$f":"AC77","v":3833.3333333333335},453.94711520195688,"CAMPO 4"]
[null,14,3731.1111111111113,-4.5692561509217403E-4,-1.1912703536331674E-3,null,null,1.6454759000551599E-3,2.8871056144779766E-6,null,null,0.99636351875957219,0.49869377096642553,null,null,-454151.34841522406,null,-454151.34841522406,1364419.0569549701,-454.15134841522405,1.3644190569549701,-1.3644190569549701,null,null,null,454.15134841522405,1.3644190569549701,454.15134841522405,3731.1111111111113,3935.5555555555557,454.15134841522405,"CAMPO 4"]
[null,15,3833.3333333333335,-4.6340753673796E-4,-1.1585188418448992E-3,null,null,1.6461004716169841E-3,2.8873930029158797E-6,null,null,0.99674170741553214,0.4988340969283851,null,null,-454323.73016628757,null,-454323.73016628757,1218304.0947693412,-454.32373016628759,1.2183040947693411,-1.2183040947693411,null,null,null,454.32373016628759,1.2183040947693411,454.32373016628759,3833.3333333333335,4037.7777777777778,454.32373016628759,"CAMPO 4"]
[null,16,3935.5555555555557,-4.6923197333406983E-4,-1.1290894358351052E-3,null,null,1.6466324461359282E-3,2.8876410597072179E-6,null,null,0.99706382699417062,0.49895296627394137,null,null,-454470.55513351614,null,{"$f":"Q78+P78","v":-454470.55513351614},1094445.7970683859,-454.47055513351614,1.0944457970683859,{"$f":"-U78","v":-1.0944457970683859},null,null,null,{"$f":"IF(T78>0,0,ABS(T78))","v":454.47055513351614},{"$f":"IF(T78>0,0,U78)","v":1.0944457970683859},454.47055513351614,{"$f":"C78","v":3935.5555555555557},4140,{"$f":"IF(Z78=0,10^7,Z78)","v":454.47055513351614},"CAMPO 4"]
[null,17,4037.7777777777778,-4.7449413290567941E-4,-1.1025010735161368E-3,null,null,1.6470892626304578E-3,2.8878566046247012E-6,null,null,0.99734043711644693,0.49905454078553513,null,null,-454596.63648600632,null,-454596.63648600632,988545.93130997149,-454.59663648600633,0.98854593130997148,-0.98854593130997148,null,null,null,454.59663648600633,0.98854593130997148,{"$f":"Z79","v":454.59663648600633},4037.7777777777778,4242.2222222222226,454.59663648600633,"CAMPO 4"]
[null,18,4140,-4.7927168760815572E-4,-1.0783612971183502E-3,null,null,1.6474844399647552E-3,2.8880450505266964E-6,null,null,0.99757972368352543,0.49914201997588159,null,null,-454705.70543027238,null,-454705.70543027238,897295.3478572336,-454.70570543027236,0.89729534785723364,-0.89729534785723364,null,null,null,454.70570543027236,0.89729534785723364,454.70570543027236,4140,4344.4444444444443,454.70570543027236,"CAMPO 4"]
[null,19,4242.2222222222226,-4.8362863330855837E-4,-1.0563467517002716E-3,null,null,1.6478285886613491E-3,2.8882107353477627E-6,null,null,0.99778811154645508,0.49921789625425161,null,null,-454800.69047053228,null,-454800.69047053228,818113.04424768384,-454.80069047053229,0.81811304424768383,-0.81811304424768383,null,null,null,454.80069047053229,0.81811304424768383,454.80069047053229,4242.2222222222226,4446.666666666667,454.80069047053229,"CAMPO 4"]
[null,20,4344.4444444444443,-4.8761817277146228E-4,-1.0361886171393574E-3,null,null,1.6481301306408374E-3,2.8883571668720556E-6,null,null,0.99797070032075841,0.49928413449991971,null,null,-454883.91605687106,null,-454883.91605687106,748962.11470702186,-454.88391605687104,0.7489621147070219,-0.7489621147070219,null,null,null,454.88391605687104,0.7489621147070219,454.88391605687104,4344.4444444444443,4548.8888888888887,454.88391605687104,"CAMPO 4"]
[null,21,4446.666666666667,-4.9128489896652766E-4,-1.0176615764306641E-3,null,null,1.6483958194156996E-3,2.8884872052986634E-6,null,null,0.99813157937259245,0.4993423005954386,null,null,-454957.24615873303,null,-454957.24615873303,688217.75276885252,-454.95724615873303,0.68821775276885255,-0.68821775276885255,null,null,null,454.95724615873303,0.68821775276885255,454.95724615873303,4446.666666666667,4651.1111111111113,454.95724615873303,"CAMPO 4"]
[null,22,4548.8888888888887,-4.9466646899774781E-4,-1.000575357745444E-3,null,null,1.648631121549053E-3,2.8886032008993511E-6,null,null,0.99827405879848485,0.49939365485137044,null,null,-455022.18954753858,null,-455022.18954753858,634571.14344721963,-455.02218954753857,0.63457114344721965,-0.63457114344721965,null,null,null,455.02218954753857,0.63457114344721965,455.02218954753857,4548.8888888888887,4753.3333333333339,455.02218954753857,"CAMPO 4"]
[null,23,4651.1111111111113,-4.9779490211268064E-4,-9.8476817591856359E-4,null,null,1.64884050010811E-3,2.8887070988832098E-6,null,null,0.99840084106120153,0.49943922087000703,null,null,-455079.9780298383,null,-455079.9780298383,586958.51456065488,-455.07997802983829,0.58695851456065484,-0.58695851456065484,null,null,null,455.07997802983829,0.58695851456065484,455.07997802983829,4651.1111111111113,4855.5555555555557,455.07997802983829,"CAMPO 4"]
[null,24,4753.3333333333339,-5.0069759673013799E-4,-9.7010159366464144E-4,null,null,1.6490276278675171E-3,2.8888005200521772E-6,null,null,0.99851415008797861,0.49947983695996923,null,null,-455131.62529143464,null,-455131.62529143464,544508.09459920449,-455.13162529143466,0.54450809459920446,-0.54450809459920446,null,null,null,455.13162529143466,0.54450809459920446,455.13162529143466,4753.3333333333339,4957.7777777777774,455.13162529143466,"CAMPO 4"]
[null,25,4855.5555555555557,-5.033981349770822E-4,-9.5645645645645559E-4,null,null,1.6491955494780902E-3,2.8888848233991521E-6,null,null,0.99861582946643734,0.49951619497788691,null,null,-455177.9716559528,null,-455177.9716559528,506499.99387753394,-455.17797165595277,0.50649999387753397,-0.50649999387753397,null,null,null,455.17797165595277,0.50649999387753397,455.17797165595277,4855.5555555555557,5060,455.17797165595277,"CAMPO 4"]
[null,26,4957.7777777777774,-5.0591692478754648E-4,-9.437296481613843E-4,null,null,1.6493468060994453E-3,2.8889611551054255E-6,null,null,0.99870741791175222,0.49954886999217507,null,null,-455219.71848344686,null,-455219.71848344686,472335.5328714358,-455.21971848344685,0.47233553287143581,-0.47233553287143581,null,null,null,455.21971848344685,0.47233553287143581,455.21971848344685,4957.7777777777774,5162.2222222222226,455.21971848344685,"CAMPO 4"]
[null,27,5060,-5.0827171658066896E-4,-9.3183148039789306E-4,null,null,1.649483532107292E-3,2.8890304871995893E-6,null,null,0.99879020782455463,0.49957834316630556,null,null,-455257.45486161252,null,-455257.45486161252,441513.55894530745,-455.25745486161253,0.44151355894530747,-0.44151355894530747,null,null,null,455.25745486161253,0.44151355894530747,455.25745486161253,5060,5264.4444444444453,455.25745486161253,"CAMPO 4"]
[null,28,5162.2222222222226,-5.1047802219818066E-4,-9.2068357575029016E-4,null,null,1.6496075308038915E-3,2.8890936482891667E-6,null,null,0.99886529113489742,0.49960501957677428,null,null,-455291.67850187398,null,-455291.67850187398,413611.98969136254,-455.291678501874,0.41361198969136254,-0.41361198969136254,null,null,null,455.291678501874,0.41361198969136254,455.291678501874,5162.2222222222226,5366.666666666667,455.291678501874,"CAMPO 4"]
[null,29,5264.4444444444453,-5.125494570133234E-4,-9.1021713917883258E-4,null,null,1.6497203341845942E-3,2.8891513481638724E-6,null,null,0.99893359549190519,0.49962924220782456,null,null,-455322.81223494798,null,-455322.81223494798,388273.30536006775,-455.322812234948,0.38827330536006777,-0.38827330536006777,null,null,null,455.322812234948,0.38827330536006777,455.322812234948,5264.4444444444453,5468.8888888888887,455.322812234948,"CAMPO 4"]
[null,30,5366.666666666667,-5.1449802116145687E-4,-9.0037153703254914E-4,null,null,1.649823250485427E-3,2.8892041976243909E-6,null,null,0.99899591305464308,0.49965130303256056,null,null,-455351.2171339778,null,-455351.2171339778,365193.05362929276,-455.3512171339778,0.36519305362929277,-0.36519305362929277,null,null,null,455.3512171339778,0.36519305362929277,455.3512171339778,5366.666666666667,5571.1111111111113,455.3512171339778,"CAMPO 4"]
[null,31,5468.8888888888887,-5.1633433216715546E-4,-8.91093121643316E-4,null,null,1.6499174022854991E-3,2.8892527245641464E-6,null,null,0.99905292356376951,0.49967145185365125,null,null,-455377.20303079771,null,-455377.20303079771,344110.67267404165,-455.37720303079772,0.34411067267404166,-0.34411067267404166,null,null,null,455.37720303079772,0.34411067267404166,455.37720303079772,5468.8888888888887,5673.3333333333339,455.37720303079772,"CAMPO 4"]
[null,32,{"$f":"+($C$107-$C$61)/$B$107*B94+$C$61","v":5571.1111111111113},-5.1806781849327238E-4,-8.8233425337135366E-4,null,null,1.650003757249216E-3,2.889297387090023E-6,null,null,{"$f":"H94/($L$4*ABS($T$4))","v":0.99910521295646648},0.49968990340675168,null,null,-455401.03700078354,null,-455401.03700078354,324802.11331206531,-455.40103700078356,0.32480211331206532,-0.32480211331206532,null,null,null,455.40103700078356,0.32480211331206532,455.40103700078356,5571.1111111111113,5775.5555555555557,455.40103700078356,"CAMPO 4"]
[null,33,5673.3333333333339,-5.1970688146203237E-4,-8.7405248245887206E-4,null,null,1.6500831530894371E-3,2.8893385842877242E-6,null,null,0.99915328848205442,0.49970684310613778,null,null,-455422.95025268459,null,-455422.95025268459,307073.86822621629,-455.42295025268459,0.3070738682262163,-0.3070738682262163,null,null,null,455.42295025268459,0.3070738682262163,455.42295025268459,5673.3333333333339,5877.7777777777774,455.42295025268459,"CAMPO 4"]
[null,34,5775.5555555555557,-5.2125903141802274E-4,-8.6620986103288968E-4,null,null,1.6501563179606104E-3,2.8893766651019016E-6,null,null,0.99919759105038097,0.49972243172127129,null,null,-455443.14375712839,null,-455443.14375712839,290758.10978438833,-455.44314375712838,0.29075810978438832,-0.29075810978438832,null,null,null,455.44314375712838,0.29075810978438832,455.44314375712838,5775.5555555555557,5980,455.44314375712838,"CAMPO 4"]
[null,35,5877.7777777777774,-5.2273100279008676E-4,-8.5877236172657084E-4,null,null,1.6502238872136172E-3,2.8894119356984066E-6,null,null,0.99923850537716241,0.49973680920573349,null,null,-455461.79287095828,null,-455461.79287095828,275708.70735468221,-455.46179287095828,0.27570870735468223,-0.27570870735468223,null,null,null,455.46179287095828,0.27570870735468223,455.46179287095828,5877.7777777777774,6082.2222222222226,455.46179287095828,"CAMPO 4"]
[null,36,5980,-5.2412885177109453E-4,-8.5170938412802797E-4,null,null,1.6502864172356847E-3,2.8894446655975775E-6,null,null,0.99927636836428557,0.49975009784967306,null,null,-455479.0511570489,null,-455479.0511570489,261797.94691990572,-455.4790511570489,0.26179794691990571,-0.26179794691990571,null,null,null,455.4790511570489,0.26179794691990571,455.4790511570489,5980,6184.4444444444453,455.4790511570489,"CAMPO 4"]
[null,37,6082.2222222222226,-5.2545803960387196E-4,-8.4499333395757735E-4,null,null,1.6503443969408528E-3,2.8894750928071461E-6,null,null,0.99931147605747994,0.49976240488899548,null,null,-455495.05355567532,null,-455495.05355567532,248913.81496658796,-455.49505355567533,0.24891381496658796,-0.24891381496658796,null,null,null,455.49505355567533,0.24891381496658796,455.49505355567533,6082.2222222222226,6286.666666666667,455.49505355567533,"CAMPO 4"]
[null,38,6184.4444444444453,-5.2672350388851879E-4,-8.3859926276987811E-4,null,null,1.650398257356E-3,2.8895034281367143E-6,null,null,0.99934408945081876,0.49977382467571241,null,null,-455509.91903025599,null,-455509.91903025599,236957.73840163305,-455.50991903025601,0.23695773840163303,-0.23695773840163303,null,null,null,455.50991903025601,0.23695773840163303,455.50991903025601,6184.4444444444453,6388.8888888888887,455.50991903025601,"CAMPO 4"]
[null,{"$f":"+B100+1","v":39},6286.666666666667,-5.2792971987402596E-4,-8.3250455826288684E-4,null,null,1.650448379654806E-3,2.889529858839384E-6,null,null,0.9993744393514189,0.49978444049182147,null,null,-455523.75278472638,null,-455523.75278472638,225842.69506203104,-455.52375278472641,0.22584269506203103,-0.22584269506203103,null,null,null,455.52375278472641,0.22584269506203103,455.52375278472641,6286.666666666667,6491.1111111111113,455.52375278472641,"CAMPO 4"]
[null,{"$f":"+B101+1","v":40},6388.8888888888887,-5.2908075333790131E-4,-8.2668867709047083E-4,null,null,1.6504951019203349E-3,2.8895545516976835E-6,null,null,0.99940273047430028,0.4997943260720954,null,null,-455536.64813001239,null,-455536.64813001239,215491.62696845812,-455.5366481300124,0.21549162696845811,-0.21549162696845811,null,null,null,455.5366481300124,0.21549162696845811,455.5366481300124,6388.8888888888887,6593.3333333333339,455.5366481300124,"CAMPO 4"]
[null,41,6491.1111111111113,-5.3018030637060835E-4,-8.2113291352520993E-4,null,null,1.6505387248610896E-3,2.8895776556485115E-6,null,null,0.99942914490355295,0.49980354688796702,null,null,-455548.68806166068,null,-455548.68806166068,205836.10214018603,-455.5486880616607,0.20583610214018602,-0.20583610214018602,null,null,null,455.5486880616607,0.20583610214018602,455.5486880616607,6491.1111111111113,6695.5555555555557,455.5486880616607,"CAMPO 4"]
[null,42,6593.3333333333339,-5.3123175715119651E-4,-8.1582019848219474E-4,null,null,1.6505795166616131E-3,2.8895993040240505E-6,null,null,0.99945384502945867,0.49981216123440741,null,null,-455559.94659860519,null,-455559.94659860519,196815.18145171538,-455.55994659860522,0.19681518145171539,-0.19681518145171539,null,null,null,455.55994659860522,0.19681518145171539,455.55994659860522,6593.3333333333339,6797.7777777777783,455.55994659860522,"CAMPO 4"]
[null,43,6695.5555555555557,-5.3223819461446667E-4,-8.1073492435459419E-4,null,null,1.6506177171142185E-3,2.8896196164714732E-6,null,null,0.99947697605032315,0.49982022115360258,null,null,-455570.48992352426,null,-455570.48992352426,188374.45540161387,-455.57048992352424,0.18837445540161388,-0.18837445540161388,null,null,null,455.57048992352424,0.18837445540161388,455.57048992352424,6695.5555555555557,6900,455.57048992352424,"CAMPO 4"]
[null,44,6797.7777777777783,-5.3320244875906949E-4,-8.0586279187450224E-4,null,null,1.6506535411510751E-3,2.8896387006029465E-6,null,null,0.99949866811121402,0.49982777322284622,null,null,-455580.37735769665,null,-455580.37735769665,180465.22229171515,-455.58037735769665,0.18046522229171516,-0.18046522229171516,null,null,null,455.58037735769665,0.18046522229171516,455.58037735769665,6797.7777777777783,100000000000,455.58037735769665,"CAMPO 4"]
[null,45,{"$f":"C61*3","v":6900},-5.3412711722287422E-4,-8.0119067583431063E-4,null,null,1.650687181874089E-3,2.8896566534183325E-6,null,null,0.99951903813860532,0.49983485922899207,null,null,-455589.66219724854,null,-455589.66219724854,173043.78458057836,-455.58966219724857,0.17304378458057837,-0.17304378458057837,null,null,null,455.58966219724857,0.17304378458057837,455.58966219724857,6900,100000000000,455.58966219724857,"CAMPO 4"]
[null,46,100000000000,-5.7824981624858931E-4,-5.782498295483344E-4,null,null,1.6514814814814814E-3,{"$f":"+L4*ABS($T$4)^2/2","v":2.8900925925925922E-6},null,null,1.0000000000000002,0.5,null,null,-455808.88888888888,null,-455808.88888888888,0,-455.80888888888887,0,0,null,null,null,455.80888888888887,0,455.80888888888887,100000000000,null,455.80888888888887,"CAMPO 4"]
[]
[null,null,"Calcolo Mrd",null,null,"Ned",{"$f":"Z8","v":220}]
[]
["check",null,"Y[mm]","Y[mm]checked","εm_inf [-]","εm_sup [-]","εf_inf [-]","εf_sup [-]","A(σ-ε)","Sy(σ-ε)","A(σ-ε)","Sy(σ-ε)","β1","β2","k1","k2","C  [N]","T  [N]","Ned  [N]","MRd  [Nmm]","Ned  [kN]","MRd  [kNm]",null,null,null,null,"Y"]
[null,"CAMPO 1",{"$f":"VLOOKUP($Z$10,$Z$13:$AC$108,4,FALSE)","v":1194.025044722719},{"$f":"IF(A113=0,0,C113)","v":0},null,null,null,null,null,null,{"$f":"(H113+G113)/2*$L$7","v":0},{"$f":"1/6*(2*H113+$T$7)*$L$7","v":1.9322634239999998E-11},null,null,{"$f":"+K113/($T$7*$L$7)","v":0},{"$f":"+L113/K113","v":{"$error":"#DIV/0!"}},0,{"$f":"$L$8*$D$4*$L$6*$T$7*O113","v":0},{"$f":"R113+Q113","v":0},{"$f":"+R113*($D$4/2-P113*$D$4)","v":{"$error":"#DIV/0!"}},{"$f":"+S113/1000","v":0},{"$f":"+T113/1000000","v":{"$error":"#DIV/0!"}},1,{"$f":"B113","v":"CAMPO 1"},{"$f":"ABS(S113)/($G$110*1000)","v":0},{"$f":"IF(A113=0,10^8,ABS(1*10^5-ABS(Y113)*10^5))","v":100000000},{"$f":"C113","v":1194.025044722719}]
[{"$f":"IF($AB$10=B114,IF(ABS((ROUND(ABS(U114/100),1))-(ROUND(ABS($G$110/100),1)))=0,1,0),0)","v":0},"CAMPO 2A",{"$f":"VLOOKUP($Z$10,$Z$13:$AC$108,4,FALSE)","v":1194.025044722719},{"$f":"IF(A114=0,0,C114)","v":0},null,{"$f":"-$T$7*C114/($D$4-C114)","v":-8.2914285714285694E-3},null,null,{"$f":"$L$4/ABS($T$5)*ABS(F114)^2/2","v":2.8049097404081621E-2},{"$f":"+$L$4/(ABS($T$5))*ABS(F114)^3/3","v":1.5504472507932353E-4},null,null,{"$f":"I114/($L$4*ABS($T$4))","v":16.984203406822246},{"$f":"1-J114/I114/ABS(F114)","v":0.33333333333333326},null,null,{"$f":"-$L$4*$D$3*C114*M114","v":-4018958.9738808549},{"$f":"$L$8*($D$4-C114)*$L$6*G114*0.5","v":0},-4018958.9738808549,{"$f":"-Q114*($D$4/2-N114*C114)+R114*($D$4/6+C114/3)","v":3022223597.1206965},-4018.958973880855,3022.2235971206965,1,"CAMPO 2A",18.267995335822068,100000000,1194.025044722719]
[0,"CAMPO 2A",{"$f":"VLOOKUP(C$144,$AC$12:$AD$108,2,FALSE)","v":1510.0178890876564},0,null,-1.4679999999999995E-2,null,null,8.7924979199999947E-2,8.6049246310399919E-4,null,null,53.240063655528125,0.33333333333333326,null,null,-15932194.978759201,0,-15932194.978759201,10302724415.453442,-15932.194978759202,10302.724415453442,{"$f":"+W114+1","v":2},"CAMPO 2A",72.419068085269103,100000000,1510.0178890876564]
[0,"CAMPO 2A",{"$f":"+(C115-C114)/2+C114","v":1352.0214669051877},0,null,-1.0953333333333331E-2,null,null,4.8950008533333318E-2,3.5744384009007388E-4,null,null,29.640058990805109,0.33333333333333337,null,null,-7941775.4810710521,0,-7941775.4810710521,5553891491.3152637,-7941.7754810710521,5553.8914913152639,{"$f":"+W115+1","v":3},"CAMPO 2A",36.098979459413876,100000000,1352.0214669051877]
[0,"CAMPO 2A",{"$f":"IF(ABS(U116)>$G$110,C116-(C116-$C$144)/2,C116+(C116-$C$144)/2)","v":1273.0232558139533},0,null,-9.5199999999999972E-3,null,null,3.6977203199999982E-2,2.3468198297599987E-4,null,null,22.39032263736263,0.33333333333333315,null,null,-5648740.7530269716,0,-5648740.7530269716,4099059084.4252329,-5648.740753026972,4099.0590844252329,4,"CAMPO 2A",25.676094331940782,100000000,1273.0232558139533]
[0,"CAMPO 2A",{"$f":"IF(ABS(U117)>$G$110,C117-(C117-$C$144)/2,C117+(C117-$C$144)/2)","v":1233.5241502683361},0,null,-8.8829629629629606E-3,null,null,3.2194068648559657E-2,1.9065247962149498E-4,null,null,19.494053678203876,0.33333333333333326,null,null,-4765459.3408074034,0,-4765459.3408074034,3520841847.2592621,-4765.4593408074034,3520.8418472592621,5,"CAMPO 2A",21.661178821851834,100000000,1233.5241502683361]
[0,"CAMPO 2A",{"$f":"IF(ABS(U118)>$G$110,C118-(C118-$C$144)/2,C118+(C118-$C$144)/2)","v":1213.7745974955276},0,null,-8.58181818181818E-3,null,null,3.0048222148760323E-2,1.719122527783621E-4,null,null,18.194707289000423,0.33333333333333315,null,null,-4376612.2492881306,0,-4376612.2492881306,3262363829.5901189,-4376.6122492881304,3262.3638295901187,6,"CAMPO 2A",19.893692042218774,100000000,1213.7745974955276]
[0,"CAMPO 2A",{"$f":"IF(ABS(U119)>$G$110,C119-(C119-$C$144)/2,C119+(C119-$C$144)/2)","v":1203.8998211091234},0,null,-8.435315315315316E-3,null,null,2.9031054143267603E-2,1.6325739708963557E-4,null,null,17.578794838937551,0.33333333333333337,null,null,-4194057.7067626966,0,-4194057.7067626966,3140091255.1461172,-4194.0577067626964,3140.0912551461174,7,"CAMPO 2A",19.063898667103167,100000000,1203.8998211091234]
[0,"CAMPO 2A",{"$f":"IF(ABS(U120)>$G$110,C120-(C120-$C$144)/2,C120+(C120-$C$144)/2)","v":1198.9624329159212},0,null,-8.3630493273542592E-3,null,null,2.8535762373118299E-2,1.5909732554669865E-4,null,null,17.278887285808349,0.33333333333333326,null,null,-4105596.8495981419,0,-4105596.8495981419,3080617581.2491536,-4105.5968495981415,3080.6175812491538,8,"CAMPO 2A",18.661803861809737,100000000,1198.9624329159212]
[0,"CAMPO 2A",{"$f":"IF(ABS(U121)>$G$110,C121-(C121-$C$144)/3,C121+(C121-$C$144)/3)","v":1197.3166368515206},0,null,-8.3391044776119413E-3,null,null,2.8372590703319232E-2,1.5773466545033357E-4,null,null,17.180084076914543,0.33333333333333337,null,null,-4076516.9855595483,0,-4076516.9855595483,3061033997.6540613,-4076.5169855595482,3061.0339976540613,9,"CAMPO 2A",18.52962266163431,100000000,1197.3166368515206]
[0,"CAMPO 2A",1196.2194394752535,0,null,-8.3231809145129232E-3,null,null,2.8264338938570575E-2,1.5683280427655671E-4,null,null,17.114535800435203,0.33333333333333337,null,null,-4057242.2018682566,0,-4057242.2018682566,3048044534.6370983,-4057.2422018682564,3048.0445346370984,10,"CAMPO 2A",18.442010008492076,100000000,1196.2194394752535]
[0,"CAMPO 2A",1195.4879745577421,0,null,-8.3125827814569554E-3,null,null,2.8192405259418463E-2,1.562344683515323E-4,null,null,17.070978739724122,0.33333333333333326,null,null,-4044441.7753791846,0,-4044441.7753791846,3039414206.2644696,-4044.4417753791845,3039.4142062644696,11,"CAMPO 2A",18.383826251723566,100000000,1195.4879745577421]
[0,"CAMPO 2A",1195.0003312794011,0,null,-8.3055251544571947E-3,null,null,2.8144553221259059E-2,1.5583686316008425E-4,null,null,17.042003520385617,0.33333333333333337,null,null,-4035930.0507738367,0,-4035930.0507738367,3033673642.4915037,-4035.9300507738367,3033.6736424915039,12,"CAMPO 2A",18.345136594426531,100000000,1195.0003312794011]
[0,"CAMPO 2A",1194.6752357605071,0,null,-8.300823529411765E-3,null,null,2.8112697876705887E-2,1.5557236267346961E-4,null,null,17.022714569882464,0.33333333333333337,null,null,-4030265.2756461012,0,-4030265.2756461012,3029852360.8730526,-4030.2652756461011,3029.8523608730525,13,"CAMPO 2A",18.319387616573188,100000000,1194.6752357605071]
[0,"CAMPO 2A",1194.4585054145778,0,null,-8.2976906488923755E-3,null,null,2.8091481402724123E-2,1.5539628169927868E-4,null,null,17.00986763564816,0.33333333333333337,null,null,-4026493.0669415109,0,-4026493.0669415109,3027307396.7156987,-4026.4930669415107,3027.3073967156988,14,"CAMPO 2A",18.302241213370504,100000000,1194.4585054145778]
[0,"CAMPO 2A",1194.3140185172915,0,null,-8.2956027442012414E-3,null,null,2.8077346154956467E-2,1.5527900654196337E-4,null,null,17.001308503786156,0.33333333333333326,null,null,-4023980.173875249,0,-4023980.173875249,3025611889.3249178,-4023.980173875249,3025.6118893249177,15,"CAMPO 2A",18.290818972160224,100000000,1194.3140185172915]
[0,"CAMPO 2A",1194.2176939191006,0,null,-8.2942111108691378E-3,null,null,2.8067926684279348E-2,1.5520087290920673E-4,null,null,16.995604854800238,0.33333333333333348,null,null,-4022305.7613588562,0,-4022305.7613588562,3024482055.3735218,-4022.3057613588562,3024.4820553735217,16,"CAMPO 2A",18.283208006176618,100000000,1194.2176939191006]
[0,"CAMPO 2A",1194.1534775203068,0,null,-8.2932834900010868E-3,null,null,2.8061648826574047E-2,1.5514880594375661E-4,null,null,16.991803505662691,0.33333333333333337,null,null,-4021189.8637448438,0,-4021189.8637448438,3023729056.7864656,-4021.1898637448439,3023.7290567864657,17,"CAMPO 2A",18.278135744294744,100000000,1194.1534775203068]
[0,"CAMPO 2A",1194.1106665877776,0,null,-8.2926651359387961E-3,null,null,2.8057464383180446E-2,1.5511410446216334E-4,null,null,16.989269754336672,0.33333333333333326,null,null,-4020446.099683491,0,-4020446.099683491,3023227157.278254,-4020.446099683491,3023.2271572782543,18,"CAMPO 2A",18.274754998561324,100000000,1194.1106665877776]
[0,"CAMPO 2A",1194.0821259660913,0,null,-8.2922529264938902E-3,null,null,2.8054675107554168E-2,1.5509097450830091E-4,null,null,16.987580800716813,0.33333333333333326,null,null,-4019950.3314859509,0,-4019950.3314859509,3022892601.8425646,-4019.9503314859508,3022.8926018425645,19,"CAMPO 2A",18.27250150675432,100000000,1194.0821259660913]
[0,"CAMPO 2A",1194.0630988849673,0,null,-8.2919781320170468E-3,null,null,2.8052815747474362E-2,1.5507555647970722E-4,null,null,16.986454926705715,0.33333333333333348,null,null,-4019619.8524653884,0,-4019619.8524653884,3022669584.5437436,-4019.6198524653882,3022.6695845437434,20,"CAMPO 2A",18.270999329388129,100000000,1194.0630988849673]
[0,"CAMPO 2A",1194.050414164218,0,null,-8.291794940952087E-3,null,null,2.8051576243861846E-2,1.5506527865639027E-4,null,null,16.985704386281004,0.33333333333333326,null,null,-4019399.5478330841,0,-4019399.5478330841,3022520915.0808592,-4019.3995478330839,3022.5209150808591,21,"CAMPO 2A",18.269997944695838,100000000,1194.050414164218]
[0,"CAMPO 2A",{"$f":"IF(ABS(U134)>$G$110,C134-(C134-$C$144)/4,C134+(C134-$C$144)/4)","v":1194.0440718038433},0,null,-8.2917033469954351E-3,null,null,2.8050956512986724E-2,1.5506014000343693E-4,null,null,16.985329128742805,0.33333333333333348,null,null,-4019289.3999311044,0,-4019289.3999311044,3022446582.9701819,-4019.2893999311045,3022.4465829701821,22,"CAMPO 2A",18.26949727241411,100000000,1194.0440718038433]
[0,"CAMPO 2A",1194.0393150335622,0,null,-8.2916346522173556E-3,null,null,2.8050491723987468E-2,1.5505628612690043E-4,null,null,16.985047691133925,0.33333333333333337,null,null,-4019206.7909357511,0,-4019206.7909357511,3022390835.0337248,-4019.2067909357511,3022.3908350337247,23,"CAMPO 2A",18.269121776980686,100000000,1194.0393150335622]
[0,"CAMPO 2A",1194.0357474558514,0,null,-8.2915831315215835E-3,null,null,2.8050143137388777E-2,1.5505339578315912E-4,null,null,16.984836616046135,0.33333333333333337,null,null,-4019144.8352754749,0,-4019144.8352754749,3022349024.7263041,-4019.1448352754751,3022.3490247263039,24,"CAMPO 2A",18.268840160343068,100000000,1194.0357474558514]
[0,"CAMPO 2A",1194.0330717725683,0,null,-8.291544491217882E-3,null,null,2.8049881700337013E-2,1.5505122806116174E-4,null,null,16.984678311484625,0.33333333333333348,null,null,-4019098.3691412657,0,-4019098.3691412657,3022317667.3584995,-4019.0983691412657,3022.3176673584994,25,"CAMPO 2A",18.268628950642118,100000000,1194.0330717725683]
[0,"CAMPO 2A",1194.031065010106,0,null,-8.2915155111128042E-3,null,null,2.8049685624177888E-2,1.5504960228980588E-4,null,null,16.984559584050306,0.33333333333333326,null,null,-4019063.5198842934,0,-4019063.5198842934,3022294149.5367017,-4019.0635198842933,3022.2941495367018,26,"CAMPO 2A",18.268470544928608,100000000,1194.031065010106]
[0,"CAMPO 2A",1194.0295599382594,0,null,-8.2914937761030122E-3,null,null,2.8049538567975235E-2,1.550483829726187E-4,null,null,16.984470539029637,0.33333333333333326,null,null,-4019037.3831348838,0,-4019037.3831348838,3022276511.285131,-4019.0373831348838,3022.2765112851312,27,"CAMPO 2A",18.268351741522199,100000000,1194.0295599382594]
[0,"CAMPO 2A",1194.0284311343744,0,null,-8.2914774748844913E-3,null,null,2.8049428276338901E-2,1.5504746849110142E-4,null,null,16.984403755576373,0.33333333333333326,null,null,-4019017.7806815715,0,-4019017.7806815715,3022263282.6610169,-4019.0177806815714,3022.263282661017,28,"CAMPO 2A",18.268262639461689,100000000,1194.0284311343744]
[0,"CAMPO 2A",1194.0275845314604,0,null,-8.2914652489924339E-3,null,null,2.8049345557901662E-2,1.5504678263354794E-4,null,null,16.984353668162033,0.33333333333333337,null,null,-4019003.0789027484,0,-4019003.0789027484,3022253361.2292433,-4019.0030789027483,3022.2533612292432,29,"CAMPO 2A",18.268195813194311,100000000,1194.0275845314604]
[0,"CAMPO 2A",1194.026949579275,0,null,-8.2914560795856723E-3,null,null,2.804928351923687E-2,1.5504626824239918E-4,null,null,16.98431610270006,0.33333333333333326,null,null,-4018992.0526030352,0,-4018992.0526030352,3022245920.1758404,-4018.9920526030351,3022.2459201758402,30,"CAMPO 2A",18.268145693650162,100000000,1194.026949579275]
[0,"CAMPO 2B",{"$f":"VLOOKUP($Z$10,$Z$13:$AC$108,4,FALSE)","v":1194.025044722719},0,null,-8.2914285714285694E-3,null,null,{"$f":"$L$4*(ABS(F144)-ABS($T$5)/2)","v":3.7759018020925772E-3},{"$f":"$I$39+$L$4*(ABS(F144)^2-ABS($T$5)^2)/2","v":1.619308973986871E-5},null,null,2.2863724749158916,0.48277481022131785,null,null,-541022.55817346217,0,-541022.55817346217,310306077.37660283,-541.02255817346213,310.30607737660284,1,"CAMPO 2B",2.4591934462430101,100000000,1194.025044722719]
[0,"CAMPO 2B",{"$f":"VLOOKUP(C$144,$AC$12:$AD$108,2,FALSE)","v":1510.0178890876564},0,null,-1.4679999999999995E-2,null,null,6.7903610613518342E-3,5.0816307517646455E-5,null,null,4.11167859736487,0.49021837008902591,null,null,-1230428.0011206616,0,-1230428.0011206616,504182013.0532099,-1230.4280011206615,504.18201305320991,{"$f":"+W144+1","v":2},{"$f":"B145","v":"CAMPO 2B"},5.5928545505484619,{"$f":"IF(A145=0,10^8,ABS(1*10^5-ABS(Y145)*10^5))","v":100000000},{"$f":"C145","v":1510.0178890876564}]
[{"$f":"IF($AB$10=B146,IF(ABS((ROUND(ABS(U146/100),1))-(ROUND(ABS($G$110/100),1)))=0,1,0),0)","v":0},"CAMPO 2B",{"$f":"+(C145-C144)/2+C144","v":1352.0214669051877},0,null,{"$f":"-$T$7*C146/($D$4-C146)","v":-1.0953333333333331E-2},null,null,5.0319264934506015E-3,2.8279037805712325E-5,null,null,3.046916692602966,0.48692124075721566,null,null,{"$f":"-$L$4*$D$3*C146*M146","v":-816392.71668409905},{"$f":"$L$8*($D$4-C146)*$L$6*G146*0.5","v":0},-816392.71668409905,{"$f":"-Q146*($D$4/2-N146*C146)+R146*($D$4/6+C146/3)","v":401397464.12938333},-816.39271668409901,401.39746412938331,{"$f":"+W145+1","v":3},"CAMPO 2B",3.7108759849277231,100000000,1352.0214669051877]
[0,"CAMPO 2B",{"$f":"IF(ABS(U146)>$G$110,C146-(C146-$C$144)/2,C146+(C146-$C$144)/2)","v":1273.0232558139533},0,null,-9.5199999999999972E-3,null,null,4.3556055057962801E-3,2.1355765295424262E-5,null,null,2.6373928830791562,0.48497340861169758,null,null,-665374.45224359515,0,-665374.45224359515,354390125.48161221,-665.3744522435951,354.39012548161219,4,"CAMPO 2B",3.0244293283799779,100000000,1273.0232558139533]
[0,"CAMPO 2B",1233.5241502683361,0,null,-8.8829629629629606E-3,null,null,4.0550184001721381E-3,1.8589918609451599E-5,null,null,2.4553823010685747,0.48390837943270903,null,null,-600235.57516737643,0,-600235.57516737643,331982690.11126238,-600.2355751673764,331.9826901112624,5,"CAMPO 2B",2.7283435234880749,100000000,1233.5241502683361]
[0,"CAMPO 2B",1213.7745974955276,0,null,-8.58181818181818E-3,null,null,3.9129226775134526E-3,1.7349083260529869E-5,null,null,2.3693409350272088,0.48335056814248556,null,null,-569928.7377516015,0,-569928.7377516015,321053030.91447133,-569.92873775160149,321.05303091447132,6,"CAMPO 2B",2.5905851715981885,100000000,1213.7745974955276]
[0,"CAMPO 2B",1203.8998211091234,0,null,-8.435315315315316E-3,null,null,3.8437950286524716E-3,1.6760906046024728E-5,null,null,2.3274829731692477,0.48306498605332027,null,null,-555305.29768498184,0,-555305.29768498184,315656715.93817192,-555.30529768498184,315.65671593817194,7,"CAMPO 2B",2.5241149894771904,100000000,1203.8998211091234]
[0,"CAMPO 2B",1198.9624329159212,0,null,-8.3630493273542592E-3,null,null,3.8096961884071436E-3,1.6474503669858145E-5,null,null,2.3068355480375171,0.48292047923447079,null,null,-548121.91328677675,0,-548121.91328677675,312975687.10554594,-548.1219132867767,312.97568710554594,8,"CAMPO 2B",2.4914632422126215,100000000,1198.9624329159212]
[0,"CAMPO 2B",1196.4937388193202,0,null,-8.3271588366890387E-3,null,null,3.7927611939228877E-3,1.6333179378258569E-5,null,null,2.2965811221331687,0.48284779087409646,null,null,-544561.80256387498,0,-544561.80256387498,311639454.85311425,-544.56180256387495,311.63945485311427,9,"CAMPO 2B",2.4752809207448863,100000000,1196.4937388193202]
[0,"CAMPO 2B",1195.2593917710196,0,null,-8.3092737430167599E-3,null,null,3.7843220793530789E-3,1.6262980997972052E-5,null,null,2.2914710953696602,0.48281133719400826,null,null,-542789.58081998408,0,-542789.58081998408,310972409.26786846,-542.78958081998405,310.97240926786844,10,"CAMPO 2B",2.467225367363564,100000000,1195.2593917710196]
[0,"CAMPO 2B",1194.6422182468693,0,null,-8.3003461753210495E-3,null,null,3.7801095900033251E-3,1.6227997074467325E-5,null,null,2.2889203617423144,0.48279308288300504,null,null,-541905.42069814028,0,-541905.42069814028,310639154.11048818,-541.90542069814023,310.63915411048816,11,"CAMPO 2B",2.4632064577188193,100000000,1194.6422182468693]
[0,"CAMPO 2B",1194.3336314847943,0,null,-8.2958861289422273E-3,null,null,3.7780051088601328E-3,1.6210533845501143E-5,null,null,2.2876460627769366,0.4827839488477208,null,null,-541463.8273719633,0,-541463.8273719633,310472593.44060868,-541.46382737196325,310.4725934406087,12,"CAMPO 2B",2.4611992153271061,100000000,1194.3336314847943]
[0,"CAMPO 2B",{"$f":"IF(ABS(U155)>$G$110,C155-(C155-$C$144)/3,C155+(C155-$C$144)/3)","v":1194.2307692307693},0,null,-8.2944000000000021E-3,null,null,3.7773038761666532E-3,1.6204717019987244E-5,null,null,2.2872214545077294,0.48278090314921451,null,null,-541316.70163834421,0,-541316.70163834421,310417083.12973195,-541.31670163834417,310.41708312973196,13,"CAMPO 2B",2.4605304619924735,100000000,1194.2307692307693]
[0,"CAMPO 2B",1194.1621943947525,0,null,-8.2934094009673824E-3,null,null,3.776836460178669E-3,1.6200840316327424E-5,null,null,2.2869384262126951,0.482778872400078,null,null,-541218.63781884813,0,-541218.63781884813,310380079.0092631,-541.21863781884815,310.38007900926311,14,"CAMPO 2B",2.4600847173584004,100000000,1194.1621943947525]
[0,"CAMPO 2B",1194.116477837408,0,null,-8.2927490698635788E-3,null,null,3.776524881724504E-3,1.6198256371518981E-5,null,null,2.2867497601830373,0.48277751844131378,null,null,-541153.27082762378,0,-541153.27082762378,310355410.81937218,-541.15327082762383,310.3554108193722,15,"CAMPO 2B",2.4597875946710173,100000000,1194.116477837408]
[0,"CAMPO 2B",1194.0860001325116,0,null,-8.2923088794576386E-3,null,null,3.7763171770662934E-3,1.6196533974622604E-5,null,null,2.2866239914956257,0.48277661574612762,null,null,-541109.69678337453,0,-541109.69678337453,310338965.90333617,-541.10969678337449,310.33896590333615,16,"CAMPO 2B",2.4595895308335205,100000000,1194.0860001325116]
[0,"CAMPO 2B",1194.0656816625808,0,null,-8.2920154326658075E-3,null,null,3.7761787136541482E-3,1.6195385813556409E-5,null,null,2.2865401495551025,0.48277601392444203,null,null,-541080.64917590015,0,-541080.64917590015,310328002.86770821,-541.08064917590013,310.32800286770822,17,"CAMPO 2B",2.4594574962540916,100000000,1194.0656816625808]
[0,"CAMPO 2B",1194.0521360159603,0,null,-8.2918198074614802E-3,null,null,3.7760864075392173E-3,1.6194620418855577E-5,null,null,2.2864842566395804,0.48277561269891967,null,null,-541061.28488436434,0,-541061.28488436434,310320694.28472501,-541.06128488436434,310.32069428472499,18,"CAMPO 2B",2.4593694767471108,100000000,1194.0521360159603]
[0,"CAMPO 2B",1194.0431055848799,0,null,-8.2916893933208131E-3,null,null,3.7760248713854358E-3,1.619411017616937E-5,null,null,2.2864469954565325,0.48277534521032017,null,null,-541048.37570337742,0,-541048.37570337742,310315821.94381839,-541.04837570337736,310.31582194381838,19,"CAMPO 2B",2.4593107986517153,100000000,1194.0431055848799]
[0,"CAMPO 2B",1194.0370852974929,0,null,-8.2916024517435457E-3,null,null,3.7759838478411993E-3,1.6193770023466071E-5,null,null,2.2864221550058845,0.48277516688240152,null,null,-541039.76973680605,0,-541039.76973680605,310312573.73776907,-541.03976973680608,310.31257373776907,20,"CAMPO 2B",2.4592716806218458,100000000,1194.0370852974929]
[0,"CAMPO 2B",1194.0330717725683,0,null,-8.291544491217882E-3,null,null,3.7759564990598308E-3,1.6193543259035998E-5,null,null,2.2864055948556952,0.48277504799615079,null,null,-541034.03249424021,0,-541034.03249424021,310310408.27650142,-541.03403249424025,310.31040827650139,21,"CAMPO 2B",2.4592456022465465,100000000,1194.0330717725683]
[0,"CAMPO 2B",1194.0303960892852,0,null,-8.291505851101149E-3,null,null,3.7759382666491944E-3,1.6193392084544274E-5,null,null,2.2863945548223428,0.48277496873821857,null,null,-541030.20769629907,0,-541030.20769629907,310308964.63984835,-541.03020769629904,310.30896463984834,22,"CAMPO 2B",2.4592282168013595,100000000,1194.0303960892852]
[0,"CAMPO 2B",1194.0286123004298,0,null,-8.291480091127193E-3,null,null,3.7759261117577794E-3,1.6193291302347548E-5,null,null,2.2863871948297838,0.48277491589940502,null,null,-541027.65784453182,0,-541027.65784453182,310308002.2172761,-541.02765784453186,310.30800221727611,23,"CAMPO 2B",2.4592166265660538,100000000,1194.0286123004298]
[0,"CAMPO 2B",{"$f":"IF(ABS(U166)>$G$110,C166-(C166-$C$144)/4,C166+(C166-$C$144)/4)","v":1194.0277204060021},0,null,-8.2914672111713758E-3,null,null,3.7759200343267757E-3,1.6193240911488508E-5,null,null,2.2863835148424076,0.48277488947994085,null,null,-541026.38292270631,0,-541026.38292270631,310307521.00654882,-541.02638292270626,310.30752100654882,24,"CAMPO 2B",2.459210831466847,100000000,1194.0277204060021]
[0,"CAMPO 2B",1194.0270514851813,0,null,-8.2914575512181479E-3,null,null,3.7759154762599563E-3,1.6193203118448943E-5,null,null,2.2863807548557711,0.48277486966531757,null,null,-541025.42673311266,0,-541025.42673311266,310307160.09874785,-541.02542673311268,310.30716009874783,25,"CAMPO 2B",2.4592064851505122,100000000,1194.0270514851813]
[0,"CAMPO 2B",1194.0265497945657,0,null,-8.2914503062608922E-3,null,null,3.7759120577134583E-3,1.6193174773728153E-5,null,null,2.2863786848679837,0.4827748548043358,null,null,-541024.70959191583,0,-541024.70959191583,310306889.41803473,-541.02470959191578,310.30688941803476,26,"CAMPO 2B",2.4592032254177991,100000000,1194.0265497945657]
[0,"CAMPO 2B",1194.026173526604,0,null,-8.2914448725472656E-3,null,null,3.7759094938056214E-3,1.61931535152207E-5,null,null,2.2863771323783761,0.48277484365859147,null,null,-541024.1717365802,0,-541024.1717365802,310306686.40757734,-541.02417173658023,310.30668640757733,27,"CAMPO 2B",2.4592007806208191,100000000,1194.026173526604]
[0,"CAMPO 2B",1194.0258913256328,0,null,-8.2914407972644721E-3,null,null,3.7759075708758884E-3,1.6193137571358743E-5,null,null,2.2863759680118636,0.48277483529927889,null,null,-541023.7683453944,0,-541023.7683453944,310306534.14977771,-541.02376834539439,310.30653414977769,28,"CAMPO 2B",2.4591989470245199,100000000,1194.0258913256328]
[0,"CAMPO 2B",1194.0256796749043,0,null,-8.2914377408037417E-3,null,null,3.7759061286792325E-3,1.6193125613472758E-5,null,null,2.2863750947373691,0.48277482902979185,null,null,-541023.46580218279,0,-541023.46580218279,310306419.95645249,-541.02346580218284,310.30641995645249,29,"CAMPO 2B",2.4591975718281036,100000000,1194.0256796749043]
[0,"CAMPO 2B",1194.0255209368579,0,null,-8.2914354484589607E-3,null,null,3.7759050470321026E-3,1.6193116645064165E-5,null,null,2.2863744397817176,0.48277482432767505,null,null,-541023.238894874,0,-541023.238894874,310306334.31147242,-541.023238894874,310.30633431147243,30,"CAMPO 2B",2.4591965404312455,100000000,1194.0255209368579]
[1,"CAMPO 3",{"$f":"VLOOKUP($Z$10,$Z$13:$AC$108,4,FALSE)","v":1194.025044722719},1194.025044722719,null,-3.5000000000000005E-3,null,null,{"$f":"$H$50","v":1.5150573576481346E-3},{"$f":"$I$50","v":2.8637968509798352E-6},{"$f":"+$L$7*(G174-G174^2/(2*$T$7))","v":0},null,0.91739288307915767,0.4599361749718297,{"$f":"+K174/($T$7*$L$7)","v":0},0.33300000000000002,-217081.97150679579,{"$f":"$L$8*($D$4-C174)*$L$6*G174*O174","v":0},-217081.97150679579,130428207.82480171,-217.08197150679578,130.42820782480172,1,"CAMPO 3",0.98673623412179901,1326.3765878200938,1194.025044722719]
[0,"CAMPO 3",{"$f":"VLOOKUP(C$144,$AC$12:$AD$108,2,FALSE)","v":1510.0178890876564},0,null,-3.5000000000000005E-3,null,null,1.5150573576481346E-3,2.8637968509798352E-6,0,null,0.91739288307915767,0.4599361749718297,0,0.33300000000000002,-274531.645565107,0,-274531.645565107,125045910.79321091,-274.531645565107,125.04591079321091,{"$f":"+W174+1","v":2},"CAMPO 3",1.2478711162050318,100000000,1510.0178890876564]
[0,"CAMPO 3",{"$f":"+(C175-C174)/2+C174","v":1352.0214669051877},0,null,-3.5000000000000005E-3,null,null,1.5150573576481346E-3,2.8637968509798352E-6,0,null,0.91739288307915767,0.4599361749718297,0,0.33300000000000002,-245806.80853595142,0,-245806.80853595142,129824443.52418292,-245.80680853595143,129.82444352418293,{"$f":"+W175+1","v":3},"CAMPO 3",1.1173036751634156,100000000,1352.0214669051877]
[0,"CAMPO 3",{"$f":"IF(ABS(U176)>$G$110,C176-(C176-$C$144)/2,C176+(C176-$C$144)/2)","v":1273.0232558139533},0,null,-3.5000000000000005E-3,null,null,1.5150573576481346E-3,2.8637968509798352E-6,0,null,0.91739288307915767,0.4599361749718297,0,0.33300000000000002,-231444.39002137355,0,{"$f":"R177+Q177","v":-231444.39002137355},130648171.72828643,{"$f":"+S177/1000","v":-231.44439002137355},{"$f":"+T177/1000000","v":130.64817172828643},4,{"$f":"B177","v":"CAMPO 3"},{"$f":"ABS(S177)/($G$110*1000)","v":1.052019954642607},{"$f":"IF(A177=0,10^8,ABS(1*10^5-ABS(Y177)*10^5))","v":100000000},{"$f":"C177","v":1273.0232558139533}]
[{"$f":"IF($AB$10=B178,IF(ABS((ROUND(ABS(U178/100),1))-(ROUND(ABS($G$110/100),1)))=0,1,0),0)","v":1},"CAMPO 3",{"$f":"IF(ABS(U177)>$G$110,C177-(C177-$C$144)/2,C177+(C177-$C$144)/2)","v":1233.5241502683361},{"$f":"IF(A178=0,0,C178)","v":1233.5241502683361},null,-3.5000000000000005E-3,null,null,1.5150573576481346E-3,2.8637968509798352E-6,0,null,{"$f":"I178/($L$4*ABS($T$4))","v":0.91739288307915767},{"$f":"1-J178/I178/ABS(F178)","v":0.4599361749718297},0,0.33300000000000002,{"$f":"-$L$4*$D$3*C178*M178","v":-224263.18076408468},0,-224263.18076408468,{"$f":"-Q178*($D$4/2-N178*C178)+R178*($D$4/6+C178/3)","v":130668651.2899926},-224.26318076408469,130.6686512899926,5,"CAMPO 3",1.0193780943822031,1937.8094382203126,1233.5241502683361]
[1,"CAMPO 3",{"$f":"IF(ABS(U178)>$G$110,C178-(C178-$C$144)/2,C178+(C178-$C$144)/2)","v":1213.7745974955276},1213.7745974955276,null,-3.5000000000000005E-3,null,null,1.5150573576481346E-3,2.8637968509798352E-6,0,null,0.91739288307915767,0.4599361749718297,0,0.33300000000000002,-220672.57613544023,0,-220672.57613544023,130581044.93575929,-220.67257613544024,130.58104493575928,6,"CAMPO 3",1.003057164252001,305.71642520009482,1213.7745974955276]
[1,"CAMPO 3",{"$f":"IF(ABS(U179)>$G$110,C179-(C179-$C$144)/2,C179+(C179-$C$144)/2)","v":1203.8998211091234},1203.8998211091234,null,-3.5000000000000005E-3,null,null,1.5150573576481346E-3,2.8637968509798352E-6,0,null,0.91739288307915767,0.4599361749718297,0,0.33300000000000002,-218877.27382111803,0,-218877.27382111803,130512780.22487102,-218.87727382111802,130.51278022487102,7,"CAMPO 3",0.99489669918690016,510.33008130997769,1203.8998211091234]
[1,"CAMPO 3",{"$f":"IF(ABS(U180)>$G$110,C180-(C180-$C$144)/3,C180+(C180-$C$144)/3)","v":1207.191413237925},1207.191413237925,null,-3.5000000000000005E-3,null,null,1.5150573576481346E-3,2.8637968509798352E-6,0,null,0.91739288307915767,0.4599361749718297,0,0.33300000000000002,-219475.70792589211,0,-219475.70792589211,130537347.09396501,-219.47570792589212,130.537347093965,8,"CAMPO 3",0.99761685420860047,238.31457913995837,1207.191413237925]
[1,"CAMPO 3",1211.5802027429936,1211.5802027429936,null,-3.5000000000000005E-3,null,null,1.5150573576481346E-3,2.8637968509798352E-6,0,null,0.91739288307915767,0.4599361749718297,0,0.33300000000000002,-220273.62006559092,0,-220273.62006559092,130567284.3064788,-220.27362006559093,130.5672843064788,9,"CAMPO 3",1.0012437275708679,124.37275708679226,1211.5802027429936]
[1,"CAMPO 3",1205.7284834029022,1205.7284834029022,null,-3.5000000000000005E-3,null,null,1.5150573576481346E-3,2.8637968509798352E-6,0,null,0.91739288307915767,0.4599361749718297,0,0.33300000000000002,-219209.73721265921,0,-219209.73721265921,130526652.18491887,-219.20973721265921,130.52665218491887,10,"CAMPO 3",0.99640789642117822,359.21035788218433,1205.7284834029022]
[1,"CAMPO 3",1209.6296296296298,1209.6296296296298,null,-3.5000000000000005E-3,null,null,1.5150573576481346E-3,2.8637968509798352E-6,0,null,0.91739288307915767,0.4599361749718297,0,0.33300000000000002,-219918.99244794701,0,-219918.99244794701,130554376.56658833,-219.91899244794701,130.55437656658833,11,"CAMPO 3",0.99963178385430462,36.821614569533267,1209.6296296296298]
[1,"CAMPO 3",1214.8311579319334,1214.8311579319334,null,-3.5000000000000005E-3,null,null,1.5150573576481346E-3,2.8637968509798352E-6,0,null,0.91739288307915767,0.4599361749718297,0,0.33300000000000002,-220864.6660949974,0,-220864.6660949974,130587383.20489721,-220.8646660949974,130.58738320489721,12,"CAMPO 3",1.0039303004318063,393.03004318062449,1214.8311579319334]
[1,"CAMPO 3",1207.8957868621953,1207.8957868621953,null,-3.5000000000000005E-3,null,null,1.5150573576481346E-3,2.8637968509798352E-6,0,null,0.91739288307915767,0.4599361749718297,0,0.33300000000000002,-219603.76789893021,0,-219603.76789893021,130542368.84171279,-219.60376789893022,130.5423688417128,13,"CAMPO 3",0.99819894499513728,180.10550048627192,1207.8957868621953]
[1,"CAMPO 3",1212.5193675753542,1212.5193675753542,null,-3.5000000000000005E-3,null,null,1.5150573576481346E-3,2.8637968509798352E-6,0,null,0.91739288307915767,0.4599361749718297,0,0.33300000000000002,-220444.36669630837,0,-220444.36669630837,130573272.20570768,-220.44436669630838,130.5732722057077,14,"CAMPO 3",1.0020198486195835,201.98486195834994,1212.5193675753542]
[1,"CAMPO 3",1206.3545932911425,1206.3545932911425,null,-3.5000000000000005E-3,null,null,1.5150573576481346E-3,2.8637968509798352E-6,0,null,0.91739288307915767,0.4599361749718297,0,0.33300000000000002,-219323.56829980417,0,-219323.56829980417,130531273.24168019,-219.32356829980418,130.5312732416802,15,"CAMPO 3",0.99692531045365529,307.46895463447436,1206.3545932911425]
[1,"CAMPO 3",1210.4644428139502,1210.4644428139502,null,-3.5000000000000005E-3,null,null,1.5150573576481346E-3,2.8637968509798352E-6,0,null,0.91739288307915767,0.4599361749718297,0,0.33300000000000002,-220070.76723080696,0,-220070.76723080696,130559978.7543216,-220.07076723080695,130.55997875432161,16,"CAMPO 3",1.0003216692309407,32.166923094075173,1210.4644428139502]
[1,"CAMPO 3",1204.9846434502065,1204.9846434502065,null,-3.5000000000000005E-3,null,null,1.5150573576481346E-3,2.8637968509798352E-6,0,null,0.91739288307915767,0.4599361749718297,0,0.33300000000000002,-219074.50198946989,0,-219074.50198946989,130521077.00120881,-219.07450198946989,130.52107700120882,17,"CAMPO 3",0.99579319086122675,420.6809138773242,1204.9846434502065]
[1,"CAMPO 3",1208.6378430260356,1208.6378430260356,null,-3.5000000000000005E-3,null,null,1.5150573576481346E-3,2.8637968509798352E-6,0,null,0.91739288307915767,0.4599361749718297,0,0.33300000000000002,-219738.67881702795,0,-219738.67881702795,130547569.49106851,-219.73867881702796,130.54756949106851,18,"CAMPO 3",0.99881217644103615,118.78235589638643,1208.6378430260356]
[1,"CAMPO 3",1213.5087757938079,1213.5087757938079,null,-3.5000000000000005E-3,null,null,1.5150573576481346E-3,2.8637968509798352E-6,0,null,0.91739288307915767,0.4599361749718297,0,0.33300000000000002,-220624.24792043868,0,-220624.24792043868,130579420.88688898,-220.62424792043868,130.57942088688898,19,"CAMPO 3",1.0028374905474484,283.74905474483967,1213.5087757938079]
[1,"CAMPO 3",1207.0141987701115,1207.0141987701115,null,-3.5000000000000005E-3,null,null,1.5150573576481346E-3,2.8637968509798352E-6,0,null,0.91739288307915767,0.4599361749718297,0,0.33300000000000002,-219443.48911589102,0,-219443.48911589102,130536070.60065407,-219.44348911589103,130.53607060065406,20,"CAMPO 3",0.99747040507223195,252.95949277680484,1207.0141987701115]
[1,"CAMPO 3",1211.343916785909,1211.343916785909,null,-3.5000000000000005E-3,null,null,1.5150573576481346E-3,2.8637968509798352E-6,0,null,0.91739288307915767,0.4599361749718297,0,0.33300000000000002,-220230.66165225609,0,-220230.66165225609,130565754.5767878,-220.23066165225609,130.56575457678781,21,"CAMPO 3",1.0010484620557094,104.84620557093876,1211.343916785909]
[1,"CAMPO 3",1205.5709594315124,1205.5709594315124,null,-3.5000000000000005E-3,null,null,1.5150573576481346E-3,2.8637968509798352E-6,0,null,0.91739288307915767,0.4599361749718297,0,0.33300000000000002,-219181.09827043599,0,-219181.09827043599,130525479.24388908,-219.181098270436,130.52547924388907,22,"CAMPO 3",0.99627771941107268,372.22805889273877,1205.5709594315124]
[1,"CAMPO 3",1209.4195976677768,1209.4195976677768,null,-3.5000000000000005E-3,null,null,1.5150573576481346E-3,2.8637968509798352E-6,0,null,0.91739288307915767,0.4599361749718297,0,0.33300000000000002,-219880.80719164942,0,-219880.80719164942,130552948.75298047,-219.88080719164941,130.55294875298048,23,"CAMPO 3",0.99945821450749739,54.178549250267679,1209.4195976677768]
[1,"CAMPO 3",1214.5511153161294,1214.5511153161294,null,-3.5000000000000005E-3,null,null,1.5150573576481346E-3,2.8637968509798352E-6,0,null,0.91739288307915767,0.4599361749718297,0,0.33300000000000002,-220813.75241993394,0,-220813.75241993394,130585721.42278033,-220.81375241993393,130.58572142278032,24,"CAMPO 3",1.0036988746360633,369.88746360632649,1214.5511153161294]
[1,"CAMPO 3",1207.7090917849926,1207.7090917849926,null,-3.5000000000000005E-3,null,null,1.5150573576481346E-3,2.8637968509798352E-6,0,null,0.91739288307915767,0.4599361749718297,0,0.33300000000000002,-219569.82544888789,0,-219569.82544888789,130541045.90309238,-219.56982544888788,130.5410459030924,25,"CAMPO 3",0.99804466113130863,195.5338868691324,1207.7090917849926]
[1,"CAMPO 3",{"$f":"IF(ABS(U198)>$G$110,C198-(C198-$C$144)/4,C198+(C198-$C$144)/4)","v":1211.130103550561},1211.130103550561,null,-3.5000000000000005E-3,null,null,1.5150573576481346E-3,2.8637968509798352E-6,0,null,0.91739288307915767,0.4599361749718297,0,0.33300000000000002,-220191.78893441093,0,-220191.78893441093,130564362.28955781,-220.19178893441094,130.56436228955781,26,"CAMPO 3",1.000871767883686,87.176788368597045,1211.130103550561]
[1,"CAMPO 3",1206.8538388436004,1206.8538388436004,null,-3.5000000000000005E-3,null,null,1.5150573576481346E-3,2.8637968509798352E-6,0,null,0.91739288307915767,0.4599361749718297,0,0.33300000000000002,-219414.33457750714,0,-219414.33457750714,130534910.98565683,-219.41433457750713,130.53491098565684,27,"CAMPO 3",0.99733788444321425,266.21155567857204,1206.8538388436004]
[1,"CAMPO 3",1210.0610373738209,1210.0610373738209,null,-3.5000000000000005E-3,null,null,1.5150573576481346E-3,2.8637968509798352E-6,0,null,0.91739288307915767,0.4599361749718297,0,0.33300000000000002,-219997.42534518498,0,-219997.42534518498,130557286.17060056,-219.99742534518498,130.55728617060058,28,"CAMPO 3",0.99998829702356806,1.1702976431988645,1210.0610373738209]
[1,"CAMPO 3",1214.0700355365964,1214.0700355365964,null,-3.5000000000000005E-3,null,null,1.5150573576481346E-3,2.8637968509798352E-6,0,null,0.91739288307915767,0.4599361749718297,0,0.33300000000000002,-220726.28880478226,0,-220726.28880478226,130582836.06131583,-220.72628880478226,130.58283606131585,29,"CAMPO 3",1.0033013127490102,330.13127490102488,1214.0700355365964]
[1,"CAMPO 3",1209.0587878331271,1209.0587878331271,null,-3.5000000000000005E-3,null,null,1.5150573576481346E-3,2.8637968509798352E-6,0,null,0.91739288307915767,0.4599361749718297,0,0.33300000000000002,-219815.20948028567,0,-219815.20948028567,130550478.71693833,-219.81520948028566,130.55047871693833,30,"CAMPO 3",0.99916004309220763,83.995690779236611,1209.0587878331271]
[1,"CAMPO 3",1212.8172236107291,1212.8172236107291,null,-3.5000000000000005E-3,null,null,1.5150573576481346E-3,2.8637968509798352E-6,0,null,0.91739288307915767,0.4599361749718297,0,0.33300000000000002,-220498.51897365812,0,-220498.51897365812,130575140.45739339,-220.49851897365812,130.57514045739339,31,"CAMPO 3",1.0022659953348096,226.59953348097042,1212.8172236107291]
[1,"CAMPO 3",1208.1191788887265,1208.1191788887265,null,-3.5000000000000005E-3,null,null,1.5150573576481346E-3,2.8637968509798352E-6,0,null,0.91739288307915767,0.4599361749718297,0,0.33300000000000002,-219644.38210694253,0,-219644.38210694253,130543944.15791336,-219.64438210694254,130.54394415791336,32,"CAMPO 3",0.99838355503155696,161.6444968443102,1208.1191788887265]
[1,"CAMPO 3",1211.6427124302284,1211.6427124302284,null,-3.5000000000000005E-3,null,null,1.5150573576481346E-3,2.8637968509798352E-6,{"$f":"+$L$7*(G206-G206^2/(2*$T$7))","v":0},null,0.91739288307915767,0.4599361749718297,{"$f":"+K206/($T$7*$L$7)","v":0},0.33300000000000002,-220284.98475697922,{"$f":"$L$8*($D$4-C206)*$L$6*G206*O206","v":0},-220284.98475697922,130567687.43619014,-220.28498475697921,130.56768743619014,33,"CAMPO 3",1.0012953852589965,129.53852589965391,1211.6427124302284]
[1,"CAMPO 3",1207.2382955033511,1207.2382955033511,null,-3.5000000000000005E-3,null,null,1.5150573576481346E-3,2.8637968509798352E-6,0,null,0.91739288307915767,0.4599361749718297,0,0.33300000000000002,-219484.23144443336,0,-219484.23144443336,130537683.91303161,-219.48423144443336,130.5376839130316,34,"CAMPO 3",0.99765559747469712,234.44025253028667,1207.2382955033511]
[1,"CAMPO 3",1210.541608198509,1210.541608198509,null,-3.5000000000000005E-3,null,null,1.5150573576481346E-3,2.8637968509798352E-6,0,null,0.91739288307915767,0.4599361749718297,0,0.33300000000000002,-220084.79642884273,0,-220084.79642884273,130560490.70413104,-220.08479642884274,130.56049070413104,35,"CAMPO 3",1.0003854383129216,38.543831292161485,1210.541608198509]
[1,"CAMPO 3",1206.4124673295614,1206.4124673295614,null,-3.5000000000000005E-3,null,null,1.5150573576481346E-3,2.8637968509798352E-6,0,null,0.91739288307915767,0.4599361749718297,0,0.33300000000000002,-219334.09019833099,0,-219334.09019833099,130531697.07582188,-219.33409019833098,130.53169707582188,36,{"$f":"B209","v":"CAMPO 3"},0.99697313726514081,{"$f":"IF(A209=0,10^8,ABS(1*10^5-ABS(Y209)*10^5))","v":302.6862734859169},{"$f":"C209","v":1206.4124673295614}]
[{"$f":"IF($AB$10=B210,IF(ABS((ROUND(ABS(U210/100),1))-(ROUND(ABS($G$110/100),1)))=0,1,0),0)","v":1},"CAMPO 3",1209.5093229812719,1209.5093229812719,null,-3.5000000000000005E-3,null,null,1.5150573576481346E-3,2.8637968509798352E-6,0,null,0.91739288307915767,0.4599361749718297,0,0.33300000000000002,{"$f":"-$L$4*$D$3*C210*M210","v":-219897.11987121479},0,-219897.11987121479,{"$f":"-Q210*($D$4/2-N210*C210)+R210*($D$4/6+C210/3)","v":130553559.61527397},-219.89711987121478,130.55355961527397,37,"CAMPO 3",0.99953236305097626,46.763694902372663,1209.5093229812719]
[1,"CAMPO 3",1213.3803925459101,1213.3803925459101,null,-3.5000000000000005E-3,null,null,1.5150573576481346E-3,2.8637968509798352E-6,0,null,0.91739288307915767,0.4599361749718297,0,0.33300000000000002,-220600.90696231951,0,-220600.90696231951,130578632.29210611,-220.6009069623195,130.57863229210611,38,"CAMPO 3",1.0027313952832706,273.13952832705399,1213.3803925459101]
[1,"CAMPO 3",1208.5415555901122,1208.5415555901122,null,-3.5000000000000005E-3,null,null,1.5150573576481346E-3,2.8637968509798352E-6,0,null,0.91739288307915767,0.4599361749718297,0,0.33300000000000002,-219721.17309843856,0,-219721.17309843856,130546899.86664179,-219.72117309843856,130.54689986664178,39,"CAMPO 3",0.99873260499290262,126.7395007097366,1208.5415555901122]
[1,"CAMPO 3",1212.1706833069607,1212.1706833069607,null,-3.5000000000000005E-3,null,null,1.5150573576481346E-3,2.8637968509798352E-6,0,null,0.91739288307915767,0.4599361749718297,0,0.33300000000000002,-220380.97349634927,0,-220380.97349634927,130571066.29145014,-220.38097349634927,130.57106629145014,40,"CAMPO 3",1.0017316977106785,173.16977106785635,1212.1706833069607]
[1,"CAMPO 3",1207.6342736609004,1207.6342736609004,null,-3.5000000000000005E-3,null,null,1.5150573576481346E-3,2.8637968509798352E-6,0,null,0.91739288307915767,0.4599361749718297,0,0.33300000000000002,-219556.22299896093,0,-219556.22299896093,130540514.09883648,-219.55622299896092,130.54051409883647,41,"CAMPO 3",0.99798283181345881,201.71681865412393,1207.6342736609004]
[1,"CAMPO 3",1211.0365808954457,1211.0365808954457,null,-3.5000000000000005E-3,null,null,1.5150573576481346E-3,2.8637968509798352E-6,0,null,0.91739288307915767,0.4599361749718297,0,0.33300000000000002,-220174.78587200222,0,-220174.78587200222,130563750.89479977,-220.17478587200222,130.56375089479977,42,"CAMPO 3",1.0007944812363738,79.448123637383105,1211.0365808954457]
[1,"CAMPO 3",1206.783696852264,1206.783696852264,null,-3.5000000000000005E-3,null,null,1.5150573576481346E-3,2.8637968509798352E-6,0,null,0.91739288307915767,0.4599361749718297,0,0.33300000000000002,-219401.58228070062,0,-219401.58228070062,130534402.41406156,-219.40158228070061,130.53440241406156,43,"CAMPO 3",0.99727991945773009,272.00805422698613,1206.783696852264]
[1,"CAMPO 3",1209.9733598846503,1209.9733598846503,null,-3.5000000000000005E-3,null,null,1.5150573576481346E-3,2.8637968509798352E-6,0,null,0.91739288307915767,0.4599361749718297,0,0.33300000000000002,-219981.48497417683,0,-219981.48497417683,130556697.35503778,-219.98148497417682,130.55669735503778,44,"CAMPO 3",0.99991584079171281,8.4159208287164802,1209.9733598846503]
[1,"CAMPO 3",1213.9604386751332,1213.9604386751332,null,-3.5000000000000005E-3,null,null,1.5150573576481346E-3,2.8637968509798352E-6,0,null,0.91739288307915767,0.4599361749718297,0,0.33300000000000002,-220706.36334102211,0,-220706.36334102211,130582173.32144256,-220.7063633410221,130.58217332144255,45,"CAMPO 3",1.0032107424591914,321.07424591913878,1213.9604386751332]
[1,"CAMPO 3",1208.9765901870296,1208.9765901870296,null,-3.5000000000000005E-3,null,null,1.5150573576481346E-3,2.8637968509798352E-6,0,null,0.91739288307915767,0.4599361749718297,0,0.33300000000000002,-219800.26538246553,0,-219800.26538246553,130549912.96242698,-219.80026538246554,130.54991296242699,46,"CAMPO 3",0.99909211537484333,90.788462515673018,1208.9765901870296]
[1,"CAMPO 3",1212.7144765531073,1212.7144765531073,null,-3.5000000000000005E-3,null,null,1.5150573576481346E-3,2.8637968509798352E-6,0,null,0.91739288307915767,0.4599361749718297,0,0.33300000000000002,-220479.83885138293,0,-220479.83885138293,130574497.67013519,-220.47983885138294,130.57449767013517,47,"CAMPO 3",1.0021810856881042,218.10856881042127,1212.7144765531073]
[1,"CAMPO 3",1208.0421185955101,1208.0421185955101,null,-3.5000000000000005E-3,null,null,1.5150573576481346E-3,2.8637968509798352E-6,0,null,0.91739288307915767,0.4599361749718297,0,0.33300000000000002,-219630.37201523615,0,-219630.37201523615,130543401.68695629,-219.63037201523616,130.54340168695629,48,"CAMPO 3",0.9983198727965279,168.01272034720751,1208.0421185955101]
[1,"CAMPO 3",1211.5463870637079,1211.5463870637079,null,-3.5000000000000005E-3,null,null,1.5150573576481346E-3,2.8637968509798352E-6,0,null,0.91739288307915767,0.4599361749718297,0,0.33300000000000002,-220267.47214234623,0,-220267.47214234623,130567065.95422511,-220.26747214234624,130.56706595422511,49,"CAMPO 3",1.0012157824652101,121.57824652102136,1211.5463870637079]
[1,"CAMPO 3",1207.1660514784608,1207.1660514784608,null,-3.5000000000000005E-3,null,null,1.5150573576481346E-3,2.8637968509798352E-6,0,null,0.91739288307915767,0.4599361749718297,0,0.33300000000000002,-219471.09698345864,0,-219471.09698345864,130537164.73274721,-219.47109698345864,130.53716473274721,50,"CAMPO 3",0.99759589537935744,240.41046206426108,1207.1660514784608]
[0,"CAMPO 4",{"$f":"VLOOKUP($Z$10,$Z$13:$AC$108,4,FALSE)","v":1194.025044722719},0,{"$f":"-(ABS($T$5)-ABS($T$5)*$L$9/(C224-($D$4-$L$9)))","v":-8.8091664193746275E-4},{"$f":"-(ABS($T$4)-($D$4-$L$9)*ABS(E224)/$L$9)","v":9.5104914244885331E-4},null,null,{"$f":"$H$61-$L$4/ABS($T$5)*E224^2/2+$L$4*ABS(E224)","v":1.6141057414161518E-3},{"$f":"+$I$61-$L$4/ABS($T$5)*ABS(E224)^3/3+$L$4*(ABS(E224)^2)/2","v":2.860938480004722E-6},null,null,0.97736835654263521,{"$f":"1-J224/I224/ABS($T$4)","v":0.49358274782549272},null,null,{"$f":"-$L$4*$D$3*$D$4*M224","v":-445493.18463085784},null,-445493.18463085784,{"$f":"-Q224*($D$4/2-N224*$D$4)","v":6575336.8479413064},-445.49318463085785,6.5753368479413066,1,"CAMPO 4",2.0249690210493538,100000000,1194.025044722719]
[0,"CAMPO 4",{"$f":"VLOOKUP($Z$10,$Z$13:$AC$108,4,FALSE)","v":1194.025044722719},0,-8.8091664193746275E-4,9.5104914244885331E-4,null,null,1.6141057414161518E-3,2.860938480004722E-6,null,null,0.97736835654263521,0.49358274782549272,null,null,-445493.18463085784,null,-445493.18463085784,6575336.8479413064,-445.49318463085785,6.5753368479413066,{"$f":"+W224+1","v":2},"CAMPO 4",2.0249690210493538,100000000,1194.025044722719]
[0,"CAMPO 4",{"$f":"VLOOKUP(C$144,$AC$12:$AD$108,2,FALSE)","v":1510.0178890876564},0,-1.114192323529732E-3,2.1297322017469361E-3,null,null,1.5342898590292222E-3,2.7804545770449255E-6,null,null,0.92903848831103397,0.48222587227158564,null,null,-423464.00109206524,null,-423464.00109206524,17311417.460730243,-423.46400109206525,17.311417460730244,{"$f":"+W225+1","v":3},"CAMPO 4",1.9248363686002965,100000000,1510.0178890876564]
[0,"CAMPO 4",{"$f":"+(C226-C225)/2+C225","v":1352.0214669051877},0,-9.6510937285461461E-4,1.3764537322917812E-3,null,null,1.5904200730278582E-3,2.839035718062943E-6,null,null,0.96302628328666018,0.48997558817311937,null,null,-438955.94015568879,null,-438955.94015568879,10120632.771345276,-438.95594015568878,10.120632771345276,4,"CAMPO 4",1.995254273434949,100000000,1352.0214669051877]
[0,"CAMPO 4",{"$f":"IF(ABS(U227)>$G$110,C227-(C227-$C$144)/2,C227+(C227-$C$144)/2)","v":1273.0232558139533},0,-9.1787294592306549E-4,1.1377800058837997E-3,null,null,1.6044211830447931E-3,2.8522248064088505E-6,null,null,0.97150419246937469,0.49207765275627124,null,null,-442820.24652036279,null,-442820.24652036279,8068804.2468221355,-442.82024652036279,8.0688042468221362,5,"CAMPO 4",2.0128193023652856,100000000,1273.0232558139533]
[0,"CAMPO 4",{"$f":"IF(ABS(U228)>$G$110,C228-(C228-$C$144)/2,C228+(C228-$C$144)/2)","v":1233.5241502683361},0,-8.9833159155397252E-4,1.0390424812804053E-3,null,null,1.6096809261592693E-3,2.8570016984902956E-6,null,null,0.9746890559834106,0.49288943771214899,null,null,-444271.93561995827,null,-444271.93561995827,7265753.5232306616,-444.27193561995824,7.2657535232306616,6,"CAMPO 4",2.0194178891816286,100000000,1233.5241502683361]
[0,"CAMPO 4",{"$f":"IF(ABS(U229)>$G$110,C229-(C229-$C$144)/2,C229+(C229-$C$144)/2)","v":1213.7745974955276},0,-8.893806152173308E-4,9.9381546018603327E-4,null,null,1.6119861134200331E-3,2.8590622529591138E-6,null,null,0.97608488590134335,0.49324940046550036,null,null,-444908.16730392905,null,-444908.16730392905,6907812.7943231016,-444.90816730392902,6.9078127943231014,7,"CAMPO 4",2.0223098513814959,100000000,1213.7745974955276]
[0,"CAMPO 4",{"$f":"IF(ABS(U230)>$G$110,C230-(C230-$C$144)/2,C230+(C230-$C$144)/2)","v":1203.8998211091234},0,-8.8509027152181583E-4,9.7213743786517823E-4,null,null,1.6130678475147966E-3,2.860022011158424E-6,null,null,0.97673989421169571,0.49341923385044195,null,null,-445206.72591408377,null,-445206.72591408377,6738543.1083372645,-445.20672591408379,6.7385431083372644,8,"CAMPO 4",2.0236669359731079,100000000,1203.8998211091234]
[0,"CAMPO 4",{"$f":"IF(ABS(U231)>$G$110,C231-(C231-$C$144)/2,C231+(C231-$C$144)/2)","v":1198.9624329159212},0,-8.8298916716774475E-4,9.6152108861241028E-4,null,null,1.6135921246524397E-3,2.8604854936027865E-6,null,null,0.97705735289562412,0.49350176099995857,null,null,-445351.42640407331,null,-445351.42640407331,6656200.0179009726,-445.35142640407332,6.6562000179009724,9,"CAMPO 4",2.0243246654730607,100000000,1198.9624329159212]
[0,"CAMPO 4",{"$f":"IF(ABS(U232)>$G$110,C232-(C232-$C$144)/3,C232+(C232-$C$144)/3)","v":1197.3166368515206},0,-8.8229517889222575E-4,9.5801454125984216E-4,null,null,1.6137645003482346E-3,2.860637639684229E-6,null,null,0.97716172929810141,0.49352892585416952,null,null,-445399.0020961127,null,-445399.0020961127,6629082.9241985977,-445.39900209611272,6.629082924198598,10,"CAMPO 4",2.024540918618694,100000000,1197.3166368515206]
[0,"CAMPO 4",1196.2194394752535,0,-8.8183427341510876E-4,9.5568570237656398E-4,null,null,1.6138787647915083E-3,2.8607384283257524E-6,null,null,0.97723091835323461,0.49354694138373412,null,null,-445430.53908245626,null,-445430.53908245626,6611095.5698002158,-445.43053908245628,6.6110955698002156,11,"CAMPO 4",2.0246842685566193,100000000,1196.2194394752535]
[0,"CAMPO 4",1195.4879745577421,0,-8.8152777863697044E-4,9.5413706172834409E-4,null,null,1.6139546528573165E-3,2.8608053373954348E-6,null,null,0.97727686986202178,0.49355891003846342,null,null,-445451.4841886193,null,-445451.4841886193,6599144.0912654595,-445.4514841886193,6.59914409126546,12,"CAMPO 4",2.0247794735846334,100000000,1195.4879745577421]
[0,"CAMPO 4",1195.0003312794011,0,-8.8132379236807278E-4,9.531063706685731E-4,null,null,1.6140051173445377E-3,2.8608498180963012E-6,null,null,0.97730742696350137,0.4935668706812758,null,null,-445465.41238709236,null,-445465.41238709236,6591194.1912813922,-445.46541238709239,6.5911941912813923,13,"CAMPO 4",2.0248427835776925,100000000,1195.0003312794011]
[0,"CAMPO 4",1194.6752357605071,0,-8.8118795390068291E-4,9.5242001322565174E-4,null,null,1.6140387038050498E-3,2.8608794163620552E-6,null,null,0.977327764134029,0.49357216959320493,null,null,-445474.68225019373,null,-445474.68225019373,6585902.128457834,-445.47468225019372,6.5859021284578336,14,"CAMPO 4",2.0248849193190623,100000000,1194.6752357605071]
[0,"CAMPO 4",1194.4585054145778,0,-8.8109746255012717E-4,9.5196278330273365E-4,null,null,1.6140610697013725E-3,2.8608991239085634E-6,null,null,0.97734130706295275,0.49357569857044303,null,null,-445480.85523757874,null,-445480.85523757874,6582377.5788289905,-445.48085523757874,6.5823775788289902,15,"CAMPO 4",2.0249129783526305,100000000,1194.4585054145778]
[0,"CAMPO 4",1194.3140185172915,0,-8.8103716501142172E-4,9.5165811507969206E-4,null,null,1.6140759691674832E-3,2.8609122513411617E-6,null,null,0.97735032894196128,0.49357804961014706,null,null,-445484.96749022533,null,-445484.96749022533,6580029.429489187,-445.48496749022536,6.580029429489187,16,"CAMPO 4",2.024931670410115,100000000,1194.3140185172915]
[0,"CAMPO 4",1194.2176939191006,0,-8.8099697998979655E-4,9.5145507032207447E-4,null,null,1.6140858972017429E-3,2.8609209981088447E-6,null,null,0.97735634053480747,0.49357961625415081,null,null,-445487.70762768097,null,-445487.70762768097,6578464.685165274,-445.48770762768095,6.5784646851652742,17,"CAMPO 4",2.024944125580368,100000000,1194.2176939191006]
[0,"CAMPO 4",1194.1534775203068,0,-8.8097019590067189E-4,9.5131973708933179E-4,null,null,1.6140925136955259E-3,2.8609268271312787E-6,null,null,0.9773603469338239,0.49358066036551695,null,null,-445489.53377996513,null,{"$f":"R241+Q241","v":-445489.53377996513},6577421.8281645887,{"$f":"+S241/1000","v":-445.48953377996514},{"$f":"+T241/1000000","v":6.5774218281645886},18,{"$f":"B241","v":"CAMPO 4"},{"$f":"ABS(S241)/($G$110*1000)","v":2.0249524262725687},{"$f":"IF(A241=0,10^8,ABS(1*10^5-ABS(Y241)*10^5))","v":100000000},{"$f":"C241","v":1194.1534775203068}]
[{"$f":"IF($AB$10=B242,IF(ABS((ROUND(ABS(U242/100),1))-(ROUND(ABS($G$110/100),1)))=0,1,0),0)","v":0},"CAMPO 4",1194.1106665877776,{"$f":"IF(A242=0,0,C242)","v":0},-8.8095234247398077E-4,9.5122952823666626E-4,null,null,1.6140969237158683E-3,2.8609307121883971E-6,null,null,{"$f":"I242/($L$4*ABS($T$4))","v":0.97736301727581187},0.49358135629848943,null,null,-445490.75094557961,null,-445490.75094557961,6576726.726067543,-445.49075094557963,6.5767267260675428,19,"CAMPO 4",2.0249579588435438,100000000,1194.1106665877776]
[0,"CAMPO 4",1194.0821259660913,0,-8.809404413594017E-4,9.5116939491267241E-4,null,null,1.6140998632959769E-3,2.8609333018008879E-6,null,null,0.97736479724134073,0.49358182019103136,null,null,-445491.56226968957,null,-445491.56226968957,6576263.3850579867,-445.49156226968955,6.5762633850579864,20,"CAMPO 4",2.0249616466804072,100000000,1194.0821259660913]
[0,"CAMPO 4",1194.0630988849673,0,-8.8093250780289832E-4,9.5112930865684552E-4,null,null,1.6141018228234354E-3,2.8609350280200993E-6,null,null,0.97736598376839567,0.49358212942483115,null,null,-445492.1030992681,null,-445492.1030992681,6575954.5178869963,-445.49210309926809,6.5759545178869967,21,"CAMPO 4",2.0249641049966733,100000000,1194.0630988849673]
[0,"CAMPO 4",1194.050414164218,0,-8.8092721899626913E-4,9.5110258565367931E-4,null,null,1.6141031290894776E-3,2.860936178748865E-6,null,null,0.97736677473460198,0.49358233556830133,null,null,-445492.46362869575,null,-445492.46362869575,6575748.618365326,-445.49246362869576,6.575748618365326,22,"CAMPO 4",2.0249657437667987,100000000,1194.050414164218]
[0,"CAMPO 4",1194.0419576837182,0,-8.8092369322786165E-4,9.5108477083704441E-4,null,null,1.6141039998954657E-3,2.8609369458640271E-6,null,null,0.97736730202237232,0.49358247299177216,null,null,-445492.70397114847,null,-445492.70397114847,6575611.3573175864,-445.49270397114844,6.5756113573175865,23,"CAMPO 4",2.0249668362324931,100000000,1194.0419576837182]
[0,"CAMPO 4",1194.0363200300519,0,-8.8092134276122349E-4,9.5107289452319626E-4,null,null,1.6141045804158849E-3,2.8609374572575372E-6,null,null,0.97736765353731558,0.49358256460497085,null,null,-445492.8641947842,null,-445492.8641947842,6575519.8523080489,-445.4928641947842,6.5755198523080489,24,"CAMPO 4",2.0249675645217464,100000000,1194.0363200300519]
[0,"CAMPO 4",1194.0325615942743,0,-8.8091977580374544E-4,9.5106497708310382E-4,null,null,1.6141049674219844E-3,2.8609377981791666E-6,null,null,0.97736788787606155,0.49358262567934863,null,null,-445492.9710084676,null,-445492.9710084676,6575458.8500149716,-445.49297100846758,6.5754588500149715,25,"CAMPO 4",2.0249680500384892,100000000,1194.0325615942743]
[0,"CAMPO 4",1194.0300559704226,0,-8.809187311744405E-4,9.5105969883525288E-4,null,null,1.6141052254227115E-3,2.860938025456974E-6,null,null,0.97736804409987033,0.49358266639511694,null,null,-445493.04221666831,null,-445493.04221666831,6575418.1822848395,-445.4930422166683,6.5754181822848397,26,"CAMPO 4",2.0249683737121287,100000000,1194.0300559704226]
[0,"CAMPO 4",{"$f":"IF(ABS(U249)>$G$110,C249-(C249-$C$144)/4,C249+(C249-$C$144)/4)","v":1194.0288031584967},0,-8.8091820886249204E-4,9.5105705972499009E-4,null,null,1.6141053544220733E-3,2.8609381390948948E-6,null,null,0.97736812221116809,0.49358268675285588,null,null,-445493.07782049215,null,-445493.07782049215,6575397.8485593898,-445.49307782049215,6.5753978485593896,27,"CAMPO 4",2.0249685355476914,100000000,1194.0288031584967]
[0,"CAMPO 4",{"$f":"IF(ABS(U250)>$G$110,C250-(C250-$C$144)/4,C250+(C250-$C$144)/4)","v":1194.0278635495522},0,-8.8091781712971366E-4,9.5105508039827107E-4,null,null,1.6141054511711564E-3,2.8609382243229048E-6,null,null,0.97736818079437615,0.49358270202109678,null,null,-445493.10452323913,null,-445493.10452323913,6575382.5983262844,-445.49310452323914,6.5753825983262848,28,"CAMPO 4",2.0249686569238143,100000000,1194.0278635495522]
[0,"CAMPO 4",{"$f":"IF(ABS(U251)>$G$110,C251-(C251-$C$144)/4,C251+(C251-$C$144)/4)","v":1194.0271588428438},0,-8.8091752333079531E-4,9.5105359590659305E-4,null,null,1.6141055237327221E-3,2.8609382882436702E-6,null,null,0.97736822473163276,0.49358271347224159,null,null,-445493.12455023127,null,-445493.12455023127,6575371.1606859639,-445.49312455023124,6.5753711606859637,29,"CAMPO 4",2.0249687479555964,100000000,1194.0271588428438]
[0,"CAMPO 4",{"$f":"IF(ABS(U252)>$G$110,C252-(C252-$C$144)/4,C252+(C252-$C$144)/4)","v":1194.0266303128126},0,-8.8091730298198092E-4,9.5105248253972647E-4,null,null,1.6141055781537577E-3,2.8609383361841083E-6,null,null,0.97736825768449132,0.49358272206058018,null,null,-445493.13957043708,null,-445493.13957043708,6575362.5824749526,-445.49313957043711,6.5753625824749529,30,"CAMPO 4",2.0249688162292596,100000000,1194.0266303128126]
[null,null,null,null,null,null,null,null,null,null,null,null,null,null,null,null,null,null,null,null,null,null,null,null,{"$f":"MINA(Z113:Z253)","v":1.1702976431988645}]
[]
[null,null,null,null,null,null,null,null,null,null,null,null,null,null,null,null,null,null,null,null,null,null,"y(verifica)",{"$f":"VLOOKUP(Y254,Z113:AA253,2,FALSE)","v":1210.0610373738209}]
[]
[]
[null,null,{"$f":"+B259+1","v":1},2,3,4,5,6,7,8,9,10,11,12,13,14,15,16,17,18,19,21]
[null,null,"Y[mm]","εm_inf [-]","εm_sup [-]","εf_inf [-]","εf_sup [-]","A(σ-ε)","Sy(σ-ε)","A(σ-ε)","Sy(σ-ε)","β1","β2","k1","k2","C  [N]","T  [N]","Ned  [N]","MRd  [Nmm]","Ned  [kN]","MRd  [kNm]"]
[null,{"$f":"V261","v":"CAMPO 3"},{"$f":"X256","v":1210.0610373738209},{"$f":"VLOOKUP($C$261,MNP_V!$D$114:$V$253,D259,FALSE)","v":0},{"$f":"VLOOKUP($C$261,MNP_V!$D$114:$V$253,E259,FALSE)","v":-3.5000000000000005E-3},{"$f":"VLOOKUP($C$261,MNP_V!$D$114:$V$253,F259,FALSE)","v":0},{"$f":"VLOOKUP($C$261,MNP_V!$D$114:$V$253,G259,FALSE)","v":0},{"$f":"VLOOKUP($C$261,MNP_V!$D$114:$V$253,H259,FALSE)","v":1.5150573576481346E-3},{"$f":"VLOOKUP($C$261,MNP_V!$D$114:$V$253,I259,FALSE)","v":2.8637968509798352E-6},{"$f":"VLOOKUP($C$261,MNP_V!$D$114:$V$253,J259,FALSE)","v":0},{"$f":"VLOOKUP($C$261,MNP_V!$D$114:$V$253,K259,FALSE)","v":0},{"$f":"VLOOKUP($C$261,MNP_V!$D$114:$V$253,L259,FALSE)","v":0.91739288307915767},{"$f":"VLOOKUP($C$261,MNP_V!$D$114:$V$253,M259,FALSE)","v":0.4599361749718297},{"$f":"VLOOKUP($C$261,MNP_V!$D$114:$V$253,N259,FALSE)","v":0},{"$f":"VLOOKUP($C$261,MNP_V!$D$114:$V$253,O259,FALSE)","v":0.33300000000000002},{"$f":"VLOOKUP($C$261,MNP_V!$D$114:$V$253,P259,FALSE)","v":-219997.42534518498},{"$f":"VLOOKUP($C$261,MNP_V!$D$114:$V$253,Q259,FALSE)","v":0},{"$f":"VLOOKUP($C$261,MNP_V!$D$114:$V$253,R259,FALSE)","v":-219997.42534518498},{"$f":"VLOOKUP($C$261,MNP_V!$D$114:$V$253,S259,FALSE)","v":130557286.17060056},{"$f":"VLOOKUP($C$261,MNP_V!$D$114:$V$253,T259,FALSE)","v":-219.99742534518498},{"$f":"VLOOKUP($C$261,MNP_V!$D$114:$V$253,U259,FALSE)","v":130.55728617060058},{"$f":"VLOOKUP($C$261,MNP_V!$D$114:$X$253,V259,FALSE)","v":"CAMPO 3"}]
[]
[]
[]
[null,null,"β1",{"$f":"MNP_V!L261","v":0.91739288307915767}]
[null,null,"β2",{"$f":"MNP_V!M261","v":0.4599361749718297}]
[null,null,"k1",{"$f":"MNP_V!N261","v":0}]
[null,null,"k2",{"$f":"MNP_V!O261","v":0.33300000000000002}]
[null,null,"C  [kN]",{"$f":"MNP_V!P261/1000","v":-219.99742534518498}]
[null,null,"T  [kN]",{"$f":"MNP_V!Q261/1000","v":0}]

{"sheet":"MNP_VR","index":13,"n_rows":270,"n_cols":32,"rows_kept":270,"cut":false,"hidden":true,"merged":[[61,0,107,0],[4,5,8,6],[10,7,10,8],[10,9,10,10],[10,25,10,26],[12,0,27,0],[28,0,38,0],[39,0,49,0],[50,0,60,0]]}
[]
[]
[null,null,"t parete=S",{"$f":"INPUT!F39*1000+IF('FOGLIO DEPOSITO'!M94=0,0,INPUT!F69*2*10)","v":480},"mm"]
[null,null,"B parete=H",{"$f":"INPUT!F38*1000","v":2300},"mm",null,null,null,null,null,"fmd",{"$f":"MATERIALI!K77","v":0.70777777777777762},"N/mm2",null,null,null,null,null,"εmu",{"$f":"MATERIALI!J88","v":-3.5000000000000001E-3},"[‰]"]
[null,null,"facce",{"$f":"10^-9","v":1.0000000000000001E-9},"-","FRCM non operativo sulla muratura non rinforzata",null,null,null,null,"Ed",{"$f":"MATERIALI!J80","v":1440.0000000000002},"N/mm2",null,null,null,null,null,"εm1",{"$f":"MATERIALI!J87","v":-4.9151234567901215E-4},"[‰]"]
[null,null,"nf",{"$f":"MNPR!D6","v":1},"-",null,null,null,null,null,"Ef",{"$f":"MNPR!L6","v":52000},"N/mm2"]
[null,null,"tVf",{"$f":"MNPR!D7","v":6.3E-2},"mm",null,null,null,null,null,"ffd",{"$f":"MNPR!L7","v":1.5095808E-8},"N/mm2",null,null,null,null,null,"εfd",{"$f":"MNPR!T7","v":7.6800000000000002E-3},"[‰]"]
[null,null,"a",{"$f":"MNPR!D8","v":1},"-",null,null,null,null,null,"Seq",{"$f":"+D5*D6*D7*D8","v":6.3000000000000002E-11},null,null,null,null,null,null,null,null,null,null,null,null,null,{"$f":"IF(ABS('FOGLIO DEPOSITO'!F305)<AC9,AC9,ABS('FOGLIO DEPOSITO'!F305))","v":220}]
[null,null,"η",{"$f":"MNPR!D9","v":0.9},"-",null,null,null,null,null,"RO",{"$f":"$T$5/$T$4*$D$4","v":322.99382716049365},null,null,null,null,null,null,null,null,null,null,null,null,null,"Ned  [kN]","MRd  [kNm]",null,{"$f":"MINA(AE13:AE108)","v":2.9504482103911468E-3}]
[null,null,"γmFRCM",{"$f":"MNPR!D10","v":1.5},"-",null,null,null,null,null,null,null,null,null,null,null,null,null,null,null,null,null,null,null,null,{"$f":"VLOOKUP(AA10,AA13:AB108,2,)","v":183.56444226478146},{"$f":"VLOOKUP(Z8,Z13:AA108,2,TRUE)","v":155.02475851918155},{"$f":"VLOOKUP(Z8,Z13:AF108,7,TRUE)","v":"CAMPO 2B"}]
[null,null,null,null,null,null,null,"muratura",null,"FRCM",null,null,null,null,null,null,null,null,null,null,null,null,null,null,null,"COPPIA DI VERIFICA",null,null,"y",{"$f":"AC13","v":-100000000000}]
[null,null,"Y[mm]","εm_inf [-]","εm_sup [-]","εf_inf [-]","εf_sup [-]","A(σ-ε)","Sy(σ-ε)","A(σ-ε)","Sy(σ-ε)","β1","β2","k1","k2","C  [N]","T  [N]","Ned  [N]","MRd  [Nmm]","Ned  [kN]","MRd  [kNm]","-MRd  [kNm]",null,null,null,"Ned  [kN]","MRd  [kNm]",null,-100000000000,-5000]
["CAMPO 1",{"$f":"+B14+1","v":14},-100000000000,null,null,{"$f":"$T$7","v":7.6800000000000002E-3},{"$f":"+$T$7*(ABS(C13)/(ABS(C13)+$D$4))","v":7.6799998233600042E-3},null,null,{"$f":"(G13+F13)/2*$L$7","v":1.1593580410673827E-10},{"$f":"1/6*(2*G13+$T$7)*$L$7","v":5.7967901831158852E-11},null,null,{"$f":"+J13/($T$7*$L$7)","v":0.99999998850000027},{"$f":"+K13/J13","v":0.4999999980833334},0,{"$f":"$L$8*$D$4*$L$6*$T$7*N13","v":5.786726333452648E-5},{"$f":"Q13+P13","v":5.786726333452648E-5},{"$f":"+Q13*($D$4/2-O13*$D$4)","v":2.5509817222928618E-10},{"$f":"+R13/1000","v":5.7867263334526483E-8},{"$f":"+S13/1000000","v":2.5509817222928619E-16},{"$f":"-U13","v":-2.5509817222928619E-16},null,null,null,{"$f":"IF(T13>0,0,ABS(T13))","v":0},{"$f":"IF(T13>0,0,U13)","v":0},{"$f":"Z13","v":0},{"$f":"C13","v":-100000000000},-4615.3846153846152,{"$f":"IF(Z13=0,10^7,Z13)","v":10000000},"CAMPO 1"]
[null,13,-5000,null,null,7.6800000000000002E-3,5.2602739726027399E-3,null,null,{"$f":"(G14+F14)/2*$L$7","v":9.7671945678904108E-11},4.5791996212602736E-11,null,null,0.84246575342465746,{"$f":"+K14/J14","v":0.46883468834688347},0,4.8751188164383558E-5,{"$f":"Q14+P14","v":4.8751188164383558E-5},{"$f":"+Q14*($D$4/2-O14*$D$4)","v":3.4944957369862969E-3},{"$f":"+R14/1000","v":4.8751188164383556E-8},{"$f":"+S14/1000000","v":3.4944957369862968E-9},{"$f":"-U14","v":-3.4944957369862968E-9},null,null,null,{"$f":"IF(T14>0,0,ABS(T14))","v":0},{"$f":"IF(T14>0,0,U14)","v":0},{"$f":"Z14","v":0},{"$f":"C14","v":-5000},-4230.7692307692314,{"$f":"IF(Z14=0,10^7,Z14)","v":10000000},"CAMPO 1"]
[null,12,{"$f":"+$C$14/$B$14*B15","v":-4615.3846153846152},null,null,7.6800000000000002E-3,5.1256952169076754E-3,null,null,9.6656158150478304E-11,4.5114804526985537E-11,null,null,0.83370411568409342,0.46675561485434736,0,4.8244176160177978E-5,4.8244176160177978E-5,3.6888503385984405E-3,{"$f":"+R15/1000","v":4.8244176160177975E-8},{"$f":"+S15/1000000","v":3.6888503385984405E-9},-3.6888503385984405E-9,null,null,null,0,0,{"$f":"Z15","v":0},-4615.3846153846152,-4230.7692307692314,10000000,"CAMPO 1"]
[null,{"$f":"+B18+1","v":11},-4230.7692307692314,null,null,7.6800000000000002E-3,4.975265017667845E-3,null,null,9.5520725447915195E-11,4.4357849391943469E-11,null,null,0.8239104829210836,0.46437931856087689,0,4.7677445427561837E-5,4.7677445427561837E-5,3.9060971194346261E-3,4.7677445427561834E-8,3.9060971194346257E-9,-3.9060971194346257E-9,null,null,null,0,0,0,-4230.7692307692314,-3846.1538461538466,10000000,"CAMPO 1"]
[null,11,-4230.7692307692314,null,null,7.6800000000000002E-3,4.975265017667845E-3,null,null,9.5520725447915195E-11,4.4357849391943469E-11,null,null,0.8239104829210836,0.46437931856087689,0,4.7677445427561837E-5,4.7677445427561837E-5,3.9060971194346261E-3,4.7677445427561834E-8,3.9060971194346257E-9,-3.9060971194346257E-9,null,null,null,0,0,0,-4230.7692307692314,-3461.5384615384619,10000000,"CAMPO 1"]
[null,10,-3846.1538461538466,null,null,7.6800000000000002E-3,4.8060075093867335E-3,null,null,9.424318602413017E-11,4.3506156442753435E-11,null,null,0.81289111389236546,0.46163715678727213,0,4.7039784690863585E-5,4.7039784690863585E-5,4.1505337351689714E-3,4.7039784690863584E-8,4.1505337351689714E-9,-4.1505337351689714E-9,null,null,null,0,0,0,-3846.1538461538466,-3076.9230769230771,10000000,"CAMPO 1"]
[null,9,-3461.5384615384619,null,null,7.6800000000000002E-3,4.6141522029372493E-3,null,null,9.2795080589158883E-11,4.2540752819439246E-11,null,null,0.80040053404539391,0.45843758687795377,0,4.6316989009345796E-5,4.6316989009345796E-5,4.4276054130841253E-3,4.6316989009345795E-8,4.4276054130841253E-9,-4.4276054130841253E-9,null,null,null,0,0,0,-3461.5384615384619,-2692.3076923076924,10000000,"CAMPO 1"]
[null,8,-3076.9230769230771,null,null,7.6800000000000002E-3,4.394849785407726E-3,null,null,9.113980699467812E-11,4.1437237089785404E-11,null,null,0.78612303290414887,0.45465574764937816,0,4.5490789081545073E-5,4.5490789081545073E-5,4.7443153854077325E-3,4.5490789081545075E-8,4.7443153854077322E-9,-4.7443153854077322E-9,null,null,null,0,0,0,-3076.9230769230771,-2307.6923076923076,10000000,"CAMPO 1"]
[null,7,-2692.3076923076924,null,null,7.6800000000000002E-3,4.1417565485362103E-3,null,null,8.9229483539722661E-11,4.0163688119815105E-11,null,null,0.76964560862865961,0.4501167834501168,0,4.4537285620955324E-5,4.4537285620955324E-5,5.1098250453004614E-3,4.4537285620955326E-8,5.1098250453004614E-9,-5.1098250453004614E-9,null,null,null,0,0,0,-2692.3076923076924,-1923.0769230769233,10000000,"CAMPO 1"]
[null,6,-2307.6923076923076,null,null,7.6800000000000002E-3,3.8464106844741234E-3,null,null,8.7000241310984975E-11,3.8677526633989985E-11,null,null,0.75041736227045075,0.44456803856136451,0,4.3424599612687813E-5,4.3424599612687813E-5,5.5363546818030041E-3,4.3424599612687811E-8,5.5363546818030039E-9,-5.5363546818030039E-9,null,null,null,0,0,0,-2307.6923076923076,-1538.4615384615386,10000000,"CAMPO 1"]
[null,5,-1923.0769230769233,null,null,7.6800000000000002E-3,3.4972677595628415E-3,null,null,8.4364944031475403E-11,3.6920661780983603E-11,null,null,0.72768670309653904,0.43763037129745513,0,4.2109238557377045E-5,4.2109238557377045E-5,6.0405764196721327E-3,4.2109238557377047E-8,6.0405764196721325E-9,-6.0405764196721325E-9,null,null,null,0,0,0,-1923.0769230769233,-1153.8461538461538,10000000,"CAMPO 1"]
[null,4,-1538.4615384615386,null,null,7.6800000000000002E-3,3.0781563126252506E-3,null,null,8.1201531064689375E-11,3.481171980312625E-11,null,null,0.70040080160320639,0.42870767763471623,0,4.0530278092184371E-5,4.0530278092184371E-5,6.645844597995997E-3,4.0530278092184371E-8,6.6458445979959967E-9,-6.6458445979959967E-9,null,null,null,0,0,0,-1538.4615384615386,-769.23076923076928,10000000,"CAMPO 1"]
[null,3,-1153.8461538461538,null,null,7.6800000000000002E-3,2.5657015590200448E-3,null,null,7.7333571780133635E-11,3.223308028008909E-11,null,null,0.66703786191536751,0.41680578742348362,0,3.8599656053452118E-5,3.8599656053452118E-5,7.3859163795100199E-3,3.8599656053452118E-8,7.3859163795100196E-9,-7.3859163795100196E-9,null,null,null,0,0,0,-1153.8461538461538,-384.61538461538464,10000000,"CAMPO 1"]
[null,2,-769.23076923076928,null,null,7.6800000000000002E-3,1.9248120300751879E-3,null,null,7.2496199141052626E-11,2.9008165187368421E-11,null,null,0.62531328320802004,0.40013360053440217,0,3.6185168842105261E-5,3.6185168842105261E-5,8.3114698105263111E-3,3.6185168842105264E-8,8.3114698105263117E-9,-8.3114698105263117E-9,null,null,null,0,0,0,-769.23076923076928,0,10000000,"CAMPO 1"]
[null,{"$f":"+B28+1","v":1},-384.61538461538464,null,null,7.6800000000000002E-3,1.1002865329512895E-3,null,null,6.6272759843209167E-11,2.4859205655472779E-11,null,null,0.57163323782234954,0.37510442773600672,0,3.3078851484240684E-5,3.3078851484240684E-5,9.502224797707735E-3,3.3078851484240686E-8,9.5022247977077355E-9,-9.5022247977077355E-9,null,null,null,0,0,0,{"$f":"C27","v":-384.61538461538464},0,10000000,"CAMPO 1"]
[null,0,{"$f":"+$C$14/$B$14*B28","v":0},null,null,7.6800000000000002E-3,0,null,null,5.7967902720000002E-11,1.9322634239999998E-11,null,null,0.5,0.33333333333333331,0,2.8933632000000001E-5,2.8933632000000001E-5,1.1091225600000001E-2,2.8933632000000001E-8,1.1091225600000001E-8,-1.1091225600000001E-8,null,null,null,0,0,0,0,13.834383982293193,10000000,"CAMPO 1"]
["CAMPO 2A",0,{"$f":"+$C$39/$B$39*B29","v":0},null,{"$f":"-$T$7*C29/($D$4-C29)","v":0},7.6800000000000002E-3,null,{"$f":"$L$4/ABS($T$5)*ABS(E29)^2/2","v":0},{"$f":"+$L$4/(ABS($T$5))*ABS(E29)^3/3","v":0},null,null,{"$f":"H29/($L$4*ABS($T$4))","v":0},0,null,null,{"$f":"-$L$4*$D$3*C29*L29","v":0},{"$f":"$L$8*($D$4-C29)*$L$6*F29*0.5","v":2.8933632000000001E-5},2.8933632000000001E-5,{"$f":"-P29*($D$4/2-M29*C29)+Q29*($D$4/6+C29/3)","v":1.1091225599999999E-2},{"$f":"+R29/1000","v":2.8933632000000001E-8},1.1091225599999999E-8,-1.1091225599999999E-8,null,null,null,0,0,0,{"$f":"C29","v":0},27.668767964586387,10000000,"CAMPO 2A"]
[null,{"$f":"+B29+1","v":1},13.834383982293193,null,-4.64743534937273E-5,7.6800000000000002E-3,null,{"$f":"$L$4/ABS($T$5)*ABS(E30)^2/2","v":1.5551031835151448E-6},{"$f":"+$L$4/(ABS($T$5))*ABS(E30)^3/3","v":4.8181610046602342E-11},null,null,{"$f":"H30/($L$4*ABS($T$4))","v":6.2776087246630666E-4},{"$f":"1-I30/H30/ABS(E30)","v":0.33333333333333337},null,null,{"$f":"-$L$4*$D$3*C30*L30","v":-2.9504769699888098},{"$f":"$L$8*($D$4-C30)*$L$6*F30*0.5","v":2.8759597663004187E-5},-2.9504482103911469,{"$f":"-P30*($D$4/2-M30*C30)+Q30*($D$4/6+C30/3)","v":3379.453662178762},{"$f":"+R30/1000","v":-2.9504482103911468E-3},{"$f":"+S30/1000000","v":3.3794536621787621E-3},-3.3794536621787621E-3,null,null,null,2.9504482103911468E-3,3.3794536621787621E-3,2.9504482103911468E-3,13.834383982293193,41.503151946879584,2.9504482103911468E-3,"CAMPO 2A"]
[null,{"$f":"+B30+1","v":2},27.668767964586387,null,-9.3514596363525131E-5,7.6800000000000002E-3,null,6.2963854077837813E-6,3.9253595997205987E-10,null,null,2.5417119834067747E-3,{"$f":"1-I31/H31/ABS(E31)","v":0.33333333333333337},null,null,-23.892099684147713,2.8585563326008373E-5,-23.892071098584388,27255.570870762436,{"$f":"+R31/1000","v":-2.3892071098584388E-2},{"$f":"+S31/1000000","v":2.7255570870762438E-2},-2.7255570870762438E-2,null,null,null,2.3892071098584388E-2,2.7255570870762438E-2,2.3892071098584388E-2,27.668767964586387,55.337535929172773,2.3892071098584388E-2,"CAMPO 2A"]
[null,3,41.503151946879584,null,-1.4113112764660286E-4,7.6800000000000002E-3,null,1.4340956537377234E-5,1.3493035784339799E-9,null,null,5.7891280034265587E-3,0.33333333333333348,null,null,{"$f":"-$L$4*$D$3*C32*L32","v":-81.626728900712692},2.8411528989012573E-5,-81.626700489183705,92741.494009130693,-8.1626700489183704E-2,9.274149400913069E-2,-9.274149400913069E-2,null,null,null,8.1626700489183704E-2,9.274149400913069E-2,8.1626700489183704E-2,41.503151946879584,69.171919911465963,8.1626700489183704E-2,"CAMPO 2A"]
[null,4,55.337535929172773,null,-1.8933460274704218E-4,7.6800000000000002E-3,null,2.5810266094113796E-5,3.2578509851496585E-9,null,null,1.0419035427092362E-2,0.33333333333333337,null,null,-195.87792374736435,2.8237494652016759E-5,-195.87789550986969,221646.48977367257,-0.1958778955098697,0.22164648977367257,-0.22164648977367257,null,null,null,0.1958778955098697,0.22164648977367257,0.1958778955098697,55.337535929172773,83.006303893759167,0.1958778955098697,"CAMPO 2A"]
[null,5,69.171919911465963,null,-2.3813594138503736E-4,7.6800000000000002E-3,null,4.0830283137123326E-5,6.48210527458432E-9,null,null,1.6482285186549001E-2,0.33333333333333326,null,null,-387.3338160169472,2.8063460315020945E-5,-387.33378795348688,436503.02525737463,-0.38733378795348689,0.43650302525737461,-0.43650302525737461,null,null,null,0.38733378795348689,0.43650302525737461,0.38733378795348689,69.171919911465963,96.840687876052357,0.38733378795348689,"CAMPO 2A"]
[null,6,83.006303893759167,null,-2.8754633584376292E-4,7.6800000000000002E-3,null,5.953168458516536E-5,{"$f":"+$L$4/(ABS($T$5))*ABS(E35)^3/3","v":1.1412078512713948E-8},null,null,2.4031628673087613E-2,0.33333333333333337,null,null,{"$f":"-$L$4*$D$3*C35*L35","v":-677.69212827204387},2.7889425978025138E-5,-677.69210038261792,760595.05272687727,-0.67769210038261796,0.76059505272687722,-0.76059505272687722,null,null,null,0.67769210038261796,0.76059505272687722,0.67769210038261796,83.006303893759167,110.67507185834555,0.67769210038261796,"CAMPO 2A"]
[null,7,96.840687876052357,null,-3.3757725952694983E-4,7.6800000000000002E-3,null,8.2050052427802472E-5,1.8465487895080077E-8,null,null,3.3121797346948749E-2,0.33333333333333326,null,null,-1089.707453811367,2.7715391641029325E-5,-1089.7074260959753,1217987.5769317134,-1.0897074260959754,1.2179875769317134,-1.2179875769317134,null,null,null,1.0897074260959754,1.2179875769317134,1.0897074260959754,96.840687876052357,124.50945584063874,1.0897074260959754,"CAMPO 2A"]
[null,8,110.67507185834555,null,-3.8824047584091543E-4,7.6800000000000002E-3,null,1.0852608029844993E-4,2.8089478037479737E-8,null,null,4.3809586126308572E-2,0.33333333333333315,null,null,-1647.2409237305862,2.7541357304033507E-5,-1647.240896189229,1833557.5713297783,-1.6472408961892291,1.8335575713297783,-1.8335575713297783,null,null,null,1.6472408961892291,1.8335575713297783,1.6472408961892291,110.67507185834555,138.34383982293193,1.6472408961892291,"CAMPO 2A"]
[null,9,124.50945584063874,null,-4.3954804741548831E-4,7.6800000000000002E-3,null,1.3910578991047326E-4,{"$f":"+$L$4/(ABS($T$5))*ABS(E38)^3/3","v":4.0762452226225106E-8},null,null,5.6153940757760014E-2,0.33333333333333326,null,null,-2375.312393970547,2.73673229670377E-5,-2375.3123666032238,2633026.3134845002,-2.3753123666032239,2.6330263134845002,-2.6330263134845002,null,null,null,2.3753123666032239,2.6330263134845002,2.3753123666032239,124.50945584063874,138.34383982293193,2.3753123666032239,"CAMPO 2A"]
[null,10,{"$f":"ABS($T$5)*ABS($D$4)/(ABS($T$7)+ABS($T$5))","v":138.34383982293193},null,-4.9151234567901215E-4,7.6800000000000002E-3,null,1.7394075788751705E-4,5.6996019945652423E-8,null,null,7.0216049382716014E-2,0.33333333333333337,null,null,-3300.1552934221763,2.7193288630041893E-5,-3300.1552662288877,3642993.2140122722,-3.3001552662288876,3.6429932140122721,-3.6429932140122721,null,null,null,3.3001552662288876,3.6429932140122721,3.3001552662288876,138.34383982293193,196.51303365817006,3.3001552662288876,"CAMPO 2A"]
["CAMPO 2B",0,{"$f":"+($C$50-$C$39)/$B$50*B40+$C$39","v":138.34383982293193},null,-4.9151234567901215E-4,7.6800000000000002E-3,null,{"$f":"$L$4*(ABS(E40)-ABS($T$5)/2)","v":1.7394075788751705E-4},{"$f":"$I$39+$L$4*(ABS(E40)^2-ABS($T$5)^2)/2","v":5.6996019945652423E-8},null,null,7.0216049382716014E-2,{"$f":"1-I40/H40/ABS(E40)","v":0.33333333333333337},null,null,-3300.1552934221763,2.7193288630041893E-5,-3300.1552662288877,3642993.2140122722,-3.3001552662288876,3.6429932140122721,-3.6429932140122721,null,null,null,3.3001552662288876,3.6429932140122721,3.3001552662288876,{"$f":"C40","v":138.34383982293193},254.68222749340816,3.3001552662288876,"CAMPO 2B"]
[null,{"$f":"+B40+1","v":1},196.51303365817006,null,-7.1748488231397406E-4,7.6800000000000002E-3,null,{"$f":"$L$4*(ABS(E41)-ABS($T$5)/2)","v":3.3387909770581781E-4},1.5367852469071538E-7,null,null,0.13477963127841941,0.35847852834692406,null,null,-8998.1615129448437,2.6461529478665606E-5,-8998.1614864833136,9714003.9373158216,-8.9981614864833137,9.7140039373158213,-9.7140039373158213,null,null,null,8.9981614864833137,9.7140039373158213,8.9981614864833137,196.51303365817006,312.85142132864632,8.9981614864833137,"CAMPO 2B"]
[null,{"$f":"+B41+1","v":2},254.68222749340816,null,-9.5631081558162669E-4,7.6800000000000002E-3,null,5.0291478602970078E-4,2.9514412864438384E-7,null,null,0.20301561221203443,0.38632182776455459,null,null,-17565.73137537119,2.572977032728933E-5,-17565.731349641421,18472311.016048182,-17.565731349641421,18.472311016048181,-18.472311016048181,null,null,null,17.565731349641421,18.472311016048181,17.565731349641421,254.68222749340816,371.02061516388437,17.565731349641421,"CAMPO 2B"]
[null,3,312.85142132864632,null,-1.2091189061516955E-3,7.6800000000000002E-3,null,6.8184673457762719E-4,4.8887640842105263E-7,null,null,0.27524649523205408,0.40701555232151554,null,null,-29254.864462752943,2.4998011175913046E-5,-29254.864437754932,29917914.450209353,-29.254864437754932,29.917914450209352,-29.917914450209352,null,null,null,29.254864437754932,29.917914450209352,29.254864437754932,312.85142132864632,429.18980899912253,29.254864437754932,"CAMPO 2B"]
[null,4,371.02061516388437,null,-1.4771740677263475E-3,7.6800000000000002E-3,null,8.7157022115879755E-4,7.4370284291237414E-7,null,null,0.35183368425338324,0.42234919427902484,null,null,-44347.956975477915,2.4266252024536763E-5,-44347.956951211665,44050814.239799351,-44.347956951211664,44.050814239799351,-44.050814239799351,null,null,null,44.347956951211664,44.050814239799351,44.347956951211664,371.02061516388437,487.35900283436069,44.347956951211664,"CAMPO 2B"]
[null,5,429.18980899912253,null,-1.7618985341050642E-3,7.6800000000000002E-3,null,1.0730918712512892E-3,1.0700744706575973E-6,null,null,0.43318353179015945,0.43402636114642346,null,null,-63162.527350059667,2.3534492873160479E-5,-63162.527326525174,60871010.384818144,-63.162527326525172,60.871010384818142,-60.871010384818142,null,null,null,63.162527326525172,60.871010384818142,63.162527326525172,429.18980899912253,545.52819666959874,63.162527326525172,"CAMPO 2B"]
[null,6,487.35900283436069,null,-2.0648971018643806E-3,7.6800000000000002E-3,null,1.2875475242098275E-3,1.4804134490829536E-6,null,null,0.51975455114996405,0.44317164938008113,null,null,-86056.851771531597,2.2802733721784199E-5,-86056.851748728863,80378502.885265753,-86.05685174872886,80.378502885265746,-80.378502885265746,null,null,null,86.05685174872886,80.378502885265746,86.05685174872886,487.35900283436069,603.6973905048369,86.05685174872886,"CAMPO 2B"]
[null,7,545.52819666959874,null,-2.3879873945363856E-3,7.6800000000000002E-3,null,1.5162236535787913E-3,1.9895476446649499E-6,null,null,0.61206606334196567,0.45051094490618737,null,null,-113436.7207521776,2.2070974570407912E-5,-113436.72073010662,102573291.74114223,-113.43672073010663,102.57329174114223,-102.57329174114223,null,null,null,113.43672073010663,102.57329174114223,113.43672073010663,545.52819666959874,661.86658434007506,113.43672073010663,"CAMPO 2B"]
[null,8,603.6973905048369,null,-2.7332363536580221E-3,7.6800000000000002E-3,null,1.7605831946459938E-3,2.6152575870705724E-6,null,null,0.71070862309100458,0.45652354967835806,null,null,-145763.58587992535,2.1339215419031636E-5,-145763.58585858613,127455376.95244746,-145.76358585858614,127.45537695244747,-127.45537695244747,null,null,null,145.76358585858614,127.45537695244747,145.76358585858614,603.6973905048369,720.03577817531311,145.76358585858614,"CAMPO 2B"]
[null,9,{"$f":"+($C$50-$C$39)/$B$50*B49+$C$39","v":661.86658434007506},null,-3.1030045044798909E-3,7.6800000000000002E-3,null,2.0222968747276942E-3,3.3789696234838E-6,null,null,0.81635666618296709,0.46153563081414939,null,null,-183564.44228538891,{"$f":"$L$8*($D$4-C49)*$L$6*F49*0.5","v":2.0607456267655352E-5},-183564.44226478145,155024758.51918155,-183.56444226478146,155.02475851918155,-155.02475851918155,null,null,null,183.56444226478146,155.02475851918155,183.56444226478146,661.86658434007506,720.03577817531311,183.56444226478146,"CAMPO 2B"]
[null,10,{"$f":"ABS($T$4)*ABS($D$4)/(ABS($T$7)+ABS($T$4))","v":720.03577817531311},null,-3.5000000000000005E-3,7.6800000000000002E-3,null,{"$f":"$L$4*(ABS(E50)-ABS($T$5)/2)","v":2.3032814643347051E-3},4.3066408789160634E-6,null,null,0.92978395061728414,0.46577574577805092,null,null,-227443.89415255049,{"$f":"$L$8*($D$4-C50)*$L$6*F50*0.5","v":1.9875697116279069E-5},-227443.89413267479,185281436.44134444,-227.44389413267479,185.28143644134445,-185.28143644134445,null,null,null,227.44389413267479,185.28143644134445,227.44389413267479,720.03577817531311,878.03220035778179,227.44389413267479,"CAMPO 2B"]
["CAMPO 3",0,{"$f":"+($C$61-$C$50)/$B$61*B51+$C$50","v":720.03577817531311},null,-3.5000000000000005E-3,{"$f":"ABS($T$4)*($D$4-C51)/C51","v":7.6799999999999985E-3},null,{"$f":"$H$50","v":2.3032814643347051E-3},{"$f":"$I$50","v":4.3066408789160634E-6},{"$f":"+$L$7*(F51-F51^2/(2*$T$7))","v":5.7967902720000002E-11},null,0.92978395061728414,0.46577574577805092,{"$f":"+J51/($T$7*$L$7)","v":0.5},0.33300000000000002,-227443.89415255049,{"$f":"$L$8*($D$4-C51)*$L$6*F51*N51","v":1.9875697116279065E-5},-227443.89413267479,185281436.44134444,-227.44389413267479,185.28143644134445,-185.28143644134445,null,null,null,227.44389413267479,185.28143644134445,227.44389413267479,{"$f":"C51","v":720.03577817531311},1036.0286225402506,227.44389413267479,"CAMPO 3"]
[null,{"$f":"+B51+1","v":1},878.03220035778179,null,-3.5000000000000005E-3,5.6682286785379567E-3,null,{"$f":"$H$50","v":2.3032814643347051E-3},{"$f":"$I$50","v":4.3066408789160634E-6},5.3990291120360413E-11,null,0.92978395061728414,0.46577574577805092,0.46569125832572827,0.33300000000000002,-277351.58292659582,{"$f":"$L$8*($D$4-C52)*$L$6*F52*N52","v":1.2296431754692256E-5},-277351.58291429939,205526924.36050349,-277.3515829142994,205.5269243605035,-205.5269243605035,null,null,null,277.3515829142994,205.5269243605035,277.3515829142994,878.03220035778179,1194.025044722719,277.3515829142994,"CAMPO 3"]
[null,{"$f":"+B52+1","v":2},1036.0286225402506,null,-3.5000000000000005E-3,4.2700555996822874E-3,null,2.3032814643347051E-3,4.3066408789160634E-6,4.654017870472992E-11,null,0.92978395061728414,0.46577574577805092,0.40143058935158521,0.33300000000000002,-327259.2717006412,7.0978223542659967E-6,-327259.27169354336,218426908.67601827,-327.25927169354338,218.42690867601826,-218.42690867601826,null,null,null,327.25927169354338,218.42690867601826,327.25927169354338,1036.0286225402506,1352.0214669051879,327.25927169354338,"CAMPO 3"]
[null,3,1194.025044722719,null,-3.5000000000000005E-3,3.2419021364576161E-3,null,2.3032814643347051E-3,4.3066408789160634E-6,3.8609973531138249E-11,null,0.92978395061728414,0.46577574577805092,0.33302889805789965,0.33300000000000002,-377166.96047468646,3.9117492376069592E-6,-377166.96047077473,223981389.38797712,-377.16696047077471,223.98138938797712,-223.98138938797712,null,null,null,377.16696047077471,223.98138938797712,377.16696047077471,1194.025044722719,1510.0178890876564,377.16696047077471,"CAMPO 3"]
[null,4,1352.0214669051879,null,-3.5000000000000005E-3,2.4540474741326836E-3,null,2.3032814643347051E-3,4.3066408789160634E-6,3.1127064889986063E-11,null,0.92978395061728414,0.46577574577805092,0.2684853464540356,0.33300000000000002,-427074.64924873196,2.0461899321705335E-6,-427074.64924668579,222190366.49612105,-427.07464924668579,222.19036649612104,-222.19036649612104,null,null,null,427.07464924668579,222.19036649612104,427.07464924668579,1352.0214669051879,1668.0143112701253,427.07464924668579,"CAMPO 3"]
[null,5,1510.0178890876564,null,-3.5000000000000005E-3,1.8310626702997281E-3,null,2.3032814643347051E-3,4.3066408789160634E-6,2.4346248000890949E-11,null,0.92978395061728414,0.46577574577805092,0.20999766127894637,0.33300000000000002,-476982.33802277723,9.9512770350651006E-7,-476982.33802178211,213053840.00020987,-476.98233802178208,213.05384000020987,-213.05384000020987,null,null,null,476.98233802178208,213.05384000020987,476.98233802178208,1510.0178890876564,1826.0107334525937,476.98233802178208,"CAMPO 3"]
[null,6,1668.0143112701253,null,-3.5000000000000005E-3,1.3260976813024173E-3,null,2.3032814643347051E-3,4.3066408789160634E-6,1.829022772886895E-11,null,0.92978395061728414,{"$f":"1-I57/H57/ABS(E57)","v":0.46577574577805092},0.15776168250570916,0.33300000000000002,-526890.02679682267,{"$f":"$L$8*($D$4-C57)*$L$6*F57*N57","v":4.3313989001019049E-7},-526890.02679638949,196571809.90006667,-526.89002679638952,196.57180990006668,-196.57180990006668,null,null,null,526.89002679638952,196.57180990006668,526.89002679638952,1668.0143112701253,1984.0071556350626,526.89002679638952,"CAMPO 3"]
[null,7,1826.0107334525937,null,-3.5000000000000005E-3,9.0851735015772916E-4,null,2.3032814643347051E-3,4.3066408789160634E-6,1.2903596652051473E-11,null,0.92978395061728414,0.46577574577805092,0.1112994954671656,0.33300000000000002,-576797.71557086799,1.5701416048817468E-7,-576797.71557071095,172744276.1955671,-576.79771557071092,172.7442761955671,-172.7442761955671,null,null,null,576.79771557071092,172.7442761955671,576.79771557071092,1826.0107334525937,2142.0035778175311,576.79771557071092,"CAMPO 3"]
[null,8,1984.0071556350626,null,-3.5000000000000005E-3,5.5744504355039403E-4,null,2.3032814643347051E-3,4.3066408789160634E-6,8.1096831850066434E-12,null,0.92978395061728414,0.46577574577805092,6.9949772240152586E-2,0.33300000000000002,-626705.40434491332,4.0365422666054955E-8,-626705.40434487292,141571238.88662422,-626.70540434487293,141.57123888662423,-141.57123888662423,null,null,null,626.70540434487293,141.57123888662423,626.70540434487293,1984.0071556350626,2300,626.70540434487293,"CAMPO 3"]
[null,9,{"$f":"+($C$61-$C$50)/$B$61*B60+$C$50","v":2142.0035778175311},null,-3.5000000000000005E-3,2.5816365731847905E-4,null,2.3032814643347051E-3,4.3066408789160634E-6,3.8316868832496144E-12,null,0.92978395061728414,0.46577574577805092,3.3050073432513642E-2,0.33300000000000002,-676613.09311895864,4.4163011376373148E-9,-676613.09311895422,103052697.97317699,-676.61309311895423,103.05269797317699,-103.05269797317699,null,null,null,676.61309311895423,103.05269797317699,676.61309311895423,2142.0035778175311,2300,676.61309311895423,"CAMPO 3"]
[null,10,{"$f":"D4","v":2300},null,-3.5000000000000005E-3,0,null,2.3032814643347051E-3,4.3066408789160634E-6,0,null,0.92978395061728414,0.46577574577805092,0,0.33300000000000002,-726520.78189300396,0,-726520.78189300396,57188653.45518142,-726.52078189300391,57.188653455181417,-57.188653455181417,null,null,null,726.52078189300391,57.188653455181417,726.52078189300391,2300,2402.2222222222222,726.52078189300391,"CAMPO 3"]
["CAMPO 4",0,{"$f":"+($C$107-$C$61)/$B$107*B62+$C$61","v":2300},{"$f":"-(ABS($T$5)-ABS($T$5)*$L$9/(C62-($D$4-$L$9)))","v":-2.1684043449710089E-19},{"$f":"-(ABS($T$4)-($D$4-$L$9)*ABS(D62)/$L$9)","v":-3.4999999999999988E-3},null,null,{"$f":"$H$61-$L$4/ABS($T$5)*D62^2/2+$L$4*ABS(D62)","v":2.3032814643347051E-3},{"$f":"+$I$61-$L$4/ABS($T$5)*ABS(D62)^3/3+$L$4*(ABS(D62)^2)/2","v":4.3066408789160634E-6},null,null,0.92978395061728414,{"$f":"1-I62/H62/ABS($T$4)","v":0.46577574577805092},null,null,{"$f":"-$L$4*$D$3*$D$4*L62","v":-726520.78189300396},null,-726520.78189300396,{"$f":"-P62*($D$4/2-M62*$D$4)","v":57188653.45518142},-726.52078189300391,57.188653455181417,-57.188653455181417,null,null,null,726.52078189300391,57.188653455181417,726.52078189300391,{"$f":"C62","v":2300},2504.4444444444443,726.52078189300391,"CAMPO 4"]
[null,{"$f":"+B62+1","v":1},{"$f":"+($C$107-$C$61)/$B$107*B63+$C$61","v":2402.2222222222222},{"$f":"-(ABS($T$5)-ABS($T$5)*$L$9/(C63-($D$4-$L$9)))","v":-1.181598961231683E-4},{"$f":"-(ABS($T$4)-($D$4-$L$9)*ABS(D63)/$L$9)","v":-2.7767575588944532E-3},null,null,{"$f":"$H$61-$L$4/ABS($T$5)*D63^2/2+$L$4*ABS(D63)","v":2.3768599450778908E-3},{"$f":"+$I$61-$L$4/ABS($T$5)*ABS(D63)^3/3+$L$4*(ABS(D63)^2)/2","v":4.3107899253085513E-6},null,null,0.95948596123350616,{"$f":"1-I63/H63/ABS($T$4)","v":0.48181453984092026},null,null,{"$f":"-$L$4*$D$3*$D$4*L63","v":-749729.53696171171},null,-749729.53696171171,{"$f":"-P63*($D$4/2-M63*$D$4)","v":31358606.236355718},-749.72953696171169,31.358606236355719,-31.358606236355719,null,null,null,749.72953696171169,31.358606236355719,749.72953696171169,2402.2222222222222,2606.6666666666665,749.72953696171169,"CAMPO 4"]
[null,{"$f":"+B63+1","v":2},{"$f":"+($C$107-$C$61)/$B$107*B64+$C$61","v":2504.4444444444443},-1.9051891730222819E-4,-2.3338567369522948E-3,null,null,{"$f":"$H$61-$L$4/ABS($T$5)*D64^2/2+$L$4*ABS(D64)","v":2.4119923505954949E-3},{"$f":"+$I$61-$L$4/ABS($T$5)*ABS(D64)^3/3+$L$4*(ABS(D64)^2)/2","v":4.3161667768063E-6},null,null,0.97366813883648606,0.48872536542063183,null,null,-760811.3014449788,null,-760811.3014449788,19729099.637584981,-760.81130144497877,19.72909963758498,-19.72909963758498,null,null,null,760.81130144497877,19.72909963758498,760.81130144497877,2504.4444444444443,2708.8888888888887,760.81130144497877,"CAMPO 4"]
[null,3,2606.6666666666665,-2.3938369034197664E-4,-2.0347613679068018E-3,null,null,2.4314526438559379E-3,4.3203357908978943E-6,null,null,0.98152383021769207,0.49232749498065409,null,null,-766949.63394770143,null,-766949.63394770143,13534177.306913257,-766.94963394770139,13.534177306913257,-13.534177306913257,null,null,null,766.94963394770139,13.534177306913257,766.94963394770139,2606.6666666666665,2811.1111111111113,766.94963394770139,"CAMPO 4"]
[null,4,2708.8888888888887,-2.7459855587886619E-4,-1.8192154326974886E-3,null,null,2.4433450758342898E-3,4.3233868000099259E-6,null,null,0.98632454283510251,0.4944417046742261,null,null,-770700.84677744436,null,-770700.84677744436,9852700.7026900612,-770.70084677744433,9.8527007026900613,-9.8527007026900613,null,null,null,770.70084677744433,9.8527007026900613,770.70084677744433,2708.8888888888887,2913.3333333333335,770.70084677744433,"CAMPO 4"]
[null,5,2811.1111111111113,-3.0118203309692677E-4,-1.6565011820330955E-3,null,null,2.4511397701431539E-3,4.3256285625245241E-6,null,null,0.98947108909120374,0.49578808599118485,null,null,-773159.51606801176,null,-773159.51606801176,7489907.2125838948,-773.15951606801173,7.489907212583895,-7.489907212583895,null,null,null,773.15951606801173,7.489907212583895,773.15951606801173,2811.1111111111113,3015.5555555555557,773.15951606801173,"CAMPO 4"]
[null,6,2913.3333333333335,-3.2196108162749556E-4,-1.5293151377306032E-3,null,null,2.456523927800366E-3,4.3273050363013397E-6,null,null,0.99164455484204073,0.49669821916949608,null,null,-774857.83322617249,null,-774857.83322617249,5884344.7022575503,-774.85783322617249,5.8843447022575504,-5.8843447022575504,null,null,null,774.85783322617249,5.8843447022575504,774.85783322617249,2913.3333333333335,3117.7777777777778,774.85783322617249,"CAMPO 4"]
[null,7,3015.5555555555557,-3.3864965443912811E-4,-1.4271664008506102E-3,null,null,2.46039798051359E-3,4.3285840989595105E-6,null,null,0.99320842451770863,0.49734216830633571,null,null,-776079.82013914373,null,-776079.82013914373,4744185.9483918734,-776.07982013914375,4.7441859483918734,-4.7441859483918734,null,null,null,776.07982013914375,4.7441859483918734,776.07982013914375,3015.5555555555557,3220,776.07982013914375,"CAMPO 4"]
[null,8,3117.7777777777778,-3.5234736914886255E-4,-1.3433243448800381E-3,null,null,2.4632780609235238E-3,4.3295788540470169E-6,null,null,0.99437104948695754,0.49781449794428045,null,null,-776988.27978844848,null,-776988.27978844848,3905651.8103195322,-776.98827978844849,3.9056518103195321,-3.9056518103195321,null,null,null,776.98827978844849,3.9056518103195321,776.98827978844849,3117.7777777777778,3322.2222222222222,776.98827978844849,"CAMPO 4"]
[null,9,3220,-3.6379211878926319E-4,-1.2732724157624208E-3,null,null,2.4654772536453484E-3,4.3303661385347114E-6,null,null,0.99525881510689118,0.49817120952000926,null,null,-777681.96800698969,null,-777681.96800698969,3271099.9729687837,-777.68196800698968,3.2710999729687837,-3.2710999729687837,null,null,null,777.68196800698968,3.2710999729687837,777.68196800698968,3220,3424.4444444444443,777.68196800698968,"CAMPO 4"]
[null,10,3322.2222222222222,-3.7349750806215179E-4,-1.2138669012019929E-3,null,null,2.4671944208558534E-3,4.3309990536172401E-6,null,null,0.99595199765430298,0.49844718739099547,null,null,-778223.61160710338,null,-778223.61160710338,2779401.5044757547,-778.22361160710341,2.7794015044757545,-2.7794015044757545,null,null,null,778.22361160710341,2.7794015044757545,778.22361160710341,3322.2222222222222,3526.666666666667,778.22361160710341,"CAMPO 4"]
[null,11,3424.4444444444443,-3.8183205274916888E-4,-1.1628521606451957E-3,null,null,2.4685607902290552E-3,4.3315150137317908E-6,null,null,0.99650357084823959,0.49866508327135439,null,null,-778654.60354653618,null,-778654.60354653618,2390709.8290557931,-778.65460354653612,2.3907098290557931,-2.3907098290557931,null,null,null,778.65460354653612,2.3907098290557931,778.65460354653612,3424.4444444444443,3628.8888888888887,778.65460354653612,"CAMPO 4"]
[null,12,3526.666666666667,-3.8906703313482967E-4,-1.1185677202626347E-3,null,null,2.469665791937384E-3,4.331940890689461E-6,null,null,0.99694963567779593,0.49884012590670945,null,null,-779003.15265682049,null,-779003.15265682049,2078154.8233241539,-779.00315265682048,2.0781548233241538,-2.0781548233241538,null,null,null,779.00315265682048,2.0781548233241538,779.00315265682048,3526.666666666667,3731.1111111111113,779.00315265682048,"CAMPO 4"]
[null,13,3628.8888888888887,-3.9540657976412153E-4,-1.0797641216635625E-3,null,null,2.4705720730879193E-3,4.3322963369394394E-6,null,null,0.99731548139902571,0.4989828603283093,null,null,-779289.01962544641,null,-779289.01962544641,1823085.2884201992,-779.28901962544637,1.8230852884201991,-1.8230852884201991,null,null,null,779.28901962544637,1.8230852884201991,779.28901962544637,3628.8888888888887,{"$f":"AC77","v":3833.3333333333335},779.28901962544637,"CAMPO 4"]
[null,14,3731.1111111111113,-4.0100723953415162E-4,-1.0454831602140376E-3,null,null,2.4713245767706516E-3,4.3325959680240706E-6,null,null,0.99761925054657408,0.49910077618773585,null,null,-779526.38078708539,null,-779526.38078708539,1612227.972951235,-779.52638078708537,1.612227972951235,-1.612227972951235,null,null,null,779.52638078708537,1.612227972951235,779.52638078708537,3731.1111111111113,3935.5555555555557,779.52638078708537,"CAMPO 4"]
[null,15,3833.3333333333335,-4.0599107711918405E-4,-1.0149776927979603E-3,null,null,2.4719562233114431E-3,4.3328508220166325E-6,null,null,0.99787423233025307,0.49919931184676691,null,null,-779725.62015309511,null,-779725.62015309511,1435929.2537065013,-779.72562015309506,1.4359292537065014,-1.4359292537065014,null,null,null,779.72562015309506,1.4359292537065014,779.72562015309506,3833.3333333333335,4037.7777777777778,779.72562015309506,"CAMPO 4"]
[null,16,3935.5555555555557,-4.1045467359349189E-4,-9.8765655833433922E-4,null,null,2.4724915729553969E-3,4.3330693533158486E-6,null,null,0.99809034117957285,0.49928249350784215,null,null,-779894.48472650221,null,{"$f":"Q78+P78","v":-779894.48472650221},1287032.5187754731,-779.89448472650224,1.2870325187754732,{"$f":"-U78","v":-1.2870325187754732},null,null,null,{"$f":"IF(T78>0,0,ABS(T78))","v":779.89448472650224},{"$f":"IF(T78>0,0,U78)","v":1.2870325187754732},779.89448472650224,{"$f":"C78","v":3935.5555555555557},4140,{"$f":"IF(Z78=0,10^7,Z78)","v":779.89448472650224},"CAMPO 4"]
[null,17,4037.7777777777778,-4.1447544685574298E-4,-9.630458912236379E-4,null,null,2.4729492499004015E-3,4.333258121264257E-6,null,null,0.99827509527264491,0.49935335349784937,null,null,-780038.84911144082,null,-780038.84911144082,1160141.6046349367,-780.03884911144087,1.1601416046349367,-1.1601416046349367,null,null,null,780.03884911144087,1.1601416046349367,{"$f":"Z79","v":780.03884911144087},4037.7777777777778,4242.2222222222226,780.03884911144087,"CAMPO 4"]
[null,18,4140,-4.1811617984903172E-4,-9.407614046603209E-4,null,null,2.4733435842680721E-3,4.3334222752196571E-6,null,null,0.99843427936365337,0.49941421081246506,null,null,-780163.23343770031,null,-780163.23343770031,1051125.7293182127,-780.16323343770034,1.0511257293182128,-1.0511257293182128,null,null,null,780.16323343770034,1.0511257293182128,780.16323343770034,4140,4344.4444444444443,780.16323343770034,"CAMPO 4"]
[null,19,4242.2222222222226,-4.2142832271318631E-4,-9.2048817855774857E-4,null,null,2.4736857476241685E-3,4.3335659015417311E-6,null,null,0.99857240316741513,0.49946686342678626,null,null,-780271.16153630905,null,-780271.16153630905,956779.51444969815,-780.27116153630902,0.95677951444969811,-0.95677951444969811,null,null,null,780.27116153630902,0.95677951444969811,780.27116153630902,4242.2222222222226,4446.666666666667,780.27116153630902,"CAMPO 4"]
[null,20,4344.4444444444443,-4.2445443944694308E-4,-9.0196568382475356E-4,null,null,2.4739845530146972E-3,4.3336922753809181E-6,null,null,0.99869302431631657,0.49951272272207237,null,null,-780365.41329377866,null,-780365.41329377866,874584.96907097776,-780.36541329377872,0.87458496907097771,-0.87458496907097771,null,null,null,780.36541329377872,0.87458496907097771,780.36541329377872,4344.4444444444443,4548.8888888888887,780.36541329377872,"CAMPO 4"]
[null,21,4446.666666666667,-4.2723004694835667E-4,-8.8497652582159589E-4,null,null,2.4742470281925522E-3,4.3338040458334475E-6,null,null,0.99879897975927223,0.49955290911857053,null,null,-780448.20546416496,null,-780448.20546416496,802541.93500939,-780.44820546416497,0.80254193500938997,-0.80254193500938997,null,null,null,780.44820546416497,0.80254193500938997,780.44820546416497,4446.666666666667,4651.1111111111113,780.44820546416497,"CAMPO 4"]
[null,22,4548.8888888888887,-4.2978501548747189E-4,-8.6933787223602253E-4,null,null,2.4744788326515679E-3,4.3339033737884864E-6,null,null,0.99889255410917765,0.49958832120223284,null,null,-780521.32321352302,null,-780521.32321352302,739045.38393595198,-780.52132321352303,0.73904538393595198,-0.73904538393595198,null,null,null,780.52132321352303,0.73904538393595198,780.52132321352303,4548.8888888888887,4753.3333333333339,780.52132321352303,"CAMPO 4"]
[null,23,4651.1111111111113,-4.3214464796625653E-4,-8.5489484706368106E-4,null,null,2.4746845652793888E-3,4.3339920357392424E-6,null,null,0.99897560383559103,0.49961968642139243,null,null,-780586.21716241271,null,-780586.21716241271,682795.33661977411,-780.58621716241271,0.6827953366197741,-0.6827953366197741,null,null,null,780.58621716241271,0.6827953366197741,780.58621716241271,4651.1111111111113,4855.5555555555557,780.58621716241271,"CAMPO 4"]
[null,24,4753.3333333333339,-4.3433052075343036E-4,-8.4151538395977081E-4,null,null,2.4748679942289118E-3,4.3340715028009331E-6,null,null,0.999049650058767,0.49964759876284826,null,null,-780644.07589391945,null,-780644.07589391945,632729.85767643386,-780.64407589391942,0.63272985767643386,-0.63272985767643386,null,null,null,780.64407589391942,0.63272985767643386,780.64407589391942,4753.3333333333339,4957.7777777777774,780.64407589391942,"CAMPO 4"]
[null,25,4855.5555555555557,-4.3636114536237829E-4,-8.2908617618851835E-4,null,null,2.4750322306968386E-3,4.3341430014581035E-6,null,null,0.99911594870022657,0.49967254709385145,null,null,-780695.88076837407,null,-780695.88076837407,587974.61044431105,-780.69588076837408,0.5879746104443111,-0.5879746104443111,null,null,null,780.69588076837408,0.5879746104443111,780.69588076837408,4855.5555555555557,5060,780.69588076837408,"CAMPO 4"]
[null,26,4957.7777777777774,-4.3825249398004803E-4,-8.175094599243201E-4,null,null,2.4751798617240655E-3,4.3342075607012165E-6,null,null,0.99917554409134757,0.49969493672243848,null,null,-780742.44781239086,null,-780742.44781239086,547804.45514034724,-780.74244781239088,0.54780445514034726,-0.54780445514034726,null,null,null,780.74244781239088,0.54780445514034726,780.74244781239088,4957.7777777777774,5162.2222222222226,780.74244781239088,"CAMPO 4"]
[null,27,5060,-4.4001842044669572E-4,-8.0670043748560811E-4,null,null,2.4753130527004233E-3,4.334266048920673E-6,null,null,0.99922931035226792,0.49971510596929614,null,null,-780784.46005179046,null,-780784.46005179046,511613.913450644,-780.78446005179046,0.511613913450644,-0.511613913450644,null,null,null,780.78446005179046,0.511613913450644,780.78446005179046,5060,5264.4444444444453,780.78446005179046,"CAMPO 4"]
[null,28,5162.2222222222226,-4.4167100017334011E-4,-7.9658519674120258E-4,null,null,2.4754336272225148E-3,4.3343192030193467E-6,null,null,0.99927798362873455,0.49973333902801187,null,null,-780822.49270104454,null,-780822.49270104454,478894.23516386806,-780.82249270104455,0.47889423516386803,-0.47889423516386803,null,null,null,780.82249270104455,0.47889423516386803,780.82249270104455,5162.2222222222226,5366.666666666667,780.82249270104455,"CAMPO 4"]
[null,29,5264.4444444444453,-4.4322080664123409E-4,-7.8709901869046701E-4,null,null,2.4755431298475231E-3,4.3343676515604961E-6,null,null,0.99932218742443202,0.49974987603427867,null,null,-780857.03295761859,null,-780857.03295761859,449215.43281299062,-780.85703295761857,0.44921543281299064,-0.44921543281299064,null,null,null,780.85703295761857,0.44921543281299064,780.85703295761857,5264.4444444444453,5468.8888888888887,780.85703295761857,"CAMPO 4"]
[null,30,5366.666666666667,-4.4467713787085502E-4,-7.7818499127399595E-4,null,null,2.47564287580511E-3,4.3344119333052067E-6,null,null,0.99936245266858015,0.49976492101550429,null,null,-780888.49568252603,null,-780888.49568252603,422212.09150968632,-780.88849568252601,0.4222120915096863,-0.4222120915096863,null,null,null,780.88849568252601,0.4222120915096863,780.88849568252601,5366.666666666667,5571.1111111111113,780.88849568252601,"CAMPO 4"]
[null,31,5468.8888888888887,-4.4604820311264698E-4,-7.6979286666214834E-4,null,null,2.4757339906755298E-3,4.3344525121579355E-6,null,null,0.99939923373311379,0.49977864821584428,null,null,-780917.23591593839,null,-780917.23591593839,397572.07393023506,-780.91723591593836,0.39757207393023508,-0.39757207393023508,null,null,null,780.91723591593836,0.39757207393023508,780.91723591593836,5468.8888888888887,5673.3333333333339,780.91723591593836,"CAMPO 4"]
[null,32,{"$f":"+($C$107-$C$61)/$B$107*B94+$C$61","v":5571.1111111111113},-4.4734127767902195E-4,-7.6187811354708375E-4,null,null,2.475817442283475E-3,4.3344897892928327E-6,null,null,{"$f":"H94/($L$4*ABS($T$4))","v":0.99943292130752537},0.49979120716531822,null,null,-780943.55893741595,null,-780943.55893741595,375027.46461312147,-780.9435589374159,0.37502746461312148,-0.37502746461312148,null,null,null,780.9435589374159,0.37502746461312148,780.9435589374159,5571.1111111111113,5775.5555555555557,780.9435589374159,"CAMPO 4"]
[null,33,5673.3333333333339,-4.4856283208501364E-4,-7.5440112668843148E-4,null,null,2.4758940665052902E-3,4.3345241130517125E-6,null,null,0.99946385281666805,0.49980272677014725,null,null,-780967.72840623988,null,-780967.72840623988,354347.2602450315,-780.96772840623987,0.35434726024503149,-0.35434726024503149,null,null,null,780.96772840623987,0.35434726024503149,780.96772840623987,5673.3333333333339,5877.7777777777774,780.96772840623987,"CAMPO 4"]
[null,34,5775.5555555555557,-4.4971864033721613E-4,-7.4732656408978571E-4,null,null,2.4759645882817603E-3,4.3345557870690313E-6,null,null,0.99949232090315532,0.4998133186344994,null,null,-780989.9729894466,null,-780989.9729894466,335331.43157978798,-780.98997298944664,0.33533143157978801,-0.33533143157978801,null,null,null,780.98997298944664,0.33533143157978801,780.98997298944664,5775.5555555555557,5980,780.98997298944664,"CAMPO 4"]
[null,35,5877.7777777777774,-4.5081387119603664E-4,-7.4062278839348832E-4,null,null,2.4760296388280484E-3,4.3345850769772927E-6,null,null,0.99951858037463281,0.49982307977437923,null,null,-781010.49179033283,null,-781010.49179033283,317806.07056541217,-781.01049179033282,0.31780607056541216,-0.31780607056541216,null,null,null,781.01049179033282,0.31780607056541216,781.01049179033282,5877.7777777777774,6082.2222222222226,781.01049179033282,"CAMPO 4"]
[null,36,5980,-4.5185316545486774E-4,-7.3426139386415998E-4,null,null,2.4760897698074655E-3,4.3346122159690835E-6,null,null,0.99954285392541797,0.49983209484754532,null,null,-781029.45881926897,null,-781029.45881926897,301619.40181563358,-781.02945881926894,0.30161940181563357,-0.30161940181563357,null,null,null,781.02945881926894,0.30161940181563357,781.02945881926894,5980,6184.4444444444453,781.02945881926894,"CAMPO 4"]
[null,37,6082.2222222222226,-4.5284070167348725E-4,-7.2821680404249953E-4,null,null,2.4761454650661574E-3,4.3346374094329986E-6,null,null,0.99956533687353311,0.49984043799564026,null,null,-781047.02669515356,null,-781047.02669515356,286638.48688100232,-781.04702669515359,0.2866384868810023,-0.2866384868810023,null,null,null,781.04702669515359,0.2866384868810023,781.04702669515359,6082.2222222222226,6286.666666666667,781.04702669515359,"CAMPO 4"]
[null,38,6184.4444444444453,-4.5378025232926516E-4,-7.2246592805054032E-4,null,null,2.4761971503968637E-3,4.3346608388353877E-6,null,null,0.99958620110212049,0.49984817437373785,null,null,-781063.32972518203,null,-781063.32972518203,272746.48712756106,-781.06332972518203,0.27274648712756105,-0.27274648712756105,null,null,null,781.06332972518203,0.27274648712756105,781.06332972518203,6184.4444444444453,6388.8888888888887,781.06332972518203,"CAMPO 4"]
[null,{"$f":"+B100+1","v":39},6286.666666666667,-4.5467523197715903E-4,-7.1698786581013505E-4,null,null,2.4762452017011863E-3,4.3346826649848333E-6,null,null,0.99960559835437002,0.49985536142648601,null,null,-781078.48647945968,null,-781078.48647945968,259840.37959980196,-781.07848647945968,0.25984037959980194,-0.25984037959980194,null,null,null,781.07848647945968,0.25984037959980194,781.07848647945968,6286.666666666667,6491.1111111111113,781.07848647945968,"CAMPO 4"]
[null,{"$f":"+B101+1","v":40},6388.8888888888887,-4.5552873871457927E-4,-7.1176365424152968E-4,null,null,2.4762899518436994E-3,4.3347030307889252E-6,null,null,0.9996236630003722,0.49986204995771877,null,null,-781092.60195298388,null,-781092.60195298388,247829.04216948277,-781.09260195298384,0.24782904216948276,-0.24782904216948276,null,null,null,781.09260195298384,0.24782904216948276,781.09260195298384,6388.8888888888887,6593.3333333333339,781.09260195298384,"CAMPO 4"]
[null,41,6491.1111111111113,-4.5634359001240569E-4,-7.0677604794604264E-4,null,null,2.4763316964321229E-3,4.3347220635915283E-6,null,null,0.99964051437044676,0.49986828503087188,null,null,-781105.76938887523,null,-781105.76938887523,236631.64129188383,-781.10576938887527,0.23663164129188383,-0.23663164129188383,null,null,null,781.10576938887527,0.23663164129188383,781.10576938887527,6491.1111111111113,6695.5555555555557,781.10576938887527,"CAMPO 4"]
[null,42,6593.3333333333339,-4.5712235378543223E-4,-7.0200932902762759E-4,null,null,2.4763706987116648E-3,4.3347398771618984E-6,null,null,0.99965625873088082,0.49987410673011434,null,null,-781118.07182219357,null,-781118.07182219357,226176.26892552857,-781.11807182219354,0.22617626892552856,-0.22617626892552856,null,null,null,781.11807182219354,0.22617626892552856,781.11807182219354,6593.3333333333339,6797.7777777777783,781.11807182219354,"CAMPO 4"]
[null,43,6695.5555555555557,-4.5786737542416781E-4,-6.9744914163448772E-4,null,null,2.4764071937253386E-3,4.3347565733936148E-6,null,null,0.99967099096335732,0.49987955080628588,null,null,-781129.58339222101,null,-781129.58339222101,216398.78556338584,-781.12958339222098,0.21639878556338585,-0.21639878556338585,null,null,null,781.12958339222098,0.21639878556338585,781.12958339222098,6695.5555555555557,6900,781.12958339222098,"CAMPO 4"]
[null,44,6797.7777777777783,-4.5858080138745709E-4,-6.9308234755149738E-4,null,null,2.4764413918634352E-3,4.3347722437606938E-6,null,null,0.99968479599779858,0.49988464922714537,null,null,-781140.37046206626,null,-781140.37046206626,207241.83451375514,-781.14037046206624,0.20724183451375514,-0.20724183451375514,null,null,null,781.14037046206624,0.20724183451375514,781.14037046206624,6797.7777777777783,100000000000,781.14037046206624,"CAMPO 4"]
[null,45,{"$f":"C61*3","v":6900},-4.5926459985580373E-4,-6.8889689978370548E-4,null,null,2.4764734819025338E-3,4.3347869705697325E-6,null,null,0.99969775003914818,0.49988943064779101,null,null,-781150.49257725629,null,-781150.49257725629,198653.99906662127,-781.15049257725627,0.19865399906662126,-0.19865399906662126,null,null,null,781.15049257725627,0.19865399906662126,781.15049257725627,6900,100000000000,781.15049257725627,"CAMPO 4"]
[null,46,100000000000,-4.9151234409145763E-4,-4.9151235539624102E-4,null,null,2.4772222222222222E-3,{"$f":"+L4*ABS($T$4)^2/2","v":4.3351388888888881E-6},null,null,1.0000000000000002,0.50000000000000011,null,null,-781386.66666666651,null,-781386.66666666651,-1.7766675834233559E-7,-781.38666666666654,-1.776667583423356E-13,1.776667583423356E-13,null,null,null,781.38666666666654,-1.776667583423356E-13,781.38666666666654,100000000000,null,781.38666666666654,"CAMPO 4"]
[]
[null,null,"Calcolo Mrd",null,null,"Ned",{"$f":"Z8","v":220}]
[]
["check",null,"Y[mm]","Y[mm]checked","εm_inf [-]","εm_sup [-]","εf_inf [-]","εf_sup [-]","A(σ-ε)","Sy(σ-ε)","A(σ-ε)","Sy(σ-ε)","β1","β2","k1","k2","C  [N]","T  [N]","Ned  [N]","MRd  [Nmm]","Ned  [kN]","MRd  [kNm]",null,null,null,null,"Y"]
[null,"CAMPO 1",{"$f":"VLOOKUP($Z$10,$Z$13:$AC$108,4,FALSE)","v":661.86658434007506},{"$f":"IF(A113=0,0,C113)","v":0},null,null,null,null,null,null,{"$f":"(H113+G113)/2*$L$7","v":0},{"$f":"1/6*(2*H113+$T$7)*$L$7","v":1.9322634239999998E-11},null,null,{"$f":"+K113/($T$7*$L$7)","v":0},{"$f":"+L113/K113","v":{"$error":"#DIV/0!"}},0,{"$f":"$L$8*$D$4*$L$6*$T$7*O113","v":0},{"$f":"R113+Q113","v":0},{"$f":"+R113*($D$4/2-P113*$D$4)","v":{"$error":"#DIV/0!"}},{"$f":"+S113/1000","v":0},{"$f":"+T113/1000000","v":{"$error":"#DIV/0!"}},1,{"$f":"B113","v":"CAMPO 1"},{"$f":"ABS(S113)/($G$110*1000)","v":0},{"$f":"IF(A113=0,10^8,ABS(1*10^5-ABS(Y113)*10^5))","v":100000000},{"$f":"C113","v":661.86658434007506}]
[{"$f":"IF($AB$10=B114,IF(ABS((ROUND(ABS(U114/100),1))-(ROUND(ABS($G$110/100),1)))=0,1,0),0)","v":0},"CAMPO 2A",{"$f":"VLOOKUP($Z$10,$Z$13:$AC$108,4,FALSE)","v":661.86658434007506},{"$f":"IF(A114=0,0,C114)","v":0},null,{"$f":"-$T$7*C114/($D$4-C114)","v":-3.1030045044798909E-3},null,null,{"$f":"$L$4/ABS($T$5)*ABS(F114)^2/2","v":6.9326186074721964E-3},{"$f":"+$L$4/(ABS($T$5))*ABS(F114)^3/3","v":1.4341297844551559E-5},null,null,{"$f":"I114/($L$4*ABS($T$4))","v":2.7985453001681893},{"$f":"1-J114/I114/ABS(F114)","v":0.33333333333333326},null,null,{"$f":"-$L$4*$D$3*C114*M114","v":-629275.69347566669},{"$f":"$L$8*($D$4-C114)*$L$6*G114*0.5","v":0},-629275.69347566669,{"$f":"-Q114*($D$4/2-N114*C114)+R114*($D$4/6+C114/3)","v":584834862.88069284},-629.27569347566669,584.83486288069287,1,"CAMPO 2A",2.8603440612530302,100000000,661.86658434007506]
[0,"CAMPO 2A",{"$f":"VLOOKUP(C$144,$AC$12:$AD$108,2,FALSE)","v":720.03577817531311},0,null,-3.5000000000000005E-3,null,null,8.8200000000000032E-3,2.0580000000000013E-5,null,null,3.5604395604395624,0.33333333333333326,null,null,-870955.27728085895,0,-870955.27728085895,792558915.26204824,-870.95527728085892,792.55891526204823,{"$f":"+W114+1","v":2},"CAMPO 2A",3.9588876240039044,100000000,720.03577817531311]
[0,"CAMPO 2A",{"$f":"+(C115-C114)/2+C114","v":690.95118125769409},0,null,-3.2979142772105933E-3,null,null,7.8308917774772193E-3,1.7217073197488779E-5,null,null,3.1611583761962319,0.33333333333333326,null,null,-742047.6238558694,0,-742047.6238558694,682448540.01669049,-742.04762385586935,682.44854001669046,{"$f":"+W115+1","v":3},"CAMPO 2A",3.3729437447994064,100000000,690.95118125769409]
[0,"CAMPO 2A",{"$f":"IF(ABS(U116)>$G$110,C116-(C116-$C$144)/2,C116+(C116-$C$144)/2)","v":676.40888279888463},0,null,-3.1995864998637757E-3,null,null,7.3708947144795808E-3,1.5722543480244084E-5,null,null,2.9754677026380909,0.33333333333333337,null,null,-683758.44466962328,0,-683758.44466962328,632155449.48230577,-683.75844466962326,632.15544948230581,4,"CAMPO 2A",3.1079929303164695,100000000,676.40888279888463]
[0,"CAMPO 2A",{"$f":"IF(ABS(U117)>$G$110,C117-(C117-$C$144)/2,C117+(C117-$C$144)/2)","v":669.13773356947991},0,null,-3.1510801982446521E-3,null,null,7.1491006193540813E-3,1.5018259597936815E-5,null,null,2.885934315953655,0.33333333333333337,null,null,-656054.80943928054,0,-656054.80943928054,608132688.09332013,-656.05480943928058,608.1326880933201,5,"CAMPO 2A",2.9820673156330932,100000000,669.13773356947991]
[0,"CAMPO 2A",{"$f":"IF(ABS(U118)>$G$110,C118-(C118-$C$144)/2,C118+(C118-$C$144)/2)","v":665.50215895477754},0,null,-3.1269888845520239E-3,null,null,7.0402028285605775E-3,1.4676423993267096E-5,null,null,2.8419746784949633,0.33333333333333337,null,null,-642551.33923016163,0,-642551.33923016163,596394272.28236711,-642.5513392301616,596.39427228236707,6,"CAMPO 2A",2.9206879055916439,100000000,665.50215895477754]
[0,"CAMPO 2A",{"$f":"IF(ABS(U119)>$G$110,C119-(C119-$C$144)/2,C119+(C119-$C$144)/2)","v":663.68437164742636},0,null,-3.1149833723607104E-3,null,null,6.9862474152602681E-3,1.450802968915582E-5,null,null,2.8201940676089898,0.33333333333333326,null,null,-635885.24241880688,0,-635885.24241880688,590592329.59676218,-635.88524241880691,590.59232959676217,7,"CAMPO 2A",2.8903874655400315,100000000,663.68437164742636]
[0,"CAMPO 2A",{"$f":"IF(ABS(U120)>$G$110,C120-(C120-$C$144)/2,C120+(C120-$C$144)/2)","v":662.77547799375066},0,null,-3.1089906134282638E-3,null,null,6.9593922967572377E-3,1.4424456883855481E-5,null,null,2.8093532482985042,0.33333333333333326,null,null,-632573.42482687591,0,-632573.42482687591,587708053.88231516,-632.57342482687591,587.7080538823152,8,"CAMPO 2A",2.8753337492130724,100000000,662.77547799375066]
[0,"CAMPO 2A",{"$f":"IF(ABS(U121)>$G$110,C121-(C121-$C$144)/3,C121+(C121-$C$144)/3)","v":662.4725134425255},0,null,-3.1069945054385032E-3,null,null,6.9504586969140365E-3,1.4396691321059449E-5,null,null,2.8057469509857071,0.33333333333333326,null,null,-631472.61840316828,0,-631472.61840316828,586749093.60241699,-631.47261840316833,586.74909360241702,9,"CAMPO 2A",2.870330083650765,100000000,662.4725134425255]
[0,"CAMPO 2A",662.27053707504206,0,null,-3.1056641770688953E-3,null,null,6.9445079861248944E-3,1.4378206453251295E-5,null,null,2.8033447802253448,0.33333333333333326,null,null,-630739.61604930542,0,-630739.61604930542,586110470.36487484,-630.73961604930537,586.1104703648748,10,"CAMPO 2A",2.86699825476957,100000000,662.27053707504206]
[0,"CAMPO 2A",662.13588616338643,0,null,-3.1047774737691619E-3,null,null,6.9405430763695829E-3,1.4365894532824533E-5,null,null,2.8017442335647571,0.33333333333333337,null,null,-630251.33353057783,0,-630251.33353057783,585685025.14918935,-630.25133353057788,585.6850251491893,11,"CAMPO 2A",2.8647787887753537,100000000,662.13588616338643]
[0,"CAMPO 2A",662.04611888894931,0,null,-3.1041864192282525E-3,null,null,6.9379007942312072E-3,1.4357691615603614E-5,null,null,2.8006776025154014,0.33333333333333337,null,null,-629925.98318500514,0,-629925.98318500514,585401529.8777765,-629.92598318500518,585.40152987777651,12,"CAMPO 2A",2.8632999235682051,100000000,662.04611888894931]
[0,"CAMPO 2A",661.9862740393246,0,null,-3.1037924188579533E-3,null,null,6.9361397131392768E-3,1.4352225238520844E-5,null,null,2.7999666929021529,0.33333333333333326,null,null,-629709.15907436691,0,-629709.15907436691,585212592.95416319,-629.70915907436688,585.21259295416314,13,"CAMPO 2A",2.8623143594289404,100000000,661.9862740393246]
[0,"CAMPO 2A",661.94637747290813,0,null,-3.1035297679382614E-3,null,null,6.9349658547448231E-3,1.4348581979890643E-5,null,null,2.7994928321463743,0.33333333333333348,null,null,-629564.64348982554,0,-629564.64348982554,585086661.63226163,-629.56464348982558,585.08666163226167,14,"CAMPO 2A",2.8616574704082978,100000000,661.94637747290813]
[0,"CAMPO 2A",661.91977976196381,0,null,-3.10335467443296E-3,null,null,6.9341833694339305E-3,1.4346153581938721E-5,null,null,2.7991769600764917,0.33333333333333326,null,null,-629468.314796541,0,-629468.314796541,585002719.25026846,-629.46831479654099,585.00271925026846,15,"CAMPO 2A",2.8612196127115501,100000000,661.91977976196381]
[0,"CAMPO 2A",661.90204795466752,0,null,-3.103237948588296E-3,null,null,6.9336617512021186E-3,1.4344534846003727E-5,null,null,2.7989663942955407,0.33333333333333348,null,null,-629404.10234682902,0,-629404.10234682902,584946762.92070818,-629.40410234682906,584.94676292070812,16,"CAMPO 2A",2.8609277379401319,100000000,661.90204795466752]
[0,"CAMPO 2A",661.89022674980333,0,null,-3.103160132762415E-3,null,null,6.9333140228875568E-3,1.4343455775831511E-5,null,null,2.7988260240407277,0.33333333333333326,null,null,-629361.29701531003,0,-629361.29701531003,584909461.03793526,-629.36129701531002,584.90946103793522,17,"CAMPO 2A",2.8607331682514094,100000000,661.89022674980333]
[0,"CAMPO 2A",661.88234594656058,0,null,-3.1031082561691001E-3,null,null,6.9330822116434807E-3,1.434273643443334E-5,null,null,2.7987324469518429,0.33333333333333326,null,null,-629332.76144680521,0,-629332.76144680521,584884594.15467978,-629.33276144680519,584.8845941546798,18,"CAMPO 2A",2.8606034611218418,100000000,661.88234594656058]
[0,"CAMPO 2A",661.87709207773207,0,null,-3.1030736720508581E-3,null,null,6.9329276742061434E-3,1.4342256890707915E-5,null,null,2.7986700635952144,0.33333333333333337,null,null,-629313.73832074914,0,-629313.73832074914,584868016.69409347,-629.31373832074917,584.86801669409351,19,"CAMPO 2A",2.8605169923670415,100000000,661.87709207773207]
[0,"CAMPO 2A",661.87358949851307,0,null,-3.1030506160952746E-3,null,null,6.9328246507554701E-3,1.434193720253818E-5,null,null,2.7986284752993607,0.33333333333333337,null,null,-629301.05649727513,0,-629301.05649727513,584856965.25884712,-629.30105649727511,584.85696525884714,20,"CAMPO 2A",2.8604593477148867,100000000,661.87358949851307]
[0,"CAMPO 2A",661.8712544457004,0,null,-3.1030352455129937E-3,null,null,6.9327559691250385E-3,1.4341724080490393E-5,null,null,2.7986007500392627,0.33333333333333315,null,null,-629292.60206409695,0,-629292.60206409695,584849597.726524,-629.29260206409697,584.84959772652394,21,"CAMPO 2A",2.8604209184731682,100000000,661.8712544457004]
[0,"CAMPO 2A",{"$f":"IF(ABS(U134)>$G$110,C134-(C134-$C$144)/4,C134+(C134-$C$144)/4)","v":661.87008691929407},0,null,-3.1030275602382858E-3,null,null,6.9327216285108269E-3,1.4341617520486098E-5,null,null,2.7985868874903543,0.33333333333333326,null,null,-629288.3748822487,0,-629288.3748822487,584845913.98771429,-629.28837488224872,584.84591398771431,22,"CAMPO 2A",2.8604017040102212,100000000,661.87008691929407]
[0,"CAMPO 2A",661.86921127448932,0,null,-3.1030217962894442E-3,null,null,6.932695873138107E-3,1.4341537600928952E-5,null,null,2.7985764906141726,0.33333333333333326,null,null,-629285.20451106189,0,-629285.20451106189,584843151.19557381,-629.28520451106192,584.8431511955738,23,"CAMPO 2A",2.8603872932320997,100000000,661.86921127448932]
[0,"CAMPO 2A",661.86855454088573,0,null,-3.1030174733318564E-3,null,null,6.93267655665803E-3,1.4341477661511997E-5,null,null,2.7985686929770028,0.33333333333333337,null,null,-629282.82674122078,0,-629282.82674122078,584841079.10819912,-629.28282674122079,584.8410791081991,24,"CAMPO 2A",2.8603764851873672,100000000,661.86855454088573]
[0,"CAMPO 2A",661.86806199068303,0,null,-3.1030142311159405E-3,null,null,6.9326620693257977E-3,1.4341432707090423E-5,null,null,2.7985628447603585,0.33333333333333337,null,null,-629281.04341864923,0,-629281.04341864923,584839525.04645455,-629.28104341864923,584.83952504645458,25,"CAMPO 2A",2.8603683791756782,100000000,661.86806199068303]
[0,"CAMPO 2A",661.86769257803098,0,null,-3.1030117994552825E-3,null,null,6.9326512038422727E-3,1.4341398991353625E-5,null,null,2.7985584586041923,0.33333333333333348,null,null,-629279.70592942543,0,-629279.70592942543,584838359.50227559,-629.2797059294254,584.83835950227558,26,"CAMPO 2A",2.8603622996792066,100000000,661.86769257803098]
[0,"CAMPO 2A",661.86741551854197,0,null,-3.1030099757105092E-3,null,null,6.9326430547384348E-3,1.4341373704595694E-5,null,null,2.7985551689906223,0.33333333333333326,null,null,-629278.7028140293,0,-629278.7028140293,584837485.34533966,-629.27870281402932,584.8374853453397,27,"CAMPO 2A",2.8603577400637694,100000000,661.86741551854197]
[0,"CAMPO 2A",661.86720772392528,0,null,-3.1030086079023344E-3,null,null,6.9326369429155094E-3,1.4341354739552366E-5,null,null,2.7985527017824441,0.33333333333333337,null,null,-629277.95047833829,0,-629277.95047833829,584836829.72831154,-629.27795047833831,584.8368297283115,28,"CAMPO 2A",2.8603543203560831,100000000,661.86720772392528]
[0,"CAMPO 2A",661.86705187796269,0,null,-3.1030075820464302E-3,null,null,6.9326323590510972E-3,1.434134051578399E-5,null,null,2.7985508513774335,0.33333333333333337,null,null,-629277.38622705115,0,-629277.38622705115,584836338.01591933,-629.27738622705112,584.8363380159193,29,"CAMPO 2A",2.8603517555775051,100000000,661.86705187796269]
[0,"CAMPO 2A",661.86693499349076,0,null,-3.1030068126546308E-3,null,null,6.9326289211543582E-3,1.4341329847965663E-5,null,null,2.7985494635743096,0.33333333333333348,null,null,-629276.96303885698,0,-629276.96303885698,584835969.23183858,-629.27696303885693,584.83596923183859,30,"CAMPO 2A",2.8603498319948044,100000000,661.86693499349076]
[0,"CAMPO 2B",{"$f":"VLOOKUP($Z$10,$Z$13:$AC$108,4,FALSE)","v":661.86658434007506},0,null,-3.1030045044798909E-3,null,null,{"$f":"$L$4*(ABS(F144)-ABS($T$5)/2)","v":2.0222968747276942E-3},{"$f":"$I$39+$L$4*(ABS(F144)^2-ABS($T$5)^2)/2","v":3.3789696234838E-6},null,null,0.81635666618296709,0.46153563081414939,null,null,-183564.44228538891,0,-183564.44228538891,155024758.50673556,-183.56444228538891,155.02475850673557,1,"CAMPO 2B",0.83438382856994964,100000000,661.86658434007506]
[0,"CAMPO 2B",{"$f":"VLOOKUP(C$144,$AC$12:$AD$108,2,FALSE)","v":720.03577817531311},0,null,-3.5000000000000005E-3,null,null,2.3032814643347051E-3,4.3066408789160634E-6,null,null,0.92978395061728414,0.46577574577805092,null,null,-227443.89415255049,0,-227443.89415255049,185281436.42895502,-227.44389415255048,185.28143642895503,{"$f":"+W144+1","v":2},"CAMPO 2B",1.0338358825115932,100000000,720.03577817531311]
[0,"CAMPO 2B",{"$f":"+(C145-C144)/2+C144","v":690.95118125769409},0,null,{"$f":"-$T$7*C146/($D$4-C146)","v":-3.2979142772105933E-3},null,null,2.1602496805382026E-3,3.8204819763334912E-6,null,null,0.87204517267745352,0.46374069281080765,null,null,-204703.14083375002,0,-204703.14083375002,169817185.42341313,-204.70314083375001,169.81718542341312,{"$f":"+W145+1","v":3},"CAMPO 2B",0.93046882197159098,100000000,690.95118125769409]
[1,"CAMPO 2B",{"$f":"IF(ABS(U146)>$G$110,C146-(C146-$C$144)/2,C146+(C146-$C$144)/2)","v":705.49347971650354},705.49347971650354,null,-3.3980356024253923E-3,null,null,2.2311133296068989E-3,4.0577316975595443E-6,null,null,0.90065126559596742,0.46477822763245447,null,null,-215867.78146919934,0,-215867.78146919934,177465332.91507596,-215.86778146919934,177.46533291507595,4,"CAMPO 2B",0.98121718849636064,1878.2811503639387,705.49347971650354]
[0,"CAMPO 2B",727.30692740471773,0,null,-3.5516893281984105E-3,null,null,2.3398660221818019E-3,4.4356323469896781E-6,null,null,0.94455233010254414,0.46626020976840077,null,null,-233389.81949235365,0,-233389.81949235365,189252471.69422543,-233.38981949235364,189.25247169422542,5,"CAMPO 2B",1.0608628158743347,100000000,727.30692740471773]
[0,"CAMPO 2B",694.58675587239645,0,null,-3.3227745595177157E-3,null,null,2.177845235904466E-3,3.8787293248282185E-6,null,null,0.87914811047948849,0.46400395802265293,null,null,-207456.33698729647,0,-207456.33698729647,171713476.41924608,-207.45633698729648,171.71347641924606,6,"CAMPO 2B",0.94298334994225663,100000000,694.58675587239645]
[1,"CAMPO 2B",710.94684163855709,710.94684163855709,null,-3.4360535486517574E-3,null,null,2.258021587102671E-3,4.1496784128726662E-6,null,null,0.91151353594635753,0.46515686152111346,null,null,-220159.99758203322,0,-220159.99758203322,180376689.38642713,-220.15999758203321,180.37668938642713,7,"CAMPO 2B",1.0007272617365146,72.726173651462886,710.94684163855709]
[0,"CAMPO 2B",686.40671298931602,0,null,-3.2669964595130612E-3,null,null,2.1383667362345048E-3,3.7486521883282553E-6,null,null,0.86321151047815858,0.46340787683338558,null,null,-201296.81589729158,0,-201296.81589729158,167461583.43838692,-201.29681589729159,167.46158343838692,8,"CAMPO 2B",0.91498552680587086,100000000,686.40671298931602]
[0,"CAMPO 2B",698.67677731393655,0,null,-3.3508773080617436E-3,null,null,2.1977357368184055E-3,3.9451004641139206E-6,null,null,0.8871774672063536,0.46429700978071786,null,null,-210583.80644406215,0,-210583.80644406215,173859351.28535843,-210.58380644406216,173.85935128535843,9,"CAMPO 2B",0.95719912020028253,100000000,698.67677731393655]
[0,"CAMPO 2B",717.08187380086724,0,null,-3.4791368546738411E-3,null,null,2.2885149936983013E-3,4.2551122692000705E-6,null,null,0.92382305195266723,0.4655762517655615,null,null,-225058.64501520791,0,-225058.64501520791,183680197.2822479,-225.0586450152079,183.68019728224789,10,"CAMPO 2B",1.0229938409782178,100000000,717.08187380086724]
[0,"CAMPO 2B",689.47422907047121,0,null,-3.2878468478061492E-3,null,null,2.1531241777263902E-3,3.7970185466263757E-6,null,null,0.86916876427618373,0.46363298594275171,null,null,-203591.81246137992,0,-203591.81246137992,169049815.68880829,-203.5918124613799,169.04981568880828,11,"CAMPO 2B",0.92541732936990873,100000000,689.47422907047121]
[0,"CAMPO 2B",703.27805143566934,0,null,-3.3826649905340936E-3,null,null,2.220234352079391E-3,4.0208481528737609E-6,null,null,0.89625966219845354,0.46462280771483688,null,null,-214140.62932949892,0,-214140.62932949892,176289340.93410724,-214.14062932949892,176.28934093410723,12,"CAMPO 2B",0.97336649695226785,100000000,703.27805143566934]
[0,"CAMPO 2B",{"$f":"IF(ABS(U155)>$G$110,C155-(C155-$C$144)/3,C155+(C155-$C$144)/3)","v":717.08187380086747},0,null,-3.4791368546738424E-3,null,null,2.2885149936983022E-3,4.2551122692000731E-6,null,null,0.92382305195266756,0.46557625176556161,null,null,-225058.64501520805,0,-225058.64501520805,183680197.28224796,-225.05864501520804,183.68019728224797,13,"CAMPO 2B",1.0229938409782184,100000000,717.08187380086747]
[0,"CAMPO 2B",698.67677731393667,0,null,-3.3508773080617449E-3,null,null,2.1977357368184063E-3,3.9451004641139239E-6,null,null,0.88717746720635393,0.46429700978071775,null,null,-210583.80644406227,0,-210583.80644406227,173859351.28535852,-210.58380644406228,173.85935128535851,14,"CAMPO 2B",0.95719912020028308,100000000,698.67677731393667]
[1,"CAMPO 2B",710.9468416385572,710.9468416385572,null,-3.4360535486517578E-3,null,null,2.258021587102671E-3,4.149678412872667E-6,null,null,0.91151353594635753,0.46515686152111346,null,null,-220159.99758203328,0,-220159.99758203328,180376689.38642716,-220.15999758203327,180.37668938642716,15,"CAMPO 2B",1.0007272617365148,72.726173651477438,710.9468416385572]
[0,"CAMPO 2B",694.58675587239645,0,null,-3.3227745595177157E-3,null,null,2.177845235904466E-3,3.8787293248282185E-6,null,null,0.87914811047948849,0.46400395802265293,null,null,-207456.33698729647,0,-207456.33698729647,171713476.41924608,-207.45633698729648,171.71347641924606,16,"CAMPO 2B",0.94298334994225663,100000000,694.58675587239645]
[1,"CAMPO 2B",705.49347971650354,705.49347971650354,null,-3.3980356024253923E-3,null,null,2.2311133296068989E-3,4.0577316975595443E-6,null,null,0.90065126559596742,0.46477822763245447,null,null,-215867.78146919934,0,-215867.78146919934,177465332.91507596,-215.86778146919934,177.46533291507595,17,"CAMPO 2B",0.98121718849636064,1878.2811503639387,705.49347971650354]
[0,"CAMPO 2B",720.035778175313,0,null,-3.4999999999999992E-3,null,null,2.3032814643347043E-3,4.30664087891606E-6,null,null,0.92978395061728381,0.46577574577805103,null,null,-227443.89415255038,0,-227443.89415255038,185281436.42895493,-227.44389415255037,185.28143642895492,18,"CAMPO 2B",1.0338358825115925,100000000,720.035778175313]
[0,"CAMPO 2B",700.64604689690032,0,null,-3.3644595242522403E-3,null,null,2.2073489276110128E-3,3.9773783712167488E-6,null,null,0.89105810040363842,0.4644369453775693,null,null,-212101.06974895106,0,-212101.06974895106,174897288.63760877,-212.10106974895106,174.89728863760877,19,"CAMPO 2B",0.96409577158614124,100000000,700.64604689690032]
[1,"CAMPO 2B",713.57253441584203,713.57253441584203,null,-3.4544517056099514E-3,null,null,2.271043393749748E-3,4.1945418264334989E-6,null,null,0.91677015222012714,0.46533719639915094,null,null,-222247.43180521543,0,-222247.43180521543,181786877.33362398,-222.24743180521543,181.78687733362398,20,"CAMPO 2B",1.0102155991146156,1021.5599114615616,713.57253441584203]
[0,"CAMPO 2B",696.33721772391971,0,null,-3.334784526538345E-3,null,null,2.186345623673511E-3,3.9070252417416227E-6,null,null,0.8825795296282396,0.46412978097622071,null,null,-208790.92506125904,0,-208790.92506125904,172630249.29290637,-208.79092506125903,172.63024929290637,21,"CAMPO 2B",0.94904965936935926,100000000,696.33721772391971]
[1,"CAMPO 2B",707.82742885186792,707.82742885186792,null,-3.414274779060103E-3,null,null,2.2426070579583553E-3,4.0968811200448443E-6,null,null,0.90529103034874192,0.46494095813602476,null,null,-217697.66232133226,0,-217697.66232133226,178708454.45726383,-217.69766232133227,178.70845445726383,22,"CAMPO 2B",0.98953482873332843,1046.5171266671532,707.82742885186792]
[0,"CAMPO 2B",723.14771035579884,0,null,-3.5220638305859843E-3,null,null,2.3188977533161181E-3,4.3614701679282426E-6,null,null,0.93608790221327953,0.46598422793142813,null,null,-229975.62526076665,0,-229975.62526076665,186975834.41523358,-229.97562526076666,186.97583441523358,23,"CAMPO 2B",1.045343751185303,100000000,723.14771035579884]
[1,"CAMPO 2B",{"$f":"IF(ABS(U166)>$G$110,C166-(C166-$C$144)/4,C166+(C166-$C$144)/4)","v":707.82742885186792},707.82742885186792,null,-3.414274779060103E-3,null,null,2.2426070579583553E-3,4.0968811200448443E-6,null,null,0.90529103034874192,0.46494095813602476,null,null,-217697.66232133226,0,-217697.66232133226,178708454.45726383,-217.69766232133227,178.70845445726383,24,"CAMPO 2B",0.98953482873332843,1046.5171266671532,707.82742885186792]
[0,"CAMPO 2B",719.31763997981614,0,null,-3.4949206841116687E-3,null,null,2.2996864374226302E-3,4.2940674148624581E-6,null,null,0.92833271750633217,0.46572738980169348,null,null,-226862.40286085999,0,-226862.40286085999,184891513.73943833,-226.86240286085999,184.89151373943832,25,"CAMPO 2B",1.0311927402766363,100000000,719.31763997981614]
[1,"CAMPO 2B",704.95487606988081,704.95487606988081,null,-3.3942948490865901E-3,null,null,2.2284657075215468E-3,4.0487399355023274E-6,null,null,0.89958247892773824,0.46474052846551439,null,null,-215447.00800070824,0,-215447.00800070824,177179073.0926291,-215.44700800070825,177.1790730926291,26,"CAMPO 2B",0.97930458182140112,2069.541817859892,704.95487606988081]
[1,"CAMPO 2B",715.72694900233228,715.72694900233228,null,-3.4695931770577114E-3,null,null,2.2817601907633295E-3,4.2316436181937367E-6,null,null,0.92109628691948731,0.46548421989957867,null,null,-223970.36704320239,0,-223970.36704320239,182948044.08782142,-223.9703670432024,182.94804408782142,27,"CAMPO 2B",1.0180471229236472,1804.7122923647257,715.72694900233228]
[0,"CAMPO 2B",702.26185783676794,0,null,-3.3756289130608776E-3,null,null,2.2152543728011257E-3,4.0040200710755966E-6,null,null,0.89424935434896324,0.46455120537178651,null,null,-213351.58648105268,0,-213351.58648105268,175751229.86562595,-213.35158648105269,175.75122986562596,28,"CAMPO 2B",0.96977993855023947,100000000,702.26185783676794]
[1,"CAMPO 2B",712.36067621094116,712.36067621094116,null,-3.4459526866864889E-3,null,null,2.2650279770228083E-3,4.1737874224314651E-6,null,null,0.91434186109913784,0.46525412260592502,null,null,-221282.31241353156,0,-221282.31241353156,181135340.98058975,-221.28231241353157,181.13534098058975,29,"CAMPO 2B",1.0058286927887798,582.86927887798811,712.36067621094116]
[0,"CAMPO 2B",699.73715324322461,0,null,-3.3581866552731127E-3,null,null,2.2029091303446746E-3,3.9624547781515416E-6,null,null,0.88926585212388765,0.4643724530302672,null,null,-211399.86702457923,0,-211399.86702457923,174417857.91658759,-211.39986702457924,174.41785791658759,30,"CAMPO 2B",0.96090848647536009,100000000,699.73715324322461]
[0,"CAMPO 3",{"$f":"VLOOKUP($Z$10,$Z$13:$AC$108,4,FALSE)","v":661.86658434007506},0,null,-3.5000000000000005E-3,null,null,{"$f":"$H$50","v":2.3032814643347051E-3},{"$f":"$I$50","v":4.3066408789160634E-6},{"$f":"+$L$7*(G174-G174^2/(2*$T$7))","v":0},null,0.92978395061728414,0.46577574577805092,{"$f":"+K174/($T$7*$L$7)","v":0},0.33300000000000002,-209069.49059287098,{"$f":"$L$8*($D$4-C174)*$L$6*G174*O174","v":0},-209069.49059287098,175977678.52175757,-209.06949059287098,175.97767852175758,1,"CAMPO 3",0.95031586633123166,100000000,661.86658434007506]
[0,"CAMPO 3",{"$f":"VLOOKUP(C$144,$AC$12:$AD$108,2,FALSE)","v":720.03577817531311},0,null,-3.5000000000000005E-3,null,null,2.3032814643347051E-3,4.3066408789160634E-6,0,null,0.92978395061728414,0.46577574577805092,0,0.33300000000000002,-227443.89415255049,0,-227443.89415255049,185281436.42895502,-227.44389415255048,185.28143642895503,{"$f":"+W174+1","v":2},"CAMPO 3",1.0338358825115932,100000000,720.03577817531311]
[0,"CAMPO 3",{"$f":"+(C175-C174)/2+C174","v":690.95118125769409},0,null,-3.5000000000000005E-3,null,null,2.3032814643347051E-3,4.3066408789160634E-6,0,null,0.92978395061728414,0.46577574577805092,0,0.33300000000000002,-218256.69237271074,0,-218256.69237271074,180754015.57749352,-218.25669237271075,180.7540155774935,{"$f":"+W175+1","v":3},"CAMPO 3",0.99207587442141243,100000000,690.95118125769409]
[0,"CAMPO 3",{"$f":"IF(ABS(U176)>$G$110,C176-(C176-$C$144)/2,C176+(C176-$C$144)/2)","v":705.49347971650354},0,null,-3.5000000000000005E-3,null,null,2.3032814643347051E-3,4.3066408789160634E-6,0,null,0.92978395061728414,0.46577574577805092,0,0.33300000000000002,-222850.29326263058,0,{"$f":"R177+Q177","v":-222850.29326263058},183048840.52875856,{"$f":"+S177/1000","v":-222.85029326263057},{"$f":"+T177/1000000","v":183.04884052875855},4,{"$f":"B177","v":"CAMPO 3"},{"$f":"ABS(S177)/($G$110*1000)","v":1.0129558784665027},{"$f":"IF(A177=0,10^8,ABS(1*10^5-ABS(Y177)*10^5))","v":100000000},{"$f":"C177","v":705.49347971650354}]
[{"$f":"IF($AB$10=B178,IF(ABS((ROUND(ABS(U178/100),1))-(ROUND(ABS($G$110/100),1)))=0,1,0),0)","v":0},"CAMPO 3",{"$f":"IF(ABS(U177)>$G$110,C177-(C177-$C$144)/2,C177+(C177-$C$144)/2)","v":683.68003202828936},{"$f":"IF(A178=0,0,C178)","v":0},null,-3.5000000000000005E-3,null,null,2.3032814643347051E-3,4.3066408789160634E-6,0,null,{"$f":"I178/($L$4*ABS($T$4))","v":0.92978395061728414},{"$f":"1-J178/I178/ABS(F178)","v":0.46577574577805092},0,0.33300000000000002,{"$f":"-$L$4*$D$3*C178*M178","v":-215959.89192775081},0,-215959.89192775081,{"$f":"-Q178*($D$4/2-N178*C178)+R178*($D$4/6+C178/3)","v":179583267.2077103},-215.95989192775082,179.58326720771029,5,"CAMPO 3",0.98163587239886729,100000000,683.68003202828936]
[0,"CAMPO 3",{"$f":"IF(ABS(U178)>$G$110,C178-(C178-$C$144)/2,C178+(C178-$C$144)/2)","v":694.58675587239645},0,null,-3.5000000000000005E-3,null,null,2.3032814643347051E-3,4.3066408789160634E-6,0,null,0.92978395061728414,0.46577574577805092,0,0.33300000000000002,-219405.09259519071,0,-219405.09259519071,181333555.78884745,-219.40509259519072,181.33355578884743,6,"CAMPO 3",0.99729587543268505,100000000,694.58675587239645]
[0,"CAMPO 3",{"$f":"IF(ABS(U179)>$G$110,C179-(C179-$C$144)/2,C179+(C179-$C$144)/2)","v":710.94684163855709},0,null,-3.5000000000000005E-3,null,null,2.3032814643347051E-3,4.3066408789160634E-6,0,null,0.92978395061728414,0.46577574577805092,0,0.33300000000000002,-224572.89359635051,0,-224572.89359635051,183893356.45825431,-224.5728935963505,183.89335645825432,7,"CAMPO 3",1.0207858799834113,100000000,710.94684163855709]
[0,"CAMPO 3",{"$f":"IF(ABS(U180)>$G$110,C180-(C180-$C$144)/3,C180+(C180-$C$144)/3)","v":694.58675587239645},0,null,-3.5000000000000005E-3,null,null,2.3032814643347051E-3,4.3066408789160634E-6,0,null,0.92978395061728414,0.46577574577805092,0,0.33300000000000002,-219405.09259519071,0,-219405.09259519071,181333555.78884745,-219.40509259519072,181.33355578884743,8,"CAMPO 3",0.99729587543268505,100000000,694.58675587239645]
[0,"CAMPO 3",705.49347971650354,0,null,-3.5000000000000005E-3,null,null,2.3032814643347051E-3,4.3066408789160634E-6,0,null,0.92978395061728414,0.46577574577805092,0,0.33300000000000002,-222850.29326263058,0,-222850.29326263058,183048840.52875856,-222.85029326263057,183.04884052875855,9,"CAMPO 3",1.0129558784665027,100000000,705.49347971650354]
[0,"CAMPO 3",690.95118125769409,0,null,-3.5000000000000005E-3,null,null,2.3032814643347051E-3,4.3066408789160634E-6,0,null,0.92978395061728414,0.46577574577805092,0,0.33300000000000002,-218256.69237271074,0,-218256.69237271074,180754015.57749352,-218.25669237271075,180.7540155774935,10,"CAMPO 3",0.99207587442141243,100000000,690.95118125769409]
[0,"CAMPO 3",700.64604689690043,0,null,-3.5000000000000005E-3,null,null,2.3032814643347051E-3,4.3066408789160634E-6,0,null,0.92978395061728414,0.46577574577805092,0,0.33300000000000002,-221319.09296599065,0,-221319.09296599065,182290813.21734449,-221.31909296599065,182.29081321734449,11,"CAMPO 3",1.0059958771181394,100000000,700.64604689690043]
[0,"CAMPO 3",687.7195593779586,0,null,-3.5000000000000005E-3,null,null,2.3032814643347051E-3,4.3066408789160634E-6,0,null,0.92978395061728414,0.46577574577805092,0,0.33300000000000002,-217235.89217495074,0,-217235.89217495074,180235603.61842528,-217.23589217495075,180.23560361842527,12,"CAMPO 3",0.98743587352250339,100000000,687.7195593779586]
[0,"CAMPO 3",696.33721772391982,0,null,-3.5000000000000005E-3,null,null,2.3032814643347051E-3,4.3066408789160634E-6,0,null,0.92978395061728414,0.46577574577805092,0,0.33300000000000002,-219958.026035644,0,-219958.026035644,181611206.53247619,-219.958026035644,181.61120653247619,13,"CAMPO 3",0.99980920925292727,100000000,696.33721772391982]
[0,"CAMPO 3",707.82742885186804,0,null,-3.5000000000000005E-3,null,null,2.3032814643347051E-3,4.3066408789160634E-6,0,null,0.92978395061728414,0.46577574577805092,0,0.33300000000000002,-223587.53784990168,0,-223587.53784990168,183411350.62226248,-223.58753784990168,183.41135062226249,14,"CAMPO 3",1.0163069902268258,100000000,707.82742885186804]
[0,"CAMPO 3",692.50714734793701,0,null,-3.5000000000000005E-3,null,null,2.3032814643347051E-3,4.3066408789160634E-6,0,null,0.92978395061728414,0.46577574577805092,0,0.33300000000000002,-218748.18876422476,0,-218748.18876422476,181002525.32694155,-218.74818876422475,181.00252532694154,15,"CAMPO 3",0.99430994892829438,100000000,692.50714734793701]
[0,"CAMPO 3",702.72066835055762,0,null,-3.5000000000000005E-3,null,null,2.3032814643347051E-3,4.3066408789160634E-6,0,null,0.92978395061728414,0.46577574577805092,0,0.33300000000000002,-221974.42148800934,0,-221974.42148800934,182616082.7910274,-221.97442148800934,182.6160827910274,16,"CAMPO 3",1.0089746431273152,100000000,702.72066835055762]
[0,"CAMPO 3",689.10264034706347,0,null,-3.5000000000000005E-3,null,null,2.3032814643347051E-3,4.3066408789160634E-6,0,null,0.92978395061728414,0.46577574577805092,0,0.33300000000000002,-217672.77785629657,0,-217672.77785629657,180457851.56436008,-217.67277785629656,180.45785156436008,17,"CAMPO 3",0.98942171752862074,100000000,689.10264034706347]
[0,"CAMPO 3",698.18132568272631,0,null,-3.5000000000000005E-3,null,null,2.3032814643347051E-3,4.3066408789160634E-6,0,null,0.92978395061728414,0.46577574577805092,0,0.33300000000000002,-220540.54027743844,0,-220540.54027743844,181902735.73729637,-220.54054027743845,181.90273573729638,18,"CAMPO 3",1.0024570012610838,100000000,698.18132568272631]
[0,"CAMPO 3",686.07641190184256,0,null,-3.5000000000000005E-3,null,null,2.3032814643347051E-3,4.3066408789160634E-6,0,null,0.92978395061728414,0.46577574577805092,0,0.33300000000000002,-216716.85704924929,0,-216716.85704924929,179970833.85768527,-216.71685704924928,179.97083385768528,19,"CAMPO 3",0.98507662295113307,100000000,686.07641190184256]
[0,"CAMPO 3",694.14635442243173,0,null,-3.5000000000000005E-3,null,null,2.3032814643347051E-3,4.3066408789160634E-6,0,null,0.92978395061728414,0.46577574577805092,0,0.33300000000000002,-219265.97920137539,0,-219265.97920137539,181263559.24322993,-219.26597920137539,181.26355924322993,20,"CAMPO 3",0.99666354182443362,100000000,694.14635442243173]
[0,"CAMPO 3",704.90627778321732,0,null,-3.5000000000000005E-3,null,null,2.3032814643347051E-3,4.3066408789160634E-6,0,null,0.92978395061728414,0.46577574577805092,0,0.33300000000000002,-222664.80873754356,0,-222664.80873754356,182957383.67376888,-222.66480873754355,182.95738367376887,21,"CAMPO 3",1.0121127669888343,100000000,704.90627778321732]
[0,"CAMPO 3",690.55971330216994,0,null,-3.5000000000000005E-3,null,null,2.3032814643347051E-3,4.3066408789160634E-6,0,null,0.92978395061728414,0.46577574577805092,0,0.33300000000000002,-218133.0360226527,0,-218133.0360226527,180691380.45416674,-218.1330360226527,180.69138045416673,22,"CAMPO 3",0.99151380010296686,100000000,690.55971330216994]
[0,"CAMPO 3",700.12408962286827,0,null,-3.5000000000000005E-3,null,null,2.3032814643347051E-3,4.3066408789160634E-6,0,null,0.92978395061728414,0.46577574577805092,0,0.33300000000000002,-221154.21783257995,0,-221154.21783257995,182208778.72994611,-221.15421783257995,182.20877872994612,23,"CAMPO 3",1.0052464446935452,100000000,700.12408962286827]
[0,"CAMPO 3",687.3715878619372,0,null,-3.5000000000000005E-3,null,null,2.3032814643347051E-3,4.3066408789160634E-6,0,null,0.92978395061728414,0.46577574577805092,0,0.33300000000000002,-217125.97541934362,0,-217125.97541934362,180179599.2842747,-217.12597541934363,180.1795992842747,24,"CAMPO 3",0.98693625190610734,100000000,687.3715878619372]
[0,"CAMPO 3",695.87325570255791,0,null,-3.5000000000000005E-3,null,null,2.3032814643347051E-3,4.3066408789160634E-6,0,null,0.92978395061728414,0.46577574577805092,0,0.33300000000000002,-219811.47036150118,0,-219811.47036150118,181537702.68772879,-219.81147036150119,181.5377026877288,25,"CAMPO 3",0.99914304709773261,100000000,695.87325570255791]
[0,"CAMPO 3",{"$f":"IF(ABS(U198)>$G$110,C198-(C198-$C$144)/4,C198+(C198-$C$144)/4)","v":704.37492354317862},0,null,-3.5000000000000005E-3,null,null,2.3032814643347051E-3,4.3066408789160634E-6,0,null,0.92978395061728414,0.46577574577805092,0,0.33300000000000002,-222496.96530365874,0,-222496.96530365874,182874537.6658237,-222.49696530365875,182.87453766582371,26,"CAMPO 3",1.0113498422893579,100000000,704.37492354317862]
[0,"CAMPO 3",693.74783874240279,0,null,-3.5000000000000005E-3,null,null,2.3032814643347051E-3,4.3066408789160634E-6,0,null,0.92978395061728414,0.46577574577805092,0,0.33300000000000002,-219140.09662596183,0,-219140.09662596183,181200170.75174269,-219.14009662596183,181.20017075174269,27,"CAMPO 3",0.99609134829982648,100000000,693.74783874240279]
[0,"CAMPO 3",701.71815234298469,0,null,-3.5000000000000005E-3,null,null,2.3032814643347051E-3,4.3066408789160634E-6,0,null,0.92978395061728414,0.46577574577805092,0,0.33300000000000002,-221657.74813423451,0,-221657.74813423451,182459061.42929941,-221.65774813423451,182.45906142929942,28,"CAMPO 3",1.0075352187919751,100000000,701.71815234298469]
[0,"CAMPO 3",691.75526034225732,0,null,-3.5000000000000005E-3,null,null,2.3032814643347051E-3,4.3066408789160634E-6,0,null,0.92978395061728414,0.46577574577805092,0,0.33300000000000002,-218510.68374889364,0,-218510.68374889364,180882527.30860731,-218.51068374889365,180.88252730860731,29,"CAMPO 3",0.99323038067678926,100000000,691.75526034225732]
[0,"CAMPO 3",699.22742934280291,0,null,-3.5000000000000005E-3,null,null,2.3032814643347051E-3,4.3066408789160634E-6,0,null,0.92978395061728414,0.46577574577805092,0,0.33300000000000002,-220870.98203789929,0,-220870.98203789929,182067666.12451345,-220.8709820378993,182.06766612451344,30,"CAMPO 3",1.0039590092631785,100000000,699.22742934280291]
[0,"CAMPO 3",689.88721809212097,0,null,-3.5000000000000005E-3,null,null,2.3032814643347051E-3,4.3066408789160634E-6,0,null,0.92978395061728414,0.46577574577805092,0,0.33300000000000002,-217920.60917664223,0,-217920.60917664223,180583675.51833034,-217.92060917664224,180.58367551833032,31,"CAMPO 3",0.99054822353019201,100000000,689.88721809212097]
[0,"CAMPO 3",696.89237653013242,0,null,-3.5000000000000005E-3,null,null,2.3032814643347051E-3,4.3066408789160634E-6,0,null,0.92978395061728414,0.46577574577805092,0,0.33300000000000002,-220133.38882258505,0,-220133.38882258505,181699075.11637431,-220.13338882258506,181.6990751163743,32,"CAMPO 3",1.0006063128299321,100000000,696.89237653013242]
[0,"CAMPO 3",688.13592848261806,0,null,-3.5000000000000005E-3,null,null,2.3032814643347051E-3,4.3066408789160634E-6,{"$f":"+$L$7*(G206-G206^2/(2*$T$7))","v":0},null,0.92978395061728414,0.46577574577805092,{"$f":"+K206/($T$7*$L$7)","v":0},0.33300000000000002,-217367.41426515652,0,-217367.41426515652,180302569.39062566,-217.36741426515653,180.30256939062565,33,"CAMPO 3",0.98803370120525691,100000000,688.13592848261806]
[0,"CAMPO 3",694.70326451825383,0,null,-3.5000000000000005E-3,null,null,2.3032814643347051E-3,4.3066408789160634E-6,0,null,0.92978395061728414,0.46577574577805092,0,0.33300000000000002,-219441.8951832279,0,-219441.8951832279,181352063.89886874,-219.4418951832279,181.35206389886875,34,"CAMPO 3",0.99746315992376322,100000000,694.70326451825383]
[0,"CAMPO 3",702.91243456279858,0,null,-3.5000000000000005E-3,null,null,2.3032814643347051E-3,4.3066408789160634E-6,0,null,0.92978395061728414,0.46577574577805092,0,0.33300000000000002,-222034.99633081714,0,-222034.99633081714,182646084.91662475,-222.03499633081714,182.64608491662474,35,"CAMPO 3",1.0092499833218962,100000000,702.91243456279858]
[0,"CAMPO 3",692.65097200711773,0,null,-3.5000000000000005E-3,null,null,2.3032814643347051E-3,4.3066408789160634E-6,0,null,0.92978395061728414,0.46577574577805092,0,0.33300000000000002,-218793.61989633064,0,-218793.61989633064,181025460.18652216,-218.79361989633063,181.02546018652217,36,"CAMPO 3",0.99451645407423017,100000000,692.65097200711773]
[0,"CAMPO 3",700.3470689238784,0,null,-3.5000000000000005E-3,null,null,2.3032814643347051E-3,4.3066408789160634E-6,0,null,0.92978395061728414,0.46577574577805092,0,0.33300000000000002,-221224.65222219552,0,-221224.65222219552,182243833.53838748,-221.22465222219552,182.24383353838749,37,"CAMPO 3",1.0055666010099797,100000000,700.3470689238784]
[0,"CAMPO 3",690.72694777792753,0,null,-3.5000000000000005E-3,null,null,2.3032814643347051E-3,4.3066408789160634E-6,0,null,0.92978395061728414,0.46577574577805092,0,0.33300000000000002,-218185.86181486439,0,-218185.86181486439,180718143.59453544,-218.18586181486438,180.71814359453543,38,"CAMPO 3",0.99175391734029272,100000000,690.72694777792753]
[0,"CAMPO 3",697.94203863739062,0,null,-3.5000000000000005E-3,null,null,2.3032814643347051E-3,4.3066408789160634E-6,0,null,0.92978395061728414,0.46577574577805092,0,0.33300000000000002,-220464.95462036273,0,-220464.95462036273,181864964.10306856,-220.46495462036273,181.86496410306856,39,"CAMPO 3",1.0021134300925578,100000000,697.94203863739062]
[0,"CAMPO 3",688.92317506306176,0,null,-3.5000000000000005E-3,null,null,2.3032814643347051E-3,4.3066408789160634E-6,0,null,0.92978395061728414,0.46577574577805092,0,0.33300000000000002,-217616.08861348979,0,-217616.08861348979,180429044.98242331,-217.61608861348978,180.42904498242331,40,"CAMPO 3",0.98916403915222628,100000000,688.92317506306176]
[0,"CAMPO 3",695.68732274380841,0,null,-3.5000000000000005E-3,null,null,2.3032814643347051E-3,4.3066408789160634E-6,0,null,0.92978395061728414,0.46577574577805092,0,0.33300000000000002,-219752.73811864451,0,-219752.73811864451,181508228.21507493,-219.75273811864452,181.50822821507492,41,"CAMPO 3",0.99887608235747505,100000000,695.68732274380841]
[0,"CAMPO 3",704.14250734474172,0,null,-3.5000000000000005E-3,null,null,2.3032814643347051E-3,4.3066408789160634E-6,0,null,0.92978395061728414,0.46577574577805092,0,0.33300000000000002,-222423.55000008788,0,-222423.55000008788,182838274.41572481,-222.42355000008789,182.83827441572481,42,"CAMPO 3",1.0110161363640358,100000000,704.14250734474172]
[0,"CAMPO 3",693.57352659357502,0,null,-3.5000000000000005E-3,null,null,2.3032814643347051E-3,4.3066408789160634E-6,0,null,0.92978395061728414,0.46577574577805092,0,0.33300000000000002,-219085.03514828364,0,-219085.03514828364,181172429.71349496,-219.08503514828365,181.17242971349495,43,"CAMPO 3",0.99584106885583479,100000000,693.57352659357502]
[0,"CAMPO 3",701.50026215695004,0,null,-3.5000000000000005E-3,null,null,2.3032814643347051E-3,4.3066408789160634E-6,0,null,0.92978395061728414,0.46577574577805092,0,0.33300000000000002,-221588.92128713682,0,-221588.92128713682,182424894.75712124,-221.58892128713683,182.42489475712122,44,"CAMPO 3",1.0072223694869855,100000000,701.50026215695004]
[0,"CAMPO 3",691.59184270273136,0,null,-3.5000000000000005E-3,null,null,2.3032814643347051E-3,4.3066408789160634E-6,0,null,0.92978395061728414,0.46577574577805092,0,0.33300000000000002,-218459.06361357035,0,-218459.06361357035,180856424.53044412,-218.45906361357035,180.85642453044412,45,"CAMPO 3",0.99299574369804711,100000000,691.59184270273136]
[0,"CAMPO 3",699.02315729339546,0,null,-3.5000000000000005E-3,null,null,2.3032814643347051E-3,4.3066408789160634E-6,0,null,0.92978395061728414,0.46577574577805092,0,0.33300000000000002,-220806.45686874524,0,-220806.45686874524,182035485.56496224,-220.80645686874524,182.03548556496224,46,"CAMPO 3",1.0036657130397511,100000000,699.02315729339546]
[0,"CAMPO 3",689.73401405506536,0,null,-3.5000000000000005E-3,null,null,2.3032814643347051E-3,4.3066408789160634E-6,0,null,0.92978395061728414,0.46577574577805092,0,0.33300000000000002,-217872.21529977667,0,-217872.21529977667,180559120.18008628,-217.87221529977666,180.5591201800863,47,"CAMPO 3",0.99032825136262126,100000000,689.73401405506536]
[0,"CAMPO 3",696.70087148381299,0,null,-3.5000000000000005E-3,null,null,2.3032814643347051E-3,4.3066408789160634E-6,0,null,0.92978395061728414,0.46577574577805092,0,0.33300000000000002,-220072.89647650308,0,-220072.89647650308,181668774.61723855,-220.07289647650308,181.66877461723854,48,"CAMPO 3",1.0003313476204685,100000000,696.70087148381299]
[0,"CAMPO 3",687.99229969787848,0,null,-3.5000000000000005E-3,null,null,2.3032814643347051E-3,4.3066408789160634E-6,0,null,0.92978395061728414,0.46577574577805092,0,0.33300000000000002,-217322.04500559505,0,-217322.04500559505,180279474.94720885,-217.32204500559504,180.27947494720885,49,"CAMPO 3",0.98782747729815934,100000000,687.99229969787848]
[0,"CAMPO 3",694.52372853732936,0,null,-3.5000000000000005E-3,null,null,2.3032814643347051E-3,4.3066408789160634E-6,0,null,0.92978395061728414,0.46577574577805092,0,0.33300000000000002,-219385.1836087761,0,-219385.1836087761,181323541.84684616,-219.38518360877612,181.32354184684615,50,"CAMPO 3",0.99720538003989134,100000000,694.52372853732936]
[0,"CAMPO 4",{"$f":"VLOOKUP($Z$10,$Z$13:$AC$108,4,FALSE)","v":661.86658434007506},0,{"$f":"-(ABS($T$5)-ABS($T$5)*$L$9/(C224-($D$4-$L$9)))","v":-6.1222611250328891E-4},{"$f":"-(ABS($T$4)-($D$4-$L$9)*ABS(E224)/$L$9)","v":2.4736202927837453E-4},null,null,{"$f":"$H$61-$L$4/ABS($T$5)*E224^2/2+$L$4*ABS(E224)","v":2.4667305165015701E-3},{"$f":"+$I$61-$L$4/ABS($T$5)*ABS(E224)^3/3+$L$4*(ABS(E224)^2)/2","v":4.3291377571213242E-6},null,null,0.99576472969339025,{"$f":"1-J224/I224/ABS($T$4)","v":0.49856845173793563},null,null,{"$f":"-$L$4*$D$3*$D$4*M224","v":-778077.28291935229},null,-778077.28291935229,{"$f":"-Q224*($D$4/2-N224*$D$4)","v":2561866.9188643945},-778.07728291935234,2.5618669188643945,1,"CAMPO 4",3.5367149223606922,100000000,661.86658434007506]
[0,"CAMPO 4",{"$f":"VLOOKUP($Z$10,$Z$13:$AC$108,4,FALSE)","v":661.86658434007506},0,-6.1222611250328891E-4,2.4736202927837453E-4,null,null,2.4667305165015701E-3,4.3291377571213242E-6,null,null,0.99576472969339025,0.49856845173793563,null,null,-778077.28291935229,null,-778077.28291935229,2561866.9188643945,-778.07728291935234,2.5618669188643945,{"$f":"+W224+1","v":2},"CAMPO 4",3.5367149223606922,100000000,661.86658434007506]
[0,"CAMPO 4",{"$f":"VLOOKUP(C$144,$AC$12:$AD$108,2,FALSE)","v":720.03577817531311},0,-6.1781241949253113E-4,2.8155513909164896E-4,null,null,2.4657369919976061E-3,4.3285266994904352E-6,null,null,0.99536366575368729,0.49843721444994848,null,null,-777763.89690438763,null,-777763.89690438763,2795599.8126980527,-777.76389690438759,2.7955998126980526,{"$f":"+W225+1","v":3},"CAMPO 4",3.5352904404744891,100000000,720.03577817531311]
[0,"CAMPO 4",{"$f":"+(C226-C225)/2+C225","v":690.95118125769409},0,-6.1495609782543541E-4,2.6407193943700762E-4,null,null,2.4662506030625514E-3,4.3288432840623618E-6,null,null,0.99557099921789494,0.49850499160989303,null,null,-777925.90450887324,null,-777925.90450887324,2674913.2344813896,-777.92590450887326,2.6749132344813895,4,"CAMPO 4",3.5360268386766966,100000000,690.95118125769409]
[0,"CAMPO 4",{"$f":"IF(ABS(U227)>$G$110,C227-(C227-$C$144)/2,C227+(C227-$C$144)/2)","v":676.40888279888463},0,-6.1357584284540815E-4,2.5562356554827007E-4,null,null,2.4664945841370691E-3,4.3289931536493876E-6,null,null,0.99566948899904129,0.49853723794423188,null,null,-778002.86311066395,null,-778002.86311066395,2617476.0551055628,-778.00286311066395,2.6174760551055627,5,"CAMPO 4",3.5363766505030179,100000000,676.40888279888463]
[0,"CAMPO 4",{"$f":"IF(ABS(U228)>$G$110,C228-(C228-$C$144)/2,C228+(C228-$C$144)/2)","v":669.13773356947991},0,-6.1289722573323489E-4,2.5146983223529699E-4,null,null,2.4666135340660621E-3,4.3290660981290999E-6,null,null,0.99571750646308865,0.49855297112638031,null,null,-778040.38331683772,null,-778040.38331683772,2589447.8688537395,-778.04038331683773,2.5894478688537395,6,"CAMPO 4",3.5365471968947171,100000000,669.13773356947991]
[0,"CAMPO 4",{"$f":"IF(ABS(U229)>$G$110,C229-(C229-$C$144)/2,C229+(C229-$C$144)/2)","v":665.50215895477754},0,-6.1256073893345246E-4,2.4941023720805771E-4,null,null,2.4666722684953952E-3,4.3291020864207847E-6,null,null,0.99574121625739231,0.49856074266387795,null,null,-778058.90983397595,null,-778058.90983397595,2575602.0860015284,-778.05890983397592,2.5756020860015285,7,"CAMPO 4",3.5366314083362544,100000000,665.50215895477754]
[0,"CAMPO 4",{"$f":"IF(ABS(U230)>$G$110,C230-(C230-$C$144)/2,C230+(C230-$C$144)/2)","v":663.68437164742636},0,-6.1239319413777988E-4,2.4838471576641308E-4,null,null,2.4667014529648622E-3,4.3291199612366776E-6,null,null,0.99575299738433565,0.49856460496688537,null,null,-778068.11544948781,null,-778068.11544948781,2568720.7491843635,-778.06811544948778,2.5687207491843633,8,"CAMPO 4",3.5366732520431263,100000000,663.68437164742636]
[0,"CAMPO 4",{"$f":"IF(ABS(U231)>$G$110,C231-(C231-$C$144)/2,C231+(C231-$C$144)/2)","v":662.77547799375066},0,-6.1230959554550376E-4,2.4787301888841515E-4,null,null,2.4667159998080007E-3,4.3291288690164343E-6,null,null,0.99575886962422111,0.49856653028869191,null,null,-778072.70393943775,null,-778072.70393943775,2565290.4048733469,-778.0727039394377,2.5652904048733469,9,"CAMPO 4",3.5366941088156261,100000000,662.77547799375066]
[0,"CAMPO 4",{"$f":"IF(ABS(U232)>$G$110,C232-(C232-$C$144)/3,C232+(C232-$C$144)/3)","v":662.4725134425255},0,-6.1228175503770586E-4,2.4770261050552052E-4,null,null,2.4667208420516922E-3,4.3291318339013078E-6,null,null,0.99576082433125068,0.49856717120154459,null,null,-778074.23132144788,null,-778074.23132144788,2564148.4817388551,-778.07423132144788,2.5641484817388553,10,"CAMPO 4",3.5367010514611268,100000000,662.4725134425255]
[0,"CAMPO 4",662.27053707504206,0,-6.1226320182750766E-4,2.4758904854859341E-4,null,null,2.4667240683545941E-3,4.3291338092777827E-6,null,null,0.99576212671860731,0.49856759823792274,null,null,-778075.2489895632,null,-778075.2489895632,2563387.6226670831,-778.07524898956319,2.5633876226670829,11,"CAMPO 4",3.5367056772252874,100000000,662.27053707504206]
[0,"CAMPO 4",662.13588616338643,0,-6.1225083618731617E-4,2.4751335995972824E-4,null,null,2.466726218397261E-3,4.3291351256564971E-6,null,null,0.99576299464343365,0.49856788282274989,null,null,-778075.92717445025,null,-778075.92717445025,2562880.571176073,-778.07592717445027,2.5628805711760729,12,"CAMPO 4",3.5367087598838647,100000000,662.13588616338643]
[0,"CAMPO 4",662.04611888894931,0,-6.1224259383411311E-4,2.4746290951210099E-4,null,null,2.4667276513921157E-3,4.3291360030028901E-6,null,null,0.9957635731118657,0.49856807249883572,null,null,-778076.37918197014,null,-778076.37918197014,2562542.6203211304,-778.0763791819702,2.5625426203211306,13,"CAMPO 4",3.5367108144635004,100000000,662.04611888894931]
[0,"CAMPO 4",661.9862740393246,0,-6.1223709955714233E-4,2.4742927970690647E-4,null,null,2.4667286065589889E-3,4.3291365877941091E-6,null,null,0.99576395869167544,0.49856819892861803,null,null,-778076.68046889233,null,-778076.68046889233,2562317.3568392117,-778.07668046889228,2.5623173568392117,14,"CAMPO 4",3.5367121839495104,100000000,661.9862740393246]
[0,"CAMPO 4",661.94637747290813,0,-6.1223343698363949E-4,2.4740686153722387E-4,null,null,2.4667292432644602E-3,4.329136977607655E-6,null,null,0.99576421571563778,0.49856828320583368,null,null,-778076.88130398956,null,-778076.88130398956,2562167.1976655899,-778.07688130398958,2.5621671976655898,15,"CAMPO 4",3.5367130968363161,100000000,661.94637747290813]
[0,"CAMPO 4",661.91977976196381,0,-6.1223099539143059E-4,2.4739191684645077E-4,null,null,2.466729667702582E-3,4.3291372374623462E-6,null,null,0.99576438705195069,0.49856833938650913,null,null,-778077.01518390002,null,-778077.01518390002,2562067.0988731189,-778.07701518390002,2.5620670988731189,16,"CAMPO 4",3.5367137053813638,100000000,661.91977976196381]
[0,"CAMPO 4",661.90204795466752,0,-6.1222936771815871E-4,2.4738195405510583E-4,null,null,2.4667299506470224E-3,4.3291374106894727E-6,null,null,0.99576450127038374,0.49856837683845467,null,null,-778077.10443266062,null,-778077.10443266062,2562000.3695999719,-778.07710443266058,2.5620003695999718,17,"CAMPO 4",3.5367141110575484,100000000,661.90204795466752]
[0,"CAMPO 4",661.89022674980333,0,-6.1222828262702869E-4,2.4737531234346379E-4,null,null,2.4667301392702909E-3,4.3291375261700755E-6,null,null,0.99576457741343893,0.49856840180560158,null,null,-778077.16392982868,null,{"$f":"R241+Q241","v":-778077.16392982868},2561955.8848646292,{"$f":"+S241/1000","v":-778.07716392982866},{"$f":"+T241/1000000","v":2.5619558848646293},18,{"$f":"B241","v":"CAMPO 4"},{"$f":"ABS(S241)/($G$110*1000)","v":3.5367143814992215},{"$f":"IF(A241=0,10^8,ABS(1*10^5-ABS(Y241)*10^5))","v":100000000},{"$f":"C241","v":661.89022674980333}]
[{"$f":"IF($AB$10=B242,IF(ABS((ROUND(ABS(U242/100),1))-(ROUND(ABS($G$110/100),1)))=0,1,0),0)","v":0},"CAMPO 4",661.88234594656058,{"$f":"IF(A242=0,0,C242)","v":0},-6.1222755924377923E-4,2.4737088460203508E-4,null,null,2.4667302650163113E-3,4.3291376031552992E-6,null,null,{"$f":"I242/($L$4*ABS($T$4))","v":0.99576462817433531},0.49856841845000344,null,null,-778077.20359371637,null,-778077.20359371637,2561926.2290165927,-778.07720359371638,2.5619262290165925,19,"CAMPO 4",3.5367145617896201,100000000,661.88234594656058]
[0,"CAMPO 4",661.87709207773207,0,-6.1222707699309605E-4,2.47367932803898E-4,null,null,2.4667303488457356E-3,4.3291376544779631E-6,null,null,0.99576466201442582,0.49856842954610991,null,null,-778077.2300359119,null,-778077.2300359119,2561906.4587373207,-778.07723003591195,2.5619064587373206,20,"CAMPO 4",3.5367146819814179,100000000,661.87709207773207]
[0,"CAMPO 4",661.87358949851307,0,-6.1222675549478121E-4,2.4736596495157507E-4,null,null,2.4667304047314605E-3,4.329137688692707E-6,null,null,0.99576468457426093,0.49856843694344266,null,null,-778077.24766386626,null,-778077.24766386626,2561893.2786778375,-778.07724766386627,2.5618932786778377,21,"CAMPO 4",3.5367147621084829,100000000,661.87358949851307]
[0,"CAMPO 4",661.8712544457004,0,-6.1222654116352263E-4,2.4736465305584933E-4,null,null,2.4667304419883616E-3,4.329137711502376E-6,null,null,0.99576469961405056,0.49856844187496563,null,null,-778077.25941575738,null,-778077.25941575738,2561884.4920285386,-778.07725941575734,2.5618844920285384,22,"CAMPO 4",3.5367148155261701,100000000,661.8712544457004]
[0,"CAMPO 4",661.86969774382533,0,-6.1222639827643983E-4,2.4736377846128763E-4,null,null,2.4667304668261861E-3,4.3291377267087493E-6,null,null,0.99576470964053276,0.49856844516263366,null,null,-778077.2672503168,null,-778077.2672503168,2561878.6342870221,-778.07726725031682,2.5618786342870221,23,"CAMPO 4",3.5367148511378037,100000000,661.86969774382533]
[0,"CAMPO 4",661.86865994257528,0,-6.1222630301857248E-4,2.4736319539939633E-4,null,null,2.4667304833846868E-3,4.3291377368462989E-6,null,null,0.99576471632483443,0.4985684473544062,null,null,-778077.27247334097,null,-778077.27247334097,2561874.7291369811,-778.07727247334094,2.561874729136981,24,"CAMPO 4",3.5367148748788226,100000000,661.86865994257528]
[0,"CAMPO 4",661.86796807507517,0,-6.1222623951341117E-4,2.4736280669198068E-4,null,null,2.4667304944236651E-3,4.3291377436046519E-6,null,null,0.99576472078102662,0.49856844881558482,null,null,-778077.27595535014,null,-778077.27595535014,2561872.1257089344,-778.07727595535016,2.5618721257089345,25,"CAMPO 4",3.5367148907061372,100000000,661.86796807507517]
[0,"CAMPO 4",661.86750683007517,0,-6.1222619717667408E-4,2.4736254755392982E-4,null,null,2.4667305017829744E-3,4.3291377481102141E-6,null,null,0.99576472375181757,0.49856844978970283,null,null,-778077.27827668667,null,-778077.27827668667,2561870.3900922784,-778.07727827668668,2.5618703900922783,26,"CAMPO 4",3.5367149012576666,100000000,661.86750683007517]
[0,"CAMPO 4",{"$f":"IF(ABS(U249)>$G$110,C249-(C249-$C$144)/4,C249+(C249-$C$144)/4)","v":661.86727620757517},0,-6.1222617600831665E-4,2.4736241798497312E-4,null,null,2.4667305054626261E-3,4.329137750362994E-6,null,null,0.99576472523721182,0.49856845027676133,null,null,-778077.27943735383,null,-778077.27943735383,2561869.5222847387,-778.07727943735381,2.5618695222847387,27,"CAMPO 4",3.5367149065334265,100000000,661.86727620757517]
[0,"CAMPO 4",{"$f":"IF(ABS(U250)>$G$110,C250-(C250-$C$144)/4,C250+(C250-$C$144)/4)","v":661.86710324070009},0,-6.1222616013205345E-4,2.4736232080828499E-4,null,null,2.4667305082223638E-3,4.3291377520525765E-6,null,null,0.99576472635125712,0.49856845064205524,null,null,-778077.28030785406,null,-778077.28030785406,2561868.871429082,-778.07728030785404,2.5618688714290818,28,"CAMPO 4",3.5367149104902458,100000000,661.86710324070009]
[0,"CAMPO 4",{"$f":"IF(ABS(U251)>$G$110,C251-(C251-$C$144)/4,C251+(C251-$C$144)/4)","v":661.8669735155438},0,-6.1222614822485882E-4,2.4736224792578591E-4,null,null,2.4667305102921665E-3,4.3291377533197641E-6,null,null,0.99576472718679088,0.49856845091602553,null,null,-778077.280960729,null,-778077.280960729,2561868.3832876473,-778.07728096072901,2.5618683832876474,29,"CAMPO 4",3.536714913457859,100000000,661.8669735155438]
[0,"CAMPO 4",{"$f":"IF(ABS(U252)>$G$110,C252-(C252-$C$144)/4,C252+(C252-$C$144)/4)","v":661.86687622167665},0,-6.1222613929446431E-4,2.4736219326392059E-4,null,null,2.4667305118445176E-3,4.3291377542701545E-6,null,null,0.99576472781344083,0.49856845112150305,null,null,-778077.28145038488,null,-778077.28145038488,2561868.0171817462,-778.07728145038493,2.5618680171817463,30,"CAMPO 4",3.5367149156835676,100000000,661.86687622167665]
[null,null,null,null,null,null,null,null,null,null,null,null,null,null,null,null,null,null,null,null,null,null,null,null,{"$f":"MINA(Z113:Z253)","v":72.726173651462886}]
[]
[null,null,null,null,null,null,null,null,null,null,null,null,null,null,null,null,null,null,null,null,null,null,"y(verifica)",{"$f":"VLOOKUP(Y254,Z113:AA253,2,FALSE)","v":710.94684163855709}]
[]
[]
[null,null,{"$f":"+B259+1","v":1},2,3,4,5,6,7,8,9,10,11,12,13,14,15,16,17,18,19,21]
[null,null,"Y[mm]","εm_inf [-]","εm_sup [-]","εf_inf [-]","εf_sup [-]","A(σ-ε)","Sy(σ-ε)","A(σ-ε)","Sy(σ-ε)","β1","β2","k1","k2","C  [N]","T  [N]","Ned  [N]","MRd  [Nmm]","Ned  [kN]","MRd  [kNm]"]
[null,{"$f":"V261","v":"CAMPO 2B"},{"$f":"X256","v":710.94684163855709},{"$f":"VLOOKUP($C$261,MNP_VR!$D$114:$V$253,D259,FALSE)","v":0},{"$f":"VLOOKUP($C$261,MNP_VR!$D$114:$V$253,E259,FALSE)","v":-3.4360535486517574E-3},{"$f":"VLOOKUP($C$261,MNP_VR!$D$114:$V$253,F259,FALSE)","v":0},{"$f":"VLOOKUP($C$261,MNP_VR!$D$114:$V$253,G259,FALSE)","v":0},{"$f":"VLOOKUP($C$261,MNP_VR!$D$114:$V$253,H259,FALSE)","v":2.258021587102671E-3},{"$f":"VLOOKUP($C$261,MNP_VR!$D$114:$V$253,I259,FALSE)","v":4.1496784128726662E-6},{"$f":"VLOOKUP($C$261,MNP_VR!$D$114:$V$253,J259,FALSE)","v":0},{"$f":"VLOOKUP($C$261,MNP_VR!$D$114:$V$253,K259,FALSE)","v":0},{"$f":"VLOOKUP($C$261,MNP_VR!$D$114:$V$253,L259,FALSE)","v":0.91151353594635753},{"$f":"VLOOKUP($C$261,MNP_VR!$D$114:$V$253,M259,FALSE)","v":0.46515686152111346},{"$f":"VLOOKUP($C$261,MNP_VR!$D$114:$V$253,N259,FALSE)","v":0},{"$f":"VLOOKUP($C$261,MNP_VR!$D$114:$V$253,O259,FALSE)","v":0},{"$f":"VLOOKUP($C$261,MNP_VR!$D$114:$V$253,P259,FALSE)","v":-220159.99758203322},{"$f":"VLOOKUP($C$261,MNP_VR!$D$114:$V$253,Q259,FALSE)","v":0},{"$f":"VLOOKUP($C$261,MNP_VR!$D$114:$V$253,R259,FALSE)","v":-220159.99758203322},{"$f":"VLOOKUP($C$261,MNP_VR!$D$114:$V$253,S259,FALSE)","v":180376689.38642713},{"$f":"VLOOKUP($C$261,MNP_VR!$D$114:$V$253,T259,FALSE)","v":-220.15999758203321},{"$f":"VLOOKUP($C$261,MNP_VR!$D$114:$V$253,U259,FALSE)","v":180.37668938642713},{"$f":"VLOOKUP($C$261,MNP_VR!$D$114:$X$253,V259,FALSE)","v":"CAMPO 2B"}]
[]
[]
[]
[null,null,"β1",{"$f":"MNP_VR!L261","v":0.91151353594635753}]
[null,null,"β2",{"$f":"MNP_VR!M261","v":0.46515686152111346}]
[null,null,"k1",{"$f":"MNP_VR!N261","v":0}]
[null,null,"k2",{"$f":"MNP_VR!O261","v":0}]
[null,null,"C  [kN]",{"$f":"MNP_VR!P261/1000","v":-220.15999758203321}]
[null,null,"T  [kN]",{"$f":"MNP_VR!Q261/1000","v":0}]